{"text_format":"1","workbook":"xlsx","n_sheets":20,"sheets":["Sheet1","Liste","Navigatie","Aantal voertuigen","Voertuigen","Bedrijf","Rijdend personeel","Bestemmingen","VOYAGE","Reis","Personneelskost","Kostprijs en Verkoopprijs","Feuil1","Samenvatting kostprijzen","calculprv5","calculprv4","calculprv3","calculprv2","calculprv1","Module TVA (3)"],"not_rendered":{"charts":0,"images":11,"macros":1,"external_links":0,"defined_names":16,"comments":5,"pivot_tables":0},"unopened":[],"bounds":{"document_bytes":16777216,"sheet_cells":100000,"rows_first":2000,"rows_last":500,"rows_between":2000,"halvings":0,"cell_chars":16384,"cell_head_chars":4096},"cells_cut":0,"cells_raw":0,"read":"whole","date_system":"1900"}

{"sheet":"Sheet1","index":0,"n_rows":106,"n_cols":20,"rows_kept":106,"cut":false,"hidden":true,"merged":[[13,1,14,1],[30,1,32,1]]}
[]
[null,null,null,null,null,null,null,null,null,null,null,null,null,null,null,null,null,null,"Ja","economisch"]
[null,null,null,null,null,null,null,null,null,null,null,null,null,null,null,null,null,null,"Nee","technisch"]
[]
[]
[]
[]
[]
[]
[]
[null,"oorspronkelijke aankoopprijs van het voertuig"]
[]
[null,"Restwaarde van het voertuig wanneer het verkocht zal worden (in procent van de aankoopprijs)"]
[null,"Kies \"economisch\" als het voertuig na een vast aantal jaren vervangen wordt. Kies \"technisch\" indien het voertuig na een vast aantal afgelegde kilometers vervangen wordt."]
[]
[]
[]
[]
[null,"aantal jaren dat het voertuig normaal gezien zal halen in het bedrijf"]
[]
[null,"aantal kilometers dat het voertuig normaal gezien zal halen voor zijn vervanging"]
[]
[null,"gemiddeld aantal gebruiksdagen per jaar van het voertuig"]
[]
[]
[]
[null,"rentevoet van de lening voor het voertuig (indien van toepassing)"]
[]
[null,"percentage van de aankoopwaarde van het voertuig dat met eigen kapitaal gefinancierd wordt"]
[]
[null,"Voer hier de rentevoet in die u zou bekomen indien u eigen kapitaal risicoloos zou beleggen (bv. rentevoet op staatslening, kasbon of spaarboekje) - voor de berekening van de opportuniteitskost"]
[]
[]
[]
[null,"liter/100 km"]
[]
[null,"liter/100 km"]
[]
[null,"liter/100 km"]
[]
[]
[]
[]
[]
[]
[]
[null,"in km"]
[]
[null,"in km"]
[]
[]
[]
[]
[]
[]
[]
[]
[]
[]
[]
[]
[]
[]
[]
[]
[]
[]
[]
[]
[]
[]
[]
[]
[]
[]
[]
[]
[]
[null,"Vul hier, indien van toepassing, de gegevens in van de aanhangwagen die u gebruikt"]
[]
[]
[]
[]
[]
[]
[]
[]
[]
[]
[]
[]
[]
[]
[null,"Extra verbruik veroorzaakt door de aanhangwagen"]
[null,"Vul hier, indien van toepassing, de gegevens in van de skibak in uw voertuig"]
[]
[]
[]
[]
[]
[]
[]
[]
[]
[]
[null,"Vul hier, indien van toepassing, de gegevens in van de lift in uw voertuig"]

{"sheet":"Liste","index":1,"n_rows":6,"n_cols":1,"rows_kept":6,"cut":false,"hidden":true,"merged":[]}
[]
[]
[]
[]
[]
["vehicule1"]

{"sheet":"Navigatie","index":2,"n_rows":14,"n_cols":4,"rows_kept":14,"cut":false,"hidden":false,"merged":[[13,3,13,5],[5,3,5,5],[11,3,11,5],[12,3,12,5],[1,1,1,6],[6,3,6,5],[7,3,7,5],[8,3,8,5],[10,3,10,5],[9,3,9,5]]}
[]
[null,"ICB kostprijscalculator 5.0"]
[]
[null,null,"Navigatie"]
[]
[null,null,null,"1, Input van aantal voertuigen"]
[null,null,null,"2. Input van gegevens over het voertuig"]
[null,null,null,"3. Input van gegevens over het bedrijf"]
[null,null,null,"4. Input van gegevens over het rijdend personeel"]
[null,null,null,"5. Input van bestemmingen en voertuigen"]
[null,null,null,"6. Input van gegevens over de rit"]
[null,null,null,"7. Berekening van de loonkost"]
[null,null,null,"8. Berekening van de totale kostprijs en de verkoopprijs"]
[null,null,null,"9. Overzicht van de kostprijzen"]

{"sheet":"Aantal voertuigen","index":3,"n_rows":2222,"n_cols":26,"rows_kept":2222,"cut":false,"hidden":false,"merged":[[1,2,1,14]]}
[]
[null,null,"De lijst met voertuigen instellen"]
[]
[null,null,"Aantal extra voertuigen te vermelden ",null,1]
[]
[null,null,"Lijst van voertuigen waarnaar niet meer moet worden verwezen"]
[]
[]
[]
[]
[]
["vehicule1",null,{"$f":"1","v":1},null,{"$f":"A12","v":"vehicule1"}]
[null,null,{"$f":"C12+1","v":2},null,{"$f":"A13","v":0}]
[null,null,{"$f":"C13+1","v":3},null,0]
[null,null,4,null,0]
[null,null,5,null,0]
[null,null,6,null,0]
[null,null,7,null,0]
[null,null,8,null,0]
[null,null,9,null,0]
[null,null,10,null,0]
[null,null,11,null,0]
[null,null,12,null,0]
[null,null,13,null,0]
[null,null,14,null,0,null,null,null,null,null,null,null,null,null,null,null,null,null,null,null,null,null,null,null,"temsa","test"]
[null,null,15,null,0]
[null,null,16,null,0]
[null,null,17,null,0]
[null,null,18,null,0]
[null,null,19,null,0]
[null,null,20,null,0]
[null,null,21,null,0]
[null,null,22,null,0]
[null,null,23,null,0]
[null,null,24,null,0]
[null,null,25,null,0]
[null,null,26,null,0]
[null,null,27,null,0]
[null,null,28,null,0]
[null,null,29,null,0]
[null,null,30,null,0]
[null,null,31,null,0]
[null,null,32,null,0]
[null,null,33,null,0]
[null,null,34,null,0]
[null,null,35,null,0]
[null,null,36,null,0]
[null,null,37,null,0]
[null,null,38,null,0]
[null,null,39,null,0]
[null,null,40,null,0]
[null,null,41,null,0]
[null,null,42,null,0]
[null,null,43,null,0]
[null,null,44,null,0]
[null,null,45,null,0]
[null,null,46,null,0]
[null,null,47,null,0]
[null,null,48,null,0]
[null,null,49,null,0]
[null,null,50,null,0]
[null,null,51,null,0]
[null,null,52,null,0]
[null,null,53,null,0]
[null,null,54,null,0]
[null,null,55,null,0]
[null,null,56,null,0]
[null,null,57,null,0]
[null,null,58,null,0]
[null,null,59,null,0]
[null,null,60,null,0]
[null,null,61,null,0]
[null,null,62,null,0]
[null,null,63,null,0]
[null,null,64,null,0]
[null,null,65,null,0]
[null,null,66,null,{"$f":"A77","v":0}]
[null,null,{"$f":"C77+1","v":67},null,0]
[null,null,68,null,0]
[null,null,69,null,0]
[null,null,70,null,0]
[null,null,71,null,0]
[null,null,72,null,0]
[null,null,73,null,0]
[null,null,74,null,0]
[null,null,75,null,0]
[null,null,76,null,0]
[null,null,77,null,0]
[null,null,78,null,0]
[null,null,79,null,0]
[null,null,80,null,0]
[null,null,81,null,0]
[null,null,82,null,0]
[null,null,83,null,0]
[null,null,84,null,0]
[null,null,85,null,0]
[null,null,86,null,0]
[null,null,87,null,0]
[null,null,88,null,0]
[null,null,89,null,0]
[null,null,90,null,0]
[null,null,91,null,0]
[null,null,92,null,0]
[null,null,93,null,0]
[null,null,94,null,0]
[null,null,95,null,0]
[null,null,96,null,0]
[null,null,97,null,0]
[null,null,98,null,0]
[null,null,99,null,0]
[null,null,100,null,0]
[null,null,101,null,0]
[null,null,102,null,0]
[null,null,103,null,0]
[null,null,104,null,0]
[null,null,105,null,0]
[null,null,106,null,0]
[null,null,107,null,0]
[null,null,108,null,0]
[null,null,109,null,0]
[null,null,110,null,0]
[null,null,111,null,0]
[null,null,112,null,0]
[null,null,113,null,0]
[null,null,114,null,0]
[null,null,115,null,0]
[null,null,116,null,0]
[null,null,117,null,0]
[null,null,118,null,0]
[null,null,119,null,0]
[null,null,120,null,0]
[null,null,121,null,0]
[null,null,122,null,0]
[null,null,123,null,0]
[null,null,124,null,0]
[null,null,125,null,0]
[null,null,126,null,0]
[null,null,127,null,0]
[null,null,128,null,0]
[null,null,129,null,0]
[null,null,130,null,{"$f":"A141","v":0}]
[null,null,{"$f":"C141+1","v":131},null,0]
[null,null,132,null,0]
[null,null,133,null,0]
[null,null,134,null,0]
[null,null,135,null,0]
[null,null,136,null,0]
[null,null,137,null,0]
[null,null,138,null,0]
[null,null,139,null,0]
[null,null,140,null,0]
[null,null,141,null,0]
[null,null,142,null,0]
[null,null,143,null,0]
[null,null,144,null,0]
[null,null,145,null,0]
[null,null,146,null,0]
[null,null,147,null,0]
[null,null,148,null,0]
[null,null,149,null,0]
[null,null,150,null,0]
[null,null,151,null,0]
[null,null,152,null,0]
[null,null,153,null,0]
[null,null,154,null,0]
[null,null,155,null,0]
[null,null,156,null,0]
[null,null,157,null,0]
[null,null,158,null,0]
[null,null,159,null,0]
[null,null,160,null,0]
[null,null,161,null,0]
[null,null,162,null,0]
[null,null,163,null,0]
[null,null,164,null,0]
[null,null,165,null,0]
[null,null,166,null,0]
[null,null,167,null,0]
[null,null,168,null,0]
[null,null,169,null,0]
[null,null,170,null,0]
[null,null,171,null,0]
[null,null,172,null,0]
[null,null,173,null,0]
[null,null,174,null,0]
[null,null,175,null,0]
[null,null,176,null,0]
[null,null,177,null,0]
[null,null,178,null,0]
[null,null,179,null,0]
[null,null,180,null,0]
[null,null,181,null,0]
[null,null,182,null,0]
[null,null,183,null,0]
[null,null,184,null,0]
[null,null,185,null,0]
[null,null,186,null,0]
[null,null,187,null,0]
[null,null,188,null,0]
[null,null,189,null,0]
[null,null,190,null,0]
[null,null,191,null,0]
[null,null,192,null,0]
[null,null,193,null,0]
[null,null,194,null,{"$f":"A205","v":0}]
[null,null,{"$f":"C205+1","v":195},null,0]
[null,null,196,null,0]
[null,null,197,null,0]
[null,null,198,null,0]
[null,null,199,null,0]
[null,null,200,null,0]
[null,null,201,null,0]
[null,null,202,null,0]
[null,null,203,null,0]
[null,null,204,null,0]
[null,null,205,null,0]
[null,null,206,null,0]
[null,null,207,null,0]
[null,null,208,null,0]
[null,null,209,null,0]
[null,null,210,null,0]
[null,null,211,null,0]
[null,null,212,null,0]
[null,null,213,null,0]
[null,null,214,null,0]
[null,null,215,null,0]
[null,null,216,null,0]
[null,null,217,null,0]
[null,null,218,null,0]
[null,null,219,null,0]
[null,null,220,null,0]
[null,null,221,null,0]
[null,null,222,null,0]
[null,null,223,null,0]
[null,null,224,null,0]
[null,null,225,null,0]
[null,null,226,null,0]
[null,null,227,null,0]
[null,null,228,null,0]
[null,null,229,null,0]
[null,null,230,null,0]
[null,null,231,null,0]
[null,null,232,null,0]
[null,null,233,null,0]
[null,null,234,null,0]
[null,null,235,null,0]
[null,null,236,null,0]
[null,null,237,null,0]
[null,null,238,null,0]
[null,null,239,null,0]
[null,null,240,null,0]
[null,null,241,null,0]
[null,null,242,null,0]
[null,null,243,null,0]
[null,null,244,null,0]
[null,null,245,null,0]
[null,null,246,null,0]
[null,null,247,null,0]
[null,null,248,null,0]
[null,null,249,null,0]
[null,null,250,null,0]
[null,null,251,null,0]
[null,null,252,null,0]
[null,null,253,null,0]
[null,null,254,null,0]
[null,null,255,null,0]
[null,null,256,null,0]
[null,null,257,null,0]
[null,null,258,null,{"$f":"A269","v":0}]
[null,null,{"$f":"C269+1","v":259},null,0]
[null,null,260,null,0]
[null,null,261,null,0]
[null,null,262,null,0]
[null,null,263,null,0]
[null,null,264,null,0]
[null,null,265,null,0]
[null,null,266,null,0]
[null,null,267,null,0]
[null,null,268,null,0]
[null,null,269,null,0]
[null,null,270,null,0]
[null,null,271,null,0]
[null,null,272,null,0]
[null,null,273,null,0]
[null,null,274,null,0]
[null,null,275,null,0]
[null,null,276,null,0]
[null,null,277,null,0]
[null,null,278,null,0]
[null,null,279,null,0]
[null,null,280,null,0]
[null,null,281,null,0]
[null,null,282,null,0]
[null,null,283,null,0]
[null,null,284,null,0]
[null,null,285,null,0]
[null,null,286,null,0]
[null,null,287,null,0]
[null,null,288,null,0]
[null,null,289,null,0]
[null,null,290,null,0]
[null,null,291,null,0]
[null,null,292,null,0]
[null,null,293,null,0]
[null,null,294,null,0]
[null,null,295,null,0]
[null,null,296,null,0]
[null,null,297,null,0]
[null,null,298,null,0]
[null,null,299,null,0]
[null,null,300,null,0]
[null,null,301,null,0]
[null,null,302,null,0]
[null,null,303,null,0]
[null,null,304,null,0]
[null,null,305,null,0]
[null,null,306,null,0]
[null,null,307,null,0]
[null,null,308,null,0]
[null,null,309,null,0]
[null,null,310,null,0]
[null,null,311,null,0]
[null,null,312,null,0]
[null,null,313,null,0]
[null,null,314,null,0]
[null,null,315,null,0]
[null,null,316,null,0]
[null,null,317,null,0]
[null,null,318,null,0]
[null,null,319,null,0]
[null,null,320,null,0]
[null,null,321,null,0]
[null,null,322,null,{"$f":"A333","v":0}]
[null,null,{"$f":"C333+1","v":323},null,0]
[null,null,324,null,0]
[null,null,325,null,0]
[null,null,326,null,0]
[null,null,327,null,0]
[null,null,328,null,0]
[null,null,329,null,0]
[null,null,330,null,0]
[null,null,331,null,0]
[null,null,332,null,0]
[null,null,333,null,0]
[null,null,334,null,0]
[null,null,335,null,0]
[null,null,336,null,0]
[null,null,337,null,0]
[null,null,338,null,0]
[null,null,339,null,0]
[null,null,340,null,0]
[null,null,341,null,0]
[null,null,342,null,0]
[null,null,343,null,0]
[null,null,344,null,0]
[null,null,345,null,0]
[null,null,346,null,0]
[null,null,347,null,0]
[null,null,348,null,0]
[null,null,349,null,0]
[null,null,350,null,0]
[null,null,351,null,0]
[null,null,352,null,0]
[null,null,353,null,0]
[null,null,354,null,0]
[null,null,355,null,0]
[null,null,356,null,0]
[null,null,357,null,0]
[null,null,358,null,0]
[null,null,359,null,0]
[null,null,360,null,0]
[null,null,361,null,0]
[null,null,362,null,0]
[null,null,363,null,0]
[null,null,364,null,0]
[null,null,365,null,0]
[null,null,366,null,0]
[null,null,367,null,0]
[null,null,368,null,0]
[null,null,369,null,0]
[null,null,370,null,0]
[null,null,371,null,0]
[null,null,372,null,0]
[null,null,373,null,0]
[null,null,374,null,0]
[null,null,375,null,0]
[null,null,376,null,0]
[null,null,377,null,0]
[null,null,378,null,0]
[null,null,379,null,0]
[null,null,380,null,0]
[null,null,381,null,0]
[null,null,382,null,0]
[null,null,383,null,0]
[null,null,384,null,0]
[null,null,385,null,0]
[null,null,386,null,{"$f":"A397","v":0}]
[null,null,{"$f":"C397+1","v":387},null,0]
[null,null,388,null,0]
[null,null,389,null,0]
[null,null,390,null,0]
[null,null,391,null,0]
[null,null,392,null,0]
[null,null,393,null,0]
[null,null,394,null,0]
[null,null,395,null,0]
[null,null,396,null,0]
[null,null,397,null,0]
[null,null,398,null,0]
[null,null,399,null,0]
[null,null,400,null,0]
[null,null,401,null,0]
[null,null,402,null,0]
[null,null,403,null,0]
[null,null,404,null,0]
[null,null,405,null,0]
[null,null,406,null,0]
[null,null,407,null,0]
[null,null,408,null,0]
[null,null,409,null,0]
[null,null,410,null,0]
[null,null,411,null,0]
[null,null,412,null,0]
[null,null,413,null,0]
[null,null,414,null,0]
[null,null,415,null,0]
[null,null,416,null,0]
[null,null,417,null,0]
[null,null,418,null,0]
[null,null,419,null,0]
[null,null,420,null,0]
[null,null,421,null,0]
[null,null,422,null,0]
[null,null,423,null,0]
[null,null,424,null,0]
[null,null,425,null,0]
[null,null,426,null,0]
[null,null,427,null,0]
[null,null,428,null,0]
[null,null,429,null,0]
[null,null,430,null,0]
[null,null,431,null,0]
[null,null,432,null,0]
[null,null,433,null,0]
[null,null,434,null,0]
[null,null,435,null,0]
[null,null,436,null,0]
[null,null,437,null,0]
[null,null,438,null,0]
[null,null,439,null,0]
[null,null,440,null,0]
[null,null,441,null,0]
[null,null,442,null,0]
[null,null,443,null,0]
[null,null,444,null,0]
[null,null,445,null,0]
[null,null,446,null,0]
[null,null,447,null,0]
[null,null,448,null,0]
[null,null,449,null,0]
[null,null,450,null,{"$f":"A461","v":0}]
[null,null,{"$f":"C461+1","v":451},null,0]
[null,null,452,null,0]
[null,null,453,null,0]
[null,null,454,null,0]
[null,null,455,null,0]
[null,null,456,null,0]
[null,null,457,null,0]
[null,null,458,null,0]
[null,null,459,null,0]
[null,null,460,null,0]
[null,null,461,null,0]
[null,null,462,null,0]
[null,null,463,null,0]
[null,null,464,null,0]
[null,null,465,null,0]
[null,null,466,null,0]
[null,null,467,null,0]
[null,null,468,null,0]
[null,null,469,null,0]
[null,null,470,null,0]
[null,null,471,null,0]
[null,null,472,null,0]
[null,null,473,null,0]
[null,null,474,null,0]
[null,null,475,null,0]
[null,null,476,null,0]
[null,null,477,null,0]
[null,null,478,null,0]
[null,null,479,null,0]
[null,null,480,null,0]
[null,null,481,null,0]
[null,null,482,null,0]
[null,null,483,null,0]
[null,null,484,null,0]
[null,null,485,null,0]
[null,null,486,null,0]
[null,null,487,null,0]
[null,null,488,null,0]
[null,null,489,null,0]
[null,null,490,null,0]
[null,null,491,null,0]
[null,null,492,null,0]
[null,null,493,null,0]
[null,null,494,null,0]
[null,null,495,null,0]
[null,null,496,null,0]
[null,null,497,null,0]
[null,null,498,null,0]
[null,null,499,null,0]
[null,null,500,null,0]
[null,null,501,null,0]
[null,null,502,null,0]
[null,null,503,null,0]
[null,null,504,null,0]
[null,null,505,null,0]
[null,null,506,null,0]
[null,null,507,null,0]
[null,null,508,null,0]
[null,null,509,null,0]
[null,null,510,null,0]
[null,null,511,null,0]
[null,null,512,null,0]
[null,null,513,null,0]
[null,null,514,null,{"$f":"A525","v":0}]
[null,null,{"$f":"C525+1","v":515},null,0]
[null,null,516,null,0]
[null,null,517,null,0]
[null,null,518,null,0]
[null,null,519,null,0]
[null,null,520,null,0]
[null,null,521,null,0]
[null,null,522,null,0]
[null,null,523,null,0]
[null,null,524,null,0]
[null,null,525,null,0]
[null,null,526,null,0]
[null,null,527,null,0]
[null,null,528,null,0]
[null,null,529,null,0]
[null,null,530,null,0]
[null,null,531,null,0]
[null,null,532,null,0]
[null,null,533,null,0]
[null,null,534,null,0]
[null,null,535,null,0]
[null,null,536,null,0]
[null,null,537,null,0]
[null,null,538,null,0]
[null,null,539,null,0]
[null,null,540,null,0]
[null,null,541,null,0]
[null,null,542,null,0]
[null,null,543,null,0]
[null,null,544,null,0]
[null,null,545,null,0]
[null,null,546,null,0]
[null,null,547,null,0]
[null,null,548,null,0]
[null,null,549,null,0]
[null,null,550,null,0]
[null,null,551,null,0]
[null,null,552,null,0]
[null,null,553,null,0]
[null,null,554,null,0]
[null,null,555,null,0]
[null,null,556,null,0]
[null,null,557,null,0]
[null,null,558,null,0]
[null,null,559,null,0]
[null,null,560,null,0]
[null,null,561,null,0]
[null,null,562,null,0]
[null,null,563,null,0]
[null,null,564,null,0]
[null,null,565,null,0]
[null,null,566,null,0]
[null,null,567,null,0]
[null,null,568,null,0]
[null,null,569,null,0]
[null,null,570,null,0]
[null,null,571,null,0]
[null,null,572,null,0]
[null,null,573,null,0]
[null,null,574,null,0]
[null,null,575,null,0]
[null,null,576,null,0]
[null,null,577,null,0]
[null,null,578,null,{"$f":"A589","v":0}]
[null,null,{"$f":"C589+1","v":579},null,0]
[null,null,580,null,0]
[null,null,581,null,0]
[null,null,582,null,0]
[null,null,583,null,0]
[null,null,584,null,0]
[null,null,585,null,0]
[null,null,586,null,0]
[null,null,587,null,0]
[null,null,588,null,0]
[null,null,589,null,0]
[null,null,590,null,0]
[null,null,591,null,0]
[null,null,592,null,0]
[null,null,593,null,0]
[null,null,594,null,0]
[null,null,595,null,0]
[null,null,596,null,0]
[null,null,597,null,0]
[null,null,598,null,0]
[null,null,599,null,0]
[null,null,600,null,0]
[null,null,601,null,0]
[null,null,602,null,0]
[null,null,603,null,0]
[null,null,604,null,0]
[null,null,605,null,0]
[null,null,606,null,0]
[null,null,607,null,0]
[null,null,608,null,0]
[null,null,609,null,0]
[null,null,610,null,0]
[null,null,611,null,0]
[null,null,612,null,0]
[null,null,613,null,0]
[null,null,614,null,0]
[null,null,615,null,0]
[null,null,616,null,0]
[null,null,617,null,0]
[null,null,618,null,0]
[null,null,619,null,0]
[null,null,620,null,0]
[null,null,621,null,0]
[null,null,622,null,0]
[null,null,623,null,0]
[null,null,624,null,0]
[null,null,625,null,0]
[null,null,626,null,0]
[null,null,627,null,0]
[null,null,628,null,0]
[null,null,629,null,0]
[null,null,630,null,0]
[null,null,631,null,0]
[null,null,632,null,0]
[null,null,633,null,0]
[null,null,634,null,0]
[null,null,635,null,0]
[null,null,636,null,0]
[null,null,637,null,0]
[null,null,638,null,0]
[null,null,639,null,0]
[null,null,640,null,0]
[null,null,641,null,0]
[null,null,642,null,{"$f":"A653","v":0}]
[null,null,{"$f":"C653+1","v":643},null,0]
[null,null,644,null,0]
[null,null,645,null,0]
[null,null,646,null,0]
[null,null,647,null,0]
[null,null,648,null,0]
[null,null,649,null,0]
[null,null,650,null,0]
[null,null,651,null,0]
[null,null,652,null,0]
[null,null,653,null,0]
[null,null,654,null,0]
[null,null,655,null,0]
[null,null,656,null,0]
[null,null,657,null,0]
[null,null,658,null,0]
[null,null,659,null,0]
[null,null,660,null,0]
[null,null,661,null,0]
[null,null,662,null,0]
[null,null,663,null,0]
[null,null,664,null,0]
[null,null,665,null,0]
[null,null,666,null,0]
[null,null,667,null,0]
[null,null,668,null,0]
[null,null,669,null,0]
[null,null,670,null,0]
[null,null,671,null,0]
[null,null,672,null,0]
[null,null,673,null,0]
[null,null,674,null,0]
[null,null,675,null,0]
[null,null,676,null,0]
[null,null,677,null,0]
[null,null,678,null,0]
[null,null,679,null,0]
[null,null,680,null,0]
[null,null,681,null,0]
[null,null,682,null,0]
[null,null,683,null,0]
[null,null,684,null,0]
[null,null,685,null,0]
[null,null,686,null,0]
[null,null,687,null,0]
[null,null,688,null,0]
[null,null,689,null,0]
[null,null,690,null,0]
[null,null,691,null,0]
[null,null,692,null,0]
[null,null,693,null,0]
[null,null,694,null,0]
[null,null,695,null,0]
[null,null,696,null,0]
[null,null,697,null,0]
[null,null,698,null,0]
[null,null,699,null,0]
[null,null,700,null,0]
[null,null,701,null,0]
[null,null,702,null,0]
[null,null,703,null,0]
[null,null,704,null,0]
[null,null,705,null,0]
[null,null,706,null,{"$f":"A717","v":0}]
[null,null,{"$f":"C717+1","v":707},null,0]
[null,null,708,null,0]
[null,null,709,null,0]
[null,null,710,null,0]
[null,null,711,null,0]
[null,null,712,null,0]
[null,null,713,null,0]
[null,null,714,null,0]
[null,null,715,null,0]
[null,null,716,null,0]
[null,null,717,null,0]
[null,null,718,null,0]
[null,null,719,null,0]
[null,null,720,null,0]
[null,null,721,null,0]
[null,null,722,null,0]
[null,null,723,null,0]
[null,null,724,null,0]
[null,null,725,null,0]
[null,null,726,null,0]
[null,null,727,null,0]
[null,null,728,null,0]
[null,null,729,null,0]
[null,null,730,null,0]
[null,null,731,null,0]
[null,null,732,null,0]
[null,null,733,null,0]
[null,null,734,null,0]
[null,null,735,null,0]
[null,null,736,null,0]
[null,null,737,null,0]
[null,null,738,null,0]
[null,null,739,null,0]
[null,null,740,null,0]
[null,null,741,null,0]
[null,null,742,null,0]
[null,null,743,null,0]
[null,null,744,null,0]
[null,null,745,null,0]
[null,null,746,null,0]
[null,null,747,null,0]
[null,null,748,null,0]
[null,null,749,null,0]
[null,null,750,null,0]
[null,null,751,null,0]
[null,null,752,null,0]
[null,null,753,null,0]
[null,null,754,null,0]
[null,null,755,null,0]
[null,null,756,null,0]
[null,null,757,null,0]
[null,null,758,null,0]
[null,null,759,null,0]
[null,null,760,null,0]
[null,null,761,null,0]
[null,null,762,null,0]
[null,null,763,null,0]
[null,null,764,null,0]
[null,null,765,null,0]
[null,null,766,null,0]
[null,null,767,null,0]
[null,null,768,null,0]
[null,null,769,null,0]
[null,null,770,null,{"$f":"A781","v":0}]
[null,null,{"$f":"C781+1","v":771},null,0]
[null,null,772,null,0]
[null,null,773,null,0]
[null,null,774,null,0]
[null,null,775,null,0]
[null,null,776,null,0]
[null,null,777,null,0]
[null,null,778,null,0]
[null,null,779,null,0]
[null,null,780,null,0]
[null,null,781,null,0]
[null,null,782,null,0]
[null,null,783,null,0]
[null,null,784,null,0]
[null,null,785,null,0]
[null,null,786,null,0]
[null,null,787,null,0]
[null,null,788,null,0]
[null,null,789,null,0]
[null,null,790,null,0]
[null,null,791,null,0]
[null,null,792,null,0]
[null,null,793,null,0]
[null,null,794,null,0]
[null,null,795,null,0]
[null,null,796,null,0]
[null,null,797,null,0]
[null,null,798,null,0]
[null,null,799,null,0]
[null,null,800,null,0]
[null,null,801,null,0]
[null,null,802,null,0]
[null,null,803,null,0]
[null,null,804,null,0]
[null,null,805,null,0]
[null,null,806,null,0]
[null,null,807,null,0]
[null,null,808,null,0]
[null,null,809,null,0]
[null,null,810,null,0]
[null,null,811,null,0]
[null,null,812,null,0]
[null,null,813,null,0]
[null,null,814,null,0]
[null,null,815,null,0]
[null,null,816,null,0]
[null,null,817,null,0]
[null,null,818,null,0]
[null,null,819,null,0]
[null,null,820,null,0]
[null,null,821,null,0]
[null,null,822,null,0]
[null,null,823,null,0]
[null,null,824,null,0]
[null,null,825,null,0]
[null,null,826,null,0]
[null,null,827,null,0]
[null,null,828,null,0]
[null,null,829,null,0]
[null,null,830,null,0]
[null,null,831,null,0]
[null,null,832,null,0]
[null,null,833,null,0]
[null,null,834,null,{"$f":"A845","v":0}]
[null,null,{"$f":"C845+1","v":835},null,0]
[null,null,836,null,0]
[null,null,837,null,0]
[null,null,838,null,0]
[null,null,839,null,0]
[null,null,840,null,0]
[null,null,841,null,0]
[null,null,842,null,0]
[null,null,843,null,0]
[null,null,844,null,0]
[null,null,845,null,0]
[null,null,846,null,0]
[null,null,847,null,0]
[null,null,848,null,0]
[null,null,849,null,0]
[null,null,850,null,0]
[null,null,851,null,0]
[null,null,852,null,0]
[null,null,853,null,0]
[null,null,854,null,0]
[null,null,855,null,0]
[null,null,856,null,0]
[null,null,857,null,0]
[null,null,858,null,0]
[null,null,859,null,0]
[null,null,860,null,0]
[null,null,861,null,0]
[null,null,862,null,0]
[null,null,863,null,0]
[null,null,864,null,0]
[null,null,865,null,0]
[null,null,866,null,0]
[null,null,867,null,0]
[null,null,868,null,0]
[null,null,869,null,0]
[null,null,870,null,0]
[null,null,871,null,0]
[null,null,872,null,0]
[null,null,873,null,0]
[null,null,874,null,0]
[null,null,875,null,0]
[null,null,876,null,0]
[null,null,877,null,0]
[null,null,878,null,0]
[null,null,879,null,0]
[null,null,880,null,0]
[null,null,881,null,0]
[null,null,882,null,0]
[null,null,883,null,0]
[null,null,884,null,0]
[null,null,885,null,0]
[null,null,886,null,0]
[null,null,887,null,0]
[null,null,888,null,0]
[null,null,889,null,0]
[null,null,890,null,0]
[null,null,891,null,0]
[null,null,892,null,0]
[null,null,893,null,0]
[null,null,894,null,0]
[null,null,895,null,0]
[null,null,896,null,0]
[null,null,897,null,0]
[null,null,898,null,{"$f":"A909","v":0}]
[null,null,{"$f":"C909+1","v":899},null,0]
[null,null,900,null,0]
[null,null,901,null,0]
[null,null,902,null,0]
[null,null,903,null,0]
[null,null,904,null,0]
[null,null,905,null,0]
[null,null,906,null,0]
[null,null,907,null,0]
[null,null,908,null,0]
[null,null,909,null,0]
[null,null,910,null,0]
[null,null,911,null,0]
[null,null,912,null,0]
[null,null,913,null,0]
[null,null,914,null,0]
[null,null,915,null,0]
[null,null,916,null,0]
[null,null,917,null,0]
[null,null,918,null,0]
[null,null,919,null,0]
[null,null,920,null,0]
[null,null,921,null,0]
[null,null,922,null,0]
[null,null,923,null,0]
[null,null,924,null,0]
[null,null,925,null,0]
[null,null,926,null,0]
[null,null,927,null,0]
[null,null,928,null,0]
[null,null,929,null,0]
[null,null,930,null,0]
[null,null,931,null,0]
[null,null,932,null,0]
[null,null,933,null,0]
[null,null,934,null,0]
[null,null,935,null,0]
[null,null,936,null,0]
[null,null,937,null,0]
[null,null,938,null,0]
[null,null,939,null,0]
[null,null,940,null,0]
[null,null,941,null,0]
[null,null,942,null,0]
[null,null,943,null,0]
[null,null,944,null,0]
[null,null,945,null,0]
[null,null,946,null,0]
[null,null,947,null,0]
[null,null,948,null,0]
[null,null,949,null,0]
[null,null,950,null,0]
[null,null,951,null,0]
[null,null,952,null,0]
[null,null,953,null,0]
[null,null,954,null,0]
[null,null,955,null,0]
[null,null,956,null,0]
[null,null,957,null,0]
[null,null,958,null,0]
[null,null,959,null,0]
[null,null,960,null,0]
[null,null,961,null,0]
[null,null,962,null,{"$f":"A973","v":0}]
[null,null,{"$f":"C973+1","v":963},null,0]
[null,null,964,null,0]
[null,null,965,null,0]
[null,null,966,null,0]
[null,null,967,null,0]
[null,null,968,null,0]
[null,null,969,null,0]
[null,null,970,null,0]
[null,null,971,null,0]
[null,null,972,null,0]
[null,null,973,null,0]
[null,null,974,null,0]
[null,null,975,null,0]
[null,null,976,null,0]
[null,null,977,null,0]
[null,null,978,null,0]
[null,null,979,null,0]
[null,null,980,null,0]
[null,null,981,null,0]
[null,null,982,null,0]
[null,null,983,null,0]
[null,null,984,null,0]
[null,null,985,null,0]
[null,null,986,null,0]
[null,null,987,null,0]
[null,null,988,null,0]
[null,null,989,null,0]
[null,null,990,null,0]
[null,null,991,null,0]
[null,null,992,null,0]
[null,null,993,null,0]
[null,null,994,null,0]
[null,null,995,null,0]
[null,null,996,null,0]
[null,null,997,null,0]
[null,null,998,null,0]
[null,null,999,null,0]
[null,null,1000,null,0]
[null,null,1001,null,0]
[null,null,1002,null,0]
[null,null,1003,null,0]
[null,null,1004,null,0]
[null,null,1005,null,0]
[null,null,1006,null,0]
[null,null,1007,null,0]
[null,null,1008,null,0]
[null,null,1009,null,0]
[null,null,1010,null,0]
[null,null,1011,null,0]
[null,null,1012,null,0]
[null,null,1013,null,0]
[null,null,1014,null,0]
[null,null,1015,null,0]
[null,null,1016,null,0]
[null,null,1017,null,0]
[null,null,1018,null,0]
[null,null,1019,null,0]
[null,null,1020,null,0]
[null,null,1021,null,0]
[null,null,1022,null,0]
[null,null,1023,null,0]
[null,null,1024,null,0]
[null,null,1025,null,0]
[null,null,1026,null,{"$f":"A1037","v":0}]
[null,null,{"$f":"C1037+1","v":1027},null,0]
[null,null,1028,null,0]
[null,null,1029,null,0]
[null,null,1030,null,0]
[null,null,1031,null,0]
[null,null,1032,null,0]
[null,null,1033,null,0]
[null,null,1034,null,0]
[null,null,1035,null,0]
[null,null,1036,null,0]
[null,null,1037,null,0]
[null,null,1038,null,0]
[null,null,1039,null,0]
[null,null,1040,null,0]
[null,null,1041,null,0]
[null,null,1042,null,0]
[null,null,1043,null,0]
[null,null,1044,null,0]
[null,null,1045,null,0]
[null,null,1046,null,0]
[null,null,1047,null,0]
[null,null,1048,null,0]
[null,null,1049,null,0]
[null,null,1050,null,0]
[null,null,1051,null,0]
[null,null,1052,null,0]
[null,null,1053,null,0]
[null,null,1054,null,0]
[null,null,1055,null,0]
[null,null,1056,null,0]
[null,null,1057,null,0]
[null,null,1058,null,0]
[null,null,1059,null,0]
[null,null,1060,null,0]
[null,null,1061,null,0]
[null,null,1062,null,0]
[null,null,1063,null,0]
[null,null,1064,null,0]
[null,null,1065,null,0]
[null,null,1066,null,0]
[null,null,1067,null,0]
[null,null,1068,null,0]
[null,null,1069,null,0]
[null,null,1070,null,0]
[null,null,1071,null,0]
[null,null,1072,null,0]
[null,null,1073,null,0]
[null,null,1074,null,0]
[null,null,1075,null,0]
[null,null,1076,null,0]
[null,null,1077,null,0]
[null,null,1078,null,0]
[null,null,1079,null,0]
[null,null,1080,null,0]
[null,null,1081,null,0]
[null,null,1082,null,0]
[null,null,1083,null,0]
[null,null,1084,null,0]
[null,null,1085,null,0]
[null,null,1086,null,0]
[null,null,1087,null,0]
[null,null,1088,null,0]
[null,null,1089,null,0]
[null,null,1090,null,{"$f":"A1101","v":0}]
[null,null,{"$f":"C1101+1","v":1091},null,0]
[null,null,1092,null,0]
[null,null,1093,null,0]
[null,null,1094,null,0]
[null,null,1095,null,0]
[null,null,1096,null,0]
[null,null,1097,null,0]
[null,null,1098,null,0]
[null,null,1099,null,0]
[null,null,1100,null,0]
[null,null,1101,null,0]
[null,null,1102,null,0]
[null,null,1103,null,0]
[null,null,1104,null,0]
[null,null,1105,null,0]
[null,null,1106,null,0]
[null,null,1107,null,0]
[null,null,1108,null,0]
[null,null,1109,null,0]
[null,null,1110,null,0]
[null,null,1111,null,0]
[null,null,1112,null,0]
[null,null,1113,null,0]
[null,null,1114,null,0]
[null,null,1115,null,0]
[null,null,1116,null,0]
[null,null,1117,null,0]
[null,null,1118,null,0]
[null,null,1119,null,0]
[null,null,1120,null,0]
[null,null,1121,null,0]
[null,null,1122,null,0]
[null,null,1123,null,0]
[null,null,1124,null,0]
[null,null,1125,null,0]
[null,null,1126,null,0]
[null,null,1127,null,0]
[null,null,1128,null,0]
[null,null,1129,null,0]
[null,null,1130,null,0]
[null,null,1131,null,0]
[null,null,1132,null,0]
[null,null,1133,null,0]
[null,null,1134,null,0]
[null,null,1135,null,0]
[null,null,1136,null,0]
[null,null,1137,null,0]
[null,null,1138,null,0]
[null,null,1139,null,0]
[null,null,1140,null,0]
[null,null,1141,null,0]
[null,null,1142,null,0]
[null,null,1143,null,0]
[null,null,1144,null,0]
[null,null,1145,null,0]
[null,null,1146,null,0]
[null,null,1147,null,0]
[null,null,1148,null,0]
[null,null,1149,null,0]
[null,null,1150,null,0]
[null,null,1151,null,0]
[null,null,1152,null,0]
[null,null,1153,null,0]
[null,null,1154,null,{"$f":"A1165","v":0}]
[null,null,{"$f":"C1165+1","v":1155},null,0]
[null,null,1156,null,0]
[null,null,1157,null,0]
[null,null,1158,null,0]
[null,null,1159,null,0]
[null,null,1160,null,0]
[null,null,1161,null,0]
[null,null,1162,null,0]
[null,null,1163,null,0]
[null,null,1164,null,0]
[null,null,1165,null,0]
[null,null,1166,null,0]
[null,null,1167,null,0]
[null,null,1168,null,0]
[null,null,1169,null,0]
[null,null,1170,null,0]
[null,null,1171,null,0]
[null,null,1172,null,0]
[null,null,1173,null,0]
[null,null,1174,null,0]
[null,null,1175,null,0]
[null,null,1176,null,0]
[null,null,1177,null,0]
[null,null,1178,null,0]
[null,null,1179,null,0]
[null,null,1180,null,0]
[null,null,1181,null,0]
[null,null,1182,null,0]
[null,null,1183,null,0]
[null,null,1184,null,0]
[null,null,1185,null,0]
[null,null,1186,null,0]
[null,null,1187,null,0]
[null,null,1188,null,0]
[null,null,1189,null,0]
[null,null,1190,null,0]
[null,null,1191,null,0]
[null,null,1192,null,0]
[null,null,1193,null,0]
[null,null,1194,null,0]
[null,null,1195,null,0]
[null,null,1196,null,0]
[null,null,1197,null,0]
[null,null,1198,null,0]
[null,null,1199,null,0]
[null,null,1200,null,0]
[null,null,1201,null,0]
[null,null,1202,null,0]
[null,null,1203,null,0]
[null,null,1204,null,0]
[null,null,1205,null,0]
[null,null,1206,null,0]
[null,null,1207,null,0]
[null,null,1208,null,0]
[null,null,1209,null,0]
[null,null,1210,null,0]
[null,null,1211,null,0]
[null,null,1212,null,0]
[null,null,1213,null,0]
[null,null,1214,null,0]
[null,null,1215,null,0]
[null,null,1216,null,0]
[null,null,1217,null,0]
[null,null,1218,null,{"$f":"A1229","v":0}]
[null,null,{"$f":"C1229+1","v":1219},null,0]
[null,null,1220,null,0]
[null,null,1221,null,0]
[null,null,1222,null,0]
[null,null,1223,null,0]
[null,null,1224,null,0]
[null,null,1225,null,0]
[null,null,1226,null,0]
[null,null,1227,null,0]
[null,null,1228,null,0]
[null,null,1229,null,0]
[null,null,1230,null,0]
[null,null,1231,null,0]
[null,null,1232,null,0]
[null,null,1233,null,0]
[null,null,1234,null,0]
[null,null,1235,null,0]
[null,null,1236,null,0]
[null,null,1237,null,0]
[null,null,1238,null,0]
[null,null,1239,null,0]
[null,null,1240,null,0]
[null,null,1241,null,0]
[null,null,1242,null,0]
[null,null,1243,null,0]
[null,null,1244,null,0]
[null,null,1245,null,0]
[null,null,1246,null,0]
[null,null,1247,null,0]
[null,null,1248,null,0]
[null,null,1249,null,0]
[null,null,1250,null,0]
[null,null,1251,null,0]
[null,null,1252,null,0]
[null,null,1253,null,0]
[null,null,1254,null,0]
[null,null,1255,null,0]
[null,null,1256,null,0]
[null,null,1257,null,0]
[null,null,1258,null,0]
[null,null,1259,null,0]
[null,null,1260,null,0]
[null,null,1261,null,0]
[null,null,1262,null,0]
[null,null,1263,null,0]
[null,null,1264,null,0]
[null,null,1265,null,0]
[null,null,1266,null,0]
[null,null,1267,null,0]
[null,null,1268,null,0]
[null,null,1269,null,0]
[null,null,1270,null,0]
[null,null,1271,null,0]
[null,null,1272,null,0]
[null,null,1273,null,0]
[null,null,1274,null,0]
[null,null,1275,null,0]
[null,null,1276,null,0]
[null,null,1277,null,0]
[null,null,1278,null,0]
[null,null,1279,null,0]
[null,null,1280,null,0]
[null,null,1281,null,0]
[null,null,1282,null,{"$f":"A1293","v":0}]
[null,null,{"$f":"C1293+1","v":1283},null,0]
[null,null,1284,null,0]
[null,null,1285,null,0]
[null,null,1286,null,0]
[null,null,1287,null,0]
[null,null,1288,null,0]
[null,null,1289,null,0]
[null,null,1290,null,0]
[null,null,1291,null,0]
[null,null,1292,null,0]
[null,null,1293,null,0]
[null,null,1294,null,0]
[null,null,1295,null,0]
[null,null,1296,null,0]
[null,null,1297,null,0]
[null,null,1298,null,0]
[null,null,1299,null,0]
[null,null,1300,null,0]
[null,null,1301,null,0]
[null,null,1302,null,0]
[null,null,1303,null,0]
[null,null,1304,null,0]
[null,null,1305,null,0]
[null,null,1306,null,0]
[null,null,1307,null,0]
[null,null,1308,null,0]
[null,null,1309,null,0]
[null,null,1310,null,0]
[null,null,1311,null,0]
[null,null,1312,null,0]
[null,null,1313,null,0]
[null,null,1314,null,0]
[null,null,1315,null,0]
[null,null,1316,null,0]
[null,null,1317,null,0]
[null,null,1318,null,0]
[null,null,1319,null,0]
[null,null,1320,null,0]
[null,null,1321,null,0]
[null,null,1322,null,0]
[null,null,1323,null,0]
[null,null,1324,null,0]
[null,null,1325,null,0]
[null,null,1326,null,0]
[null,null,1327,null,0]
[null,null,1328,null,0]
[null,null,1329,null,0]
[null,null,1330,null,0]
[null,null,1331,null,0]
[null,null,1332,null,0]
[null,null,1333,null,0]
[null,null,1334,null,0]
[null,null,1335,null,0]
[null,null,1336,null,0]
[null,null,1337,null,0]
[null,null,1338,null,0]
[null,null,1339,null,0]
[null,null,1340,null,0]
[null,null,1341,null,0]
[null,null,1342,null,0]
[null,null,1343,null,0]
[null,null,1344,null,0]
[null,null,1345,null,0]
[null,null,1346,null,{"$f":"A1357","v":0}]
[null,null,{"$f":"C1357+1","v":1347},null,0]
[null,null,1348,null,0]
[null,null,1349,null,0]
[null,null,1350,null,0]
[null,null,1351,null,0]
[null,null,1352,null,0]
[null,null,1353,null,0]
[null,null,1354,null,0]
[null,null,1355,null,0]
[null,null,1356,null,0]
[null,null,1357,null,0]
[null,null,1358,null,0]
[null,null,1359,null,0]
[null,null,1360,null,0]
[null,null,1361,null,0]
[null,null,1362,null,0]
[null,null,1363,null,0]
[null,null,1364,null,0]
[null,null,1365,null,0]
[null,null,1366,null,0]
[null,null,1367,null,0]
[null,null,1368,null,0]
[null,null,1369,null,0]
[null,null,1370,null,0]
[null,null,1371,null,0]
[null,null,1372,null,0]
[null,null,1373,null,0]
[null,null,1374,null,0]
[null,null,1375,null,0]
[null,null,1376,null,0]
[null,null,1377,null,0]
[null,null,1378,null,0]
[null,null,1379,null,0]
[null,null,1380,null,0]
[null,null,1381,null,0]
[null,null,1382,null,0]
[null,null,1383,null,0]
[null,null,1384,null,0]
[null,null,1385,null,0]
[null,null,1386,null,0]
[null,null,1387,null,0]
[null,null,1388,null,0]
[null,null,1389,null,0]
[null,null,1390,null,0]
[null,null,1391,null,0]
[null,null,1392,null,0]
[null,null,1393,null,0]
[null,null,1394,null,0]
[null,null,1395,null,0]
[null,null,1396,null,0]
[null,null,1397,null,0]
[null,null,1398,null,0]
[null,null,1399,null,0]
[null,null,1400,null,0]
[null,null,1401,null,0]
[null,null,1402,null,0]
[null,null,1403,null,0]
[null,null,1404,null,0]
[null,null,1405,null,0]
[null,null,1406,null,0]
[null,null,1407,null,0]
[null,null,1408,null,0]
[null,null,1409,null,0]
[null,null,1410,null,{"$f":"A1421","v":0}]
[null,null,{"$f":"C1421+1","v":1411},null,0]
[null,null,1412,null,0]
[null,null,1413,null,0]
[null,null,1414,null,0]
[null,null,1415,null,0]
[null,null,1416,null,0]
[null,null,1417,null,0]
[null,null,1418,null,0]
[null,null,1419,null,0]
[null,null,1420,null,0]
[null,null,1421,null,0]
[null,null,1422,null,0]
[null,null,1423,null,0]
[null,null,1424,null,0]
[null,null,1425,null,0]
[null,null,1426,null,0]
[null,null,1427,null,0]
[null,null,1428,null,0]
[null,null,1429,null,0]
[null,null,1430,null,0]
[null,null,1431,null,0]
[null,null,1432,null,0]
[null,null,1433,null,0]
[null,null,1434,null,0]
[null,null,1435,null,0]
[null,null,1436,null,0]
[null,null,1437,null,0]
[null,null,1438,null,0]
[null,null,1439,null,0]
[null,null,1440,null,0]
[null,null,1441,null,0]
[null,null,1442,null,0]
[null,null,1443,null,0]
[null,null,1444,null,0]
[null,null,1445,null,0]
[null,null,1446,null,0]
[null,null,1447,null,0]
[null,null,1448,null,0]
[null,null,1449,null,0]
[null,null,1450,null,0]
[null,null,1451,null,0]
[null,null,1452,null,0]
[null,null,1453,null,0]
[null,null,1454,null,0]
[null,null,1455,null,0]
[null,null,1456,null,0]
[null,null,1457,null,0]
[null,null,1458,null,0]
[null,null,1459,null,0]
[null,null,1460,null,0]
[null,null,1461,null,0]
[null,null,1462,null,0]
[null,null,1463,null,0]
[null,null,1464,null,0]
[null,null,1465,null,0]
[null,null,1466,null,0]
[null,null,1467,null,0]
[null,null,1468,null,0]
[null,null,1469,null,0]
[null,null,1470,null,0]
[null,null,1471,null,0]
[null,null,1472,null,0]
[null,null,1473,null,0]
[null,null,1474,null,{"$f":"A1485","v":0}]
[null,null,{"$f":"C1485+1","v":1475},null,0]
[null,null,1476,null,0]
[null,null,1477,null,0]
[null,null,1478,null,0]
[null,null,1479,null,0]
[null,null,1480,null,0]
[null,null,1481,null,0]
[null,null,1482,null,0]
[null,null,1483,null,0]
[null,null,1484,null,0]
[null,null,1485,null,0]
[null,null,1486,null,0]
[null,null,1487,null,0]
[null,null,1488,null,0]
[null,null,1489,null,0]
[null,null,1490,null,0]
[null,null,1491,null,0]
[null,null,1492,null,0]
[null,null,1493,null,0]
[null,null,1494,null,0]
[null,null,1495,null,0]
[null,null,1496,null,0]
[null,null,1497,null,0]
[null,null,1498,null,0]
[null,null,1499,null,0]
[null,null,1500,null,0]
[null,null,1501,null,0]
[null,null,1502,null,0]
[null,null,1503,null,0]
[null,null,1504,null,0]
[null,null,1505,null,0]
[null,null,1506,null,0]
[null,null,1507,null,0]
[null,null,1508,null,0]
[null,null,1509,null,0]
[null,null,1510,null,0]
[null,null,1511,null,0]
[null,null,1512,null,0]
[null,null,1513,null,0]
[null,null,1514,null,0]
[null,null,1515,null,0]
[null,null,1516,null,0]
[null,null,1517,null,0]
[null,null,1518,null,0]
[null,null,1519,null,0]
[null,null,1520,null,0]
[null,null,1521,null,0]
[null,null,1522,null,0]
[null,null,1523,null,0]
[null,null,1524,null,0]
[null,null,1525,null,0]
[null,null,1526,null,0]
[null,null,1527,null,0]
[null,null,1528,null,0]
[null,null,1529,null,0]
[null,null,1530,null,0]
[null,null,1531,null,0]
[null,null,1532,null,0]
[null,null,1533,null,0]
[null,null,1534,null,0]
[null,null,1535,null,0]
[null,null,1536,null,0]
[null,null,1537,null,0]
[null,null,1538,null,{"$f":"A1549","v":0}]
[null,null,{"$f":"C1549+1","v":1539},null,0]
[null,null,1540,null,0]
[null,null,1541,null,0]
[null,null,1542,null,0]
[null,null,1543,null,0]
[null,null,1544,null,0]
[null,null,1545,null,0]
[null,null,1546,null,0]
[null,null,1547,null,0]
[null,null,1548,null,0]
[null,null,1549,null,0]
[null,null,1550,null,0]
[null,null,1551,null,0]
[null,null,1552,null,0]
[null,null,1553,null,0]
[null,null,1554,null,0]
[null,null,1555,null,0]
[null,null,1556,null,0]
[null,null,1557,null,0]
[null,null,1558,null,0]
[null,null,1559,null,0]
[null,null,1560,null,0]
[null,null,1561,null,0]
[null,null,1562,null,0]
[null,null,1563,null,0]
[null,null,1564,null,0]
[null,null,1565,null,0]
[null,null,1566,null,0]
[null,null,1567,null,0]
[null,null,1568,null,0]
[null,null,1569,null,0]
[null,null,1570,null,0]
[null,null,1571,null,0]
[null,null,1572,null,0]
[null,null,1573,null,0]
[null,null,1574,null,0]
[null,null,1575,null,0]
[null,null,1576,null,0]
[null,null,1577,null,0]
[null,null,1578,null,0]
[null,null,1579,null,0]
[null,null,1580,null,0]
[null,null,1581,null,0]
[null,null,1582,null,0]
[null,null,1583,null,0]
[null,null,1584,null,0]
[null,null,1585,null,0]
[null,null,1586,null,0]
[null,null,1587,null,0]
[null,null,1588,null,0]
[null,null,1589,null,0]
[null,null,1590,null,0]
[null,null,1591,null,0]
[null,null,1592,null,0]
[null,null,1593,null,0]
[null,null,1594,null,0]
[null,null,1595,null,0]
[null,null,1596,null,0]
[null,null,1597,null,0]
[null,null,1598,null,0]
[null,null,1599,null,0]
[null,null,1600,null,0]
[null,null,1601,null,0]
[null,null,1602,null,{"$f":"A1613","v":0}]
[null,null,{"$f":"C1613+1","v":1603},null,0]
[null,null,1604,null,0]
[null,null,1605,null,0]
[null,null,1606,null,0]
[null,null,1607,null,0]
[null,null,1608,null,0]
[null,null,1609,null,0]
[null,null,1610,null,0]
[null,null,1611,null,0]
[null,null,1612,null,0]
[null,null,1613,null,0]
[null,null,1614,null,0]
[null,null,1615,null,0]
[null,null,1616,null,0]
[null,null,1617,null,0]
[null,null,1618,null,0]
[null,null,1619,null,0]
[null,null,1620,null,0]
[null,null,1621,null,0]
[null,null,1622,null,0]
[null,null,1623,null,0]
[null,null,1624,null,0]
[null,null,1625,null,0]
[null,null,1626,null,0]
[null,null,1627,null,0]
[null,null,1628,null,0]
[null,null,1629,null,0]
[null,null,1630,null,0]
[null,null,1631,null,0]
[null,null,1632,null,0]
[null,null,1633,null,0]
[null,null,1634,null,0]
[null,null,1635,null,0]
[null,null,1636,null,0]
[null,null,1637,null,0]
[null,null,1638,null,0]
[null,null,1639,null,0]
[null,null,1640,null,0]
[null,null,1641,null,0]
[null,null,1642,null,0]
[null,null,1643,null,0]
[null,null,1644,null,0]
[null,null,1645,null,0]
[null,null,1646,null,0]
[null,null,1647,null,0]
[null,null,1648,null,0]
[null,null,1649,null,0]
[null,null,1650,null,0]
[null,null,1651,null,0]
[null,null,1652,null,0]
[null,null,1653,null,0]
[null,null,1654,null,0]
[null,null,1655,null,0]
[null,null,1656,null,0]
[null,null,1657,null,0]
[null,null,1658,null,0]
[null,null,1659,null,0]
[null,null,1660,null,0]
[null,null,1661,null,0]
[null,null,1662,null,0]
[null,null,1663,null,0]
[null,null,1664,null,0]
[null,null,1665,null,0]
[null,null,1666,null,{"$f":"A1677","v":0}]
[null,null,{"$f":"C1677+1","v":1667},null,0]
[null,null,1668,null,0]
[null,null,1669,null,0]
[null,null,1670,null,0]
[null,null,1671,null,0]
[null,null,1672,null,0]
[null,null,1673,null,0]
[null,null,1674,null,0]
[null,null,1675,null,0]
[null,null,1676,null,0]
[null,null,1677,null,0]
[null,null,1678,null,0]
[null,null,1679,null,0]
[null,null,1680,null,0]
[null,null,1681,null,0]
[null,null,1682,null,0]
[null,null,1683,null,0]
[null,null,1684,null,0]
[null,null,1685,null,0]
[null,null,1686,null,0]
[null,null,1687,null,0]
[null,null,1688,null,0]
[null,null,1689,null,0]
[null,null,1690,null,0]
[null,null,1691,null,0]
[null,null,1692,null,0]
[null,null,1693,null,0]
[null,null,1694,null,0]
[null,null,1695,null,0]
[null,null,1696,null,0]
[null,null,1697,null,0]
[null,null,1698,null,0]
[null,null,1699,null,0]
[null,null,1700,null,0]
[null,null,1701,null,0]
[null,null,1702,null,0]
[null,null,1703,null,0]
[null,null,1704,null,0]
[null,null,1705,null,0]
[null,null,1706,null,0]
[null,null,1707,null,0]
[null,null,1708,null,0]
[null,null,1709,null,0]
[null,null,1710,null,0]
[null,null,1711,null,0]
[null,null,1712,null,0]
[null,null,1713,null,0]
[null,null,1714,null,0]
[null,null,1715,null,0]
[null,null,1716,null,0]
[null,null,1717,null,0]
[null,null,1718,null,0]
[null,null,1719,null,0]
[null,null,1720,null,0]
[null,null,1721,null,0]
[null,null,1722,null,0]
[null,null,1723,null,0]
[null,null,1724,null,0]
[null,null,1725,null,0]
[null,null,1726,null,0]
[null,null,1727,null,0]
[null,null,1728,null,0]
[null,null,1729,null,0]
[null,null,1730,null,{"$f":"A1741","v":0}]
[null,null,{"$f":"C1741+1","v":1731},null,0]
[null,null,1732,null,0]
[null,null,1733,null,0]
[null,null,1734,null,0]
[null,null,1735,null,0]
[null,null,1736,null,0]
[null,null,1737,null,0]
[null,null,1738,null,0]
[null,null,1739,null,0]
[null,null,1740,null,0]
[null,null,1741,null,0]
[null,null,1742,null,0]
[null,null,1743,null,0]
[null,null,1744,null,0]
[null,null,1745,null,0]
[null,null,1746,null,0]
[null,null,1747,null,0]
[null,null,1748,null,0]
[null,null,1749,null,0]
[null,null,1750,null,0]
[null,null,1751,null,0]
[null,null,1752,null,0]
[null,null,1753,null,0]
[null,null,1754,null,0]
[null,null,1755,null,0]
[null,null,1756,null,0]
[null,null,1757,null,0]
[null,null,1758,null,0]
[null,null,1759,null,0]
[null,null,1760,null,0]
[null,null,1761,null,0]
[null,null,1762,null,0]
[null,null,1763,null,0]
[null,null,1764,null,0]
[null,null,1765,null,0]
[null,null,1766,null,0]
[null,null,1767,null,0]
[null,null,1768,null,0]
[null,null,1769,null,0]
[null,null,1770,null,0]
[null,null,1771,null,0]
[null,null,1772,null,0]
[null,null,1773,null,0]
[null,null,1774,null,0]
[null,null,1775,null,0]
[null,null,1776,null,0]
[null,null,1777,null,0]
[null,null,1778,null,0]
[null,null,1779,null,0]
[null,null,1780,null,0]
[null,null,1781,null,0]
[null,null,1782,null,0]
[null,null,1783,null,0]
[null,null,1784,null,0]
[null,null,1785,null,0]
[null,null,1786,null,0]
[null,null,1787,null,0]
[null,null,1788,null,0]
[null,null,1789,null,0]
[null,null,1790,null,0]
[null,null,1791,null,0]
[null,null,1792,null,0]
[null,null,1793,null,0]
[null,null,1794,null,{"$f":"A1805","v":0}]
[null,null,{"$f":"C1805+1","v":1795},null,0]
[null,null,1796,null,0]
[null,null,1797,null,0]
[null,null,1798,null,0]
[null,null,1799,null,0]
[null,null,1800,null,0]
[null,null,1801,null,0]
[null,null,1802,null,0]
[null,null,1803,null,0]
[null,null,1804,null,0]
[null,null,1805,null,0]
[null,null,1806,null,0]
[null,null,1807,null,0]
[null,null,1808,null,0]
[null,null,1809,null,0]
[null,null,1810,null,0]
[null,null,1811,null,0]
[null,null,1812,null,0]
[null,null,1813,null,0]
[null,null,1814,null,0]
[null,null,1815,null,0]
[null,null,1816,null,0]
[null,null,1817,null,0]
[null,null,1818,null,0]
[null,null,1819,null,0]
[null,null,1820,null,0]
[null,null,1821,null,0]
[null,null,1822,null,0]
[null,null,1823,null,0]
[null,null,1824,null,0]
[null,null,1825,null,0]
[null,null,1826,null,0]
[null,null,1827,null,0]
[null,null,1828,null,0]
[null,null,1829,null,0]
[null,null,1830,null,0]
[null,null,1831,null,0]
[null,null,1832,null,0]
[null,null,1833,null,0]
[null,null,1834,null,0]
[null,null,1835,null,0]
[null,null,1836,null,0]
[null,null,1837,null,0]
[null,null,1838,null,0]
[null,null,1839,null,0]
[null,null,1840,null,0]
[null,null,1841,null,0]
[null,null,1842,null,0]
[null,null,1843,null,0]
[null,null,1844,null,0]
[null,null,1845,null,0]
[null,null,1846,null,0]
[null,null,1847,null,0]
[null,null,1848,null,0]
[null,null,1849,null,0]
[null,null,1850,null,0]
[null,null,1851,null,0]
[null,null,1852,null,0]
[null,null,1853,null,0]
[null,null,1854,null,0]
[null,null,1855,null,0]
[null,null,1856,null,0]
[null,null,1857,null,0]
[null,null,1858,null,{"$f":"A1869","v":0}]
[null,null,{"$f":"C1869+1","v":1859},null,0]
[null,null,1860,null,0]
[null,null,1861,null,0]
[null,null,1862,null,0]
[null,null,1863,null,0]
[null,null,1864,null,0]
[null,null,1865,null,0]
[null,null,1866,null,0]
[null,null,1867,null,0]
[null,null,1868,null,0]
[null,null,1869,null,0]
[null,null,1870,null,0]
[null,null,1871,null,0]
[null,null,1872,null,0]
[null,null,1873,null,0]
[null,null,1874,null,0]
[null,null,1875,null,0]
[null,null,1876,null,0]
[null,null,1877,null,0]
[null,null,1878,null,0]
[null,null,1879,null,0]
[null,null,1880,null,0]
[null,null,1881,null,0]
[null,null,1882,null,0]
[null,null,1883,null,0]
[null,null,1884,null,0]
[null,null,1885,null,0]
[null,null,1886,null,0]
[null,null,1887,null,0]
[null,null,1888,null,0]
[null,null,1889,null,0]
[null,null,1890,null,0]
[null,null,1891,null,0]
[null,null,1892,null,0]
[null,null,1893,null,0]
[null,null,1894,null,0]
[null,null,1895,null,0]
[null,null,1896,null,0]
[null,null,1897,null,0]
[null,null,1898,null,0]
[null,null,1899,null,0]
[null,null,1900,null,0]
[null,null,1901,null,0]
[null,null,1902,null,0]
[null,null,1903,null,0]
[null,null,1904,null,0]
[null,null,1905,null,0]
[null,null,1906,null,0]
[null,null,1907,null,0]
[null,null,1908,null,0]
[null,null,1909,null,0]
[null,null,1910,null,0]
[null,null,1911,null,0]
[null,null,1912,null,0]
[null,null,1913,null,0]
[null,null,1914,null,0]
[null,null,1915,null,0]
[null,null,1916,null,0]
[null,null,1917,null,0]
[null,null,1918,null,0]
[null,null,1919,null,0]
[null,null,1920,null,0]
[null,null,1921,null,0]
[null,null,1922,null,{"$f":"A1933","v":0}]
[null,null,{"$f":"C1933+1","v":1923},null,0]
[null,null,1924,null,0]
[null,null,1925,null,0]
[null,null,1926,null,0]
[null,null,1927,null,0]
[null,null,1928,null,0]
[null,null,1929,null,0]
[null,null,1930,null,0]
[null,null,1931,null,0]
[null,null,1932,null,0]
[null,null,1933,null,0]
[null,null,1934,null,0]
[null,null,1935,null,0]
[null,null,1936,null,0]
[null,null,1937,null,0]
[null,null,1938,null,0]
[null,null,1939,null,0]
[null,null,1940,null,0]
[null,null,1941,null,0]
[null,null,1942,null,0]
[null,null,1943,null,0]
[null,null,1944,null,0]
[null,null,1945,null,0]
[null,null,1946,null,0]
[null,null,1947,null,0]
[null,null,1948,null,0]
[null,null,1949,null,0]
[null,null,1950,null,0]
[null,null,1951,null,0]
[null,null,1952,null,0]
[null,null,1953,null,0]
[null,null,1954,null,0]
[null,null,1955,null,0]
[null,null,1956,null,0]
[null,null,1957,null,0]
[null,null,1958,null,0]
[null,null,1959,null,0]
[null,null,1960,null,0]
[null,null,1961,null,0]
[null,null,1962,null,0]
[null,null,1963,null,0]
[null,null,1964,null,0]
[null,null,1965,null,0]
[null,null,1966,null,0]
[null,null,1967,null,0]
[null,null,1968,null,0]
[null,null,1969,null,0]
[null,null,1970,null,0]
[null,null,1971,null,0]
[null,null,1972,null,0]
[null,null,1973,null,0]
[null,null,1974,null,0]
[null,null,1975,null,0]
[null,null,1976,null,0]
[null,null,1977,null,0]
[null,null,1978,null,0]
[null,null,1979,null,0]
[null,null,1980,null,0]
[null,null,1981,null,0]
[null,null,1982,null,0]
[null,null,1983,null,0]
[null,null,1984,null,0]
[null,null,1985,null,0]
[null,null,1986,null,{"$f":"A1997","v":0}]
[null,null,{"$f":"C1997+1","v":1987},null,0]
[null,null,1988,null,0]
[null,null,1989,null,0]
[null,null,1990,null,0]
[null,null,1991,null,0]
[null,null,1992,null,0]
[null,null,1993,null,0]
[null,null,1994,null,0]
[null,null,1995,null,0]
[null,null,1996,null,0]
[null,null,1997,null,0]
[null,null,1998,null,0]
[null,null,1999,null,0]
[null,null,2000,null,0]
[null,null,2001,null,0]
[null,null,2002,null,0]
[null,null,2003,null,0]
[null,null,2004,null,0]
[null,null,2005,null,0]
[null,null,2006,null,0]
[null,null,2007,null,0]
[null,null,2008,null,0]
[null,null,2009,null,0]
[null,null,2010,null,0]
[null,null,2011,null,0]
[null,null,2012,null,0]
[null,null,2013,null,0]
[null,null,2014,null,0]
[null,null,2015,null,0]
[null,null,2016,null,0]
[null,null,2017,null,0]
[null,null,2018,null,0]
[null,null,2019,null,0]
[null,null,2020,null,0]
[null,null,2021,null,0]
[null,null,2022,null,0]
[null,null,2023,null,0]
[null,null,2024,null,0]
[null,null,2025,null,0]
[null,null,2026,null,0]
[null,null,2027,null,0]
[null,null,2028,null,0]
[null,null,2029,null,0]
[null,null,2030,null,0]
[null,null,2031,null,0]
[null,null,2032,null,0]
[null,null,2033,null,0]
[null,null,2034,null,0]
[null,null,2035,null,0]
[null,null,2036,null,0]
[null,null,2037,null,0]
[null,null,2038,null,0]
[null,null,2039,null,0]
[null,null,2040,null,0]
[null,null,2041,null,0]
[null,null,2042,null,0]
[null,null,2043,null,0]
[null,null,2044,null,0]
[null,null,2045,null,0]
[null,null,2046,null,0]
[null,null,2047,null,0]
[null,null,2048,null,0]
[null,null,2049,null,0]
[null,null,2050,null,{"$f":"A2061","v":0}]
[null,null,{"$f":"C2061+1","v":2051},null,0]
[null,null,2052,null,0]
[null,null,2053,null,0]
[null,null,2054,null,0]
[null,null,2055,null,0]
[null,null,2056,null,0]
[null,null,2057,null,0]
[null,null,2058,null,0]
[null,null,2059,null,0]
[null,null,2060,null,0]
[null,null,2061,null,0]
[null,null,2062,null,0]
[null,null,2063,null,0]
[null,null,2064,null,0]
[null,null,2065,null,0]
[null,null,2066,null,0]
[null,null,2067,null,0]
[null,null,2068,null,0]
[null,null,2069,null,0]
[null,null,2070,null,0]
[null,null,2071,null,0]
[null,null,2072,null,0]
[null,null,2073,null,0]
[null,null,2074,null,0]
[null,null,2075,null,0]
[null,null,2076,null,0]
[null,null,2077,null,0]
[null,null,2078,null,0]
[null,null,2079,null,0]
[null,null,2080,null,0]
[null,null,2081,null,0]
[null,null,2082,null,0]
[null,null,2083,null,0]
[null,null,2084,null,0]
[null,null,2085,null,0]
[null,null,2086,null,0]
[null,null,2087,null,0]
[null,null,2088,null,0]
[null,null,2089,null,0]
[null,null,2090,null,0]
[null,null,2091,null,0]
[null,null,2092,null,0]
[null,null,2093,null,0]
[null,null,2094,null,0]
[null,null,2095,null,0]
[null,null,2096,null,0]
[null,null,2097,null,0]
[null,null,2098,null,0]
[null,null,2099,null,0]
[null,null,2100,null,0]
[null,null,2101,null,0]
[null,null,2102,null,0]
[null,null,2103,null,0]
[null,null,2104,null,0]
[null,null,2105,null,0]
[null,null,2106,null,0]
[null,null,2107,null,0]
[null,null,2108,null,0]
[null,null,2109,null,0]
[null,null,2110,null,0]
[null,null,2111,null,0]
[null,null,2112,null,0]
[null,null,2113,null,0]
[null,null,2114,null,{"$f":"A2125","v":0}]
[null,null,{"$f":"C2125+1","v":2115},null,0]
[null,null,2116,null,0]
[null,null,2117,null,0]
[null,null,2118,null,0]
[null,null,2119,null,0]
[null,null,2120,null,0]
[null,null,2121,null,0]
[null,null,2122,null,0]
[null,null,2123,null,0]
[null,null,2124,null,0]
[null,null,2125,null,0]
[null,null,2126,null,0]
[null,null,2127,null,0]
[null,null,2128,null,0]
[null,null,2129,null,0]
[null,null,2130,null,0]
[null,null,2131,null,0]
[null,null,2132,null,0]
[null,null,2133,null,0]
[null,null,2134,null,0]
[null,null,2135,null,0]
[null,null,2136,null,0]
[null,null,2137,null,0]
[null,null,2138,null,0]
[null,null,2139,null,0]
[null,null,2140,null,0]
[null,null,2141,null,0]
[null,null,2142,null,0]
[null,null,2143,null,0]
[null,null,2144,null,0]
[null,null,2145,null,0]
[null,null,2146,null,0]
[null,null,2147,null,0]
[null,null,2148,null,0]
[null,null,2149,null,0]
[null,null,2150,null,0]
[null,null,2151,null,0]
[null,null,2152,null,0]
[null,null,2153,null,0]
[null,null,2154,null,0]
[null,null,2155,null,0]
[null,null,2156,null,0]
[null,null,2157,null,0]
[null,null,2158,null,0]
[null,null,2159,null,0]
[null,null,2160,null,0]
[null,null,2161,null,0]
[null,null,2162,null,0]
[null,null,2163,null,0]
[null,null,2164,null,0]
[null,null,2165,null,0]
[null,null,2166,null,0]
[null,null,2167,null,0]
[null,null,2168,null,0]
[null,null,2169,null,0]
[null,null,2170,null,0]
[null,null,2171,null,0]
[null,null,2172,null,0]
[null,null,2173,null,0]
[null,null,2174,null,0]
[null,null,2175,null,0]
[null,null,2176,null,0]
[null,null,2177,null,0]
[null,null,2178,null,{"$f":"A2189","v":0}]
[null,null,{"$f":"C2189+1","v":2179},null,0]
[null,null,2180,null,0]
[null,null,2181,null,0]
[null,null,2182,null,0]
[null,null,2183,null,0]
[null,null,2184,null,0]
[null,null,2185,null,0]
[null,null,2186,null,0]
[null,null,2187,null,0]
[null,null,2188,null,0]
[null,null,2189,null,0]
[null,null,2190,null,0]
[null,null,2191,null,0]
[null,null,2192,null,0]
[null,null,2193,null,0]
[null,null,2194,null,0]
[null,null,2195,null,0]
[null,null,2196,null,0]
[null,null,2197,null,0]
[null,null,2198,null,0]
[null,null,2199,null,0]
[null,null,2200,null,0]
[null,null,2201,null,0]
[null,null,2202,null,0]
[null,null,2203,null,0]
[null,null,2204,null,0]
[null,null,2205,null,0]
[null,null,2206,null,0]
[null,null,2207,null,0]
[null,null,2208,null,0]
[null,null,2209,null,0]
[null,null,2210,null,0]
[null,null,2211,null,0]

{"sheet":"Voertuigen","index":4,"n_rows":117,"n_cols":569,"rows_kept":117,"cut":false,"hidden":false,"merged":[[13,8,14,8],[30,8,32,8],[1,1,1,4]]}
[null,null,null,null,null,null,1,null,null,77.5,78.5,79.5,80.5,81.5,82.5,83.5,84.5,85.5,86.5,87.5,88.5,89.5,90.5,91.5,92,92.5,93,93.5,94,94.5,95,95.5,96,96.5,97,97.5,98,98.5,99,99.5,100,100.5,101,101.5,102,102.5,103,103.5,104,104.5,105,105.5,106,106.5,107,107.5,108,108.5,109,109.5,110,110.5,111,111.5,112,112.5,113,113.5,114,114.5,115,115.5,116,116.5,117,117.5,118,118.5,119,119.5,120,120.5,121,121.5,122,122.5,123,123.5,124,124.5,125,125.5,126,126.5,127,127.5,128,128.5,129,129.5,130,130.5,131,131.5,132,132.5,133,133.5,134,134.5,135,135.5,136,136.5,137,137.5,138,138.5,139,139.5,140,140.5,141,141.5,142,142.5,143,143.5,144,144.5,145,145.5,146,146.5,147,147.5,148,148.5,149,149.5,150,150.5,151,151.5,152,152.5,153,153.5,154,154.5,155,155.5,156,156.5,157,157.5,158,158.5,159,159.5,160,160.5,161,161.5,162,162.5,163,163.5,164,164.5,165,165.5,166,166.5,167,167.5,168,168.5,169,169.5,170,170.5,171,171.5,172,172.5,173,173.5,174,174.5,175,175.5,176,176.5,177,177.5,178,178.5,179,179.5,180,180.5,181,181.5,182,182.5,183,183.5,184,184.5,185,185.5,186,186.5,187,187.5,188,188.5,189,189.5,190,190.5,191,191.5,192,192.5,193,193.5,194,194.5,195,195.5,196,196.5,197,197.5,198,198.5,199,199.5,200,200.5,201,201.5,202,202.5,203,203.5,204,204.5,205,205.5,206,206.5,207,207.5,208,208.5,209,209.5,210,210.5,211,211.5,212,212.5,213,213.5,214,214.5,215,215.5,216,216.5,217,217.5,218,218.5,219,219.5,220,220.5,221,221.5,222,222.5,223,223.5,224,224.5,225,225.5,226,226.5,227,227.5,228,228.5,229,229.5,230,230.5,231,231.5,232,232.5,233,233.5,234,234.5,235,235.5,236,236.5,237,237.5,238,238.5,239,239.5,240,240.5,241,241.5,242,242.5,243,243.5,244,244.5,245,245.5,246,246.5,247,247.5,248,248.5,249,249.5,250,250.5,251,251.5,252,252.5,253,253.5,254,254.5,255,255.5,256,256.5,257,257.5,258,258.5,259,259.5,260,260.5,261,261.5,262,262.5,263,263.5,264,264.5,265,265.5,266,266.5,267,267.5,268,268.5,269,269.5,270,270.5,271,271.5,272,272.5,273,273.5,274,274.5,275,275.5,276,276.5,277,277.5,278,278.5,279,279.5,280,280.5,281,281.5,282,282.5,283,283.5,284,284.5,285,285.5,286,286.5,287,287.5,288,288.5,289,289.5,290,290.5,291,291.5,292,292.5,293,293.5,294,294.5,295,295.5,296,296.5,297,297.5,298,298.5,299,299.5,300,300.5,301,301.5,302,302.5,303,303.5,304,304.5,305,305.5,306,306.5,307,307.5,308,308.5,309,309.5,310,310.5,311,311.5,312,312.5,313,313.5,314,314.5,315,315.5,316,316.5,317,317.5,318,318.5,319,319.5,320,320.5,321,321.5,322,322.5,323,323.5,324,324.5,325,325.5,326,326.5,327,327.5,328,328.5,329,329.5,330,330.5,331,331.5,332,332.5,333,333.5,334,334.5,335,335.5,336,336.5,337,337.5,338,338.5,339,339.5,340,340.5,341,341.5,342,342.5,343,343.5,344,344.5,345,345.5,346,346.5,347,347.5,348,348.5,349,349.5,350,350.5,351,351.5,352,352.5,353,353.5,354,354.5,355,355.5,356,356.5,357,357.5,358,358.5,359,359.5,360,360.5,361,361.5,362,362.5,363,363.5,364]
[null,"Voertuiggegevens"]
[]
[null,null,"Datum invoer gegevens:",null,"17/02/2022"]
[]
[null,null,null,null,null,null,"vehicule1"]
[]
[]
[null,null,"1. AFSCHRIJVING1 2"]
[]
[null,null,null,null,"Aankoopprijs:",null,null,null,"oorspronkelijke aankoopprijs van het voertuig"]
["vehicule1"]
[null,null,null,null,"Residuele waarde:",null,null,null,"Restwaarde van het voertuig wanneer het verkocht zal worden (in procent van de aankoopprijs)"]
[null,null,null,null,null,null,null,null,"Kies \"economisch\" als het voertuig na een vast aantal jaren vervangen wordt. Kies \"technisch\" indien het voertuig na een vast aantal afgelegde kilometers vervangen wordt."]
[null,null,null,null,"Type afschrijving: "]
[null,null,null,null,null,null,","]
[null,null,null,null,"Keuze type afschrijving:",null,0]
[]
[null,null,null,null,"Levensduur in jaren:",null,null,null,"aantal jaren dat het voertuig normaal gezien zal halen in het bedrijf"]
[]
[null,null,null,null,"Levensduur in kilometers:",null,null,null,"aantal kilometers dat het voertuig normaal gezien zal halen voor zijn vervanging"]
[]
[null,null,null,null,"Aantal gebruiksdagen/jaar:",null,null,null,"gemiddeld aantal gebruiksdagen per jaar van het voertuig"]
[]
[null,null,"2. FINANCIERING"]
[]
[null,null,null,null,"Rentevoet lening voertuig:",null,null,null,"rentevoet van de lening voor het voertuig (indien van toepassing)"]
[]
[null,null,null,null,"Percentage autofinanciering voertuig:",null,null,null,"percentage van de aankoopwaarde van het voertuig dat met eigen kapitaal gefinancierd wordt"]
[]
[null,null,null,null,"Risicoloze rentevoet:",null,null,null,"Voer hier de rentevoet in die u zou bekomen indien u eigen kapitaal risicoloos zou beleggen (bv. rentevoet op staatslening, kasbon of spaarboekje) - voor de berekening van de opportuniteitskost"]
[]
[null,null,"3. VERBRUIK"]
[]
[null,null,null,null,"Verbruik diesel:",null,null,null,"liter/100 km"]
[]
[null,null,null,null,"Verbruik olie:",null,null,null,"liter/100 km"]
[]
[null,null,null,null,"Verbruik Adblue:",null,null,null,"liter/100 km"]
[]
[null,null,"4. BANDEN"]
[]
[null,null,null,null,"Aantal banden vooraan:"]
[]
[null,null,null,null,"Aantal banden achteraan:"]
[]
[null,null,null,null,"Levensduur banden vooraan:",null,null,null,"in km"]
[]
[null,null,null,null,"Levensduur banden achteraan:",null,null,null,"in km"]
[]
[null,null,null,null,"Eenheidsprijs banden:"]
[]
[null,null,"5. VERZEKERINGEN"]
[]
[]
[null,null,null,null,"Eventuele andere verzekeringen:"]
[]
[null,null,"6. ANDERE VASTE KOSTEN VERBONDEN AAN HET VOERTUIG"]
[]
[]
[null,null,null,null,"Vaste kosten"]
[]
[null,null,"7. OPTIES"]
[]
[null,null,null,null,"Heeft uw voertuig een aanhangwagen?"]
[]
[]
[]
[]
[null,null,null,null,"Heeft uw voertuig een skibak?"]
[]
[]
[]
[null,null,null,null,"Heeft uw voertuig een lift?"]
[]
[]
[null,null,"OPTIE 1: AANHANGWAGEN"]
[]
[null,null,null,null,"Aantal gebuiksdagen/jaar van de aanhangwagen:",null,null,null,"Vul hier, indien van toepassing, de gegevens in van de aanhangwagen die u gebruikt"]
[]
[null,null,null,null,"Aankoopprijs :"]
[]
[null,null,null,null,"Levensduur in jaren:"]
[]
[null,null,null,null,"Premie Burgelijke Aansprakelijkheid aanhangwagen:"]
[]
[null,null,null,null,"Verkeersbelasting:"]
[]
[null,null,null,null,"Jaarlijks onderhoud:"]
[]
[null,null,null,null,"Keuring:"]
[]
[]
[null,null,null,null,"Extra verbruik",null,null,null,"Extra verbruik veroorzaakt door de aanhangwagen"]
[null,null,"OPTIE 2: SKIBAK",null,null,null,null,null,"Vul hier, indien van toepassing, de gegevens in van de skibak in uw voertuig"]
[]
[null,null,null,null,"Aantal gebuiksdagen/jaar van de skibak:"]
[]
[null,null,null,null,"Aankoopprijs:"]
[]
[null,null,null,null,"Levensduur in jaren:"]
[]
[null,null,null,null,"kost montage/demontage:"]
[]
[]
[null,null,"OPTIE 3: LIFT",null,null,null,null,null,"Vul hier, indien van toepassing, de gegevens in van de lift in uw voertuig"]
[]
[null,null,null,null,"Aantal gebuiksdagen/jaar van de lift:"]
[]
[null,null,null,null,"Aankoopprijs lift:"]
[]
[null,null,null,null,"Levensduur in jaren:"]
[]
[null,null,null,null,"kost montage/demontage:"]
[]
[null,null,"1 Indien u uw voertuig zowel voor ongeregelde als geregelde diensten gebruikt dient u de gegevens voor beide activiteiten samen in te geven."]
[null,null,"2 Hou hier rekening met het werkelijke aantal jaren dat het voertuig in het bedrijf blijft, niet met de boekhoudkundige afschrijving"]

{"sheet":"Bedrijf","index":5,"n_rows":32,"n_cols":9,"rows_kept":32,"cut":false,"hidden":false,"merged":[[34,1,34,8],[1,1,1,8],[4,1,4,2]]}
[]
[null,"Bedrijfsgegevens*"]
[null,null,"* In het geval het bedrijf niet enkel autocaractiviteiten doet: probeer in the schatten welk deel van deze kosten toe te wijzen is aan de autocaractiviteit"]
[]
[null,"Datum invoer gegevens:",null,null,null,null,"Vul hier de gegevens in:"]
[]
[null,null,"1. VLOOT"]
[]
[null,null,null,null,"Aantal voertuigen:",null,null,null,"Totaal aantal voertuigen in het bedrijf"]
[]
[null,null,null,null,"Totaal aantal kilometers per jaar (alle voertuigen):"]
[]
[null,null,"2. ONDERHOUD"]
[]
[null,null,null,null,"Onderhoud en herstellingen door derden",null,null,null,"Bedrag per jaar voor onderhoud van de voertuigen uitgevoerd door derden (buiten het bedrijf)"]
[]
[null,null,null,null,"Wisselstukken",null,null,null,"Voer hier het bedrag in dat u per jaar betaald voor wisselstukken voor al uw voertuigen"]
[]
[null,null,null,null,"Garagepersoneel",null,null,null,"Voer hier de jaarlijkse loonkost in van alle mecaniciens tewerkgesteld in het bedrijf"]
[]
[null,null,"3. VERBRUIK"]
[]
[null,null,null,null,"Prijs diesel",null,null,null,"Prijs per liter"]
[]
[null,null,null,null,"Prijs olie",null,null,null,"Prijs per liter"]
[]
[null,null,null,null,"Prijs adblue",null,null,null,"Prijs per liter"]
[]
[null,null,"4. ANDERE VASTE KOSTEN VERBONDEN AAN HET BEDRIJF"]
[]
[]
[null,null,null,null,"Vaste kosten verbonden aan het bedrijf",null,null,null,"Jaarlijkse kost van bijvoorbeeld kuisfirma,..."]

{"sheet":"Rijdend personeel","index":6,"n_rows":70,"n_cols":9,"rows_kept":70,"cut":false,"hidden":false,"merged":[[1,1,1,8],[71,1,71,8],[3,2,3,3]]}
[]
[null,"Gegevens over de loonkosten"]
[]
[null,null,"Datum invoer gegevens:",null,null,null,"Vul hier de gegevens in:"]
[]
[null,null,"1. BRUTO LONEN VOLGENS DIENSTTIJD"]
[]
[null,null,"      Indien slechts 1 chauffeur: "]
[null,null,null,null,"<= 6 u:",null,83.39]
[]
[null,null,null,null,"> 6 u en <= 12 u:",null,137.34]
[]
[null,null,null,null,"per u > 12 u:",null,15.2]
[]
[null,null,"      Indien meerdere chauffeurs: "]
[null,null,null,null,"11 u:",null,111.75]
[]
[null,null,null,null,"12 u:",null,123.24]
[]
[null,null,null,null,"13 u:",null,134.87]
[]
[null,null,null,null,"14 u:",null,146.4]
[]
[null,null,null,null,"15 u:",null,157.99]
[]
[null,null,null,null,"16 u:",null,169.91]
[]
[null,null,null,null,"17 u:",null,181.02]
[]
[null,null,null,null,"18 u:",null,192.69]
[]
[null,null,null,null,"19 u:",null,204.15]
[]
[null,null,null,null,"20 u:",null,215.8]
[]
[null,null,null,null,"21 u:",null,227.41]
[]
[null,null,"2. ANDERE LOONCOMPONENTEN (specifiek voor autocarchauffeurs)"]
[]
[null,null,null,null,"ARAB vergoeding:",null,2.2400000000000002,null,"Bedrag per uur"]
[]
[null,null,null,null,"Anciënniteitspremie:",null,2.68,null,"Bedrag per prestatie"]
[]
[null,null,null,null,"Eco-cheques:",null,125,null,"Jaarlijks bedrag voor een voltijds equivalent"]
[]
[null,null,null,null,"Eindejaarspremie:",null,2640.61,null,"Jaarlijks bedrag voor een voltijds equivalent"]
[]
[null,null,null,null,"Compensatie zondagsrust:",null,137.34]
[]
[null,null,null,null,"Inactiviteitsdag buitenland:",null,113.08]
[]
[null,null,null,null,"RSZ bijdrage werkgever:",null,null,null,"Percentage op brutoloon voor de werkgever"]
[]
[null,null,null,null,"Verzekering woon-werk:",null,null,null,"Jaarlijks bedrag voor een voltijds equivalent"]
[]
[null,null,null,null,"Wetsverzekering (Arbeidsongevallen):",null,null,null,"Jaarlijks bedrag voor een voltijds equivalent"]
[]
[null,null,null,null,"Bijstandsverzekering chauffeur:",null,null,null,"Jaarlijks bedrag voor een voltijds equivalent"]
[]
[null,null,null,null,"Medisch onderzoek:",null,null,null,"Jaarlijks bedrag voor een voltijds equivalent"]
[]
[null,null,null,null,"Ziekte en klein verlet:",null,null,null,"Jaarlijks bedrag voor een voltijds equivalent"]
[]
[null,null,null,null,"Permanente vorming:",null,null,null,"Jaarlijks bedrag voor een voltijds equivalent"]
[]
[null,null,null,null,"Overige:",null,null,null,"Jaarlijks bedrag voor een voltijds equivalent (kledij, rijbewijs, economische werkloosheid, ...)"]
[]
[null,null,null,null,"Effectief factureerbare prestatiedagen:",null,null,null,"Effectief aantal werkdagen gepresteerd per jaar voor één voltijdse chauffeur"]
[]
[null,null,null,null,"Bedrag maaltijdcheque",null,null,null,"Kost van een maltijdcheque voor de werkgever"]

{"sheet":"Bestemmingen","index":7,"n_rows":43,"n_cols":174,"rows_kept":43,"cut":false,"hidden":false,"merged":[[1,1,1,18],[24,1,24,18],[2,1,2,18],[3,1,3,18]]}
[]
[null,"Bestemmingen en voertuigen"]
["$A$3","Véhicules et destinations"]
[null,"Véhicules et destinations"]
[]
[null,null,"Reis",null,"Schrijf hieronder de steden van vertrek",null,"Sélectionnez le pays de départ",null,"Schrijf de aankomststeden hieronder op",null,"Sélectionnez le pays d'arrivée",null,"Kilometers",null,"Selecteer het gebruikte voertuig"]
[]
[null,null,"Reis 1",null,null,null,"Belgique",null,null,null,"Luxembourg",null,null,null,"a",null,1,null,{"$f":"IFERROR(VLOOKUP(Bestemmingen!Q8,'Aantal voertuigen'!$C$12:$E$2222,3,FALSE),\"\")","v":"vehicule1"},null,null,null,{"$f":"TRIM(I8)","v":""}]
[null,null,null,null,null,null,null,null,null,null,null,null,null,null,null,null,null,null,null,null,1,null,null,null,null,null,null,null,null,null,null,null,null,null,null,null,null,null,null,null,null,null,null,null,null,null,null,null,null,null,null,null,null,null,null,null,null,null,null,null,null,null,null,null,null,null,null,null,null,null,null,null,null,null,null,null,null,null,null,null,null,null,null,null,null,null,null,null,null,null,null,null,null,null,null,null,null,null,null,null,null,null,null,null,null,null,null,null,null,null,null,null,null,null,null,null,null,null,null,null,null,null,null,null,null,null,null,null,null,null,null,null,null,null,null,null,null,null,null,null,null,null,null,null,null,null,null,null,null,null,null,null,null,null,null,null,null,null,null,null,null,null,null,null,null,null,null,null,null,null,null,null,null,1]
[null,null,"Reis 2",null,null,null,"Belgique",null,null,null,"Belgique",null,null,null,"c",null,2,null,{"$f":"IFERROR(VLOOKUP(Bestemmingen!Q10,'Aantal voertuigen'!$C$12:$E$2222,3,FALSE),\"\")","v":0},null,null,null,{"$f":"TRIM(I10)","v":""}]
[null,null,null,null,null,null,null,null,null,null,null,null,null,null,null,null,null,null,null,null,1]
[null,null,"Reis 3",null,null,null,"Belgique",null,null,null,"Belgique",null,null,null,"b",null,1,null,{"$f":"IFERROR(VLOOKUP(Bestemmingen!Q12,'Aantal voertuigen'!$C$12:$E$2222,3,FALSE),\"\")","v":"vehicule1"},null,null,null,{"$f":"TRIM(I12)","v":""}]
[null,null,null,null,null,null,null,null,null,null,null,null,null,null,null,null,null,null,null,null,5]
[null,null,"Reis 4",null,null,null,"Allemagne",null,null,null,"Belgique",null,null,null,"vehicule1",null,1,null,{"$f":"IFERROR(VLOOKUP(Bestemmingen!Q14,'Aantal voertuigen'!$C$12:$E$2222,3,FALSE),\"\")","v":"vehicule1"},null,null,null,{"$f":"TRIM(I14)","v":""}]
[null,null,null,null,null,null,null,null,null,null,null,null,null,null,null,null,null,null,null,null,2]
[null,null,"Reis 5",null,null,null,"Belgique",null,null,null,"Ukraine",null,null,null,"vehicule2",null,1,null,{"$f":"IFERROR(VLOOKUP(Bestemmingen!Q16,'Aantal voertuigen'!$C$12:$E$2222,3,FALSE),\"\")","v":"vehicule1"},null,null,null,{"$f":"TRIM(I16)","v":""}]
[null,null,null,null,null,null,null,null,null,null,null,null,null,null,null,null,null,null,null,null,4]
[]
[]
[]
[]
[]
[]
[]
[]
[]
[]
[]
[]
[]
[]
[]
[]
[]
[]
[]
[]
[]
[null,null,null,null,{"$f":"IF(E8<>\"\",E8,\"\")","v":""},{"$f":"IF(F8<>\"\",F8,\"\")","v":""},"Belgique",null,{"$f":"IF(I8<>\"\",I8,\"\")","v":""},null,null,null,"772 km"]
[null,null,null,null,{"$f":"IF(E10<>\"\",E10,\"\")","v":""},{"$f":"IF(F10<>\"\",F10,\"\")","v":""},"Belgique",null,{"$f":"IF(I10<>\"\",I10,\"\")","v":""},null,null,null,"772 km"]
[null,null,null,null,{"$f":"IF(E12<>\"\",E12,\"\")","v":""},{"$f":"IF(F12<>\"\",F12,\"\")","v":""},"Belgique"]
[null,null,null,null,{"$f":"IF(E14<>\"\",E14,\"\")","v":""},{"$f":"IF(F14<>\"\",F14,\"\")","v":""},"Allemagne",null,{"$f":"IF(I14<>\"\",I14,\"\")","v":""},null,null,null,"1,647 km"]
[null,null,null,null,{"$f":"IF(E16<>\"\",E16,\"\")","v":""},{"$f":"IF(F16<>\"\",F16,\"\")","v":""},"Belgique",null,{"$f":"IF(I16<>\"\",I16,\"\")","v":""},null,null,null,"582 km"]

{"sheet":"VOYAGE","index":8,"n_rows":31,"n_cols":38,"rows_kept":31,"cut":false,"hidden":true,"merged":[[10,5,10,19],[32,1,32,20],[1,1,1,20],[6,4,6,5],[26,3,27,3],[5,7,6,17],[3,5,3,8],[3,2,3,3]]}
[]
[null,"Données du voyage"]
[]
[null,null,"Date d'introduction des données:",null,null,"--/--/--"]
[]
[null,null,null,null,null,null,null,"Introduisez ici les données pour les différents jours du voyage. En plaçant la flèche de la souris sur le petit triangle rouge, vous recevrez de plus amples informations sur un poste spécifique"]
[null,null,null,"nombre de jours",1]
[]
[null,null,null,"hide",null,0,1,2,3,4,5,6,7,8,9,10,11,12,13,14]
[null,null,null,"hide",null,{"$f":"IF($E$7>F9,1,0)","v":1},{"$f":"IF($E$7>G9,1,0)","v":0},0,0,0,0,0,0,0,0,0,0,0,0,0]
[null,null,null,null,null,null,null,null,null,null,null,null,null,null,null,null,null,null,null,null,null,null,null,null,0]
[null,null,null,null,null,"jour","jour","jour","jour","jour","jour","jour","jour","jour","jour","jour","jour","jour","jour","jour",null,null,null,null,1]
[null,null,null,null,null,1,2,3,4,5,6,7,8,9,10,11,12,13,14,15,null,null,null,null,2,"Belgique"]
[null,null,null,"nombre de kilomètres:",null,100,100,100,null,null,null,null,null,null,null,null,null,null,null,null,null,null,null,null,3,"Autre"]
[null,null,null,"nombre de chauffeurs:",null,2,1]
[null,null,null,"pays (principal) d'exécution:",null,"Belgique"]
[null,null,null,"temps de service CH SIMPLE (h:min):",null,"05:00:00",null,null,null,null,null,null,null,null,null,null,null,null,null,null,null,null,null,{"$f":"IF(F15>0,1,0)","v":1},{"$f":"IF(G15>0,1,0)","v":1},0,0,0,0,0,0,0,0,0,0,0,0,0]
[null,null,null,"temps de service CH1 DOUBLE (h:min):",null,"04:00:00",null,null,null,null,null,null,null,null,null,null,null,null,null,null,null,null,null,{"$f":"IF(F15>1,1,0)","v":1},{"$f":"IF(G15>1,1,0)","v":0},0,0,0,0,0,0,0,0,0,0,0,0,0]
[null,null,null,"temps de service CH2 DOUBLE (h:min):",null,"02:00:00",null,null,null,null,null,null,null,null,null,null,null,null,null,null,null,null,null,{"$f":"IF(F15=3,1,0)","v":0},{"$f":"IF(G15=3,1,0)","v":0},0,0,0,0,0,0,0,0,0,0,0,0,0]
[null,null,null,"jour(s) de compensation travail dimanche:",null,1,null,null,null,null,null,null,null,null,null,null,null,null,null,null,null,null,null,{"$f":"IF(F20=\"ja\",'Rijdend personeel'!$G$48,0)","v":0},{"$f":"IF(G20=\"ja\",'Rijdend personeel'!$G$48,0)","v":0},{"$f":"IF(H20=\"ja\",'Rijdend personeel'!$G$48,0)","v":0},{"$f":"IF(I20=\"ja\",'Rijdend personeel'!$G$48,0)","v":0},{"$f":"IF(J20=\"ja\",'Rijdend personeel'!$G$48,0)","v":0},{"$f":"IF(K20=\"ja\",'Rijdend personeel'!$G$48,0)","v":0},{"$f":"IF(L20=\"ja\",'Rijdend personeel'!$G$48,0)","v":0},{"$f":"IF(M20=\"ja\",'Rijdend personeel'!$G$48,0)","v":0},{"$f":"IF(N20=\"ja\",'Rijdend personeel'!$G$48,0)","v":0},{"$f":"IF(O20=\"ja\",'Rijdend personeel'!$G$48,0)","v":0},{"$f":"IF(P20=\"ja\",'Rijdend personeel'!$G$48,0)","v":0},{"$f":"IF(Q20=\"ja\",'Rijdend personeel'!$G$48,0)","v":0},{"$f":"IF(R20=\"ja\",'Rijdend personeel'!$G$48,0)","v":0},{"$f":"IF(S20=\"ja\",'Rijdend personeel'!$G$48,0)","v":0},{"$f":"IF(T20=\"ja\",'Rijdend personeel'!$G$48,0)","v":0}]
[null,null,null,"jour d’inactivité à l'étranger:",null,1,null,null,null,null,null,null,null,null,null,null,null,null,null,null,null,null,null,{"$f":"IF(F21=\"ja\",'Rijdend personeel'!$G$50,0)","v":0},{"$f":"IF(G21=\"ja\",'Rijdend personeel'!$G$50,0)","v":0},{"$f":"IF(H21=\"ja\",'Rijdend personeel'!$G$50,0)","v":0},{"$f":"IF(I21=\"ja\",'Rijdend personeel'!$G$50,0)","v":0},{"$f":"IF(J21=\"ja\",'Rijdend personeel'!$G$50,0)","v":0},{"$f":"IF(K21=\"ja\",'Rijdend personeel'!$G$50,0)","v":0},{"$f":"IF(L21=\"ja\",'Rijdend personeel'!$G$50,0)","v":0},{"$f":"IF(M21=\"ja\",'Rijdend personeel'!$G$50,0)","v":0},{"$f":"IF(N21=\"ja\",'Rijdend personeel'!$G$50,0)","v":0},{"$f":"IF(O21=\"ja\",'Rijdend personeel'!$G$50,0)","v":0},{"$f":"IF(P21=\"ja\",'Rijdend personeel'!$G$50,0)","v":0},{"$f":"IF(Q21=\"ja\",'Rijdend personeel'!$G$50,0)","v":0},{"$f":"IF(R21=\"ja\",'Rijdend personeel'!$G$50,0)","v":0},{"$f":"IF(S21=\"ja\",'Rijdend personeel'!$G$50,0)","v":0},{"$f":"IF(T21=\"ja\",'Rijdend personeel'!$G$50,0)","v":0}]
[null,null,null,"% gasoil acheté à l'étranger:",null,0.6]
[null,null,null,"coût gasoil à l'étranger:",null,40]
[null,null,null,"% gasoil acheté à l'entreprise:",null,{"$f":"IF(F10=0,0,IF((1-F22)=0,\"0%\",1-F22))","v":0.4},{"$f":"IF(G10=0,0,IF((1-G22)=0,\"0%\",1-G22))","v":0},0,0,0,0,0,0,0,0,0,0,0,0,0]
[null,null,null,"coût gasoil à l'entreprise:",null,{"$f":"IF(F10>0,Bedrijf!$G$23,\"\")","v":0},{"$f":"IF(G10>0,Bedrijf!$G$23,\"\")","v":""},{"$f":"IF(H10>0,Bedrijf!$G$23,\"\")","v":""},{"$f":"IF(I10>0,Bedrijf!$G$23,\"\")","v":""},{"$f":"IF(J10>0,Bedrijf!$G$23,\"\")","v":""},{"$f":"IF(K10>0,Bedrijf!$G$23,\"\")","v":""},{"$f":"IF(L10>0,Bedrijf!$G$23,\"\")","v":""},{"$f":"IF(M10>0,Bedrijf!$G$23,\"\")","v":""},{"$f":"IF(N10>0,Bedrijf!$G$23,\"\")","v":""},{"$f":"IF(O10>0,Bedrijf!$G$23,\"\")","v":""},{"$f":"IF(P10>0,Bedrijf!$G$23,\"\")","v":""},{"$f":"IF(Q10>0,Bedrijf!$G$23,\"\")","v":""},{"$f":"IF(R10>0,Bedrijf!$G$23,\"\")","v":""},{"$f":"IF(S10>0,Bedrijf!$G$23,\"\")","v":""},{"$f":"IF(T10>0,Bedrijf!$G$23,\"\")","v":""}]
[null,null,null,"coûts spécifique du voyage:",null,123]
[null,null,null,"le véhicule est-il aussi employé pour un autre voyage ce jour?"]
[null,null,null,null,null,"non",null,null,null,null,null,null,null,null,null,null,null,null,null,null,null,null,null,"oui"]
[null,null,null,"% du coût fixe pour ce voyage-ci",null,0.4,null,null,null,null,null,null,null,null,null,null,null,null,null,null,null,null,null,"non"]
[]
[null,null,null,null,null,{"$f":"IF(F28=\"oui\",F29,1)","v":1},{"$f":"IF(G28=\"oui\",G29,1)","v":1},{"$f":"IF(H28=\"oui\",H29,1)","v":1},1,1,1,1,1,1,1,1,1,1,1,1]

{"sheet":"Reis","index":9,"n_rows":161,"n_cols":44,"rows_kept":161,"cut":false,"hidden":false,"merged":[[139,5,139,19],[156,3,157,3],[108,5,108,19],[125,3,126,3],[134,7,135,17],[135,4,135,5],[30,3,31,3],[162,1,162,20],[1,1,1,20],[3,2,3,3],[3,5,3,8],[9,7,10,17],[10,4,10,5],[13,5,13,19],[41,7,42,17],[42,4,42,5],[46,5,46,19],[63,3,64,3],[72,7,73,17],[73,4,73,5],[77,5,77,19],[94,3,95,3],[1,21,1,40],[6,4,6,8],[131,4,131,8],[100,4,100,8],[69,4,69,8],[38,4,38,8],[103,7,104,17],[104,4,104,5]]}
[]
[null,"Reisgegevens",null,null,null,null,null,null,null,null,null,null,null,null,null,null,null,null,null,null,null,null,null,null,{"$f":"IF(Reis!F24>0,\"\",IF(AND(Reis!AC14=0,Reis!AD14=1,Reis!F21*24>=3,Reis!F21*24+Reis!E19*24>6),50,IF(AND(Reis!AC14=0,Reis!AD14=1,Reis!F21*24>=3,Reis!F21*24+Reis!E19*24<=6),30,IF(AND(Reis!AC14=0,Reis!AD14=1,Reis!F22*24>=3,Reis!F22*24+Reis!E20*24>6),50,IF(AND(Reis!AC14=0,Reis!AD14=1,Reis!F22*24>=3,Reis!F22*24+Reis!E20*24<=6),30,IF(AND(Reis!AC14=0,Reis!AD14=1,Reis!F23*24>=3,Reis!F23*24+Reis!E21*24>6),50,IF(AND(Reis!AC14=0,Reis!AD14=1,Reis!F23*24>=3,Reis!F23*24+Reis!E21*24<=6),30,IF(AND(Reis!AD14=1,Reis!F21*24<=6,Reis!F21*24>0),30,IF(AND(Reis!AD14=1,Reis!F21*24>6,Reis!F21*24>0),50,IF(AND(Reis!AD14=1,Reis!F22*24<=6,Reis!F22*24>0),30,IF(AND(Reis!AD14=1,Reis!F22*24>6,Reis!F22*24>0),50,IF(AND(Reis!AD14=1,Reis!F23*24<=6,Reis!F23*24>0),30,IF(AND(Reis!AD14=1,Reis!F23*24>6,Reis!F23*24>0),50,\"\")))))))))))))","v":""}]
[]
[]
[]
[]
[null,null,null,{"$f":"Bestemmingen!W8","v":""},{"$f":"Bestemmingen!S8","v":"vehicule1"}]
[]
[]
[null,null,null,null,null,null,null,"Vul hier de gegevens in voor de verschillende dagen van de rit. Door met de muis over het rode driehoekje te bewegen krijgt u meer uitleg over een specifiek gegeven.",null,null,null,null,null,null,null,null,null,null,null,null,null,null,null,null,{"$f":"IF(Reis!F24>0,\"\",IF(AND(Reis!AC14=0,Reis!AD14=1,Reis!F21*24>=3,Reis!F21*24+Reis!E21*24>6),50,IF(AND(Reis!AC14=0,Reis!AD14=1,Reis!F21*24>=3,Reis!F21*24+Reis!E21*24<=6),30,IF(AND(Reis!AC14=0,Reis!AD14=1,Reis!F22*24>=3,Reis!F22*24+Reis!E22*24>6),50,IF(AND(Reis!AC14=0,Reis!AD14=1,Reis!F22*24>=3,Reis!F22*24+Reis!E22*24<=6),30,IF(AND(Reis!AC14=0,Reis!AD14=1,Reis!F23*24>=3,Reis!F23*24+Reis!E23*24>6),50,IF(AND(Reis!AC14=0,Reis!AD14=1,Reis!F23*24>=3,Reis!F23*24+Reis!E23*24<=6),30,IF(AND(Reis!AD14=1,Reis!F21*24<=6,Reis!F21*24>0),30,IF(AND(Reis!AD14=1,Reis!F21*24>6,Reis!F21*24>0),50,IF(AND(Reis!AD14=1,Reis!F22*24<=6,Reis!F22*24>0),30,IF(AND(Reis!AD14=1,Reis!F22*24>6,Reis!F22*24>0),50,IF(AND(Reis!AD14=1,Reis!F23*24<=6,Reis!F23*24>0),30,IF(AND(Reis!AD14=1,Reis!F23*24>6,Reis!F23*24>0),50,\"\")))))))))))))","v":""}]
[null,null,null,"aantal dagen",1,null,null,null,null,null,null,null,null,null,null,null,null,null,null,null,null,null,null,null,null,null,null,null,null,"Jour 1","Jour 2","Jour 3","Jour 4","Jour 5","Jour 6","Jour 7","Jour 8","Jour 9","Jour 10","Jour 11","Jour 12","Jour 13","Jour 14","Jour 15"]
[null,null,null,"hide",null,0,1,2,3,4,5,6,7,8,9,10,11,12,13,14]
[null,null,null,"hide",null,{"$f":"IF(E11>F12,1,0)","v":1},{"$f":"IF($E$11>G12,1,0)","v":0},0,0,0,0,0,0,0,0,0,0,0,0,0]
[null,null,null,null,null,null,null,null,null,null,null,null,null,null,null,null,null,null,null,null,null,null,null,null,0,null,null,null,null,false,false,false,true,true,true,true,true,true,true,true,true,true,true,true]
[null,null,null,null,null,"dag","dag","dag","dag","dag","dag","dag","dag","dag","dag","dag","dag","dag","dag","dag",null,null,null,null,null,null,null,null,null,{"$f":"IF(AD14=TRUE,1,0)","v":0},{"$f":"IF(AE14=TRUE,1,0)","v":0},0,1,1,1,1,1,1,1,1,1,1,1,1]
[null,null,null,null,null,{"$f":"1","v":1},2,3,4,5,6,7,8,9,10,11,12,13,14,15,null,null,null,null,1,null,null,null,"Montant prime ","jour 1","jour 2","jour 3","jour 4","jour 5","jour 6","jour 7","jour 8","jour 9","jour 10","jour 11","jour 12","jour 13","jour 14","jour 15"]
[null,null,null,null,null,"Zondag /feestdag?","Zondag /feestdag?","Zondag /feestdag?","Zondag /feestdag?","Zondag /feestdag?","Zondag /feestdag?","Zondag /feestdag?","Zondag /feestdag?","Zondag /feestdag?","Zondag /feestdag?","Zondag /feestdag?","Zondag /feestdag?","Zondag /feestdag?","Zondag /feestdag?","Zondag /feestdag?",null,null,null,null,2,"België",null,null,"1 seul chauffeur",{"$f":"IF(F24>0,\"\",IF(AND(F19=1,AC15=0,AD15=1,F21*24>=3,F21*24+E21*24>6),50,IF(AND(F19=1,AC15=0,AD15=1,F21*24>=3,F21*24+E21*24<=6),30,IF(AND(F19=1,AD15=1,F21*24<=6,F21*24>0),30,IF(AND(F19=1,AD15=1,F21*24>6,F21*24>0),50,IF(AND(F19=3,AC15=0,AD15=1,F21*24>=3,F21*24+E21*24>6),50,IF(AND(F19=3,AC15=0,AD15=1,F21*24>=3,F21*24+E21*24<=6),30,IF(AND(F19=3,AD15=1,F21*24<=6,F21*24>0),30,IF(AND(F19=3,AD15=1,F21*24>6,F21*24>0),50,0)))))))))","v":0},{"$f":"IF(G24>0,\"\",IF(AND(G19=1,AD15=0,AE15=1,G21*24>=3,G21*24+F21*24>6),50,IF(AND(G19=1,AD15=0,AE15=1,G21*24>=3,G21*24+F21*24<=6),30,IF(AND(G19=1,AE15=1,G21*24<=6,G21*24>0),30,IF(AND(G19=1,AE15=1,G21*24>6,G21*24>0),50,IF(AND(G19=3,AD15=0,AE15=1,G21*24>=3,G21*24+F21*24>6),50,IF(AND(G19=3,AD15=0,AE15=1,G21*24>=3,G21*24+F21*24<=6),30,IF(AND(G19=3,AE15=1,G21*24<=6,G21*24>0),30,IF(AND(G19=3,AE15=1,G21*24>6,G21*24>0),50,0)))))))))","v":0},0,0,0,0,0,0,0,0,0,0,0,0,0]
[null,null,null,"aantal km:",null,null,null,null,null,null,null,null,null,null,null,null,null,null,null,null,null,null,null,null,3,"Andere",null,null,"2 chauffeur: ch1",{"$f":"IF(F24>0,\"\",IF(AND(F19>1,AC15=0,AD15=1,F22*24>=3,F22*24+E22*24>6),50,IF(AND(F19>1,AC15=0,AD15=1,F22*24>=3,F22*24+E22*24<=6),30,IF(AND(F19>1,AD15=1,F22*24<=6,F22*24>0),30,IF(AND(F19>1,AD15=1,F22*24>6,F22*24>0),50,0)))))","v":0},{"$f":"IF(G24>0,\"\",IF(AND(G19>1,AD15=0,AE15=1,G22*24>=3,G22*24+F22*24>6),50,IF(AND(G19>1,AD15=0,AE15=1,G22*24>=3,G22*24+F22*24<=6),30,IF(AND(G19>1,AD15=0,AE15=1,G22*24<3),0,IF(AND(G19>1,AE15=1,G22*24<=6,G22*24>0),30,IF(AND(G19>1,AE15=1,G22*24>6,G22*24>0),50,0))))))","v":0},{"$f":"IF(H24>0,\"\",IF(AND(H19>1,AE15=0,AF15=1,H22*24>=3,H22*24+G22*24>6),50,IF(AND(H19>1,AE15=0,AF15=1,H22*24>=3,H22*24+G22*24<=6),30,IF(AND(H19>1,AE15=0,AF15=1,H22*24<3),0,IF(AND(H19>1,AF15=1,H22*24<=6,H22*24>0),30,IF(AND(H19>1,AF15=1,H22*24>6,H22*24>0),50,0))))))","v":0},0,0,0,0,0,0,0,0,0,0,0,0]
[null,null,null,"aantal chauffeurs:",null,null,null,null,null,null,null,null,null,null,null,null,null,null,null,null,null,null,null,null,null,null,null,null,"2 chauffeur: ch2",{"$f":"IF(F24>0,\"\",IF(AND(F19>1,AC15=0,AD15=1,F23*24>=3,F23*24+E23*24>6),50,IF(AND(F19>1,AC15=0,AD15=1,F23*24>=3,F23*24+E23*24<=6),30,IF(AND(F19>1,AD15=1,F23*24<=6,F23*24>0),30,IF(AND(F19>1,AD15=1,F23*24>6,F23*24>0),50,0)))))","v":0},{"$f":"IF(G24>0,\"\",IF(AND(G19>1,AD15=0,AE15=1,G23*24>=3,G23*24+F23*24>6),50,IF(AND(G19>1,AD15=0,AE15=1,G23*24>=3,G23*24+F23*24<=6),30,IF(AND(G19>1,AD15=0,AE15=1,G23*24<3),0,IF(AND(G19>1,AE15=1,G23*24<=6,G23*24>0),30,IF(AND(G19>1,AE15=1,G23*24>6,G23*24>0),50,0))))))","v":0},{"$f":"IF(H24>0,\"\",IF(AND(H19>1,AE15=0,AF15=1,H23*24>=3,H23*24+G23*24>6),50,IF(AND(H19>1,AE15=0,AF15=1,H23*24>=3,H23*24+G23*24<=6),30,IF(AND(H19>1,AE15=0,AF15=1,H23*24<3),0,IF(AND(H19>1,AF15=1,H23*24<=6,H23*24>0),30,IF(AND(H19>1,AF15=1,H23*24>6,H23*24>0),50,0))))))","v":0},0,0,0,0,0,0,0,0,0,0,0,0]
[null,null,null,"land van uitvoering (hoofdzakelijk):",null,"België","Autre","Autre"]
[null,null,null,"diensttijd CH ENKEL (uu:mm):",null,null,null,null,null,null,null,null,null,null,null,null,null,null,null,null,null,null,null,{"$f":"IF(F19>0,1,0)","v":0},{"$f":"IF(G19>0,1,0)","v":0},0,0,0,0,0,0,0,0,0,0,0,0,0]
[null,null,null,"diensttijd CH1 DUBBEL (uu:mm):",null,null,null,null,null,null,null,null,null,null,null,null,null,null,null,null,null,null,null,{"$f":"IF(F19>1,1,0)","v":0},{"$f":"IF(G19>1,1,0)","v":0},0,0,0,0,0,0,0,0,0,0,0,0,0]
[null,null,null,"diensttijd CH2 DUBBEL (uu:mm):",null,null,null,null,null,null,null,null,null,null,null,null,null,null,null,null,null,null,null,{"$f":"IF(F19=3,1,0)","v":0},{"$f":"IF(G19=3,1,0)","v":0},0,0,0,0,0,0,0,0,0,0,0,0,0]
[null,null,null,"compensatie zondagsrust",null,null,null,null,null,null,null,null,null,null,null,null,null,null,null,null,null,null,null,{"$f":"IF(F24=\"ja\",'Rijdend personeel'!$G$48,0)","v":0},{"$f":"IF(G24=\"ja\",'Rijdend personeel'!$G$48,0)","v":0},{"$f":"IF(H24=\"ja\",'Rijdend personeel'!$G$48,0)","v":0},{"$f":"IF(I24=\"ja\",'Rijdend personeel'!$G$48,0)","v":0},{"$f":"IF(J24=\"ja\",'Rijdend personeel'!$G$48,0)","v":0},{"$f":"IF(K24=\"ja\",'Rijdend personeel'!$G$48,0)","v":0},{"$f":"IF(L24=\"ja\",'Rijdend personeel'!$G$48,0)","v":0},{"$f":"IF(M24=\"ja\",'Rijdend personeel'!$G$48,0)","v":0},{"$f":"IF(N24=\"ja\",'Rijdend personeel'!$G$48,0)","v":0},{"$f":"IF(O24=\"ja\",'Rijdend personeel'!$G$48,0)","v":0},{"$f":"IF(P24=\"ja\",'Rijdend personeel'!$G$48,0)","v":0},{"$f":"IF(Q24=\"ja\",'Rijdend personeel'!$G$48,0)","v":0},{"$f":"IF(R24=\"ja\",'Rijdend personeel'!$G$48,0)","v":0},{"$f":"IF(S24=\"ja\",'Rijdend personeel'!$G$48,0)","v":0},{"$f":"IF(T24=\"ja\",'Rijdend personeel'!$G$48,0)","v":0}]
[null,null,null,"inactiviteitsdag buitenland",null,0,null,null,null,null,null,null,null,null,null,null,null,null,null,null,null,null,null,{"$f":"IF(F25=\"ja\",'Rijdend personeel'!$G$50,0)","v":0},{"$f":"IF(G25=\"ja\",'Rijdend personeel'!$G$50,0)","v":0},{"$f":"IF(H25=\"ja\",'Rijdend personeel'!$G$50,0)","v":0},{"$f":"IF(I25=\"ja\",'Rijdend personeel'!$G$50,0)","v":0},{"$f":"IF(J25=\"ja\",'Rijdend personeel'!$G$50,0)","v":0},{"$f":"IF(K25=\"ja\",'Rijdend personeel'!$G$50,0)","v":0},{"$f":"IF(L25=\"ja\",'Rijdend personeel'!$G$50,0)","v":0},{"$f":"IF(M25=\"ja\",'Rijdend personeel'!$G$50,0)","v":0},{"$f":"IF(N25=\"ja\",'Rijdend personeel'!$G$50,0)","v":0},{"$f":"IF(O25=\"ja\",'Rijdend personeel'!$G$50,0)","v":0},{"$f":"IF(P25=\"ja\",'Rijdend personeel'!$G$50,0)","v":0},{"$f":"IF(Q25=\"ja\",'Rijdend personeel'!$G$50,0)","v":0},{"$f":"IF(R25=\"ja\",'Rijdend personeel'!$G$50,0)","v":0},{"$f":"IF(S25=\"ja\",'Rijdend personeel'!$G$50,0)","v":0},{"$f":"IF(T25=\"ja\",'Rijdend personeel'!$G$50,0)","v":0}]
[null,null,null,"% diesel getankt in buitenland:"]
[null,null,null,"kostprijs diesel in het buitenland"]
[null,null,null,"% diesel getankt op het bedrijf:",null,{"$f":"IF(F13=0,0,IF((1-F26)=0,\"0%\",1-F26))","v":1},{"$f":"IF(G13=0,0,IF((1-G26)=0,\"0%\",1-G26))","v":0},0,0,0,0,0,0,0,0,0,0,0,0,0]
[null,null,null,"kostprijs diesel bedrijf/"]
[null,null,null,"specifieke ritkosten"]
[null,null,null,"Voertuig gebruikt voor meerdere ritten op dezelfde dag?"]
[null,null,null,null,null,null,null,null,null,null,null,null,null,null,null,null,null,null,null,null,null,null,null,"Ja"]
[null,null,null,"% van de vaste kost voor huidge rit",null,null,null,null,null,null,null,null,null,null,null,null,null,null,null,null,null,null,null,"Nee"]
[]
[null,null,null,null,null,{"$f":"IF(F32=\"oui\",F33,1)","v":1},{"$f":"IF(G32=\"oui\",G33,1)","v":1},1,1,1,1,1,1,1,1,1,1,1,1,1]
[]
[]
[]
[null,null,null,{"$f":"Bestemmingen!W10","v":""},{"$f":"Bestemmingen!S10","v":0}]
[]
[]
[null,null,null,null,null,null,null,"Vul hier de gegevens in voor de verschillende dagen van de rit. Door met de muis over het rode driehoekje te bewegen krijgt u meer uitleg over een specifiek gegeven."]
[null,null,null,"aantal dagen",1]
[]
[null,null,null,"hide",null,0,1,2,3,4,5,6,7,8,9,10,11,12,13,14]
[null,null,null,"hide",null,{"$f":"IF($E$43>F45,1,0)","v":1},{"$f":"IF($E$43>G45,1,0)","v":0},{"$f":"IF($E$43>H45,1,0)","v":0},{"$f":"IF($E$43>I45,1,0)","v":0},0,0,0,0,0,0,0,0,0,0,0]
[null,null,null,null,null,null,null,null,null,null,null,null,null,null,null,null,null,null,null,null,null,null,null,null,0,null,null,null,null,"Jour 1","Jour 2","Jour 3","Jour 4","Jour 5","Jour 6","Jour 7","Jour 8","Jour 9","Jour 10","Jour 11","Jour 12","Jour 13","Jour 14","Jour 15"]
[null,null,null,null,null,"dag","dag","dag","dag","dag","dag","dag","dag","dag","dag","dag","dag","dag","dag","dag",null,null,null,null,null,null,null,null,null,false,false,true,null,true,true,true,true,true,null,true,null,true,true]
[null,null,null,null,null,{"$f":"1","v":1},2,3,4,5,6,7,8,9,10,11,12,13,14,15,null,null,null,null,1,null,null,null,null,{"$f":"IF(AD48=TRUE,1,0)","v":0},{"$f":"IF(AE48=TRUE,1,0)","v":0},1,0,1,1,1,1,1,0,1,0,1,1,0]
[null,null,null,null,null,"Zondag /feestdag?","Zondag /feestdag?","Zondag /feestdag?","Zondag /feestdag?","Zondag /feestdag?","Zondag /feestdag?","Zondag /feestdag?","Zondag /feestdag?","Zondag /feestdag?","Zondag /feestdag?","Zondag /feestdag?","Zondag /feestdag?","Zondag /feestdag?","Zondag /feestdag?","Zondag /feestdag?",null,null,null,null,2,"België",null,null,null,{"$f":"IF(F57>0,\"\",IF(AND(F52=1,AC49=0,AD49=1,F54*24>=3,F54*24+E54*24>6),50,IF(AND(F52=1,AC49=0,AD49=1,F54*24>=3,F54*24+E54*24<=6),30,IF(AND(F52=1,AD49=1,F54*24<=6,F54*24>0),30,IF(AND(F52=1,AD49=1,F54*24>6,F54*24>0),50,IF(AND(F52=3,AC49=0,AD49=1,F54*24>=3,F54*24+E54*24>6),50,IF(AND(F52=3,AC49=0,AD49=1,F54*24>=3,F54*24+E54*24<=6),30,IF(AND(F52=3,AD49=1,F54*24<=6,F54*24>0),30,IF(AND(F52=3,AD49=1,F54*24>6,F54*24>0),50,0)))))))))","v":0},{"$f":"IF(G57>0,\"\",IF(AND(G52=1,AD49=0,AE49=1,G54*24>=3,G54*24+F54*24>6),50,IF(AND(G52=1,AD49=0,AE49=1,G54*24>=3,G54*24+F54*24<=6),30,IF(AND(G52=1,AE49=1,G54*24<=6,G54*24>0),30,IF(AND(G52=1,AE49=1,G54*24>6,G54*24>0),50,IF(AND(G52=3,AD49=0,AE49=1,G54*24>=3,G54*24+F54*24>6),50,IF(AND(G52=3,AD49=0,AE49=1,G54*24>=3,G54*24+F54*24<=6),30,IF(AND(G52=3,AE49=1,G54*24<=6,G54*24>0),30,IF(AND(G52=3,AE49=1,G54*24>6,G54*24>0),50,0)))))))))","v":0},0,0,0,0,0,0,0,0,0,0,0,0,0]
[null,null,null,"aantal km:",null,null,null,null,null,null,null,null,null,null,null,null,null,null,null,null,null,null,null,null,3,"Andere",null,null,null,{"$f":"IF(F57>0,\"\",IF(AND(F52>1,AC49=0,AD49=1,F55*24>=3,F55*24+E55*24>6),50,IF(AND(F52>1,AC49=0,AD49=1,F55*24>=3,F55*24+E55*24<=6),30,IF(AND(F52>1,AD49=1,F55*24<=6,F55*24>0),30,IF(AND(F52>1,AD49=1,F55*24>6,F55*24>0),50,0)))))","v":0},{"$f":"IF(G57>0,\"\",IF(AND(G52>1,AD49=0,AE49=1,G55*24>=3,G55*24+F55*24>6),50,IF(AND(G52>1,AD49=0,AE49=1,G55*24>=3,G55*24+F55*24<=6),30,IF(AND(G52>1,AD49=0,AE49=1,G55*24<3),0,IF(AND(G52>1,AE49=1,G55*24<=6,G55*24>0),30,IF(AND(G52>1,AE49=1,G55*24>6,G55*24>0),50,0))))))","v":0},{"$f":"IF(H57>0,\"\",IF(AND(H52>1,AE49=0,AF49=1,H55*24>=3,H55*24+G55*24>6),50,IF(AND(H52>1,AE49=0,AF49=1,H55*24>=3,H55*24+G55*24<=6),30,IF(AND(H52>1,AE49=0,AF49=1,H55*24<3),0,IF(AND(H52>1,AF49=1,H55*24<=6,H55*24>0),30,IF(AND(H52>1,AF49=1,H55*24>6,H55*24>0),50,0))))))","v":0},0,0,0,0,0,0,0,0,0,0,0,0]
[null,null,null,"aantal chauffeurs:",null,null,null,null,null,null,null,null,null,null,null,null,null,null,null,null,null,null,null,null,null,null,null,null,null,{"$f":"IF(F57>0,\"\",IF(AND(F52>1,AC49=0,AD49=1,F56*24>=3,F56*24+E56*24>6),50,IF(AND(F52>1,AC49=0,AD49=1,F56*24>=3,F56*24+E56*24<=6),30,IF(AND(F52>1,AD49=1,F56*24<=6,F56*24>0),30,IF(AND(F52>1,AD49=1,F56*24>6,F56*24>0),50,0)))))","v":0},{"$f":"IF(G57>0,\"\",IF(AND(G52>1,AD49=0,AE49=1,G56*24>=3,G56*24+F56*24>6),50,IF(AND(G52>1,AD49=0,AE49=1,G56*24>=3,G56*24+F56*24<=6),30,IF(AND(G52>1,AD49=0,AE49=1,G56*24<3),0,IF(AND(G52>1,AE49=1,G56*24<=6,G56*24>0),30,IF(AND(G52>1,AE49=1,G56*24>6,G56*24>0),50,0))))))","v":0},{"$f":"IF(H57>0,\"\",IF(AND(H52>1,AE49=0,AF49=1,H56*24>=3,H56*24+G56*24>6),50,IF(AND(H52>1,AE49=0,AF49=1,H56*24>=3,H56*24+G56*24<=6),30,IF(AND(H52>1,AE49=0,AF49=1,H56*24<3),0,IF(AND(H52>1,AF49=1,H56*24<=6,H56*24>0),30,IF(AND(H52>1,AF49=1,H56*24>6,H56*24>0),50,0))))))","v":0},0,0,0,0,0,0,0,0,0,0,0,0]
[null,null,null,"land van uitvoering (hoofdzakelijk):",null,"België","Autre"]
[null,null,null,"diensttijd CH ENKEL (uu:mm):",null,null,null,null,null,null,null,null,null,null,null,null,null,null,null,null,null,null,null,{"$f":"IF(F52>0,1,0)","v":0},0,0,0,0,0,0,0,0,0,0,0,0,0,0]
[null,null,null,"diensttijd CH1 DUBBEL (uu:mm):",null,null,null,null,null,null,null,null,null,null,null,null,null,null,null,null,null,null,null,{"$f":"IF(F52>1,1,0)","v":0},0,0,0,0,0,0,0,0,0,0,0,0,0,0]
[null,null,null,"diensttijd CH2 DUBBEL (uu:mm):",null,null,null,null,null,null,null,null,null,null,null,null,null,null,null,null,null,null,null,{"$f":"IF(F52=3,1,0)","v":0},0,0,0,0,0,0,0,0,0,0,0,0,0,0]
[null,null,null,"compensatie zondagsrust",null,null,null,null,null,null,null,null,null,null,null,null,null,null,null,null,null,null,null,{"$f":"IF(F57=\"ja\",'Rijdend personeel'!$G$48,0)","v":0},{"$f":"IF(G57=\"ja\",'Rijdend personeel'!$G$48,0)","v":0},{"$f":"IF(H57=\"ja\",'Rijdend personeel'!$G$48,0)","v":0},{"$f":"IF(I57=\"ja\",'Rijdend personeel'!$G$48,0)","v":0},{"$f":"IF(J57=\"ja\",'Rijdend personeel'!$G$48,0)","v":0},{"$f":"IF(K57=\"ja\",'Rijdend personeel'!$G$48,0)","v":0},{"$f":"IF(L57=\"ja\",'Rijdend personeel'!$G$48,0)","v":0},{"$f":"IF(M57=\"ja\",'Rijdend personeel'!$G$48,0)","v":0},{"$f":"IF(N57=\"ja\",'Rijdend personeel'!$G$48,0)","v":0},{"$f":"IF(O57=\"ja\",'Rijdend personeel'!$G$48,0)","v":0},{"$f":"IF(P57=\"ja\",'Rijdend personeel'!$G$48,0)","v":0},{"$f":"IF(Q57=\"ja\",'Rijdend personeel'!$G$48,0)","v":0},{"$f":"IF(R57=\"ja\",'Rijdend personeel'!$G$48,0)","v":0},{"$f":"IF(S57=\"ja\",'Rijdend personeel'!$G$48,0)","v":0},{"$f":"IF(T57=\"ja\",'Rijdend personeel'!$G$48,0)","v":0}]
[null,null,null,"inactiviteitsdag buitenland",null,null,null,null,null,null,null,null,null,null,null,null,null,null,null,null,null,null,null,{"$f":"IF(F58=\"ja\",'Rijdend personeel'!$G$50,0)","v":0},{"$f":"IF(G58=\"ja\",'Rijdend personeel'!$G$50,0)","v":0},{"$f":"IF(H58=\"ja\",'Rijdend personeel'!$G$50,0)","v":0},{"$f":"IF(I58=\"ja\",'Rijdend personeel'!$G$50,0)","v":0},{"$f":"IF(J58=\"ja\",'Rijdend personeel'!$G$50,0)","v":0},{"$f":"IF(K58=\"ja\",'Rijdend personeel'!$G$50,0)","v":0},{"$f":"IF(L58=\"ja\",'Rijdend personeel'!$G$50,0)","v":0},{"$f":"IF(M58=\"ja\",'Rijdend personeel'!$G$50,0)","v":0},{"$f":"IF(N58=\"ja\",'Rijdend personeel'!$G$50,0)","v":0},{"$f":"IF(O58=\"ja\",'Rijdend personeel'!$G$50,0)","v":0},{"$f":"IF(P58=\"ja\",'Rijdend personeel'!$G$50,0)","v":0},{"$f":"IF(Q58=\"ja\",'Rijdend personeel'!$G$50,0)","v":0},{"$f":"IF(R58=\"ja\",'Rijdend personeel'!$G$50,0)","v":0},{"$f":"IF(S58=\"ja\",'Rijdend personeel'!$G$50,0)","v":0},{"$f":"IF(T58=\"ja\",'Rijdend personeel'!$G$50,0)","v":0}]
[null,null,null,"% diesel getankt in buitenland:"]
[null,null,null,"kostprijs diesel in het buitenland"]
[null,null,null,"% diesel getankt op het bedrijf:",null,{"$f":"IF(F46=0,0,IF((1-F59)=0,\"0%\",1-F59))","v":1},{"$f":"IF(G46=0,0,IF((1-G59)=0,\"0%\",1-G59))","v":0},0,0,0,0,0,0,0,0,0,0,0,0,0]
[null,null,null,"kostprijs diesel bedrijf/"]
[null,null,null,"specifieke ritkosten"]
[null,null,null,"Voertuig gebruikt voor meerdere ritten op dezelfde dag?"]
[null,null,null,null,null,null,null,null,null,null,null,null,null,null,null,null,null,null,null,null,null,null,null,"Ja"]
[null,null,null,"% van de vaste kost voor huidge rit",null,null,null,null,null,null,null,null,null,null,null,null,null,null,null,null,null,null,null,"Nee"]
[]
[null,null,null,null,null,{"$f":"IF(F65=\"oui\",F66,1)","v":1},{"$f":"IF(G65=\"oui\",G66,1)","v":1},1,1,1,1,1,1,1,1,1,1,1,1,1]
[]
[null,null,null,{"$f":"Bestemmingen!W12","v":""},{"$f":"Bestemmingen!S12","v":"vehicule1"}]
[]
[]
[null,null,null,null,null,null,null,"Vul hier de gegevens in voor de verschillende dagen van de rit. Door met de muis over het rode driehoekje te bewegen krijgt u meer uitleg over een specifiek gegeven."]
[null,null,null,"aantal dagen",1]
[]
[null,null,null,"hide",null,0,1,2,3,4,5,6,7,8,9,10,11,12,13,14]
[null,null,null,"hide",null,{"$f":"IF($E$74>F76,1,0)","v":1},{"$f":"IF($E$74>G76,1,0)","v":0},0,0,0,0,0,0,0,0,0,0,0,0,0]
[null,null,null,null,null,null,null,null,null,null,null,null,null,null,null,null,null,null,null,null,null,null,null,null,0,null,null,null,null,"Jour 1","Jour 2","Jour 3","Jour 4","Jour 5","Jour 6","Jour 7","Jour 8","Jour 9","Jour 10","Jour 11","Jour 12","Jour 13","Jour 14","Jour 15"]
[null,null,null,null,null,"dag","dag","dag","dag","dag","dag","dag","dag","dag","dag","dag","dag","dag","dag","dag",null,null,null,null,null,null,null,null,null,false,false,true,true,true,true,true,true,true,null,true,null,null,true]
[null,null,null,null,null,{"$f":"1","v":1},2,3,4,5,6,7,8,9,10,11,12,13,14,15,null,null,null,null,1,null,null,null,null,{"$f":"IF(AD79=TRUE,1,0)","v":0},0,1,1,1,1,1,1,1,0,1,0,0,1,0]
[null,null,null,null,null,"Zondag /feestdag?","Zondag /feestdag?","Zondag /feestdag?","Zondag /feestdag?","Zondag /feestdag?","Zondag /feestdag?","Zondag /feestdag?","Zondag /feestdag?","Zondag /feestdag?","Zondag /feestdag?","Zondag /feestdag?","Zondag /feestdag?","Zondag /feestdag?","Zondag /feestdag?","Zondag /feestdag?",null,null,null,null,2,"België",null,null,null,{"$f":"IF(F88>0,\"\",IF(AND(F83=1,AC80=0,AD80=1,F85*24>=3,F85*24+E85*24>6),50,IF(AND(F83=1,AC80=0,AD80=1,F85*24>=3,F85*24+E85*24<=6),30,IF(AND(F83=1,AD80=1,F85*24<=6,F85*24>0),30,IF(AND(F83=1,AD80=1,F85*24>6,F85*24>0),50,IF(AND(F83=3,AC80=0,AD80=1,F85*24>=3,F85*24+E85*24>6),50,IF(AND(F83=3,AC80=0,AD80=1,F85*24>=3,F85*24+E85*24<=6),30,IF(AND(F83=3,AD80=1,F85*24<=6,F85*24>0),30,IF(AND(F83=3,AD80=1,F85*24>6,F85*24>0),50,0)))))))))","v":0},{"$f":"IF(G88>0,\"\",IF(AND(G83=1,AD80=0,AE80=1,G85*24>=3,G85*24+F85*24>6),50,IF(AND(G83=1,AD80=0,AE80=1,G85*24>=3,G85*24+F85*24<=6),30,IF(AND(G83=1,AE80=1,G85*24<=6,G85*24>0),30,IF(AND(G83=1,AE80=1,G85*24>6,G85*24>0),50,IF(AND(G83=3,AD80=0,AE80=1,G85*24>=3,G85*24+F85*24>6),50,IF(AND(G83=3,AD80=0,AE80=1,G85*24>=3,G85*24+F85*24<=6),30,IF(AND(G83=3,AE80=1,G85*24<=6,G85*24>0),30,IF(AND(G83=3,AE80=1,G85*24>6,G85*24>0),50,0)))))))))","v":0},0,0,0,0,0,0,0,0,0,0,0,0,0]
[null,null,null,"aantal km:",null,null,null,null,null,null,null,null,null,null,null,null,null,null,null,null,null,null,null,null,3,"Andere",null,null,null,{"$f":"IF(F88>0,\"\",IF(AND(F83>1,AC80=0,AD80=1,F86*24>=3,F86*24+E86*24>6),50,IF(AND(F83>1,AC80=0,AD80=1,F86*24>=3,F86*24+E86*24<=6),30,IF(AND(F83>1,AD80=1,F86*24<=6,F86*24>0),30,IF(AND(F83>1,AD80=1,F86*24>6,F86*24>0),50,0)))))","v":0},{"$f":"IF(G88>0,\"\",IF(AND(G83>1,AD80=0,AE80=1,G86*24>=3,G86*24+F86*24>6),50,IF(AND(G83>1,AD80=0,AE80=1,G86*24>=3,G86*24+F86*24<=6),30,IF(AND(G83>1,AD80=0,AE80=1,G86*24<3),0,IF(AND(G83>1,AE80=1,G86*24<=6,G8*24>0),30,IF(AND(G83>1,AE80=1,G86*24>6,G86*24>0),50,0))))))","v":0},{"$f":"IF(H88>0,\"\",IF(AND(H83>1,AE80=0,AF80=1,H86*24>=3,H86*24+G86*24>6),50,IF(AND(H83>1,AE80=0,AF80=1,H86*24>=3,H86*24+G86*24<=6),30,IF(AND(H83>1,AE80=0,AF80=1,H86*24<3),0,IF(AND(H83>1,AF80=1,H86*24<=6,H8*24>0),30,IF(AND(H83>1,AF80=1,H86*24>6,H86*24>0),50,0))))))","v":0},0,0,0,0,0,0,0,0,0,0,0,0]
[null,null,null,"aantal chauffeurs:",null,null,null,null,null,null,null,null,null,null,null,null,null,null,null,null,null,null,null,null,null,null,null,null,null,{"$f":"IF(F88>0,\"\",IF(AND(F83>1,AC80=0,AD80=1,F87*24>=3,F87*24+E87*24>6),50,IF(AND(F83>1,AC80=0,AD80=1,F87*24>=3,F87*24+E87*24<=6),30,IF(AND(F83>1,AD80=1,F87*24<=6,F87*24>0),30,IF(AND(F83>1,AD80=1,F87*24>6,F87*24>0),50,0)))))","v":0},{"$f":"IF(G88>0,\"\",IF(AND(G83>1,AD80=0,AE80=1,G87*24>=3,G87*24+F87*24>6),50,IF(AND(G83>1,AD80=0,AE80=1,G87*24>=3,G87*24+F87*24<=6),30,IF(AND(G83>1,AD80=0,AE80=1,G87*24<3),0,IF(AND(G83>1,AE80=1,G87*24<=6,G87*24>0),30,IF(AND(G83>1,AE80=1,G87*24>6,G87*24>0),50,0))))))","v":0},{"$f":"IF(H88>0,\"\",IF(AND(H83>1,AE80=0,AF80=1,H87*24>=3,H87*24+G87*24>6),50,IF(AND(H83>1,AE80=0,AF80=1,H87*24>=3,H87*24+G87*24<=6),30,IF(AND(H83>1,AE80=0,AF80=1,H87*24<3),0,IF(AND(H83>1,AF80=1,H87*24<=6,H87*24>0),30,IF(AND(H83>1,AF80=1,H87*24>6,H87*24>0),50,0))))))","v":0},0,0,0,0,0,0,0,0,0,0,0,0]
[null,null,null,"land van uitvoering (hoofdzakelijk):",null,"België","Autre"]
[null,null,null,"diensttijd CH ENKEL (uu:mm):",null,null,null,null,null,null,null,null,null,null,null,null,null,null,null,null,null,null,null,{"$f":"IF(F83>0,1,0)","v":0},{"$f":"IF(G83>0,1,0)","v":0},0,0,0,0,0,0,0,0,0,0,0,0,0]
[null,null,null,"diensttijd CH1 DUBBEL (uu:mm):",null,null,null,null,null,null,null,null,null,null,null,null,null,null,null,null,null,null,null,{"$f":"IF(F83>1,1,0)","v":0},0,0,0,0,0,0,0,0,0,0,0,0,0,0]
[null,null,null,"diensttijd CH2 DUBBEL (uu:mm):",null,null,null,null,null,null,null,null,null,null,null,null,null,null,null,null,null,null,null,{"$f":"IF(F83=3,1,0)","v":0},{"$f":"IF(G83=3,1,0)","v":0},0,0,0,0,0,0,0,0,0,0,0,0,0]
[null,null,null,"compensatie zondagsrust",null,null,null,null,null,null,null,null,null,null,null,null,null,null,null,null,null,null,null,{"$f":"IF(F88=\"ja\",'Rijdend personeel'!$G$48,0)","v":0},{"$f":"IF(G88=\"ja\",'Rijdend personeel'!$G$48,0)","v":0},{"$f":"IF(H88=\"ja\",'Rijdend personeel'!$G$48,0)","v":0},{"$f":"IF(I88=\"ja\",'Rijdend personeel'!$G$48,0)","v":0},{"$f":"IF(J88=\"ja\",'Rijdend personeel'!$G$48,0)","v":0},{"$f":"IF(K88=\"ja\",'Rijdend personeel'!$G$48,0)","v":0},{"$f":"IF(L88=\"ja\",'Rijdend personeel'!$G$48,0)","v":0},{"$f":"IF(M88=\"ja\",'Rijdend personeel'!$G$48,0)","v":0},{"$f":"IF(N88=\"ja\",'Rijdend personeel'!$G$48,0)","v":0},{"$f":"IF(O88=\"ja\",'Rijdend personeel'!$G$48,0)","v":0},{"$f":"IF(P88=\"ja\",'Rijdend personeel'!$G$48,0)","v":0},{"$f":"IF(Q88=\"ja\",'Rijdend personeel'!$G$48,0)","v":0},{"$f":"IF(R88=\"ja\",'Rijdend personeel'!$G$48,0)","v":0},{"$f":"IF(S88=\"ja\",'Rijdend personeel'!$G$48,0)","v":0},{"$f":"IF(T88=\"ja\",'Rijdend personeel'!$G$48,0)","v":0}]
[null,null,null,"inactiviteitsdag buitenland",null,null,null,null,null,null,null,null,null,null,null,null,null,null,null,null,null,null,null,{"$f":"IF(F89=\"ja\",'Rijdend personeel'!$G$50,0)","v":0},{"$f":"IF(G89=\"ja\",'Rijdend personeel'!$G$50,0)","v":0},{"$f":"IF(H89=\"ja\",'Rijdend personeel'!$G$50,0)","v":0},{"$f":"IF(I89=\"ja\",'Rijdend personeel'!$G$50,0)","v":0},{"$f":"IF(J89=\"ja\",'Rijdend personeel'!$G$50,0)","v":0},{"$f":"IF(K89=\"ja\",'Rijdend personeel'!$G$50,0)","v":0},{"$f":"IF(L89=\"ja\",'Rijdend personeel'!$G$50,0)","v":0},{"$f":"IF(M89=\"ja\",'Rijdend personeel'!$G$50,0)","v":0},{"$f":"IF(N89=\"ja\",'Rijdend personeel'!$G$50,0)","v":0},{"$f":"IF(O89=\"ja\",'Rijdend personeel'!$G$50,0)","v":0},{"$f":"IF(P89=\"ja\",'Rijdend personeel'!$G$50,0)","v":0},{"$f":"IF(Q89=\"ja\",'Rijdend personeel'!$G$50,0)","v":0},{"$f":"IF(R89=\"ja\",'Rijdend personeel'!$G$50,0)","v":0},{"$f":"IF(S89=\"ja\",'Rijdend personeel'!$G$50,0)","v":0},{"$f":"IF(T89=\"ja\",'Rijdend personeel'!$G$50,0)","v":0}]
[null,null,null,"% diesel getankt in buitenland:"]
[null,null,null,"kostprijs diesel in het buitenland"]
[null,null,null,"% diesel getankt op het bedrijf:",null,{"$f":"IF(F77=0,0,IF((1-F90)=0,\"0%\",1-F90))","v":1},{"$f":"IF(G77=0,0,IF((1-G90)=0,\"0%\",1-G90))","v":0},0,0,0,0,0,0,0,0,0,0,0,0,0]
[null,null,null,"kostprijs diesel bedrijf/"]
[null,null,null,"specifieke ritkosten"]
[null,null,null,"Voertuig gebruikt voor meerdere ritten op dezelfde dag?"]
[null,null,null,null,null,null,null,null,null,null,null,null,null,null,null,null,null,null,null,null,null,null,null,"Ja"]
[null,null,null,"% van de vaste kost voor huidge rit",null,4.0000000000000001E-3,null,null,null,null,null,null,null,null,null,null,null,null,null,null,null,null,null,"Nee"]
[]
[null,null,null,null,null,{"$f":"IF(F96=\"oui\",F97,1)","v":1},{"$f":"IF(G96=\"oui\",G97,1)","v":1},1,1,1,1,1,1,1,1,1,1,1,1,1]
[]
[null,null,null,{"$f":"Bestemmingen!W14","v":""},{"$f":"Bestemmingen!S14","v":"vehicule1"}]
[]
[]
[null,null,null,null,null,null,null,"Vul hier de gegevens in voor de verschillende dagen van de rit. Door met de muis over het rode driehoekje te bewegen krijgt u meer uitleg over een specifiek gegeven."]
[null,null,null,"aantal dagen",1]
[null,null,null,null,null,null,null,null,null,null,null,null,null,null,null,null,null,null,null,null,null,null,null,null,null,null,null,null,null,"Jour 1","Jour 2","Jour 3","Jour 4","Jour 5","Jour 6","Jour 7","Jour 8","Jour 9","Jour 10","Jour 11","Jour 12","Jour 13","Jour 14","Jour 15"]
[null,null,null,"hide",null,0,1,2,3,4,5,6,7,8,9,10,11,12,13,14]
[null,null,null,"hide",null,{"$f":"IF($E$105>F107,1,0)","v":1},{"$f":"IF($E$105>G107,1,0)","v":0},0,0,0,0,0,0,0,0,0,0,0,0,0]
[null,null,null,null,null,null,null,null,null,null,null,null,null,null,null,null,null,null,null,null,null,null,null,null,0,null,null,null,null,true,true,true,true,true,true,true,true,true,null,true,null,true,true]
[null,null,null,null,null,"dag","dag","dag","dag","dag","dag","dag","dag","dag","dag","dag","dag","dag","dag","dag",null,null,null,null,null,null,null,null,null,{"$f":"IF(AD109=TRUE,1,0)","v":1},1,1,1,1,1,1,1,1,0,1,0,1,1,0]
[null,null,null,null,null,{"$f":"1","v":1},2,3,4,5,6,7,8,9,10,11,12,13,14,15,null,null,null,null,1,null,null,null,null,{"$f":"IF(F119>0,\"\",IF(AND(F114=1,AC110=0,AD110=1,F116*24>=3,F116*24+E116*24>6),50,IF(AND(F114=1,AC110=0,AD110=1,F116*24>=3,F116*24+E116*24<=6),30,IF(AND(F114=1,AD110=1,F116*24<=6,F116*24>0),30,IF(AND(F114=1,AD110=1,F116*24>6,F116*24>0),50,IF(AND(F114=3,AC110=0,AD110=1,F116*24>=3,F116*24+E116*24>6),50,IF(AND(F114=3,AC110=0,AD110=1,F116*24>=3,F116*24+E116*24<=6),30,IF(AND(F114=3,AD110=1,F116*24<=6,F116*24>0),30,IF(AND(F114=3,AD110=1,F116*24>6,F116*24>0),50,0)))))))))","v":0},{"$f":"IF(G119>0,\"\",IF(AND(G114=1,AD110=0,AE110=1,G116*24>=3,G116*24+F116*24>6),50,IF(AND(G114=1,AD110=0,AE110=1,G116*24>=3,G116*24+F116*24<=6),30,IF(AND(G114=1,AE110=1,G116*24<=6,G116*24>0),30,IF(AND(G114=1,AE110=1,G116*24>6,G116*24>0),50,IF(AND(G114=3,AD110=0,AE110=1,G116*24>=3,G116*24+F116*24>6),50,IF(AND(G114=3,AD110=0,AE110=1,G116*24>=3,G116*24+F116*24<=6),30,IF(AND(G114=3,AE110=1,G116*24<=6,G116*24>0),30,IF(AND(G114=3,AE110=1,G116*24>6,G116*24>0),50,0)))))))))","v":0},0,0,0,0,0,0,0,0,0,0,0,0,0]
[null,null,null,null,null,"Zondag /feestdag?","Zondag /feestdag?","Zondag /feestdag?","Zondag /feestdag?","Zondag /feestdag?","Zondag /feestdag?","Zondag /feestdag?","Zondag /feestdag?","Zondag /feestdag?","Zondag /feestdag?","Zondag /feestdag?","Zondag /feestdag?","Zondag /feestdag?","Zondag /feestdag?","Zondag /feestdag?",null,null,null,null,2,"België",null,null,null,{"$f":"IF(F119>0,\"\",IF(AND(F114>1,AC110=0,AD110=1,F117*24>=3,F117*24+E117*24>6),50,IF(AND(F114>1,AC110=0,AD110=1,F117*24>=3,F117*24+E117*24<=6),30,IF(AND(F114>1,AD110=1,F117*24<=6,F117*24>0),30,IF(AND(F114>1,AD110=1,F117*24>6,F117*24>0),50,0)))))","v":0},{"$f":"IF(G119>0,\"\",IF(AND(G114>1,AD110=0,AE110=1,G117*24>=3,G117*24+F117*24>6),50,IF(AND(G114>1,AD110=0,AE110=1,G117*24>=3,G117*24+F117*24<=6),30,IF(AND(G114>1,AD110=0,AE110=1,G117*24<3),0,IF(AND(G114>1,AE110=1,G117*24<=6,G117*24>0),30,IF(AND(G114>1,AE110=1,G117*24>6,G117*24>0),50,0))))))","v":0},{"$f":"IF(H119>0,\"\",IF(AND(H114>1,AE110=0,AF110=1,H117*24>=3,H117*24+G117*24>6),50,IF(AND(H114>1,AE110=0,AF110=1,H117*24>=3,H117*24+G117*24<=6),30,IF(AND(H114>1,AE110=0,AF110=1,H117*24<3),0,IF(AND(H114>1,AF110=1,H117*24<=6,H117*24>0),30,IF(AND(H114>1,AF110=1,H117*24>6,H117*24>0),50,0))))))","v":0},0,0,0,0,0,0,0,0,0,0,0,0]
[null,null,null,"aantal km:",null,null,null,null,null,null,null,null,null,null,null,null,null,null,null,null,null,null,null,null,3,"Andere",null,null,null,{"$f":"IF(F119>0,\"\",IF(AND(F114>1,AC110=0,AD110=1,F118*24>=3,F118*24+E118*24>6),50,IF(AND(F114>1,AC110=0,AD110=1,F118*24>=3,F118*24+E118*24<=6),30,IF(AND(F114>1,AD110=1,F118*24<=6,F118*24>0),30,IF(AND(F114>1,AD110=1,F118*24>6,F118*24>0),50,0)))))","v":0},{"$f":"IF(G119>0,\"\",IF(AND(G114>1,AD110=0,AE110=1,G118*24>=3,G118*24+F118*24>6),50,IF(AND(G114>1,AD110=0,AE110=1,G118*24>=3,G118*24+F118*24<=6),30,IF(AND(G114>1,AD110=0,AE110=1,G118*24<3),0,IF(AND(G114>1,AE110=1,G118*24<=6,G118*24>0),30,IF(AND(G114>1,AE110=1,G118*24>6,G118*24>0),50,0))))))","v":0},{"$f":"IF(H119>0,\"\",IF(AND(H114>1,AE110=0,AF110=1,H118*24>=3,H118*24+G118*24>6),50,IF(AND(H114>1,AE110=0,AF110=1,H118*24>=3,H118*24+G118*24<=6),30,IF(AND(H114>1,AE110=0,AF110=1,H118*24<3),0,IF(AND(H114>1,AF110=1,H118*24<=6,H118*24>0),30,IF(AND(H114>1,AF110=1,H118*24>6,H118*24>0),50,0))))))","v":0},0,0,0,0,0,0,0,0,0,0,0,0]
[null,null,null,"aantal chauffeurs:"]
[null,null,null,"land van uitvoering (hoofdzakelijk):",null,"België"]
[null,null,null,"diensttijd CH ENKEL (uu:mm):",null,null,null,null,null,null,null,null,null,null,null,null,null,null,null,null,null,null,null,{"$f":"IF(F114>0,1,0)","v":0},0,0,0,0,0,0,0,0,0,0,0,0,0,0]
[null,null,null,"diensttijd CH1 DUBBEL (uu:mm):",null,null,null,null,null,null,null,null,null,null,null,null,null,null,null,null,null,null,null,{"$f":"IF(F114>1,1,0)","v":0},0,0,0,0,0,0,0,0,0,0,0,0,0,0]
[null,null,null,"diensttijd CH2 DUBBEL (uu:mm):",null,null,null,null,null,null,null,null,null,null,null,null,null,null,null,null,null,null,null,{"$f":"IF(F114=3,1,0)","v":0},0,0,0,0,0,0,0,0,0,0,0,0,0,0]
[null,null,null,"compensatie zondagsrust",null,null,null,null,null,null,null,null,null,null,null,null,null,null,null,null,null,null,null,{"$f":"IF(F119=\"ja\",'Rijdend personeel'!$G$48,0)","v":0},{"$f":"IF(G119=\"ja\",'Rijdend personeel'!$G$48,0)","v":0},{"$f":"IF(H119=\"ja\",'Rijdend personeel'!$G$48,0)","v":0},{"$f":"IF(I119=\"ja\",'Rijdend personeel'!$G$48,0)","v":0},{"$f":"IF(J119=\"ja\",'Rijdend personeel'!$G$48,0)","v":0},{"$f":"IF(K119=\"ja\",'Rijdend personeel'!$G$48,0)","v":0},{"$f":"IF(L119=\"ja\",'Rijdend personeel'!$G$48,0)","v":0},{"$f":"IF(M119=\"ja\",'Rijdend personeel'!$G$48,0)","v":0},{"$f":"IF(N119=\"ja\",'Rijdend personeel'!$G$48,0)","v":0},{"$f":"IF(O119=\"ja\",'Rijdend personeel'!$G$48,0)","v":0},{"$f":"IF(P119=\"ja\",'Rijdend personeel'!$G$48,0)","v":0},{"$f":"IF(Q119=\"ja\",'Rijdend personeel'!$G$48,0)","v":0},{"$f":"IF(R119=\"ja\",'Rijdend personeel'!$G$48,0)","v":0},{"$f":"IF(S119=\"ja\",'Rijdend personeel'!$G$48,0)","v":0},{"$f":"IF(T119=\"ja\",'Rijdend personeel'!$G$48,0)","v":0}]
[null,null,null,"inactiviteitsdag buitenland",null,null,null,null,null,null,null,null,null,null,null,null,null,null,null,null,null,null,null,{"$f":"IF(F120=\"ja\",'Rijdend personeel'!$G$50,0)","v":0},{"$f":"IF(G120=\"ja\",'Rijdend personeel'!$G$50,0)","v":0},{"$f":"IF(H120=\"ja\",'Rijdend personeel'!$G$50,0)","v":0},{"$f":"IF(I120=\"ja\",'Rijdend personeel'!$G$50,0)","v":0},{"$f":"IF(J120=\"ja\",'Rijdend personeel'!$G$50,0)","v":0},{"$f":"IF(K120=\"ja\",'Rijdend personeel'!$G$50,0)","v":0},{"$f":"IF(L120=\"ja\",'Rijdend personeel'!$G$50,0)","v":0},{"$f":"IF(M120=\"ja\",'Rijdend personeel'!$G$50,0)","v":0},{"$f":"IF(N120=\"ja\",'Rijdend personeel'!$G$50,0)","v":0},{"$f":"IF(O120=\"ja\",'Rijdend personeel'!$G$50,0)","v":0},{"$f":"IF(P120=\"ja\",'Rijdend personeel'!$G$50,0)","v":0},{"$f":"IF(Q120=\"ja\",'Rijdend personeel'!$G$50,0)","v":0},{"$f":"IF(R120=\"ja\",'Rijdend personeel'!$G$50,0)","v":0},{"$f":"IF(S120=\"ja\",'Rijdend personeel'!$G$50,0)","v":0},{"$f":"IF(T120=\"ja\",'Rijdend personeel'!$G$50,0)","v":0}]
[null,null,null,"% diesel getankt in buitenland:"]
[null,null,null,"kostprijs diesel in het buitenland"]
[null,null,null,"% diesel getankt op het bedrijf:",null,{"$f":"IF(F108=0,0,IF((1-F121)=0,\"0%\",1-F121))","v":1},{"$f":"IF(G108=0,0,IF((1-G121)=0,\"0%\",1-G121))","v":0},0,0,0,0,0,0,0,0,0,0,0,0,0]
[null,null,null,"kostprijs diesel bedrijf/"]
[null,null,null,"specifieke ritkosten"]
[null,null,null,"Voertuig gebruikt voor meerdere ritten op dezelfde dag?"]
[null,null,null,null,null,null,null,null,null,null,null,null,null,null,null,null,null,null,null,null,null,null,null,"Ja"]
[null,null,null,"% van de vaste kost voor huidge rit",null,null,null,null,null,null,null,null,null,null,null,null,null,null,null,null,null,null,null,"Nee"]
[]
[null,null,null,null,null,{"$f":"IF(F127=\"oui\",F128,1)","v":1},{"$f":"IF(G127=\"oui\",G128,1)","v":1},1,1,1,1,1,1,1,1,1,1,1,1,1]
[]
[null,null,null,{"$f":"Bestemmingen!W16","v":""},{"$f":"Bestemmingen!S16","v":"vehicule1"}]
[]
[]
[null,null,null,null,null,null,null,"Vul hier de gegevens in voor de verschillende dagen van de rit. Door met de muis over het rode driehoekje te bewegen krijgt u meer uitleg over een specifiek gegeven."]
[null,null,null,"aantal dagen",1]
[null,null,null,null,null,null,null,null,null,null,null,null,null,null,null,null,null,null,null,null,null,null,null,null,null,null,null,null,null,"Jour 1","Jour 2","Jour 3","Jour 4","Jour 5","Jour 6","Jour 7","Jour 8","Jour 9","Jour 10","Jour 11","Jour 12","Jour 13","Jour 14","Jour 15"]
[null,null,null,"hide",null,0,1,2,3,4,5,6,7,8,9,10,11,12,13,14]
[null,null,null,"hide",null,{"$f":"IF($E$136>F138,1,0)","v":1},{"$f":"IF($E$136>G138,1,0)","v":0},0,0,0,0,0,0,0,0,0,0,0,0,0]
[null,null,null,null,null,null,null,null,null,null,null,null,null,null,null,null,null,null,null,null,null,null,null,null,0,null,null,null,null,true,true,true,true,true,true,true,true,true,null,true,null,true,true,true]
[null,null,null,null,null,"dag","dag","dag","dag","dag","dag","dag","dag","dag","dag","dag","dag","dag","dag","jour",null,null,null,null,null,null,null,null,null,{"$f":"IF(AD140=TRUE,1,0)","v":1},1,1,1,1,1,1,1,1,0,1,0,1,1,1]
[null,null,null,null,null,{"$f":"1","v":1},2,3,4,5,6,7,8,9,10,11,12,13,14,15,null,null,null,null,1,null,null,null,null,{"$f":"IF(F150>0,\"\",IF(AND(F145=1,AC141=0,AD141=1,F147*24>=3,F147*24+E147*24>6),50,IF(AND(F145=1,AC141=0,AD141=1,F147*24>=3,F147*24+E147*24<=6),30,IF(AND(F145=1,AD141=1,F147*24<=6,F147*24>0),30,IF(AND(F145=1,AD141=1,F147*24>6,F147*24>0),50,IF(AND(F145=3,AC141=0,AD141=1,F147*24>=3,F147*24+E147*24>6),50,IF(AND(F145=3,AC141=0,AD141=1,F147*24>=3,F147*24+E147*24<=6),30,IF(AND(F145=3,AD141=1,F147*24<=6,F147*24>0),30,IF(AND(F145=3,AD141=1,F147*24>6,F147*24>0),50,0)))))))))","v":0},{"$f":"IF(G150>0,\"\",IF(AND(G145=1,AD141=0,AE141=1,G147*24>=3,G147*24+F147*24>6),50,IF(AND(G145=1,AD141=0,AE141=1,G147*24>=3,G147*24+F147*24<=6),30,IF(AND(G145=1,AE141=1,G147*24<=6,G147*24>0),30,IF(AND(G145=1,AE141=1,G147*24>6,G147*24>0),50,IF(AND(G145=3,AD141=0,AE141=1,G147*24>=3,G147*24+F147*24>6),50,IF(AND(G145=3,AD141=0,AE141=1,G147*24>=3,G147*24+F147*24<=6),30,IF(AND(G145=3,AE141=1,G147*24<=6,G147*24>0),30,IF(AND(G145=3,AE141=1,G147*24>6,G147*24>0),50,0)))))))))","v":0},0,0,0,0,0,0,0,0,0,0,0,0,0]
[null,null,null,null,null,"Zondag /feestdag?","Zondag /feestdag?","Zondag /feestdag?","Zondag /feestdag?","Zondag /feestdag?","Zondag /feestdag?","Zondag /feestdag?","Zondag /feestdag?","Zondag /feestdag?","Zondag /feestdag?","Zondag /feestdag?","Zondag /feestdag?","Zondag /feestdag?","Zondag /feestdag?","Zondag /feestdag?",null,null,null,null,2,"België",null,null,null,{"$f":"IF(F150>0,\"\",IF(AND(F145>1,AC141=0,AD141=1,F148*24>=3,F148*24+E148*24>6),50,IF(AND(F145>1,AC141=0,AD141=1,F148*24>=3,F148*24+E148*24<=6),30,IF(AND(F145>1,AD141=1,F148*24<=6,F148*24>0),30,IF(AND(F145>1,AD141=1,F148*24>6,F148*24>0),50,0)))))","v":0},{"$f":"IF(G150>0,\"\",IF(AND(G145>1,AD141=0,AE141=1,G148*24>=3,G148*24+F148*24>6),50,IF(AND(G145>1,AD141=0,AE141=1,G148*24>=3,G148*24+F148*24<=6),30,IF(AND(G145>1,AD141=0,AE141=1,G148*24<3),0,IF(AND(G145>1,AE141=1,G148*24<=6,G148*24>0),30,IF(AND(G145>1,AE141=1,G148*24>6,G148*24>0),50,0))))))","v":0},{"$f":"IF(H150>0,\"\",IF(AND(H145>1,AE141=0,AF141=1,H148*24>=3,H148*24+G148*24>6),50,IF(AND(H145>1,AE141=0,AF141=1,H148*24>=3,H148*24+G148*24<=6),30,IF(AND(H145>1,AE141=0,AF141=1,H148*24<3),0,IF(AND(H145>1,AF141=1,H148*24<=6,H148*24>0),30,IF(AND(H145>1,AF141=1,H148*24>6,H148*24>0),50,0))))))","v":0},0,0,0,0,0,0,0,0,0,0,0,0]
[null,null,null,"aantal km:",null,null,null,null,null,null,null,null,null,null,null,null,null,null,null,null,null,null,null,null,3,"Andere",null,null,null,{"$f":"IF(F150>0,\"\",IF(AND(F145>1,AC141=0,AD141=1,F149*24>=3,F149*24+E149*24>6),50,IF(AND(F145>1,AC141=0,AD141=1,F149*24>=3,F149*24+E149*24<=6),30,IF(AND(F145>1,AD141=1,F149*24<=6,F149*24>0),30,IF(AND(F145>1,AD141=1,F149*24>6,F149*24>0),50,0)))))","v":0},{"$f":"IF(G150>0,\"\",IF(AND(G145>1,AD141=0,AE141=1,G149*24>=3,G149*24+F149*24>6),50,IF(AND(G145>1,AD141=0,AE141=1,G149*24>=3,G149*24+F149*24<=6),30,IF(AND(G145>1,AD141=0,AE141=1,G149*24<3),0,IF(AND(G145>1,AE141=1,G149*24<=6,G149*24>0),30,IF(AND(G145>1,AE141=1,G149*24>6,G149*24>0),50,0))))))","v":0},{"$f":"IF(H150>0,\"\",IF(AND(H145>1,AE141=0,AF141=1,H149*24>=3,H149*24+G149*24>6),50,IF(AND(H145>1,AE141=0,AF141=1,H149*24>=3,H149*24+G149*24<=6),30,IF(AND(H145>1,AE141=0,AF141=1,H149*24<3),0,IF(AND(H145>1,AF141=1,H149*24<=6,H149*24>0),30,IF(AND(H145>1,AF141=1,H149*24>6,H149*24>0),50,0))))))","v":0},0,0,0,0,0,0,0,0,0,0,0,0]
[null,null,null,"aantal chauffeurs:"]
[null,null,null,"land van uitvoering (hoofdzakelijk):",null,"België"]
[null,null,null,"diensttijd CH ENKEL (uu:mm):",null,null,null,null,null,null,null,null,null,null,null,null,null,null,null,null,null,null,null,{"$f":"IF(F145>0,1,0)","v":0},0,0,0,0,0,0,0,0,0,0,0,0,0,0]
[null,null,null,"diensttijd CH1 DUBBEL (uu:mm):",null,null,null,null,null,null,null,null,null,null,null,null,null,null,null,null,null,null,null,{"$f":"IF(F145>1,1,0)","v":0},0,0,0,0,0,0,0,0,0,0,0,0,0,0]
[null,null,null,"diensttijd CH2 DUBBEL (uu:mm):",null,null,null,null,null,null,null,null,null,null,null,null,null,null,null,null,null,null,null,{"$f":"IF(F145=3,1,0)","v":0},0,0,0,0,0,0,0,0,0,0,0,0,0,0]
[null,null,null,"compensatie zondagsrust",null,null,null,null,null,null,null,null,null,null,null,null,null,null,null,null,null,null,null,{"$f":"IF(F150=\"ja\",'Rijdend personeel'!$G$48,0)","v":0},{"$f":"IF(G150=\"ja\",'Rijdend personeel'!$G$48,0)","v":0},{"$f":"IF(H150=\"ja\",'Rijdend personeel'!$G$48,0)","v":0},{"$f":"IF(I150=\"ja\",'Rijdend personeel'!$G$48,0)","v":0},{"$f":"IF(J150=\"ja\",'Rijdend personeel'!$G$48,0)","v":0},{"$f":"IF(K150=\"ja\",'Rijdend personeel'!$G$48,0)","v":0},{"$f":"IF(L150=\"ja\",'Rijdend personeel'!$G$48,0)","v":0},{"$f":"IF(M150=\"ja\",'Rijdend personeel'!$G$48,0)","v":0},{"$f":"IF(N150=\"ja\",'Rijdend personeel'!$G$48,0)","v":0},{"$f":"IF(O150=\"ja\",'Rijdend personeel'!$G$48,0)","v":0},{"$f":"IF(P150=\"ja\",'Rijdend personeel'!$G$48,0)","v":0},{"$f":"IF(Q150=\"ja\",'Rijdend personeel'!$G$48,0)","v":0},{"$f":"IF(R150=\"ja\",'Rijdend personeel'!$G$48,0)","v":0},{"$f":"IF(S150=\"ja\",'Rijdend personeel'!$G$48,0)","v":0},{"$f":"IF(T150=\"ja\",'Rijdend personeel'!$G$48,0)","v":0}]
[null,null,null,"inactiviteitsdag buitenland",null,null,null,null,null,null,null,null,null,null,null,null,null,null,null,null,null,null,null,{"$f":"IF(F151=\"ja\",'Rijdend personeel'!$G$50,0)","v":0},{"$f":"IF(G151=\"ja\",'Rijdend personeel'!$G$50,0)","v":0},{"$f":"IF(H151=\"ja\",'Rijdend personeel'!$G$50,0)","v":0},{"$f":"IF(I151=\"ja\",'Rijdend personeel'!$G$50,0)","v":0},{"$f":"IF(J151=\"ja\",'Rijdend personeel'!$G$50,0)","v":0},{"$f":"IF(K151=\"ja\",'Rijdend personeel'!$G$50,0)","v":0},{"$f":"IF(L151=\"ja\",'Rijdend personeel'!$G$50,0)","v":0},{"$f":"IF(M151=\"ja\",'Rijdend personeel'!$G$50,0)","v":0},{"$f":"IF(N151=\"ja\",'Rijdend personeel'!$G$50,0)","v":0},{"$f":"IF(O151=\"ja\",'Rijdend personeel'!$G$50,0)","v":0},{"$f":"IF(P151=\"ja\",'Rijdend personeel'!$G$50,0)","v":0},{"$f":"IF(Q151=\"ja\",'Rijdend personeel'!$G$50,0)","v":0},{"$f":"IF(R151=\"ja\",'Rijdend personeel'!$G$50,0)","v":0},{"$f":"IF(S151=\"ja\",'Rijdend personeel'!$G$50,0)","v":0},{"$f":"IF(T151=\"ja\",'Rijdend personeel'!$G$50,0)","v":0}]
[null,null,null,"% diesel getankt in buitenland:"]
[null,null,null,"kostprijs diesel in het buitenland"]
[null,null,null,"% diesel getankt op het bedrijf:",null,{"$f":"IF(F139=0,0,IF((1-F152)=0,\"0%\",1-F152))","v":1},{"$f":"IF(G139=0,0,IF((1-G152)=0,\"0%\",1-G152))","v":0},0,0,0,0,0,0,0,0,0,0,0,0,0]
[null,null,null,"kostprijs diesel bedrijf/"]
[null,null,null,"specifieke ritkosten"]
[null,null,null,"Voertuig gebruikt voor meerdere ritten op dezelfde dag?"]
[null,null,null,null,null,null,null,null,null,null,null,null,null,null,null,null,null,null,null,null,null,null,null,"Ja"]
[null,null,null,"% van de vaste kost voor huidge rit",null,null,null,null,null,null,null,null,null,null,null,null,null,null,null,null,null,null,null,"Nee"]
[]
[null,null,null,null,null,{"$f":"IF(F158=\"oui\",F159,1)","v":1},{"$f":"IF(G158=\"oui\",G159,1)","v":1},{"$f":"IF(H158=\"oui\",H159,1)","v":1},1,1,1,1,1,1,1,1,1,1,1,1]

{"sheet":"Personneelskost","index":10,"n_rows":143,"n_cols":19,"rows_kept":143,"cut":false,"hidden":false,"merged":[[116,6,119,8],[88,6,90,8],[88,9,90,10],[1,1,1,19],[146,1,146,19],[4,11,6,14],[32,11,34,14],[60,11,62,14],[88,11,90,14],[4,6,6,8],[4,9,6,10],[32,6,34,8],[32,9,34,10],[60,6,62,8],[60,9,62,10],[116,11,119,14],[116,9,119,10]]}
[]
[null,"BEREKENING LOONKOST RIJDEND PERSONEEL"]
[]
[]
[null,null,null,null,null,null,"Personneelskost",null,null,{"$f":"Bestemmingen!W8","v":""},null,{"$f":"Bestemmingen!S8","v":"vehicule1"}]
[]
[]
[]
[]
[null,null,null,null,"dag","dag","dag","dag","dag","dag","dag","dag","dag","dag","dag","dag","dag","dag","dag"]
[null,null,null,null,1,2,3,4,5,6,7,8,9,10,11,12,13,14,15]
[null,null,"Diensttijd CH ENKEL",null,{"$f":"Reis!F21*24","v":0},{"$f":"Reis!G21*24","v":0},{"$f":"Reis!H21*24","v":0},{"$f":"Reis!I21*24","v":0},{"$f":"Reis!J21*24","v":0},{"$f":"Reis!K21*24","v":0},{"$f":"Reis!L21*24","v":0},{"$f":"Reis!M21*24","v":0},{"$f":"Reis!N21*24","v":0},{"$f":"Reis!O21*24","v":0},{"$f":"Reis!P21*24","v":0},{"$f":"Reis!Q21*24","v":0},{"$f":"Reis!R21*24","v":0},{"$f":"Reis!S21*24","v":0},{"$f":"Reis!T21*24","v":0}]
[null,null,"Diensttijd CH1 DUBBEL",null,{"$f":"Reis!F22*24","v":0},{"$f":"Reis!G22*24","v":0},{"$f":"Reis!H22*24","v":0},{"$f":"Reis!I22*24","v":0},{"$f":"Reis!J22*24","v":0},{"$f":"Reis!K22*24","v":0},{"$f":"Reis!L22*24","v":0},{"$f":"Reis!M22*24","v":0},{"$f":"Reis!N22*24","v":0},{"$f":"Reis!O22*24","v":0},{"$f":"Reis!P22*24","v":0},{"$f":"Reis!Q22*24","v":0},{"$f":"Reis!R22*24","v":0},{"$f":"Reis!S22*24","v":0},{"$f":"Reis!T22*24","v":0}]
[null,null,"Diensttijd CH2 DUBBEL",null,{"$f":"Reis!F23*24","v":0},{"$f":"Reis!G23*24","v":0},{"$f":"Reis!H23*24","v":0},{"$f":"Reis!I23*24","v":0},{"$f":"Reis!J23*24","v":0},{"$f":"Reis!K23*24","v":0},{"$f":"Reis!L23*24","v":0},{"$f":"Reis!M23*24","v":0},{"$f":"Reis!N23*24","v":0},{"$f":"Reis!O23*24","v":0},{"$f":"Reis!P23*24","v":0},{"$f":"Reis!Q23*24","v":0},{"$f":"Reis!R23*24","v":0},{"$f":"Reis!S23*24","v":0},{"$f":"Reis!T23*24","v":0}]
[null,null,"Bruto Sal CH ENKEL",null,{"$f":"IF(AND(E12>0,E12<=6,Reis!F20=\"Autre\"),('Rijdend personeel'!$G$50+'Rijdend personeel'!$G$42),IF(AND(E12>0,E12<=6),('Rijdend personeel'!$G$9+'Rijdend personeel'!$G$42),IF(AND(E12>6,E12<=12),'Rijdend personeel'!$G$11+'Rijdend personeel'!$G$42,IF(E12>0,'Rijdend personeel'!$G$11+(ROUNDUP(E12,0)-12)*'Rijdend personeel'!$G$13+'Rijdend personeel'!$G$42,0))))","v":0},{"$f":"IF(AND(F12>0,F12<=6,Reis!G20=\"Autre\"),('Rijdend personeel'!$G$50+'Rijdend personeel'!$G$42),IF(AND(F12>0,F12<=6),('Rijdend personeel'!$G$9+'Rijdend personeel'!$G$42),IF(AND(F12>6,F12<=12),'Rijdend personeel'!$G$11+'Rijdend personeel'!$G$42,IF(F12>0,'Rijdend personeel'!$G$11+(ROUNDUP(F12,0)-12)*'Rijdend personeel'!$G$13+'Rijdend personeel'!$G$42,0))))","v":0},{"$f":"IF(AND(G12>0,G12<=6,Reis!H20=\"Autre\"),('Rijdend personeel'!$G$50+'Rijdend personeel'!$G$42),IF(AND(G12>0,G12<=6),('Rijdend personeel'!$G$9+'Rijdend personeel'!$G$42),IF(AND(G12>6,G12<=12),'Rijdend personeel'!$G$11+'Rijdend personeel'!$G$42,IF(G12>0,'Rijdend personeel'!$G$11+(ROUNDUP(G12,0)-12)*'Rijdend personeel'!$G$13+'Rijdend personeel'!$G$42,0))))","v":0},{"$f":"IF(AND(H12>0,H12<=6,Reis!I20=\"Autre\"),('Rijdend personeel'!$G$50+'Rijdend personeel'!$G$42),IF(AND(H12>0,H12<=6),('Rijdend personeel'!$G$9+'Rijdend personeel'!$G$42),IF(AND(H12>6,H12<=12),'Rijdend personeel'!$G$11+'Rijdend personeel'!$G$42,IF(H12>0,'Rijdend personeel'!$G$11+(ROUNDUP(H12,0)-12)*'Rijdend personeel'!$G$13+'Rijdend personeel'!$G$42,0))))","v":0},{"$f":"IF(AND(I12>0,I12<=6,Reis!J20=\"Autre\"),('Rijdend personeel'!$G$50+'Rijdend personeel'!$G$42),IF(AND(I12>0,I12<=6),('Rijdend personeel'!$G$9+'Rijdend personeel'!$G$42),IF(AND(I12>6,I12<=12),'Rijdend personeel'!$G$11+'Rijdend personeel'!$G$42,IF(I12>0,'Rijdend personeel'!$G$11+(ROUNDUP(I12,0)-12)*'Rijdend personeel'!$G$13+'Rijdend personeel'!$G$42,0))))","v":0},{"$f":"IF(AND(J12>0,J12<=6,Reis!K20=\"Autre\"),('Rijdend personeel'!$G$50+'Rijdend personeel'!$G$42),IF(AND(J12>0,J12<=6),('Rijdend personeel'!$G$9+'Rijdend personeel'!$G$42),IF(AND(J12>6,J12<=12),'Rijdend personeel'!$G$11+'Rijdend personeel'!$G$42,IF(J12>0,'Rijdend personeel'!$G$11+(ROUNDUP(J12,0)-12)*'Rijdend personeel'!$G$13+'Rijdend personeel'!$G$42,0))))","v":0},{"$f":"IF(AND(K12>0,K12<=6,Reis!L20=\"Autre\"),('Rijdend personeel'!$G$50+'Rijdend personeel'!$G$42),IF(AND(K12>0,K12<=6),('Rijdend personeel'!$G$9+'Rijdend personeel'!$G$42),IF(AND(K12>6,K12<=12),'Rijdend personeel'!$G$11+'Rijdend personeel'!$G$42,IF(K12>0,'Rijdend personeel'!$G$11+(ROUNDUP(K12,0)-12)*'Rijdend personeel'!$G$13+'Rijdend personeel'!$G$42,0))))","v":0},{"$f":"IF(AND(L12>0,L12<=6,Reis!M20=\"Autre\"),('Rijdend personeel'!$G$50+'Rijdend personeel'!$G$42),IF(AND(L12>0,L12<=6),('Rijdend personeel'!$G$9+'Rijdend personeel'!$G$42),IF(AND(L12>6,L12<=12),'Rijdend personeel'!$G$11+'Rijdend personeel'!$G$42,IF(L12>0,'Rijdend personeel'!$G$11+(ROUNDUP(L12,0)-12)*'Rijdend personeel'!$G$13+'Rijdend personeel'!$G$42,0))))","v":0},{"$f":"IF(AND(M12>0,M12<=6,Reis!N20=\"Autre\"),('Rijdend personeel'!$G$50+'Rijdend personeel'!$G$42),IF(AND(M12>0,M12<=6),('Rijdend personeel'!$G$9+'Rijdend personeel'!$G$42),IF(AND(M12>6,M12<=12),'Rijdend personeel'!$G$11+'Rijdend personeel'!$G$42,IF(M12>0,'Rijdend personeel'!$G$11+(ROUNDUP(M12,0)-12)*'Rijdend personeel'!$G$13+'Rijdend personeel'!$G$42,0))))","v":0},{"$f":"IF(AND(N12>0,N12<=6,Reis!O20=\"Autre\"),('Rijdend personeel'!$G$50+'Rijdend personeel'!$G$42),IF(AND(N12>0,N12<=6),('Rijdend personeel'!$G$9+'Rijdend personeel'!$G$42),IF(AND(N12>6,N12<=12),'Rijdend personeel'!$G$11+'Rijdend personeel'!$G$42,IF(N12>0,'Rijdend personeel'!$G$11+(ROUNDUP(N12,0)-12)*'Rijdend personeel'!$G$13+'Rijdend personeel'!$G$42,0))))","v":0},{"$f":"IF(AND(O12>0,O12<=6,Reis!P20=\"Autre\"),('Rijdend personeel'!$G$50+'Rijdend personeel'!$G$42),IF(AND(O12>0,O12<=6),('Rijdend personeel'!$G$9+'Rijdend personeel'!$G$42),IF(AND(O12>6,O12<=12),'Rijdend personeel'!$G$11+'Rijdend personeel'!$G$42,IF(O12>0,'Rijdend personeel'!$G$11+(ROUNDUP(O12,0)-12)*'Rijdend personeel'!$G$13+'Rijdend personeel'!$G$42,0))))","v":0},{"$f":"IF(AND(P12>0,P12<=6,Reis!Q20=\"Autre\"),('Rijdend personeel'!$G$50+'Rijdend personeel'!$G$42),IF(AND(P12>0,P12<=6),('Rijdend personeel'!$G$9+'Rijdend personeel'!$G$42),IF(AND(P12>6,P12<=12),'Rijdend personeel'!$G$11+'Rijdend personeel'!$G$42,IF(P12>0,'Rijdend personeel'!$G$11+(ROUNDUP(P12,0)-12)*'Rijdend personeel'!$G$13+'Rijdend personeel'!$G$42,0))))","v":0},{"$f":"IF(AND(Q12>0,Q12<=6,Reis!R20=\"Autre\"),('Rijdend personeel'!$G$50+'Rijdend personeel'!$G$42),IF(AND(Q12>0,Q12<=6),('Rijdend personeel'!$G$9+'Rijdend personeel'!$G$42),IF(AND(Q12>6,Q12<=12),'Rijdend personeel'!$G$11+'Rijdend personeel'!$G$42,IF(Q12>0,'Rijdend personeel'!$G$11+(ROUNDUP(Q12,0)-12)*'Rijdend personeel'!$G$13+'Rijdend personeel'!$G$42,0))))","v":0},{"$f":"IF(AND(R12>0,R12<=6,Reis!S20=\"Autre\"),('Rijdend personeel'!$G$50+'Rijdend personeel'!$G$42),IF(AND(R12>0,R12<=6),('Rijdend personeel'!$G$9+'Rijdend personeel'!$G$42),IF(AND(R12>6,R12<=12),'Rijdend personeel'!$G$11+'Rijdend personeel'!$G$42,IF(R12>0,'Rijdend personeel'!$G$11+(ROUNDUP(R12,0)-12)*'Rijdend personeel'!$G$13+'Rijdend personeel'!$G$42,0))))","v":0},{"$f":"IF(AND(S12>0,S12<=6,Reis!T20=\"Autre\"),('Rijdend personeel'!$G$50+'Rijdend personeel'!$G$42),IF(AND(S12>0,S12<=6),('Rijdend personeel'!$G$9+'Rijdend personeel'!$G$42),IF(AND(S12>6,S12<=12),'Rijdend personeel'!$G$11+'Rijdend personeel'!$G$42,IF(S12>0,'Rijdend personeel'!$G$11+(ROUNDUP(S12,0)-12)*'Rijdend personeel'!$G$13+'Rijdend personeel'!$G$42,0))))","v":0}]
[null,null,"Bruto Sal CH1 DUBBEL",null,{"$f":"IF(E13=0,0,IF(E13<12,'Rijdend personeel'!$G$16+'Rijdend personeel'!$G$42,IF(E13<13,'Rijdend personeel'!$G$18+'Rijdend personeel'!$G$42,IF(E13<14,'Rijdend personeel'!$G$20+'Rijdend personeel'!$G$42,IF(E13<15,'Rijdend personeel'!$G$22+'Rijdend personeel'!$G$42,IF(E13<16,'Rijdend personeel'!$G$24+'Rijdend personeel'!$G$42,IF(E13<17,'Rijdend personeel'!$G$26+'Rijdend personeel'!$G$42,IF(E13<18,'Rijdend personeel'!$G$28+'Rijdend personeel'!$G$42,IF(E13<19,'Rijdend personeel'!$G$30+'Rijdend personeel'!$G$42,IF(E13<20,'Rijdend personeel'!$G$32+'Rijdend personeel'!$G$42,IF(E13<21,'Rijdend personeel'!$G$34+'Rijdend personeel'!$G$42,IF(E13<22,'Rijdend personeel'!$G$36+'Rijdend personeel'!$G$42))))))))))))","v":0},{"$f":"IF(F13=0,0,IF(F13<12,'Rijdend personeel'!$G$16+'Rijdend personeel'!$G$42,IF(F13<13,'Rijdend personeel'!$G$18+'Rijdend personeel'!$G$42,IF(F13<14,'Rijdend personeel'!$G$20+'Rijdend personeel'!$G$42,IF(F13<15,'Rijdend personeel'!$G$22+'Rijdend personeel'!$G$42,IF(F13<16,'Rijdend personeel'!$G$24+'Rijdend personeel'!$G$42,IF(F13<17,'Rijdend personeel'!$G$26+'Rijdend personeel'!$G$42,IF(F13<18,'Rijdend personeel'!$G$28+'Rijdend personeel'!$G$42,IF(F13<19,'Rijdend personeel'!$G$30+'Rijdend personeel'!$G$42,IF(F13<20,'Rijdend personeel'!$G$32+'Rijdend personeel'!$G$42,IF(F13<21,'Rijdend personeel'!$G$34+'Rijdend personeel'!$G$42,IF(F13<22,'Rijdend personeel'!$G$36+'Rijdend personeel'!$G$42))))))))))))","v":0},{"$f":"IF(G13=0,0,IF(G13<12,'Rijdend personeel'!$G$16+'Rijdend personeel'!$G$42,IF(G13<13,'Rijdend personeel'!$G$18+'Rijdend personeel'!$G$42,IF(G13<14,'Rijdend personeel'!$G$20+'Rijdend personeel'!$G$42,IF(G13<15,'Rijdend personeel'!$G$22+'Rijdend personeel'!$G$42,IF(G13<16,'Rijdend personeel'!$G$24+'Rijdend personeel'!$G$42,IF(G13<17,'Rijdend personeel'!$G$26+'Rijdend personeel'!$G$42,IF(G13<18,'Rijdend personeel'!$G$28+'Rijdend personeel'!$G$42,IF(G13<19,'Rijdend personeel'!$G$30+'Rijdend personeel'!$G$42,IF(G13<20,'Rijdend personeel'!$G$32+'Rijdend personeel'!$G$42,IF(G13<21,'Rijdend personeel'!$G$34+'Rijdend personeel'!$G$42,IF(G13<22,'Rijdend personeel'!$G$36+'Rijdend personeel'!$G$42))))))))))))","v":0},{"$f":"IF(H13=0,0,IF(H13<12,'Rijdend personeel'!$G$16+'Rijdend personeel'!$G$42,IF(H13<13,'Rijdend personeel'!$G$18+'Rijdend personeel'!$G$42,IF(H13<14,'Rijdend personeel'!$G$20+'Rijdend personeel'!$G$42,IF(H13<15,'Rijdend personeel'!$G$22+'Rijdend personeel'!$G$42,IF(H13<16,'Rijdend personeel'!$G$24+'Rijdend personeel'!$G$42,IF(H13<17,'Rijdend personeel'!$G$26+'Rijdend personeel'!$G$42,IF(H13<18,'Rijdend personeel'!$G$28+'Rijdend personeel'!$G$42,IF(H13<19,'Rijdend personeel'!$G$30+'Rijdend personeel'!$G$42,IF(H13<20,'Rijdend personeel'!$G$32+'Rijdend personeel'!$G$42,IF(H13<21,'Rijdend personeel'!$G$34+'Rijdend personeel'!$G$42,IF(H13<22,'Rijdend personeel'!$G$36+'Rijdend personeel'!$G$42))))))))))))","v":0},{"$f":"IF(I13=0,0,IF(I13<12,'Rijdend personeel'!$G$16+'Rijdend personeel'!$G$42,IF(I13<13,'Rijdend personeel'!$G$18+'Rijdend personeel'!$G$42,IF(I13<14,'Rijdend personeel'!$G$20+'Rijdend personeel'!$G$42,IF(I13<15,'Rijdend personeel'!$G$22+'Rijdend personeel'!$G$42,IF(I13<16,'Rijdend personeel'!$G$24+'Rijdend personeel'!$G$42,IF(I13<17,'Rijdend personeel'!$G$26+'Rijdend personeel'!$G$42,IF(I13<18,'Rijdend personeel'!$G$28+'Rijdend personeel'!$G$42,IF(I13<19,'Rijdend personeel'!$G$30+'Rijdend personeel'!$G$42,IF(I13<20,'Rijdend personeel'!$G$32+'Rijdend personeel'!$G$42,IF(I13<21,'Rijdend personeel'!$G$34+'Rijdend personeel'!$G$42,IF(I13<22,'Rijdend personeel'!$G$36+'Rijdend personeel'!$G$42))))))))))))","v":0},{"$f":"IF(J13=0,0,IF(J13<12,'Rijdend personeel'!$G$16+'Rijdend personeel'!$G$42,IF(J13<13,'Rijdend personeel'!$G$18+'Rijdend personeel'!$G$42,IF(J13<14,'Rijdend personeel'!$G$20+'Rijdend personeel'!$G$42,IF(J13<15,'Rijdend personeel'!$G$22+'Rijdend personeel'!$G$42,IF(J13<16,'Rijdend personeel'!$G$24+'Rijdend personeel'!$G$42,IF(J13<17,'Rijdend personeel'!$G$26+'Rijdend personeel'!$G$42,IF(J13<18,'Rijdend personeel'!$G$28+'Rijdend personeel'!$G$42,IF(J13<19,'Rijdend personeel'!$G$30+'Rijdend personeel'!$G$42,IF(J13<20,'Rijdend personeel'!$G$32+'Rijdend personeel'!$G$42,IF(J13<21,'Rijdend personeel'!$G$34+'Rijdend personeel'!$G$42,IF(J13<22,'Rijdend personeel'!$G$36+'Rijdend personeel'!$G$42))))))))))))","v":0},{"$f":"IF(K13=0,0,IF(K13<12,'Rijdend personeel'!$G$16+'Rijdend personeel'!$G$42,IF(K13<13,'Rijdend personeel'!$G$18+'Rijdend personeel'!$G$42,IF(K13<14,'Rijdend personeel'!$G$20+'Rijdend personeel'!$G$42,IF(K13<15,'Rijdend personeel'!$G$22+'Rijdend personeel'!$G$42,IF(K13<16,'Rijdend personeel'!$G$24+'Rijdend personeel'!$G$42,IF(K13<17,'Rijdend personeel'!$G$26+'Rijdend personeel'!$G$42,IF(K13<18,'Rijdend personeel'!$G$28+'Rijdend personeel'!$G$42,IF(K13<19,'Rijdend personeel'!$G$30+'Rijdend personeel'!$G$42,IF(K13<20,'Rijdend personeel'!$G$32+'Rijdend personeel'!$G$42,IF(K13<21,'Rijdend personeel'!$G$34+'Rijdend personeel'!$G$42,IF(K13<22,'Rijdend personeel'!$G$36+'Rijdend personeel'!$G$42))))))))))))","v":0},{"$f":"IF(L13=0,0,IF(L13<12,'Rijdend personeel'!$G$16+'Rijdend personeel'!$G$42,IF(L13<13,'Rijdend personeel'!$G$18+'Rijdend personeel'!$G$42,IF(L13<14,'Rijdend personeel'!$G$20+'Rijdend personeel'!$G$42,IF(L13<15,'Rijdend personeel'!$G$22+'Rijdend personeel'!$G$42,IF(L13<16,'Rijdend personeel'!$G$24+'Rijdend personeel'!$G$42,IF(L13<17,'Rijdend personeel'!$G$26+'Rijdend personeel'!$G$42,IF(L13<18,'Rijdend personeel'!$G$28+'Rijdend personeel'!$G$42,IF(L13<19,'Rijdend personeel'!$G$30+'Rijdend personeel'!$G$42,IF(L13<20,'Rijdend personeel'!$G$32+'Rijdend personeel'!$G$42,IF(L13<21,'Rijdend personeel'!$G$34+'Rijdend personeel'!$G$42,IF(L13<22,'Rijdend personeel'!$G$36+'Rijdend personeel'!$G$42))))))))))))","v":0},{"$f":"IF(M13=0,0,IF(M13<12,'Rijdend personeel'!$G$16+'Rijdend personeel'!$G$42,IF(M13<13,'Rijdend personeel'!$G$18+'Rijdend personeel'!$G$42,IF(M13<14,'Rijdend personeel'!$G$20+'Rijdend personeel'!$G$42,IF(M13<15,'Rijdend personeel'!$G$22+'Rijdend personeel'!$G$42,IF(M13<16,'Rijdend personeel'!$G$24+'Rijdend personeel'!$G$42,IF(M13<17,'Rijdend personeel'!$G$26+'Rijdend personeel'!$G$42,IF(M13<18,'Rijdend personeel'!$G$28+'Rijdend personeel'!$G$42,IF(M13<19,'Rijdend personeel'!$G$30+'Rijdend personeel'!$G$42,IF(M13<20,'Rijdend personeel'!$G$32+'Rijdend personeel'!$G$42,IF(M13<21,'Rijdend personeel'!$G$34+'Rijdend personeel'!$G$42,IF(M13<22,'Rijdend personeel'!$G$36+'Rijdend personeel'!$G$42))))))))))))","v":0},{"$f":"IF(N13=0,0,IF(N13<12,'Rijdend personeel'!$G$16+'Rijdend personeel'!$G$42,IF(N13<13,'Rijdend personeel'!$G$18+'Rijdend personeel'!$G$42,IF(N13<14,'Rijdend personeel'!$G$20+'Rijdend personeel'!$G$42,IF(N13<15,'Rijdend personeel'!$G$22+'Rijdend personeel'!$G$42,IF(N13<16,'Rijdend personeel'!$G$24+'Rijdend personeel'!$G$42,IF(N13<17,'Rijdend personeel'!$G$26+'Rijdend personeel'!$G$42,IF(N13<18,'Rijdend personeel'!$G$28+'Rijdend personeel'!$G$42,IF(N13<19,'Rijdend personeel'!$G$30+'Rijdend personeel'!$G$42,IF(N13<20,'Rijdend personeel'!$G$32+'Rijdend personeel'!$G$42,IF(N13<21,'Rijdend personeel'!$G$34+'Rijdend personeel'!$G$42,IF(N13<22,'Rijdend personeel'!$G$36+'Rijdend personeel'!$G$42))))))))))))","v":0},{"$f":"IF(O13=0,0,IF(O13<12,'Rijdend personeel'!$G$16+'Rijdend personeel'!$G$42,IF(O13<13,'Rijdend personeel'!$G$18+'Rijdend personeel'!$G$42,IF(O13<14,'Rijdend personeel'!$G$20+'Rijdend personeel'!$G$42,IF(O13<15,'Rijdend personeel'!$G$22+'Rijdend personeel'!$G$42,IF(O13<16,'Rijdend personeel'!$G$24+'Rijdend personeel'!$G$42,IF(O13<17,'Rijdend personeel'!$G$26+'Rijdend personeel'!$G$42,IF(O13<18,'Rijdend personeel'!$G$28+'Rijdend personeel'!$G$42,IF(O13<19,'Rijdend personeel'!$G$30+'Rijdend personeel'!$G$42,IF(O13<20,'Rijdend personeel'!$G$32+'Rijdend personeel'!$G$42,IF(O13<21,'Rijdend personeel'!$G$34+'Rijdend personeel'!$G$42,IF(O13<22,'Rijdend personeel'!$G$36+'Rijdend personeel'!$G$42))))))))))))","v":0},{"$f":"IF(P13=0,0,IF(P13<12,'Rijdend personeel'!$G$16+'Rijdend personeel'!$G$42,IF(P13<13,'Rijdend personeel'!$G$18+'Rijdend personeel'!$G$42,IF(P13<14,'Rijdend personeel'!$G$20+'Rijdend personeel'!$G$42,IF(P13<15,'Rijdend personeel'!$G$22+'Rijdend personeel'!$G$42,IF(P13<16,'Rijdend personeel'!$G$24+'Rijdend personeel'!$G$42,IF(P13<17,'Rijdend personeel'!$G$26+'Rijdend personeel'!$G$42,IF(P13<18,'Rijdend personeel'!$G$28+'Rijdend personeel'!$G$42,IF(P13<19,'Rijdend personeel'!$G$30+'Rijdend personeel'!$G$42,IF(P13<20,'Rijdend personeel'!$G$32+'Rijdend personeel'!$G$42,IF(P13<21,'Rijdend personeel'!$G$34+'Rijdend personeel'!$G$42,IF(P13<22,'Rijdend personeel'!$G$36+'Rijdend personeel'!$G$42))))))))))))","v":0},{"$f":"IF(Q13=0,0,IF(Q13<12,'Rijdend personeel'!$G$16+'Rijdend personeel'!$G$42,IF(Q13<13,'Rijdend personeel'!$G$18+'Rijdend personeel'!$G$42,IF(Q13<14,'Rijdend personeel'!$G$20+'Rijdend personeel'!$G$42,IF(Q13<15,'Rijdend personeel'!$G$22+'Rijdend personeel'!$G$42,IF(Q13<16,'Rijdend personeel'!$G$24+'Rijdend personeel'!$G$42,IF(Q13<17,'Rijdend personeel'!$G$26+'Rijdend personeel'!$G$42,IF(Q13<18,'Rijdend personeel'!$G$28+'Rijdend personeel'!$G$42,IF(Q13<19,'Rijdend personeel'!$G$30+'Rijdend personeel'!$G$42,IF(Q13<20,'Rijdend personeel'!$G$32+'Rijdend personeel'!$G$42,IF(Q13<21,'Rijdend personeel'!$G$34+'Rijdend personeel'!$G$42,IF(Q13<22,'Rijdend personeel'!$G$36+'Rijdend personeel'!$G$42))))))))))))","v":0},{"$f":"IF(R13=0,0,IF(R13<12,'Rijdend personeel'!$G$16+'Rijdend personeel'!$G$42,IF(R13<13,'Rijdend personeel'!$G$18+'Rijdend personeel'!$G$42,IF(R13<14,'Rijdend personeel'!$G$20+'Rijdend personeel'!$G$42,IF(R13<15,'Rijdend personeel'!$G$22+'Rijdend personeel'!$G$42,IF(R13<16,'Rijdend personeel'!$G$24+'Rijdend personeel'!$G$42,IF(R13<17,'Rijdend personeel'!$G$26+'Rijdend personeel'!$G$42,IF(R13<18,'Rijdend personeel'!$G$28+'Rijdend personeel'!$G$42,IF(R13<19,'Rijdend personeel'!$G$30+'Rijdend personeel'!$G$42,IF(R13<20,'Rijdend personeel'!$G$32+'Rijdend personeel'!$G$42,IF(R13<21,'Rijdend personeel'!$G$34+'Rijdend personeel'!$G$42,IF(R13<22,'Rijdend personeel'!$G$36+'Rijdend personeel'!$G$42))))))))))))","v":0},{"$f":"IF(S13=0,0,IF(S13<12,'Rijdend personeel'!$G$16+'Rijdend personeel'!$G$42,IF(S13<13,'Rijdend personeel'!$G$18+'Rijdend personeel'!$G$42,IF(S13<14,'Rijdend personeel'!$G$20+'Rijdend personeel'!$G$42,IF(S13<15,'Rijdend personeel'!$G$22+'Rijdend personeel'!$G$42,IF(S13<16,'Rijdend personeel'!$G$24+'Rijdend personeel'!$G$42,IF(S13<17,'Rijdend personeel'!$G$26+'Rijdend personeel'!$G$42,IF(S13<18,'Rijdend personeel'!$G$28+'Rijdend personeel'!$G$42,IF(S13<19,'Rijdend personeel'!$G$30+'Rijdend personeel'!$G$42,IF(S13<20,'Rijdend personeel'!$G$32+'Rijdend personeel'!$G$42,IF(S13<21,'Rijdend personeel'!$G$34+'Rijdend personeel'!$G$42,IF(S13<22,'Rijdend personeel'!$G$36+'Rijdend personeel'!$G$42))))))))))))","v":0}]
[null,null,"Bruto Sal CH2 DUBBEL",null,{"$f":"IF(E14=0,0,IF(E14<12,'Rijdend personeel'!$G$16+'Rijdend personeel'!$G$42,IF(E14<13,'Rijdend personeel'!$G$18+'Rijdend personeel'!$G$42,IF(E14<14,'Rijdend personeel'!$G$20+'Rijdend personeel'!$G$42,IF(E14<15,'Rijdend personeel'!$G$22+'Rijdend personeel'!$G$42,IF(E14<16,'Rijdend personeel'!$G$24+'Rijdend personeel'!$G$42,IF(E14<17,'Rijdend personeel'!$G$26+'Rijdend personeel'!$G$42,IF(E14<18,'Rijdend personeel'!$G$28+'Rijdend personeel'!$G$42,IF(E14<19,'Rijdend personeel'!$G$30+'Rijdend personeel'!$G$42,IF(E14<20,'Rijdend personeel'!$G$32+'Rijdend personeel'!$G$42,IF(E14<21,'Rijdend personeel'!$G$34+'Rijdend personeel'!$G$42,IF(E14<22,'Rijdend personeel'!$G$36+'Rijdend personeel'!$G$42))))))))))))","v":0},{"$f":"IF(F14=0,0,IF(F14<12,'Rijdend personeel'!$G$16+'Rijdend personeel'!$G$42,IF(F14<13,'Rijdend personeel'!$G$18+'Rijdend personeel'!$G$42,IF(F14<14,'Rijdend personeel'!$G$20+'Rijdend personeel'!$G$42,IF(F14<15,'Rijdend personeel'!$G$22+'Rijdend personeel'!$G$42,IF(F14<16,'Rijdend personeel'!$G$24+'Rijdend personeel'!$G$42,IF(F14<17,'Rijdend personeel'!$G$26+'Rijdend personeel'!$G$42,IF(F14<18,'Rijdend personeel'!$G$28+'Rijdend personeel'!$G$42,IF(F14<19,'Rijdend personeel'!$G$30+'Rijdend personeel'!$G$42,IF(F14<20,'Rijdend personeel'!$G$32+'Rijdend personeel'!$G$42,IF(F14<21,'Rijdend personeel'!$G$34+'Rijdend personeel'!$G$42,IF(F14<22,'Rijdend personeel'!$G$36+'Rijdend personeel'!$G$42))))))))))))","v":0},{"$f":"IF(G14=0,0,IF(G14<12,'Rijdend personeel'!$G$16+'Rijdend personeel'!$G$42,IF(G14<13,'Rijdend personeel'!$G$18+'Rijdend personeel'!$G$42,IF(G14<14,'Rijdend personeel'!$G$20+'Rijdend personeel'!$G$42,IF(G14<15,'Rijdend personeel'!$G$22+'Rijdend personeel'!$G$42,IF(G14<16,'Rijdend personeel'!$G$24+'Rijdend personeel'!$G$42,IF(G14<17,'Rijdend personeel'!$G$26+'Rijdend personeel'!$G$42,IF(G14<18,'Rijdend personeel'!$G$28+'Rijdend personeel'!$G$42,IF(G14<19,'Rijdend personeel'!$G$30+'Rijdend personeel'!$G$42,IF(G14<20,'Rijdend personeel'!$G$32+'Rijdend personeel'!$G$42,IF(G14<21,'Rijdend personeel'!$G$34+'Rijdend personeel'!$G$42,IF(G14<22,'Rijdend personeel'!$G$36+'Rijdend personeel'!$G$42))))))))))))","v":0},{"$f":"IF(H14=0,0,IF(H14<12,'Rijdend personeel'!$G$16+'Rijdend personeel'!$G$42,IF(H14<13,'Rijdend personeel'!$G$18+'Rijdend personeel'!$G$42,IF(H14<14,'Rijdend personeel'!$G$20+'Rijdend personeel'!$G$42,IF(H14<15,'Rijdend personeel'!$G$22+'Rijdend personeel'!$G$42,IF(H14<16,'Rijdend personeel'!$G$24+'Rijdend personeel'!$G$42,IF(H14<17,'Rijdend personeel'!$G$26+'Rijdend personeel'!$G$42,IF(H14<18,'Rijdend personeel'!$G$28+'Rijdend personeel'!$G$42,IF(H14<19,'Rijdend personeel'!$G$30+'Rijdend personeel'!$G$42,IF(H14<20,'Rijdend personeel'!$G$32+'Rijdend personeel'!$G$42,IF(H14<21,'Rijdend personeel'!$G$34+'Rijdend personeel'!$G$42,IF(H14<22,'Rijdend personeel'!$G$36+'Rijdend personeel'!$G$42))))))))))))","v":0},{"$f":"IF(I14=0,0,IF(I14<12,'Rijdend personeel'!$G$16+'Rijdend personeel'!$G$42,IF(I14<13,'Rijdend personeel'!$G$18+'Rijdend personeel'!$G$42,IF(I14<14,'Rijdend personeel'!$G$20+'Rijdend personeel'!$G$42,IF(I14<15,'Rijdend personeel'!$G$22+'Rijdend personeel'!$G$42,IF(I14<16,'Rijdend personeel'!$G$24+'Rijdend personeel'!$G$42,IF(I14<17,'Rijdend personeel'!$G$26+'Rijdend personeel'!$G$42,IF(I14<18,'Rijdend personeel'!$G$28+'Rijdend personeel'!$G$42,IF(I14<19,'Rijdend personeel'!$G$30+'Rijdend personeel'!$G$42,IF(I14<20,'Rijdend personeel'!$G$32+'Rijdend personeel'!$G$42,IF(I14<21,'Rijdend personeel'!$G$34+'Rijdend personeel'!$G$42,IF(I14<22,'Rijdend personeel'!$G$36+'Rijdend personeel'!$G$42))))))))))))","v":0},{"$f":"IF(J14=0,0,IF(J14<12,'Rijdend personeel'!$G$16+'Rijdend personeel'!$G$42,IF(J14<13,'Rijdend personeel'!$G$18+'Rijdend personeel'!$G$42,IF(J14<14,'Rijdend personeel'!$G$20+'Rijdend personeel'!$G$42,IF(J14<15,'Rijdend personeel'!$G$22+'Rijdend personeel'!$G$42,IF(J14<16,'Rijdend personeel'!$G$24+'Rijdend personeel'!$G$42,IF(J14<17,'Rijdend personeel'!$G$26+'Rijdend personeel'!$G$42,IF(J14<18,'Rijdend personeel'!$G$28+'Rijdend personeel'!$G$42,IF(J14<19,'Rijdend personeel'!$G$30+'Rijdend personeel'!$G$42,IF(J14<20,'Rijdend personeel'!$G$32+'Rijdend personeel'!$G$42,IF(J14<21,'Rijdend personeel'!$G$34+'Rijdend personeel'!$G$42,IF(J14<22,'Rijdend personeel'!$G$36+'Rijdend personeel'!$G$42))))))))))))","v":0},{"$f":"IF(K14=0,0,IF(K14<12,'Rijdend personeel'!$G$16+'Rijdend personeel'!$G$42,IF(K14<13,'Rijdend personeel'!$G$18+'Rijdend personeel'!$G$42,IF(K14<14,'Rijdend personeel'!$G$20+'Rijdend personeel'!$G$42,IF(K14<15,'Rijdend personeel'!$G$22+'Rijdend personeel'!$G$42,IF(K14<16,'Rijdend personeel'!$G$24+'Rijdend personeel'!$G$42,IF(K14<17,'Rijdend personeel'!$G$26+'Rijdend personeel'!$G$42,IF(K14<18,'Rijdend personeel'!$G$28+'Rijdend personeel'!$G$42,IF(K14<19,'Rijdend personeel'!$G$30+'Rijdend personeel'!$G$42,IF(K14<20,'Rijdend personeel'!$G$32+'Rijdend personeel'!$G$42,IF(K14<21,'Rijdend personeel'!$G$34+'Rijdend personeel'!$G$42,IF(K14<22,'Rijdend personeel'!$G$36+'Rijdend personeel'!$G$42))))))))))))","v":0},{"$f":"IF(L14=0,0,IF(L14<12,'Rijdend personeel'!$G$16+'Rijdend personeel'!$G$42,IF(L14<13,'Rijdend personeel'!$G$18+'Rijdend personeel'!$G$42,IF(L14<14,'Rijdend personeel'!$G$20+'Rijdend personeel'!$G$42,IF(L14<15,'Rijdend personeel'!$G$22+'Rijdend personeel'!$G$42,IF(L14<16,'Rijdend personeel'!$G$24+'Rijdend personeel'!$G$42,IF(L14<17,'Rijdend personeel'!$G$26+'Rijdend personeel'!$G$42,IF(L14<18,'Rijdend personeel'!$G$28+'Rijdend personeel'!$G$42,IF(L14<19,'Rijdend personeel'!$G$30+'Rijdend personeel'!$G$42,IF(L14<20,'Rijdend personeel'!$G$32+'Rijdend personeel'!$G$42,IF(L14<21,'Rijdend personeel'!$G$34+'Rijdend personeel'!$G$42,IF(L14<22,'Rijdend personeel'!$G$36+'Rijdend personeel'!$G$42))))))))))))","v":0},{"$f":"IF(M14=0,0,IF(M14<12,'Rijdend personeel'!$G$16+'Rijdend personeel'!$G$42,IF(M14<13,'Rijdend personeel'!$G$18+'Rijdend personeel'!$G$42,IF(M14<14,'Rijdend personeel'!$G$20+'Rijdend personeel'!$G$42,IF(M14<15,'Rijdend personeel'!$G$22+'Rijdend personeel'!$G$42,IF(M14<16,'Rijdend personeel'!$G$24+'Rijdend personeel'!$G$42,IF(M14<17,'Rijdend personeel'!$G$26+'Rijdend personeel'!$G$42,IF(M14<18,'Rijdend personeel'!$G$28+'Rijdend personeel'!$G$42,IF(M14<19,'Rijdend personeel'!$G$30+'Rijdend personeel'!$G$42,IF(M14<20,'Rijdend personeel'!$G$32+'Rijdend personeel'!$G$42,IF(M14<21,'Rijdend personeel'!$G$34+'Rijdend personeel'!$G$42,IF(M14<22,'Rijdend personeel'!$G$36+'Rijdend personeel'!$G$42))))))))))))","v":0},{"$f":"IF(N14=0,0,IF(N14<12,'Rijdend personeel'!$G$16+'Rijdend personeel'!$G$42,IF(N14<13,'Rijdend personeel'!$G$18+'Rijdend personeel'!$G$42,IF(N14<14,'Rijdend personeel'!$G$20+'Rijdend personeel'!$G$42,IF(N14<15,'Rijdend personeel'!$G$22+'Rijdend personeel'!$G$42,IF(N14<16,'Rijdend personeel'!$G$24+'Rijdend personeel'!$G$42,IF(N14<17,'Rijdend personeel'!$G$26+'Rijdend personeel'!$G$42,IF(N14<18,'Rijdend personeel'!$G$28+'Rijdend personeel'!$G$42,IF(N14<19,'Rijdend personeel'!$G$30+'Rijdend personeel'!$G$42,IF(N14<20,'Rijdend personeel'!$G$32+'Rijdend personeel'!$G$42,IF(N14<21,'Rijdend personeel'!$G$34+'Rijdend personeel'!$G$42,IF(N14<22,'Rijdend personeel'!$G$36+'Rijdend personeel'!$G$42))))))))))))","v":0},{"$f":"IF(O14=0,0,IF(O14<12,'Rijdend personeel'!$G$16+'Rijdend personeel'!$G$42,IF(O14<13,'Rijdend personeel'!$G$18+'Rijdend personeel'!$G$42,IF(O14<14,'Rijdend personeel'!$G$20+'Rijdend personeel'!$G$42,IF(O14<15,'Rijdend personeel'!$G$22+'Rijdend personeel'!$G$42,IF(O14<16,'Rijdend personeel'!$G$24+'Rijdend personeel'!$G$42,IF(O14<17,'Rijdend personeel'!$G$26+'Rijdend personeel'!$G$42,IF(O14<18,'Rijdend personeel'!$G$28+'Rijdend personeel'!$G$42,IF(O14<19,'Rijdend personeel'!$G$30+'Rijdend personeel'!$G$42,IF(O14<20,'Rijdend personeel'!$G$32+'Rijdend personeel'!$G$42,IF(O14<21,'Rijdend personeel'!$G$34+'Rijdend personeel'!$G$42,IF(O14<22,'Rijdend personeel'!$G$36+'Rijdend personeel'!$G$42))))))))))))","v":0},{"$f":"IF(P14=0,0,IF(P14<12,'Rijdend personeel'!$G$16+'Rijdend personeel'!$G$42,IF(P14<13,'Rijdend personeel'!$G$18+'Rijdend personeel'!$G$42,IF(P14<14,'Rijdend personeel'!$G$20+'Rijdend personeel'!$G$42,IF(P14<15,'Rijdend personeel'!$G$22+'Rijdend personeel'!$G$42,IF(P14<16,'Rijdend personeel'!$G$24+'Rijdend personeel'!$G$42,IF(P14<17,'Rijdend personeel'!$G$26+'Rijdend personeel'!$G$42,IF(P14<18,'Rijdend personeel'!$G$28+'Rijdend personeel'!$G$42,IF(P14<19,'Rijdend personeel'!$G$30+'Rijdend personeel'!$G$42,IF(P14<20,'Rijdend personeel'!$G$32+'Rijdend personeel'!$G$42,IF(P14<21,'Rijdend personeel'!$G$34+'Rijdend personeel'!$G$42,IF(P14<22,'Rijdend personeel'!$G$36+'Rijdend personeel'!$G$42))))))))))))","v":0},{"$f":"IF(Q14=0,0,IF(Q14<12,'Rijdend personeel'!$G$16+'Rijdend personeel'!$G$42,IF(Q14<13,'Rijdend personeel'!$G$18+'Rijdend personeel'!$G$42,IF(Q14<14,'Rijdend personeel'!$G$20+'Rijdend personeel'!$G$42,IF(Q14<15,'Rijdend personeel'!$G$22+'Rijdend personeel'!$G$42,IF(Q14<16,'Rijdend personeel'!$G$24+'Rijdend personeel'!$G$42,IF(Q14<17,'Rijdend personeel'!$G$26+'Rijdend personeel'!$G$42,IF(Q14<18,'Rijdend personeel'!$G$28+'Rijdend personeel'!$G$42,IF(Q14<19,'Rijdend personeel'!$G$30+'Rijdend personeel'!$G$42,IF(Q14<20,'Rijdend personeel'!$G$32+'Rijdend personeel'!$G$42,IF(Q14<21,'Rijdend personeel'!$G$34+'Rijdend personeel'!$G$42,IF(Q14<22,'Rijdend personeel'!$G$36+'Rijdend personeel'!$G$42))))))))))))","v":0},{"$f":"IF(R14=0,0,IF(R14<12,'Rijdend personeel'!$G$16+'Rijdend personeel'!$G$42,IF(R14<13,'Rijdend personeel'!$G$18+'Rijdend personeel'!$G$42,IF(R14<14,'Rijdend personeel'!$G$20+'Rijdend personeel'!$G$42,IF(R14<15,'Rijdend personeel'!$G$22+'Rijdend personeel'!$G$42,IF(R14<16,'Rijdend personeel'!$G$24+'Rijdend personeel'!$G$42,IF(R14<17,'Rijdend personeel'!$G$26+'Rijdend personeel'!$G$42,IF(R14<18,'Rijdend personeel'!$G$28+'Rijdend personeel'!$G$42,IF(R14<19,'Rijdend personeel'!$G$30+'Rijdend personeel'!$G$42,IF(R14<20,'Rijdend personeel'!$G$32+'Rijdend personeel'!$G$42,IF(R14<21,'Rijdend personeel'!$G$34+'Rijdend personeel'!$G$42,IF(R14<22,'Rijdend personeel'!$G$36+'Rijdend personeel'!$G$42))))))))))))","v":0},{"$f":"IF(S14=0,0,IF(S14<12,'Rijdend personeel'!$G$16+'Rijdend personeel'!$G$42,IF(S14<13,'Rijdend personeel'!$G$18+'Rijdend personeel'!$G$42,IF(S14<14,'Rijdend personeel'!$G$20+'Rijdend personeel'!$G$42,IF(S14<15,'Rijdend personeel'!$G$22+'Rijdend personeel'!$G$42,IF(S14<16,'Rijdend personeel'!$G$24+'Rijdend personeel'!$G$42,IF(S14<17,'Rijdend personeel'!$G$26+'Rijdend personeel'!$G$42,IF(S14<18,'Rijdend personeel'!$G$28+'Rijdend personeel'!$G$42,IF(S14<19,'Rijdend personeel'!$G$30+'Rijdend personeel'!$G$42,IF(S14<20,'Rijdend personeel'!$G$32+'Rijdend personeel'!$G$42,IF(S14<21,'Rijdend personeel'!$G$34+'Rijdend personeel'!$G$42,IF(S14<22,'Rijdend personeel'!$G$36+'Rijdend personeel'!$G$42))))))))))))","v":0}]
[null,null,"Zondagsrust alle CH",null,{"$f":"Reis!F24*'Rijdend personeel'!$G$48","v":0},{"$f":"Reis!G24*'Rijdend personeel'!$G$48","v":0},{"$f":"Reis!H24*'Rijdend personeel'!$G$48","v":0},{"$f":"Reis!I24*'Rijdend personeel'!$G$48","v":0},{"$f":"Reis!J24*'Rijdend personeel'!$G$48","v":0},{"$f":"Reis!K24*'Rijdend personeel'!$G$48","v":0},{"$f":"Reis!L24*'Rijdend personeel'!$G$48","v":0},{"$f":"Reis!M24*'Rijdend personeel'!$G$48","v":0},{"$f":"Reis!N24*'Rijdend personeel'!$G$48","v":0},{"$f":"Reis!O24*'Rijdend personeel'!$G$48","v":0},{"$f":"Reis!P24*'Rijdend personeel'!$G$48","v":0},{"$f":"Reis!Q24*'Rijdend personeel'!$G$48","v":0},{"$f":"Reis!R24*'Rijdend personeel'!$G$48","v":0},{"$f":"Reis!S24*'Rijdend personeel'!$G$48","v":0},{"$f":"Reis!T24*'Rijdend personeel'!$G$48","v":0}]
[null,null,"Inactiviteitsdag alle CH",null,{"$f":"Reis!F25*'Rijdend personeel'!$G$50","v":0},{"$f":"Reis!G25*'Rijdend personeel'!$G$50","v":0},{"$f":"Reis!H25*'Rijdend personeel'!$G$50","v":0},{"$f":"Reis!I25*'Rijdend personeel'!$G$50","v":0},{"$f":"Reis!J25*'Rijdend personeel'!$G$50","v":0},{"$f":"Reis!K25*'Rijdend personeel'!$G$50","v":0},{"$f":"Reis!L25*'Rijdend personeel'!$G$50","v":0},{"$f":"Reis!M25*'Rijdend personeel'!$G$50","v":0},{"$f":"Reis!N25*'Rijdend personeel'!$G$50","v":0},{"$f":"Reis!O25*'Rijdend personeel'!$G$50","v":0},{"$f":"Reis!P25*'Rijdend personeel'!$G$50","v":0},{"$f":"Reis!Q25*'Rijdend personeel'!$G$50","v":0},{"$f":"Reis!R25*'Rijdend personeel'!$G$50","v":0},{"$f":"Reis!S25*'Rijdend personeel'!$G$50","v":0},{"$f":"Reis!T25*'Rijdend personeel'!$G$50","v":0}]
[null,null,"Eindejaarspremie alle CH",null,{"$f":"IF(Reis!F13<1,0,(('Rijdend personeel'!$G$46/'Rijdend personeel'!$G$68)*Reis!F19))","v":{"$error":"#DIV/0!"}},{"$f":"IF(Reis!G13<1,0,(('Rijdend personeel'!$G$46/'Rijdend personeel'!$G$68)*Reis!G19))","v":0},{"$f":"IF(Reis!H13<1,0,(('Rijdend personeel'!$G$46/'Rijdend personeel'!$G$68)*Reis!H19))","v":0},{"$f":"IF(Reis!I13<1,0,(('Rijdend personeel'!$G$46/'Rijdend personeel'!$G$68)*Reis!I19))","v":0},{"$f":"IF(Reis!J13<1,0,(('Rijdend personeel'!$G$46/'Rijdend personeel'!$G$68)*Reis!J19))","v":0},{"$f":"IF(Reis!K13<1,0,(('Rijdend personeel'!$G$46/'Rijdend personeel'!$G$68)*Reis!K19))","v":0},{"$f":"IF(Reis!L13<1,0,(('Rijdend personeel'!$G$46/'Rijdend personeel'!$G$68)*Reis!L19))","v":0},{"$f":"IF(Reis!M13<1,0,(('Rijdend personeel'!$G$46/'Rijdend personeel'!$G$68)*Reis!M19))","v":0},{"$f":"IF(Reis!N13<1,0,(('Rijdend personeel'!$G$46/'Rijdend personeel'!$G$68)*Reis!N19))","v":0},{"$f":"IF(Reis!O13<1,0,(('Rijdend personeel'!$G$46/'Rijdend personeel'!$G$68)*Reis!O19))","v":0},{"$f":"IF(Reis!P13<1,0,(('Rijdend personeel'!$G$46/'Rijdend personeel'!$G$68)*Reis!P19))","v":0},{"$f":"IF(Reis!Q13<1,0,(('Rijdend personeel'!$G$46/'Rijdend personeel'!$G$68)*Reis!Q19))","v":0},{"$f":"IF(Reis!R13<1,0,(('Rijdend personeel'!$G$46/'Rijdend personeel'!$G$68)*Reis!R19))","v":0},{"$f":"IF(Reis!S13<1,0,(('Rijdend personeel'!$G$46/'Rijdend personeel'!$G$68)*Reis!S19))","v":0},{"$f":"IF(Reis!T13<1,0,(('Rijdend personeel'!$G$46/'Rijdend personeel'!$G$68)*Reis!T19))","v":0}]
[null,null,"RSZ werkgever alle CH",null,{"$f":"IF(Reis!F13<1,0,((E15+E16+E17+E18+E19+E20)*1.08*'Rijdend personeel'!$G$52))","v":{"$error":"#DIV/0!"}},{"$f":"IF(Reis!G13<1,0,((F15+F16+F17+F18+F19+F20)*1.08*'Rijdend personeel'!$G$52))","v":0},{"$f":"IF(Reis!H13<1,0,((G15+G16+G17+G18+G19+G20)*1.08*'Rijdend personeel'!$G$52))","v":0},{"$f":"IF(Reis!I13<1,0,((H15+H16+H17+H18+H19+H20)*1.08*'Rijdend personeel'!$G$52))","v":0},{"$f":"IF(Reis!J13<1,0,((I15+I16+I17+I18+I19+I20)*1.08*'Rijdend personeel'!$G$52))","v":0},{"$f":"IF(Reis!K13<1,0,((J15+J16+J17+J18+J19+J20)*1.08*'Rijdend personeel'!$G$52))","v":0},{"$f":"IF(Reis!L13<1,0,((K15+K16+K17+K18+K19+K20)*1.08*'Rijdend personeel'!$G$52))","v":0},{"$f":"IF(Reis!M13<1,0,((L15+L16+L17+L18+L19+L20)*1.08*'Rijdend personeel'!$G$52))","v":0},{"$f":"IF(Reis!N13<1,0,((M15+M16+M17+M18+M19+M20)*1.08*'Rijdend personeel'!$G$52))","v":0},{"$f":"IF(Reis!O13<1,0,((N15+N16+N17+N18+N19+N20)*1.08*'Rijdend personeel'!$G$52))","v":0},{"$f":"IF(Reis!P13<1,0,((O15+O16+O17+O18+O19+O20)*1.08*'Rijdend personeel'!$G$52))","v":0},{"$f":"IF(Reis!Q13<1,0,((P15+P16+P17+P18+P19+P20)*1.08*'Rijdend personeel'!$G$52))","v":0},{"$f":"IF(Reis!R13<1,0,((Q15+Q16+Q17+Q18+Q19+Q20)*1.08*'Rijdend personeel'!$G$52))","v":0},{"$f":"IF(Reis!S13<1,0,((R15+R16+R17+R18+R19+R20)*1.08*'Rijdend personeel'!$G$52))","v":0},{"$f":"IF(Reis!T13<1,0,((S15+S16+S17+S18+S19+S20)*1.08*'Rijdend personeel'!$G$52))","v":0}]
[null,null,"Eco-cheques alle CH",null,{"$f":"IF(Reis!F13<1,0,(('Rijdend personeel'!$G$44/'Rijdend personeel'!$G$68)*Reis!F19))","v":{"$error":"#DIV/0!"}},{"$f":"IF(Reis!G13<1,0,(('Rijdend personeel'!$G$44/'Rijdend personeel'!$G$68)*Reis!G19))","v":0},{"$f":"IF(Reis!H13<1,0,(('Rijdend personeel'!$G$44/'Rijdend personeel'!$G$68)*Reis!H19))","v":0},{"$f":"IF(Reis!I13<1,0,(('Rijdend personeel'!$G$44/'Rijdend personeel'!$G$68)*Reis!I19))","v":0},{"$f":"IF(Reis!J13<1,0,(('Rijdend personeel'!$G$44/'Rijdend personeel'!$G$68)*Reis!J19))","v":0},{"$f":"IF(Reis!K13<1,0,(('Rijdend personeel'!$G$44/'Rijdend personeel'!$G$68)*Reis!K19))","v":0},{"$f":"IF(Reis!L13<1,0,(('Rijdend personeel'!$G$44/'Rijdend personeel'!$G$68)*Reis!L19))","v":0},{"$f":"IF(Reis!M13<1,0,(('Rijdend personeel'!$G$44/'Rijdend personeel'!$G$68)*Reis!M19))","v":0},{"$f":"IF(Reis!N13<1,0,(('Rijdend personeel'!$G$44/'Rijdend personeel'!$G$68)*Reis!N19))","v":0},{"$f":"IF(Reis!O13<1,0,(('Rijdend personeel'!$G$44/'Rijdend personeel'!$G$68)*Reis!O19))","v":0},{"$f":"IF(Reis!P13<1,0,(('Rijdend personeel'!$G$44/'Rijdend personeel'!$G$68)*Reis!P19))","v":0},{"$f":"IF(Reis!Q13<1,0,(('Rijdend personeel'!$G$44/'Rijdend personeel'!$G$68)*Reis!Q19))","v":0},{"$f":"IF(Reis!R13<1,0,(('Rijdend personeel'!$G$44/'Rijdend personeel'!$G$68)*Reis!R19))","v":0},{"$f":"IF(Reis!S13<1,0,(('Rijdend personeel'!$G$44/'Rijdend personeel'!$G$68)*Reis!S19))","v":0},{"$f":"IF(Reis!T13<1,0,(('Rijdend personeel'!$G$44/'Rijdend personeel'!$G$68)*Reis!T19))","v":0}]
[null,null,"ARAB CH ENKEL",null,{"$f":"ROUNDUP(E12,0)*'Rijdend personeel'!$G$40","v":0},{"$f":"ROUNDUP(F12,0)*'Rijdend personeel'!$G$40","v":0},{"$f":"ROUNDUP(G12,0)*'Rijdend personeel'!$G$40","v":0},{"$f":"ROUNDUP(H12,0)*'Rijdend personeel'!$G$40","v":0},{"$f":"ROUNDUP(I12,0)*'Rijdend personeel'!$G$40","v":0},{"$f":"ROUNDUP(J12,0)*'Rijdend personeel'!$G$40","v":0},{"$f":"ROUNDUP(K12,0)*'Rijdend personeel'!$G$40","v":0},{"$f":"ROUNDUP(L12,0)*'Rijdend personeel'!$G$40","v":0},{"$f":"ROUNDUP(M12,0)*'Rijdend personeel'!$G$40","v":0},{"$f":"ROUNDUP(N12,0)*'Rijdend personeel'!$G$40","v":0},{"$f":"ROUNDUP(O12,0)*'Rijdend personeel'!$G$40","v":0},{"$f":"ROUNDUP(P12,0)*'Rijdend personeel'!$G$40","v":0},{"$f":"ROUNDUP(Q12,0)*'Rijdend personeel'!$G$40","v":0},{"$f":"ROUNDUP(R12,0)*'Rijdend personeel'!$G$40","v":0},{"$f":"ROUNDUP(S12,0)*'Rijdend personeel'!$G$40","v":0}]
[null,null,"ARAB CH1 DUBBEL",null,{"$f":"ROUNDUP(E13,0)*'Rijdend personeel'!$G$40","v":0},{"$f":"ROUNDUP(F13,0)*'Rijdend personeel'!$G$40","v":0},{"$f":"ROUNDUP(G13,0)*'Rijdend personeel'!$G$40","v":0},{"$f":"ROUNDUP(H13,0)*'Rijdend personeel'!$G$40","v":0},{"$f":"ROUNDUP(I13,0)*'Rijdend personeel'!$G$40","v":0},{"$f":"ROUNDUP(J13,0)*'Rijdend personeel'!$G$40","v":0},{"$f":"ROUNDUP(K13,0)*'Rijdend personeel'!$G$40","v":0},{"$f":"ROUNDUP(L13,0)*'Rijdend personeel'!$G$40","v":0},{"$f":"ROUNDUP(M13,0)*'Rijdend personeel'!$G$40","v":0},{"$f":"ROUNDUP(N13,0)*'Rijdend personeel'!$G$40","v":0},{"$f":"ROUNDUP(O13,0)*'Rijdend personeel'!$G$40","v":0},{"$f":"ROUNDUP(P13,0)*'Rijdend personeel'!$G$40","v":0},{"$f":"ROUNDUP(Q13,0)*'Rijdend personeel'!$G$40","v":0},{"$f":"ROUNDUP(R13,0)*'Rijdend personeel'!$G$40","v":0},{"$f":"ROUNDUP(S13,0)*'Rijdend personeel'!$G$40","v":0}]
[null,null,"ARAB CH2 DUBBEL",null,{"$f":"ROUNDUP(E14,0)*'Rijdend personeel'!$G$40","v":0},{"$f":"ROUNDUP(F14,0)*'Rijdend personeel'!$G$40","v":0},{"$f":"ROUNDUP(G14,0)*'Rijdend personeel'!$G$40","v":0},{"$f":"ROUNDUP(H14,0)*'Rijdend personeel'!$G$40","v":0},{"$f":"ROUNDUP(I14,0)*'Rijdend personeel'!$G$40","v":0},{"$f":"ROUNDUP(J14,0)*'Rijdend personeel'!$G$40","v":0},{"$f":"ROUNDUP(K14,0)*'Rijdend personeel'!$G$40","v":0},{"$f":"ROUNDUP(L14,0)*'Rijdend personeel'!$G$40","v":0},{"$f":"ROUNDUP(M14,0)*'Rijdend personeel'!$G$40","v":0},{"$f":"ROUNDUP(N14,0)*'Rijdend personeel'!$G$40","v":0},{"$f":"ROUNDUP(O14,0)*'Rijdend personeel'!$G$40","v":0},{"$f":"ROUNDUP(P14,0)*'Rijdend personeel'!$G$40","v":0},{"$f":"ROUNDUP(Q14,0)*'Rijdend personeel'!$G$40","v":0},{"$f":"ROUNDUP(R14,0)*'Rijdend personeel'!$G$40","v":0},{"$f":"ROUNDUP(S14,0)*'Rijdend personeel'!$G$40","v":0}]
[null,null,"Overige kosten alle CH",null,{"$f":"IF(Reis!F13<1,0,((('Rijdend personeel'!$G$54+'Rijdend personeel'!$G$56+'Rijdend personeel'!$G$58+'Rijdend personeel'!$G$60+'Rijdend personeel'!$G$62+'Rijdend personeel'!$G$64+'Rijdend personeel'!$G$66)/'Rijdend personeel'!$G$68)*Reis!F19))","v":{"$error":"#DIV/0!"}},{"$f":"IF(Reis!G13<1,0,((('Rijdend personeel'!$G$54+'Rijdend personeel'!$G$56+'Rijdend personeel'!$G$58+'Rijdend personeel'!$G$60+'Rijdend personeel'!$G$62+'Rijdend personeel'!$G$64+'Rijdend personeel'!$G$66)/'Rijdend personeel'!$G$68)*Reis!G19))","v":0},{"$f":"IF(Reis!H13<1,0,((('Rijdend personeel'!$G$54+'Rijdend personeel'!$G$56+'Rijdend personeel'!$G$58+'Rijdend personeel'!$G$60+'Rijdend personeel'!$G$62+'Rijdend personeel'!$G$64+'Rijdend personeel'!$G$66)/'Rijdend personeel'!$G$68)*Reis!H19))","v":0},{"$f":"IF(Reis!I13<1,0,((('Rijdend personeel'!$G$54+'Rijdend personeel'!$G$56+'Rijdend personeel'!$G$58+'Rijdend personeel'!$G$60+'Rijdend personeel'!$G$62+'Rijdend personeel'!$G$64+'Rijdend personeel'!$G$66)/'Rijdend personeel'!$G$68)*Reis!I19))","v":0},{"$f":"IF(Reis!J13<1,0,((('Rijdend personeel'!$G$54+'Rijdend personeel'!$G$56+'Rijdend personeel'!$G$58+'Rijdend personeel'!$G$60+'Rijdend personeel'!$G$62+'Rijdend personeel'!$G$64+'Rijdend personeel'!$G$66)/'Rijdend personeel'!$G$68)*Reis!J19))","v":0},{"$f":"IF(Reis!K13<1,0,((('Rijdend personeel'!$G$54+'Rijdend personeel'!$G$56+'Rijdend personeel'!$G$58+'Rijdend personeel'!$G$60+'Rijdend personeel'!$G$62+'Rijdend personeel'!$G$64+'Rijdend personeel'!$G$66)/'Rijdend personeel'!$G$68)*Reis!K19))","v":0},{"$f":"IF(Reis!L13<1,0,((('Rijdend personeel'!$G$54+'Rijdend personeel'!$G$56+'Rijdend personeel'!$G$58+'Rijdend personeel'!$G$60+'Rijdend personeel'!$G$62+'Rijdend personeel'!$G$64+'Rijdend personeel'!$G$66)/'Rijdend personeel'!$G$68)*Reis!L19))","v":0},{"$f":"IF(Reis!M13<1,0,((('Rijdend personeel'!$G$54+'Rijdend personeel'!$G$56+'Rijdend personeel'!$G$58+'Rijdend personeel'!$G$60+'Rijdend personeel'!$G$62+'Rijdend personeel'!$G$64+'Rijdend personeel'!$G$66)/'Rijdend personeel'!$G$68)*Reis!M19))","v":0},{"$f":"IF(Reis!N13<1,0,((('Rijdend personeel'!$G$54+'Rijdend personeel'!$G$56+'Rijdend personeel'!$G$58+'Rijdend personeel'!$G$60+'Rijdend personeel'!$G$62+'Rijdend personeel'!$G$64+'Rijdend personeel'!$G$66)/'Rijdend personeel'!$G$68)*Reis!N19))","v":0},{"$f":"IF(Reis!O13<1,0,((('Rijdend personeel'!$G$54+'Rijdend personeel'!$G$56+'Rijdend personeel'!$G$58+'Rijdend personeel'!$G$60+'Rijdend personeel'!$G$62+'Rijdend personeel'!$G$64+'Rijdend personeel'!$G$66)/'Rijdend personeel'!$G$68)*Reis!O19))","v":0},{"$f":"IF(Reis!P13<1,0,((('Rijdend personeel'!$G$54+'Rijdend personeel'!$G$56+'Rijdend personeel'!$G$58+'Rijdend personeel'!$G$60+'Rijdend personeel'!$G$62+'Rijdend personeel'!$G$64+'Rijdend personeel'!$G$66)/'Rijdend personeel'!$G$68)*Reis!P19))","v":0},{"$f":"IF(Reis!Q13<1,0,((('Rijdend personeel'!$G$54+'Rijdend personeel'!$G$56+'Rijdend personeel'!$G$58+'Rijdend personeel'!$G$60+'Rijdend personeel'!$G$62+'Rijdend personeel'!$G$64+'Rijdend personeel'!$G$66)/'Rijdend personeel'!$G$68)*Reis!Q19))","v":0},{"$f":"IF(Reis!R13<1,0,((('Rijdend personeel'!$G$54+'Rijdend personeel'!$G$56+'Rijdend personeel'!$G$58+'Rijdend personeel'!$G$60+'Rijdend personeel'!$G$62+'Rijdend personeel'!$G$64+'Rijdend personeel'!$G$66)/'Rijdend personeel'!$G$68)*Reis!R19))","v":0},{"$f":"IF(Reis!S13<1,0,((('Rijdend personeel'!$G$54+'Rijdend personeel'!$G$56+'Rijdend personeel'!$G$58+'Rijdend personeel'!$G$60+'Rijdend personeel'!$G$62+'Rijdend personeel'!$G$64+'Rijdend personeel'!$G$66)/'Rijdend personeel'!$G$68)*Reis!S19))","v":0},{"$f":"IF(Reis!T13<1,0,((('Rijdend personeel'!$G$54+'Rijdend personeel'!$G$56+'Rijdend personeel'!$G$58+'Rijdend personeel'!$G$60+'Rijdend personeel'!$G$62+'Rijdend personeel'!$G$64+'Rijdend personeel'!$G$66)/'Rijdend personeel'!$G$68)*Reis!T19))","v":0}]
[null,null,"Extra bonussen zondag + feestdag",null,{"$f":"IF(Reis!F24>0,0,IF(Reis!F19=\"\",\"\",IF(Reis!F19=1,Reis!AD17,IF(Reis!F19=2,Reis!AD18+Reis!AD19,IF(Reis!F19=3,Reis!AD18+Reis!AD19+Reis!AD17)))))","v":""},{"$f":"IF(Reis!G24>0,0,IF(Reis!G19=\"\",\"\",IF(Reis!G19=1,Reis!AE17,IF(Reis!G19=2,Reis!AE18+Reis!AE19,IF(Reis!G19=3,Reis!AE18+Reis!AE19+Reis!AE17)))))","v":""},{"$f":"IF(Reis!H24>0,0,IF(Reis!H19=\"\",\"\",IF(Reis!H19=1,Reis!AF17,IF(Reis!H19=2,Reis!AF18+Reis!AF19,IF(Reis!H19=3,Reis!AF18+Reis!AF19+Reis!AF17)))))","v":""},{"$f":"IF(Reis!I24>0,0,IF(Reis!I19=\"\",\"\",IF(Reis!I19=1,Reis!AG17,IF(Reis!I19=2,Reis!AG18+Reis!AG19,IF(Reis!I19=3,Reis!AG18+Reis!AG19+Reis!AG17)))))","v":""},{"$f":"IF(Reis!J24>0,0,IF(Reis!J19=\"\",\"\",IF(Reis!J19=1,Reis!AH17,IF(Reis!J19=2,Reis!AH18+Reis!AH19,IF(Reis!J19=3,Reis!AH18+Reis!AH19+Reis!AH17)))))","v":""},{"$f":"IF(Reis!K24>0,0,IF(Reis!K19=\"\",\"\",IF(Reis!K19=1,Reis!AI17,IF(Reis!K19=2,Reis!AI18+Reis!AI19,IF(Reis!K19=3,Reis!AI18+Reis!AI19+Reis!AI17)))))","v":""},{"$f":"IF(Reis!L24>0,0,IF(Reis!L19=\"\",\"\",IF(Reis!L19=1,Reis!AJ17,IF(Reis!L19=2,Reis!AJ18+Reis!AJ19,IF(Reis!L19=3,Reis!AJ18+Reis!AJ19+Reis!AJ17)))))","v":""},{"$f":"IF(Reis!M24>0,0,IF(Reis!M19=\"\",\"\",IF(Reis!M19=1,Reis!AK17,IF(Reis!M19=2,Reis!AK18+Reis!AK19,IF(Reis!M19=3,Reis!AK18+Reis!AK19+Reis!AK17)))))","v":""},{"$f":"IF(Reis!N24>0,0,IF(Reis!N19=\"\",\"\",IF(Reis!N19=1,Reis!AL17,IF(Reis!N19=2,Reis!AL18+Reis!AL19,IF(Reis!N19=3,Reis!AL18+Reis!AL19+Reis!AL17)))))","v":""},{"$f":"IF(Reis!O24>0,0,IF(Reis!O19=\"\",\"\",IF(Reis!O19=1,Reis!AM17,IF(Reis!O19=2,Reis!AM18+Reis!AM19,IF(Reis!O19=3,Reis!AM18+Reis!AM19+Reis!AM17)))))","v":""},{"$f":"IF(Reis!P24>0,0,IF(Reis!P19=\"\",\"\",IF(Reis!P19=1,Reis!AN17,IF(Reis!P19=2,Reis!AN18+Reis!AN19,IF(Reis!P19=3,Reis!AN18+Reis!AN19+Reis!AN17)))))","v":""},{"$f":"IF(Reis!Q24>0,0,IF(Reis!Q19=\"\",\"\",IF(Reis!Q19=1,Reis!AO17,IF(Reis!Q19=2,Reis!AO18+Reis!AO19,IF(Reis!Q19=3,Reis!AO18+Reis!AO19+Reis!AO17)))))","v":""},{"$f":"IF(Reis!R24>0,0,IF(Reis!R19=\"\",\"\",IF(Reis!R19=1,Reis!AP17,IF(Reis!R19=2,Reis!AP18+Reis!AP19,IF(Reis!R19=3,Reis!AP18+Reis!AP19+Reis!AP17)))))","v":""},{"$f":"IF(Reis!S24>0,0,IF(Reis!S19=\"\",\"\",IF(Reis!S19=1,Reis!AQ17,IF(Reis!S19=2,Reis!AQ18+Reis!AQ19,IF(Reis!S19=3,Reis!AQ18+Reis!AQ19+Reis!AQ17)))))","v":""},{"$f":"IF(Reis!T24>0,0,IF(Reis!T19=\"\",\"\",IF(Reis!T19=1,Reis!AR17,IF(Reis!T19=2,Reis!AR18+Reis!AR19,IF(Reis!T19=3,Reis!AR18+Reis!AR19+Reis!AR17)))))","v":""}]
[null,null,"Maaltijdcheques",null,{"$f":"IF(Reis!F13<1,0,(('Rijdend personeel'!$G$70*Reis!F19)))","v":0},{"$f":"IF(Reis!G13<1,0,(('Rijdend personeel'!$G$70*Reis!G19)))","v":0},{"$f":"IF(Reis!H13<1,0,(('Rijdend personeel'!$G$70*Reis!H19)))","v":0},{"$f":"IF(Reis!I13<1,0,(('Rijdend personeel'!$G$70*Reis!I19)))","v":0},{"$f":"IF(Reis!J13<1,0,(('Rijdend personeel'!$G$70*Reis!J19)))","v":0},{"$f":"IF(Reis!K13<1,0,(('Rijdend personeel'!$G$70*Reis!K19)))","v":0},{"$f":"IF(Reis!L13<1,0,(('Rijdend personeel'!$G$70*Reis!L19)))","v":0},{"$f":"IF(Reis!M13<1,0,(('Rijdend personeel'!$G$70*Reis!M19)))","v":0},{"$f":"IF(Reis!N13<1,0,(('Rijdend personeel'!$G$70*Reis!N19)))","v":0},{"$f":"IF(Reis!O13<1,0,(('Rijdend personeel'!$G$70*Reis!O19)))","v":0},{"$f":"IF(Reis!P13<1,0,(('Rijdend personeel'!$G$70*Reis!P19)))","v":0},{"$f":"IF(Reis!Q13<1,0,(('Rijdend personeel'!$G$70*Reis!Q19)))","v":0},{"$f":"IF(Reis!R13<1,0,(('Rijdend personeel'!$G$70*Reis!R19)))","v":0},{"$f":"IF(Reis!S13<1,0,(('Rijdend personeel'!$G$70*Reis!S19)))","v":0},{"$f":"IF(Reis!T13<1,0,(('Rijdend personeel'!$G$70*Reis!T19)))","v":0}]
[null,null,"Extra loonkosten alle CH"]
[null,null,"Totale loonkost alle CH",null,{"$f":"IF(Reis!F13<1,0,(E15+E16+E17+E18+E19+E20+E22+E21+E23+E24+E25+E26+E27+E29+E28))","v":{"$error":"#DIV/0!"}},{"$f":"IF(Reis!G13<1,0,(F15+F16+F17+F18+F19+F20+F22+F21+F23+F24+F25+F26+F27+F29+F28))","v":0},{"$f":"IF(Reis!H13<1,0,(G15+G16+G17+G18+G19+G20+G22+G21+G23+G24+G25+G26+G27+G29+G28))","v":0},{"$f":"IF(Reis!I13<1,0,(H15+H16+H17+H18+H19+H20+H22+H21+H23+H24+H25+H26+H27+H29+H28))","v":0},{"$f":"IF(Reis!J13<1,0,(I15+I16+I17+I18+I19+I20+I22+I21+I23+I24+I25+I26+I27+I29+I28))","v":0},{"$f":"IF(Reis!K13<1,0,(J15+J16+J17+J18+J19+J20+J22+J21+J23+J24+J25+J26+J27+J29+J28))","v":0},{"$f":"IF(Reis!L13<1,0,(K15+K16+K17+K18+K19+K20+K22+K21+K23+K24+K25+K26+K27+K29+K28))","v":0},{"$f":"IF(Reis!M13<1,0,(L15+L16+L17+L18+L19+L20+L22+L21+L23+L24+L25+L26+L27+L29+L28))","v":0},{"$f":"IF(Reis!N13<1,0,(M15+M16+M17+M18+M19+M20+M22+M21+M23+M24+M25+M26+M27+M29+M28))","v":0},{"$f":"IF(Reis!O13<1,0,(N15+N16+N17+N18+N19+N20+N22+N21+N23+N24+N25+N26+N27+N29+N28))","v":0},{"$f":"IF(Reis!P13<1,0,(O15+O16+O17+O18+O19+O20+O22+O21+O23+O24+O25+O26+O27+O29+O28))","v":0},{"$f":"IF(Reis!Q13<1,0,(P15+P16+P17+P18+P19+P20+P22+P21+P23+P24+P25+P26+P27+P29+P28))","v":0},{"$f":"IF(Reis!R13<1,0,(Q15+Q16+Q17+Q18+Q19+Q20+Q22+Q21+Q23+Q24+Q25+Q26+Q27+Q29+Q28))","v":0},{"$f":"IF(Reis!S13<1,0,(R15+R16+R17+R18+R19+R20+R22+R21+R23+R24+R25+R26+R27+R29+R28))","v":0},{"$f":"IF(Reis!T13<1,0,(S15+S16+S17+S18+S19+S20+S22+S21+S23+S24+S25+S26+S27+S29+S28))","v":0}]
[]
[]
[null,null,null,null,null,null,"Coût personnel roulant ",null,null,{"$f":"Bestemmingen!W10","v":""},null,{"$f":"Bestemmingen!S10","v":0}]
[]
[]
[]
[]
[null,null,null,null,"dag","dag","dag","dag","dag","dag","dag","dag","dag","dag","dag","dag","dag","dag","dag"]
[null,null,null,null,1,2,3,4,5,6,7,8,9,10,11,12,13,14,15]
[null,null,"Diensttijd CH ENKEL",null,{"$f":"Reis!F54*24","v":0},{"$f":"Reis!G54*24","v":0},{"$f":"Reis!H54*24","v":0},{"$f":"Reis!I54*24","v":0},{"$f":"Reis!J54*24","v":0},{"$f":"Reis!K54*24","v":0},{"$f":"Reis!L54*24","v":0},{"$f":"Reis!M54*24","v":0},{"$f":"Reis!N54*24","v":0},{"$f":"Reis!O54*24","v":0},{"$f":"Reis!P54*24","v":0},{"$f":"Reis!Q54*24","v":0},{"$f":"Reis!R54*24","v":0},{"$f":"Reis!S54*24","v":0},{"$f":"Reis!T54*24","v":0}]
[null,null,"Diensttijd CH1 DUBBEL",null,{"$f":"Reis!F55*24","v":0},{"$f":"Reis!G55*24","v":0},{"$f":"Reis!H55*24","v":0},{"$f":"Reis!I55*24","v":0},{"$f":"Reis!J55*24","v":0},{"$f":"Reis!K55*24","v":0},{"$f":"Reis!L55*24","v":0},{"$f":"Reis!M55*24","v":0},{"$f":"Reis!N55*24","v":0},{"$f":"Reis!O55*24","v":0},{"$f":"Reis!P55*24","v":0},{"$f":"Reis!Q55*24","v":0},{"$f":"Reis!R55*24","v":0},{"$f":"Reis!S55*24","v":0},{"$f":"Reis!T55*24","v":0}]
[null,null,"Diensttijd CH2 DUBBEL",null,{"$f":"Reis!F56*24","v":0},{"$f":"Reis!G56*24","v":0},{"$f":"Reis!H56*24","v":0},{"$f":"Reis!I56*24","v":0},{"$f":"Reis!J56*24","v":0},{"$f":"Reis!K56*24","v":0},{"$f":"Reis!L56*24","v":0},{"$f":"Reis!M56*24","v":0},{"$f":"Reis!N56*24","v":0},{"$f":"Reis!O56*24","v":0},{"$f":"Reis!P56*24","v":0},{"$f":"Reis!Q56*24","v":0},{"$f":"Reis!R56*24","v":0},{"$f":"Reis!S56*24","v":0},{"$f":"Reis!T56*24","v":0}]
[null,null,"Bruto Sal CH ENKEL",null,{"$f":"IF(AND(E40>0,E40<=6,Reis!F53=\"Autre\"),('Rijdend personeel'!$G$50+'Rijdend personeel'!$G$42),IF(AND(E40>0,E40<=6),('Rijdend personeel'!$G$9+'Rijdend personeel'!$G$42),IF(AND(E40>6,E40<=12),'Rijdend personeel'!$G$11+'Rijdend personeel'!$G$42,IF(E40>0,'Rijdend personeel'!$G$11+(ROUNDUP(E40,0)-12)*'Rijdend personeel'!$G$13+'Rijdend personeel'!$G$42,0))))","v":0},{"$f":"IF(AND(F40>0,F40<=6,Reis!G53=\"Autre\"),('Rijdend personeel'!$G$50+'Rijdend personeel'!$G$42),IF(AND(F40>0,F40<=6),('Rijdend personeel'!$G$9+'Rijdend personeel'!$G$42),IF(AND(F40>6,F40<=12),'Rijdend personeel'!$G$11+'Rijdend personeel'!$G$42,IF(F40>0,'Rijdend personeel'!$G$11+(ROUNDUP(F40,0)-12)*'Rijdend personeel'!$G$13+'Rijdend personeel'!$G$42,0))))","v":0},{"$f":"IF(AND(G40>0,G40<=6,Reis!H53=\"Autre\"),('Rijdend personeel'!$G$50+'Rijdend personeel'!$G$42),IF(AND(G40>0,G40<=6),('Rijdend personeel'!$G$9+'Rijdend personeel'!$G$42),IF(AND(G40>6,G40<=12),'Rijdend personeel'!$G$11+'Rijdend personeel'!$G$42,IF(G40>0,'Rijdend personeel'!$G$11+(ROUNDUP(G40,0)-12)*'Rijdend personeel'!$G$13+'Rijdend personeel'!$G$42,0))))","v":0},{"$f":"IF(AND(H40>0,H40<=6,Reis!I53=\"Autre\"),('Rijdend personeel'!$G$50+'Rijdend personeel'!$G$42),IF(AND(H40>0,H40<=6),('Rijdend personeel'!$G$9+'Rijdend personeel'!$G$42),IF(AND(H40>6,H40<=12),'Rijdend personeel'!$G$11+'Rijdend personeel'!$G$42,IF(H40>0,'Rijdend personeel'!$G$11+(ROUNDUP(H40,0)-12)*'Rijdend personeel'!$G$13+'Rijdend personeel'!$G$42,0))))","v":0},{"$f":"IF(AND(I40>0,I40<=6,Reis!J53=\"Autre\"),('Rijdend personeel'!$G$50+'Rijdend personeel'!$G$42),IF(AND(I40>0,I40<=6),('Rijdend personeel'!$G$9+'Rijdend personeel'!$G$42),IF(AND(I40>6,I40<=12),'Rijdend personeel'!$G$11+'Rijdend personeel'!$G$42,IF(I40>0,'Rijdend personeel'!$G$11+(ROUNDUP(I40,0)-12)*'Rijdend personeel'!$G$13+'Rijdend personeel'!$G$42,0))))","v":0},{"$f":"IF(AND(J40>0,J40<=6,Reis!K53=\"Autre\"),('Rijdend personeel'!$G$50+'Rijdend personeel'!$G$42),IF(AND(J40>0,J40<=6),('Rijdend personeel'!$G$9+'Rijdend personeel'!$G$42),IF(AND(J40>6,J40<=12),'Rijdend personeel'!$G$11+'Rijdend personeel'!$G$42,IF(J40>0,'Rijdend personeel'!$G$11+(ROUNDUP(J40,0)-12)*'Rijdend personeel'!$G$13+'Rijdend personeel'!$G$42,0))))","v":0},{"$f":"IF(AND(K40>0,K40<=6,Reis!L53=\"Autre\"),('Rijdend personeel'!$G$50+'Rijdend personeel'!$G$42),IF(AND(K40>0,K40<=6),('Rijdend personeel'!$G$9+'Rijdend personeel'!$G$42),IF(AND(K40>6,K40<=12),'Rijdend personeel'!$G$11+'Rijdend personeel'!$G$42,IF(K40>0,'Rijdend personeel'!$G$11+(ROUNDUP(K40,0)-12)*'Rijdend personeel'!$G$13+'Rijdend personeel'!$G$42,0))))","v":0},{"$f":"IF(AND(L40>0,L40<=6,Reis!M53=\"Autre\"),('Rijdend personeel'!$G$50+'Rijdend personeel'!$G$42),IF(AND(L40>0,L40<=6),('Rijdend personeel'!$G$9+'Rijdend personeel'!$G$42),IF(AND(L40>6,L40<=12),'Rijdend personeel'!$G$11+'Rijdend personeel'!$G$42,IF(L40>0,'Rijdend personeel'!$G$11+(ROUNDUP(L40,0)-12)*'Rijdend personeel'!$G$13+'Rijdend personeel'!$G$42,0))))","v":0},{"$f":"IF(AND(M40>0,M40<=6,Reis!N53=\"Autre\"),('Rijdend personeel'!$G$50+'Rijdend personeel'!$G$42),IF(AND(M40>0,M40<=6),('Rijdend personeel'!$G$9+'Rijdend personeel'!$G$42),IF(AND(M40>6,M40<=12),'Rijdend personeel'!$G$11+'Rijdend personeel'!$G$42,IF(M40>0,'Rijdend personeel'!$G$11+(ROUNDUP(M40,0)-12)*'Rijdend personeel'!$G$13+'Rijdend personeel'!$G$42,0))))","v":0},{"$f":"IF(AND(N40>0,N40<=6,Reis!O53=\"Autre\"),('Rijdend personeel'!$G$50+'Rijdend personeel'!$G$42),IF(AND(N40>0,N40<=6),('Rijdend personeel'!$G$9+'Rijdend personeel'!$G$42),IF(AND(N40>6,N40<=12),'Rijdend personeel'!$G$11+'Rijdend personeel'!$G$42,IF(N40>0,'Rijdend personeel'!$G$11+(ROUNDUP(N40,0)-12)*'Rijdend personeel'!$G$13+'Rijdend personeel'!$G$42,0))))","v":0},{"$f":"IF(AND(O40>0,O40<=6,Reis!P53=\"Autre\"),('Rijdend personeel'!$G$50+'Rijdend personeel'!$G$42),IF(AND(O40>0,O40<=6),('Rijdend personeel'!$G$9+'Rijdend personeel'!$G$42),IF(AND(O40>6,O40<=12),'Rijdend personeel'!$G$11+'Rijdend personeel'!$G$42,IF(O40>0,'Rijdend personeel'!$G$11+(ROUNDUP(O40,0)-12)*'Rijdend personeel'!$G$13+'Rijdend personeel'!$G$42,0))))","v":0},{"$f":"IF(AND(P40>0,P40<=6,Reis!Q53=\"Autre\"),('Rijdend personeel'!$G$50+'Rijdend personeel'!$G$42),IF(AND(P40>0,P40<=6),('Rijdend personeel'!$G$9+'Rijdend personeel'!$G$42),IF(AND(P40>6,P40<=12),'Rijdend personeel'!$G$11+'Rijdend personeel'!$G$42,IF(P40>0,'Rijdend personeel'!$G$11+(ROUNDUP(P40,0)-12)*'Rijdend personeel'!$G$13+'Rijdend personeel'!$G$42,0))))","v":0},{"$f":"IF(AND(Q40>0,Q40<=6,Reis!R53=\"Autre\"),('Rijdend personeel'!$G$50+'Rijdend personeel'!$G$42),IF(AND(Q40>0,Q40<=6),('Rijdend personeel'!$G$9+'Rijdend personeel'!$G$42),IF(AND(Q40>6,Q40<=12),'Rijdend personeel'!$G$11+'Rijdend personeel'!$G$42,IF(Q40>0,'Rijdend personeel'!$G$11+(ROUNDUP(Q40,0)-12)*'Rijdend personeel'!$G$13+'Rijdend personeel'!$G$42,0))))","v":0},{"$f":"IF(AND(R40>0,R40<=6,Reis!S53=\"Autre\"),('Rijdend personeel'!$G$50+'Rijdend personeel'!$G$42),IF(AND(R40>0,R40<=6),('Rijdend personeel'!$G$9+'Rijdend personeel'!$G$42),IF(AND(R40>6,R40<=12),'Rijdend personeel'!$G$11+'Rijdend personeel'!$G$42,IF(R40>0,'Rijdend personeel'!$G$11+(ROUNDUP(R40,0)-12)*'Rijdend personeel'!$G$13+'Rijdend personeel'!$G$42,0))))","v":0},{"$f":"IF(AND(S40>0,S40<=6,Reis!T53=\"Autre\"),('Rijdend personeel'!$G$50+'Rijdend personeel'!$G$42),IF(AND(S40>0,S40<=6),('Rijdend personeel'!$G$9+'Rijdend personeel'!$G$42),IF(AND(S40>6,S40<=12),'Rijdend personeel'!$G$11+'Rijdend personeel'!$G$42,IF(S40>0,'Rijdend personeel'!$G$11+(ROUNDUP(S40,0)-12)*'Rijdend personeel'!$G$13+'Rijdend personeel'!$G$42,0))))","v":0}]
[null,null,"Bruto Sal CH1 DUBBEL",null,{"$f":"IF(E41=0,0,IF(E41<12,'Rijdend personeel'!$G$16+'Rijdend personeel'!$G$42,IF(E41<13,'Rijdend personeel'!$G$18+'Rijdend personeel'!$G$42,IF(E41<14,'Rijdend personeel'!$G$20+'Rijdend personeel'!$G$42,IF(E41<15,'Rijdend personeel'!$G$22+'Rijdend personeel'!$G$42,IF(E41<16,'Rijdend personeel'!$G$24+'Rijdend personeel'!$G$42,IF(E41<17,'Rijdend personeel'!$G$26+'Rijdend personeel'!$G$42,IF(E41<18,'Rijdend personeel'!$G$28+'Rijdend personeel'!$G$42,IF(E41<19,'Rijdend personeel'!$G$30+'Rijdend personeel'!$G$42,IF(E41<20,'Rijdend personeel'!$G$32+'Rijdend personeel'!$G$42,IF(E41<21,'Rijdend personeel'!$G$34+'Rijdend personeel'!$G$42,IF(E41<22,'Rijdend personeel'!$G$36+'Rijdend personeel'!$G$42))))))))))))","v":0},{"$f":"IF(F41=0,0,IF(F41<12,'Rijdend personeel'!$G$16+'Rijdend personeel'!$G$42,IF(F41<13,'Rijdend personeel'!$G$18+'Rijdend personeel'!$G$42,IF(F41<14,'Rijdend personeel'!$G$20+'Rijdend personeel'!$G$42,IF(F41<15,'Rijdend personeel'!$G$22+'Rijdend personeel'!$G$42,IF(F41<16,'Rijdend personeel'!$G$24+'Rijdend personeel'!$G$42,IF(F41<17,'Rijdend personeel'!$G$26+'Rijdend personeel'!$G$42,IF(F41<18,'Rijdend personeel'!$G$28+'Rijdend personeel'!$G$42,IF(F41<19,'Rijdend personeel'!$G$30+'Rijdend personeel'!$G$42,IF(F41<20,'Rijdend personeel'!$G$32+'Rijdend personeel'!$G$42,IF(F41<21,'Rijdend personeel'!$G$34+'Rijdend personeel'!$G$42,IF(F41<22,'Rijdend personeel'!$G$36+'Rijdend personeel'!$G$42))))))))))))","v":0},{"$f":"IF(G41=0,0,IF(G41<12,'Rijdend personeel'!$G$16+'Rijdend personeel'!$G$42,IF(G41<13,'Rijdend personeel'!$G$18+'Rijdend personeel'!$G$42,IF(G41<14,'Rijdend personeel'!$G$20+'Rijdend personeel'!$G$42,IF(G41<15,'Rijdend personeel'!$G$22+'Rijdend personeel'!$G$42,IF(G41<16,'Rijdend personeel'!$G$24+'Rijdend personeel'!$G$42,IF(G41<17,'Rijdend personeel'!$G$26+'Rijdend personeel'!$G$42,IF(G41<18,'Rijdend personeel'!$G$28+'Rijdend personeel'!$G$42,IF(G41<19,'Rijdend personeel'!$G$30+'Rijdend personeel'!$G$42,IF(G41<20,'Rijdend personeel'!$G$32+'Rijdend personeel'!$G$42,IF(G41<21,'Rijdend personeel'!$G$34+'Rijdend personeel'!$G$42,IF(G41<22,'Rijdend personeel'!$G$36+'Rijdend personeel'!$G$42))))))))))))","v":0},{"$f":"IF(H41=0,0,IF(H41<12,'Rijdend personeel'!$G$16+'Rijdend personeel'!$G$42,IF(H41<13,'Rijdend personeel'!$G$18+'Rijdend personeel'!$G$42,IF(H41<14,'Rijdend personeel'!$G$20+'Rijdend personeel'!$G$42,IF(H41<15,'Rijdend personeel'!$G$22+'Rijdend personeel'!$G$42,IF(H41<16,'Rijdend personeel'!$G$24+'Rijdend personeel'!$G$42,IF(H41<17,'Rijdend personeel'!$G$26+'Rijdend personeel'!$G$42,IF(H41<18,'Rijdend personeel'!$G$28+'Rijdend personeel'!$G$42,IF(H41<19,'Rijdend personeel'!$G$30+'Rijdend personeel'!$G$42,IF(H41<20,'Rijdend personeel'!$G$32+'Rijdend personeel'!$G$42,IF(H41<21,'Rijdend personeel'!$G$34+'Rijdend personeel'!$G$42,IF(H41<22,'Rijdend personeel'!$G$36+'Rijdend personeel'!$G$42))))))))))))","v":0},{"$f":"IF(I41=0,0,IF(I41<12,'Rijdend personeel'!$G$16+'Rijdend personeel'!$G$42,IF(I41<13,'Rijdend personeel'!$G$18+'Rijdend personeel'!$G$42,IF(I41<14,'Rijdend personeel'!$G$20+'Rijdend personeel'!$G$42,IF(I41<15,'Rijdend personeel'!$G$22+'Rijdend personeel'!$G$42,IF(I41<16,'Rijdend personeel'!$G$24+'Rijdend personeel'!$G$42,IF(I41<17,'Rijdend personeel'!$G$26+'Rijdend personeel'!$G$42,IF(I41<18,'Rijdend personeel'!$G$28+'Rijdend personeel'!$G$42,IF(I41<19,'Rijdend personeel'!$G$30+'Rijdend personeel'!$G$42,IF(I41<20,'Rijdend personeel'!$G$32+'Rijdend personeel'!$G$42,IF(I41<21,'Rijdend personeel'!$G$34+'Rijdend personeel'!$G$42,IF(I41<22,'Rijdend personeel'!$G$36+'Rijdend personeel'!$G$42))))))))))))","v":0},{"$f":"IF(J41=0,0,IF(J41<12,'Rijdend personeel'!$G$16+'Rijdend personeel'!$G$42,IF(J41<13,'Rijdend personeel'!$G$18+'Rijdend personeel'!$G$42,IF(J41<14,'Rijdend personeel'!$G$20+'Rijdend personeel'!$G$42,IF(J41<15,'Rijdend personeel'!$G$22+'Rijdend personeel'!$G$42,IF(J41<16,'Rijdend personeel'!$G$24+'Rijdend personeel'!$G$42,IF(J41<17,'Rijdend personeel'!$G$26+'Rijdend personeel'!$G$42,IF(J41<18,'Rijdend personeel'!$G$28+'Rijdend personeel'!$G$42,IF(J41<19,'Rijdend personeel'!$G$30+'Rijdend personeel'!$G$42,IF(J41<20,'Rijdend personeel'!$G$32+'Rijdend personeel'!$G$42,IF(J41<21,'Rijdend personeel'!$G$34+'Rijdend personeel'!$G$42,IF(J41<22,'Rijdend personeel'!$G$36+'Rijdend personeel'!$G$42))))))))))))","v":0},{"$f":"IF(K41=0,0,IF(K41<12,'Rijdend personeel'!$G$16+'Rijdend personeel'!$G$42,IF(K41<13,'Rijdend personeel'!$G$18+'Rijdend personeel'!$G$42,IF(K41<14,'Rijdend personeel'!$G$20+'Rijdend personeel'!$G$42,IF(K41<15,'Rijdend personeel'!$G$22+'Rijdend personeel'!$G$42,IF(K41<16,'Rijdend personeel'!$G$24+'Rijdend personeel'!$G$42,IF(K41<17,'Rijdend personeel'!$G$26+'Rijdend personeel'!$G$42,IF(K41<18,'Rijdend personeel'!$G$28+'Rijdend personeel'!$G$42,IF(K41<19,'Rijdend personeel'!$G$30+'Rijdend personeel'!$G$42,IF(K41<20,'Rijdend personeel'!$G$32+'Rijdend personeel'!$G$42,IF(K41<21,'Rijdend personeel'!$G$34+'Rijdend personeel'!$G$42,IF(K41<22,'Rijdend personeel'!$G$36+'Rijdend personeel'!$G$42))))))))))))","v":0},{"$f":"IF(L41=0,0,IF(L41<12,'Rijdend personeel'!$G$16+'Rijdend personeel'!$G$42,IF(L41<13,'Rijdend personeel'!$G$18+'Rijdend personeel'!$G$42,IF(L41<14,'Rijdend personeel'!$G$20+'Rijdend personeel'!$G$42,IF(L41<15,'Rijdend personeel'!$G$22+'Rijdend personeel'!$G$42,IF(L41<16,'Rijdend personeel'!$G$24+'Rijdend personeel'!$G$42,IF(L41<17,'Rijdend personeel'!$G$26+'Rijdend personeel'!$G$42,IF(L41<18,'Rijdend personeel'!$G$28+'Rijdend personeel'!$G$42,IF(L41<19,'Rijdend personeel'!$G$30+'Rijdend personeel'!$G$42,IF(L41<20,'Rijdend personeel'!$G$32+'Rijdend personeel'!$G$42,IF(L41<21,'Rijdend personeel'!$G$34+'Rijdend personeel'!$G$42,IF(L41<22,'Rijdend personeel'!$G$36+'Rijdend personeel'!$G$42))))))))))))","v":0},{"$f":"IF(M41=0,0,IF(M41<12,'Rijdend personeel'!$G$16+'Rijdend personeel'!$G$42,IF(M41<13,'Rijdend personeel'!$G$18+'Rijdend personeel'!$G$42,IF(M41<14,'Rijdend personeel'!$G$20+'Rijdend personeel'!$G$42,IF(M41<15,'Rijdend personeel'!$G$22+'Rijdend personeel'!$G$42,IF(M41<16,'Rijdend personeel'!$G$24+'Rijdend personeel'!$G$42,IF(M41<17,'Rijdend personeel'!$G$26+'Rijdend personeel'!$G$42,IF(M41<18,'Rijdend personeel'!$G$28+'Rijdend personeel'!$G$42,IF(M41<19,'Rijdend personeel'!$G$30+'Rijdend personeel'!$G$42,IF(M41<20,'Rijdend personeel'!$G$32+'Rijdend personeel'!$G$42,IF(M41<21,'Rijdend personeel'!$G$34+'Rijdend personeel'!$G$42,IF(M41<22,'Rijdend personeel'!$G$36+'Rijdend personeel'!$G$42))))))))))))","v":0},{"$f":"IF(N41=0,0,IF(N41<12,'Rijdend personeel'!$G$16+'Rijdend personeel'!$G$42,IF(N41<13,'Rijdend personeel'!$G$18+'Rijdend personeel'!$G$42,IF(N41<14,'Rijdend personeel'!$G$20+'Rijdend personeel'!$G$42,IF(N41<15,'Rijdend personeel'!$G$22+'Rijdend personeel'!$G$42,IF(N41<16,'Rijdend personeel'!$G$24+'Rijdend personeel'!$G$42,IF(N41<17,'Rijdend personeel'!$G$26+'Rijdend personeel'!$G$42,IF(N41<18,'Rijdend personeel'!$G$28+'Rijdend personeel'!$G$42,IF(N41<19,'Rijdend personeel'!$G$30+'Rijdend personeel'!$G$42,IF(N41<20,'Rijdend personeel'!$G$32+'Rijdend personeel'!$G$42,IF(N41<21,'Rijdend personeel'!$G$34+'Rijdend personeel'!$G$42,IF(N41<22,'Rijdend personeel'!$G$36+'Rijdend personeel'!$G$42))))))))))))","v":0},{"$f":"IF(O41=0,0,IF(O41<12,'Rijdend personeel'!$G$16+'Rijdend personeel'!$G$42,IF(O41<13,'Rijdend personeel'!$G$18+'Rijdend personeel'!$G$42,IF(O41<14,'Rijdend personeel'!$G$20+'Rijdend personeel'!$G$42,IF(O41<15,'Rijdend personeel'!$G$22+'Rijdend personeel'!$G$42,IF(O41<16,'Rijdend personeel'!$G$24+'Rijdend personeel'!$G$42,IF(O41<17,'Rijdend personeel'!$G$26+'Rijdend personeel'!$G$42,IF(O41<18,'Rijdend personeel'!$G$28+'Rijdend personeel'!$G$42,IF(O41<19,'Rijdend personeel'!$G$30+'Rijdend personeel'!$G$42,IF(O41<20,'Rijdend personeel'!$G$32+'Rijdend personeel'!$G$42,IF(O41<21,'Rijdend personeel'!$G$34+'Rijdend personeel'!$G$42,IF(O41<22,'Rijdend personeel'!$G$36+'Rijdend personeel'!$G$42))))))))))))","v":0},{"$f":"IF(P41=0,0,IF(P41<12,'Rijdend personeel'!$G$16+'Rijdend personeel'!$G$42,IF(P41<13,'Rijdend personeel'!$G$18+'Rijdend personeel'!$G$42,IF(P41<14,'Rijdend personeel'!$G$20+'Rijdend personeel'!$G$42,IF(P41<15,'Rijdend personeel'!$G$22+'Rijdend personeel'!$G$42,IF(P41<16,'Rijdend personeel'!$G$24+'Rijdend personeel'!$G$42,IF(P41<17,'Rijdend personeel'!$G$26+'Rijdend personeel'!$G$42,IF(P41<18,'Rijdend personeel'!$G$28+'Rijdend personeel'!$G$42,IF(P41<19,'Rijdend personeel'!$G$30+'Rijdend personeel'!$G$42,IF(P41<20,'Rijdend personeel'!$G$32+'Rijdend personeel'!$G$42,IF(P41<21,'Rijdend personeel'!$G$34+'Rijdend personeel'!$G$42,IF(P41<22,'Rijdend personeel'!$G$36+'Rijdend personeel'!$G$42))))))))))))","v":0},{"$f":"IF(Q41=0,0,IF(Q41<12,'Rijdend personeel'!$G$16+'Rijdend personeel'!$G$42,IF(Q41<13,'Rijdend personeel'!$G$18+'Rijdend personeel'!$G$42,IF(Q41<14,'Rijdend personeel'!$G$20+'Rijdend personeel'!$G$42,IF(Q41<15,'Rijdend personeel'!$G$22+'Rijdend personeel'!$G$42,IF(Q41<16,'Rijdend personeel'!$G$24+'Rijdend personeel'!$G$42,IF(Q41<17,'Rijdend personeel'!$G$26+'Rijdend personeel'!$G$42,IF(Q41<18,'Rijdend personeel'!$G$28+'Rijdend personeel'!$G$42,IF(Q41<19,'Rijdend personeel'!$G$30+'Rijdend personeel'!$G$42,IF(Q41<20,'Rijdend personeel'!$G$32+'Rijdend personeel'!$G$42,IF(Q41<21,'Rijdend personeel'!$G$34+'Rijdend personeel'!$G$42,IF(Q41<22,'Rijdend personeel'!$G$36+'Rijdend personeel'!$G$42))))))))))))","v":0},{"$f":"IF(R41=0,0,IF(R41<12,'Rijdend personeel'!$G$16+'Rijdend personeel'!$G$42,IF(R41<13,'Rijdend personeel'!$G$18+'Rijdend personeel'!$G$42,IF(R41<14,'Rijdend personeel'!$G$20+'Rijdend personeel'!$G$42,IF(R41<15,'Rijdend personeel'!$G$22+'Rijdend personeel'!$G$42,IF(R41<16,'Rijdend personeel'!$G$24+'Rijdend personeel'!$G$42,IF(R41<17,'Rijdend personeel'!$G$26+'Rijdend personeel'!$G$42,IF(R41<18,'Rijdend personeel'!$G$28+'Rijdend personeel'!$G$42,IF(R41<19,'Rijdend personeel'!$G$30+'Rijdend personeel'!$G$42,IF(R41<20,'Rijdend personeel'!$G$32+'Rijdend personeel'!$G$42,IF(R41<21,'Rijdend personeel'!$G$34+'Rijdend personeel'!$G$42,IF(R41<22,'Rijdend personeel'!$G$36+'Rijdend personeel'!$G$42))))))))))))","v":0},{"$f":"IF(S41=0,0,IF(S41<12,'Rijdend personeel'!$G$16+'Rijdend personeel'!$G$42,IF(S41<13,'Rijdend personeel'!$G$18+'Rijdend personeel'!$G$42,IF(S41<14,'Rijdend personeel'!$G$20+'Rijdend personeel'!$G$42,IF(S41<15,'Rijdend personeel'!$G$22+'Rijdend personeel'!$G$42,IF(S41<16,'Rijdend personeel'!$G$24+'Rijdend personeel'!$G$42,IF(S41<17,'Rijdend personeel'!$G$26+'Rijdend personeel'!$G$42,IF(S41<18,'Rijdend personeel'!$G$28+'Rijdend personeel'!$G$42,IF(S41<19,'Rijdend personeel'!$G$30+'Rijdend personeel'!$G$42,IF(S41<20,'Rijdend personeel'!$G$32+'Rijdend personeel'!$G$42,IF(S41<21,'Rijdend personeel'!$G$34+'Rijdend personeel'!$G$42,IF(S41<22,'Rijdend personeel'!$G$36+'Rijdend personeel'!$G$42))))))))))))","v":0}]
[null,null,"Bruto Sal CH2 DUBBEL",null,{"$f":"IF(E42=0,0,IF(E42<12,'Rijdend personeel'!$G$16+'Rijdend personeel'!$G$42,IF(E42<13,'Rijdend personeel'!$G$18+'Rijdend personeel'!$G$42,IF(E42<14,'Rijdend personeel'!$G$20+'Rijdend personeel'!$G$42,IF(E42<15,'Rijdend personeel'!$G$22+'Rijdend personeel'!$G$42,IF(E42<16,'Rijdend personeel'!$G$24+'Rijdend personeel'!$G$42,IF(E42<17,'Rijdend personeel'!$G$26+'Rijdend personeel'!$G$42,IF(E42<18,'Rijdend personeel'!$G$28+'Rijdend personeel'!$G$42,IF(E42<19,'Rijdend personeel'!$G$30+'Rijdend personeel'!$G$42,IF(E42<20,'Rijdend personeel'!$G$32+'Rijdend personeel'!$G$42,IF(E42<21,'Rijdend personeel'!$G$34+'Rijdend personeel'!$G$42,IF(E42<22,'Rijdend personeel'!$G$36+'Rijdend personeel'!$G$42))))))))))))","v":0},{"$f":"IF(F42=0,0,IF(F42<12,'Rijdend personeel'!$G$16+'Rijdend personeel'!$G$42,IF(F42<13,'Rijdend personeel'!$G$18+'Rijdend personeel'!$G$42,IF(F42<14,'Rijdend personeel'!$G$20+'Rijdend personeel'!$G$42,IF(F42<15,'Rijdend personeel'!$G$22+'Rijdend personeel'!$G$42,IF(F42<16,'Rijdend personeel'!$G$24+'Rijdend personeel'!$G$42,IF(F42<17,'Rijdend personeel'!$G$26+'Rijdend personeel'!$G$42,IF(F42<18,'Rijdend personeel'!$G$28+'Rijdend personeel'!$G$42,IF(F42<19,'Rijdend personeel'!$G$30+'Rijdend personeel'!$G$42,IF(F42<20,'Rijdend personeel'!$G$32+'Rijdend personeel'!$G$42,IF(F42<21,'Rijdend personeel'!$G$34+'Rijdend personeel'!$G$42,IF(F42<22,'Rijdend personeel'!$G$36+'Rijdend personeel'!$G$42))))))))))))","v":0},{"$f":"IF(G42=0,0,IF(G42<12,'Rijdend personeel'!$G$16+'Rijdend personeel'!$G$42,IF(G42<13,'Rijdend personeel'!$G$18+'Rijdend personeel'!$G$42,IF(G42<14,'Rijdend personeel'!$G$20+'Rijdend personeel'!$G$42,IF(G42<15,'Rijdend personeel'!$G$22+'Rijdend personeel'!$G$42,IF(G42<16,'Rijdend personeel'!$G$24+'Rijdend personeel'!$G$42,IF(G42<17,'Rijdend personeel'!$G$26+'Rijdend personeel'!$G$42,IF(G42<18,'Rijdend personeel'!$G$28+'Rijdend personeel'!$G$42,IF(G42<19,'Rijdend personeel'!$G$30+'Rijdend personeel'!$G$42,IF(G42<20,'Rijdend personeel'!$G$32+'Rijdend personeel'!$G$42,IF(G42<21,'Rijdend personeel'!$G$34+'Rijdend personeel'!$G$42,IF(G42<22,'Rijdend personeel'!$G$36+'Rijdend personeel'!$G$42))))))))))))","v":0},{"$f":"IF(H42=0,0,IF(H42<12,'Rijdend personeel'!$G$16+'Rijdend personeel'!$G$42,IF(H42<13,'Rijdend personeel'!$G$18+'Rijdend personeel'!$G$42,IF(H42<14,'Rijdend personeel'!$G$20+'Rijdend personeel'!$G$42,IF(H42<15,'Rijdend personeel'!$G$22+'Rijdend personeel'!$G$42,IF(H42<16,'Rijdend personeel'!$G$24+'Rijdend personeel'!$G$42,IF(H42<17,'Rijdend personeel'!$G$26+'Rijdend personeel'!$G$42,IF(H42<18,'Rijdend personeel'!$G$28+'Rijdend personeel'!$G$42,IF(H42<19,'Rijdend personeel'!$G$30+'Rijdend personeel'!$G$42,IF(H42<20,'Rijdend personeel'!$G$32+'Rijdend personeel'!$G$42,IF(H42<21,'Rijdend personeel'!$G$34+'Rijdend personeel'!$G$42,IF(H42<22,'Rijdend personeel'!$G$36+'Rijdend personeel'!$G$42))))))))))))","v":0},{"$f":"IF(I42=0,0,IF(I42<12,'Rijdend personeel'!$G$16+'Rijdend personeel'!$G$42,IF(I42<13,'Rijdend personeel'!$G$18+'Rijdend personeel'!$G$42,IF(I42<14,'Rijdend personeel'!$G$20+'Rijdend personeel'!$G$42,IF(I42<15,'Rijdend personeel'!$G$22+'Rijdend personeel'!$G$42,IF(I42<16,'Rijdend personeel'!$G$24+'Rijdend personeel'!$G$42,IF(I42<17,'Rijdend personeel'!$G$26+'Rijdend personeel'!$G$42,IF(I42<18,'Rijdend personeel'!$G$28+'Rijdend personeel'!$G$42,IF(I42<19,'Rijdend personeel'!$G$30+'Rijdend personeel'!$G$42,IF(I42<20,'Rijdend personeel'!$G$32+'Rijdend personeel'!$G$42,IF(I42<21,'Rijdend personeel'!$G$34+'Rijdend personeel'!$G$42,IF(I42<22,'Rijdend personeel'!$G$36+'Rijdend personeel'!$G$42))))))))))))","v":0},{"$f":"IF(J42=0,0,IF(J42<12,'Rijdend personeel'!$G$16+'Rijdend personeel'!$G$42,IF(J42<13,'Rijdend personeel'!$G$18+'Rijdend personeel'!$G$42,IF(J42<14,'Rijdend personeel'!$G$20+'Rijdend personeel'!$G$42,IF(J42<15,'Rijdend personeel'!$G$22+'Rijdend personeel'!$G$42,IF(J42<16,'Rijdend personeel'!$G$24+'Rijdend personeel'!$G$42,IF(J42<17,'Rijdend personeel'!$G$26+'Rijdend personeel'!$G$42,IF(J42<18,'Rijdend personeel'!$G$28+'Rijdend personeel'!$G$42,IF(J42<19,'Rijdend personeel'!$G$30+'Rijdend personeel'!$G$42,IF(J42<20,'Rijdend personeel'!$G$32+'Rijdend personeel'!$G$42,IF(J42<21,'Rijdend personeel'!$G$34+'Rijdend personeel'!$G$42,IF(J42<22,'Rijdend personeel'!$G$36+'Rijdend personeel'!$G$42))))))))))))","v":0},{"$f":"IF(K42=0,0,IF(K42<12,'Rijdend personeel'!$G$16+'Rijdend personeel'!$G$42,IF(K42<13,'Rijdend personeel'!$G$18+'Rijdend personeel'!$G$42,IF(K42<14,'Rijdend personeel'!$G$20+'Rijdend personeel'!$G$42,IF(K42<15,'Rijdend personeel'!$G$22+'Rijdend personeel'!$G$42,IF(K42<16,'Rijdend personeel'!$G$24+'Rijdend personeel'!$G$42,IF(K42<17,'Rijdend personeel'!$G$26+'Rijdend personeel'!$G$42,IF(K42<18,'Rijdend personeel'!$G$28+'Rijdend personeel'!$G$42,IF(K42<19,'Rijdend personeel'!$G$30+'Rijdend personeel'!$G$42,IF(K42<20,'Rijdend personeel'!$G$32+'Rijdend personeel'!$G$42,IF(K42<21,'Rijdend personeel'!$G$34+'Rijdend personeel'!$G$42,IF(K42<22,'Rijdend personeel'!$G$36+'Rijdend personeel'!$G$42))))))))))))","v":0},{"$f":"IF(L42=0,0,IF(L42<12,'Rijdend personeel'!$G$16+'Rijdend personeel'!$G$42,IF(L42<13,'Rijdend personeel'!$G$18+'Rijdend personeel'!$G$42,IF(L42<14,'Rijdend personeel'!$G$20+'Rijdend personeel'!$G$42,IF(L42<15,'Rijdend personeel'!$G$22+'Rijdend personeel'!$G$42,IF(L42<16,'Rijdend personeel'!$G$24+'Rijdend personeel'!$G$42,IF(L42<17,'Rijdend personeel'!$G$26+'Rijdend personeel'!$G$42,IF(L42<18,'Rijdend personeel'!$G$28+'Rijdend personeel'!$G$42,IF(L42<19,'Rijdend personeel'!$G$30+'Rijdend personeel'!$G$42,IF(L42<20,'Rijdend personeel'!$G$32+'Rijdend personeel'!$G$42,IF(L42<21,'Rijdend personeel'!$G$34+'Rijdend personeel'!$G$42,IF(L42<22,'Rijdend personeel'!$G$36+'Rijdend personeel'!$G$42))))))))))))","v":0},{"$f":"IF(M42=0,0,IF(M42<12,'Rijdend personeel'!$G$16+'Rijdend personeel'!$G$42,IF(M42<13,'Rijdend personeel'!$G$18+'Rijdend personeel'!$G$42,IF(M42<14,'Rijdend personeel'!$G$20+'Rijdend personeel'!$G$42,IF(M42<15,'Rijdend personeel'!$G$22+'Rijdend personeel'!$G$42,IF(M42<16,'Rijdend personeel'!$G$24+'Rijdend personeel'!$G$42,IF(M42<17,'Rijdend personeel'!$G$26+'Rijdend personeel'!$G$42,IF(M42<18,'Rijdend personeel'!$G$28+'Rijdend personeel'!$G$42,IF(M42<19,'Rijdend personeel'!$G$30+'Rijdend personeel'!$G$42,IF(M42<20,'Rijdend personeel'!$G$32+'Rijdend personeel'!$G$42,IF(M42<21,'Rijdend personeel'!$G$34+'Rijdend personeel'!$G$42,IF(M42<22,'Rijdend personeel'!$G$36+'Rijdend personeel'!$G$42))))))))))))","v":0},{"$f":"IF(N42=0,0,IF(N42<12,'Rijdend personeel'!$G$16+'Rijdend personeel'!$G$42,IF(N42<13,'Rijdend personeel'!$G$18+'Rijdend personeel'!$G$42,IF(N42<14,'Rijdend personeel'!$G$20+'Rijdend personeel'!$G$42,IF(N42<15,'Rijdend personeel'!$G$22+'Rijdend personeel'!$G$42,IF(N42<16,'Rijdend personeel'!$G$24+'Rijdend personeel'!$G$42,IF(N42<17,'Rijdend personeel'!$G$26+'Rijdend personeel'!$G$42,IF(N42<18,'Rijdend personeel'!$G$28+'Rijdend personeel'!$G$42,IF(N42<19,'Rijdend personeel'!$G$30+'Rijdend personeel'!$G$42,IF(N42<20,'Rijdend personeel'!$G$32+'Rijdend personeel'!$G$42,IF(N42<21,'Rijdend personeel'!$G$34+'Rijdend personeel'!$G$42,IF(N42<22,'Rijdend personeel'!$G$36+'Rijdend personeel'!$G$42))))))))))))","v":0},{"$f":"IF(O42=0,0,IF(O42<12,'Rijdend personeel'!$G$16+'Rijdend personeel'!$G$42,IF(O42<13,'Rijdend personeel'!$G$18+'Rijdend personeel'!$G$42,IF(O42<14,'Rijdend personeel'!$G$20+'Rijdend personeel'!$G$42,IF(O42<15,'Rijdend personeel'!$G$22+'Rijdend personeel'!$G$42,IF(O42<16,'Rijdend personeel'!$G$24+'Rijdend personeel'!$G$42,IF(O42<17,'Rijdend personeel'!$G$26+'Rijdend personeel'!$G$42,IF(O42<18,'Rijdend personeel'!$G$28+'Rijdend personeel'!$G$42,IF(O42<19,'Rijdend personeel'!$G$30+'Rijdend personeel'!$G$42,IF(O42<20,'Rijdend personeel'!$G$32+'Rijdend personeel'!$G$42,IF(O42<21,'Rijdend personeel'!$G$34+'Rijdend personeel'!$G$42,IF(O42<22,'Rijdend personeel'!$G$36+'Rijdend personeel'!$G$42))))))))))))","v":0},{"$f":"IF(P42=0,0,IF(P42<12,'Rijdend personeel'!$G$16+'Rijdend personeel'!$G$42,IF(P42<13,'Rijdend personeel'!$G$18+'Rijdend personeel'!$G$42,IF(P42<14,'Rijdend personeel'!$G$20+'Rijdend personeel'!$G$42,IF(P42<15,'Rijdend personeel'!$G$22+'Rijdend personeel'!$G$42,IF(P42<16,'Rijdend personeel'!$G$24+'Rijdend personeel'!$G$42,IF(P42<17,'Rijdend personeel'!$G$26+'Rijdend personeel'!$G$42,IF(P42<18,'Rijdend personeel'!$G$28+'Rijdend personeel'!$G$42,IF(P42<19,'Rijdend personeel'!$G$30+'Rijdend personeel'!$G$42,IF(P42<20,'Rijdend personeel'!$G$32+'Rijdend personeel'!$G$42,IF(P42<21,'Rijdend personeel'!$G$34+'Rijdend personeel'!$G$42,IF(P42<22,'Rijdend personeel'!$G$36+'Rijdend personeel'!$G$42))))))))))))","v":0},{"$f":"IF(Q42=0,0,IF(Q42<12,'Rijdend personeel'!$G$16+'Rijdend personeel'!$G$42,IF(Q42<13,'Rijdend personeel'!$G$18+'Rijdend personeel'!$G$42,IF(Q42<14,'Rijdend personeel'!$G$20+'Rijdend personeel'!$G$42,IF(Q42<15,'Rijdend personeel'!$G$22+'Rijdend personeel'!$G$42,IF(Q42<16,'Rijdend personeel'!$G$24+'Rijdend personeel'!$G$42,IF(Q42<17,'Rijdend personeel'!$G$26+'Rijdend personeel'!$G$42,IF(Q42<18,'Rijdend personeel'!$G$28+'Rijdend personeel'!$G$42,IF(Q42<19,'Rijdend personeel'!$G$30+'Rijdend personeel'!$G$42,IF(Q42<20,'Rijdend personeel'!$G$32+'Rijdend personeel'!$G$42,IF(Q42<21,'Rijdend personeel'!$G$34+'Rijdend personeel'!$G$42,IF(Q42<22,'Rijdend personeel'!$G$36+'Rijdend personeel'!$G$42))))))))))))","v":0},{"$f":"IF(R42=0,0,IF(R42<12,'Rijdend personeel'!$G$16+'Rijdend personeel'!$G$42,IF(R42<13,'Rijdend personeel'!$G$18+'Rijdend personeel'!$G$42,IF(R42<14,'Rijdend personeel'!$G$20+'Rijdend personeel'!$G$42,IF(R42<15,'Rijdend personeel'!$G$22+'Rijdend personeel'!$G$42,IF(R42<16,'Rijdend personeel'!$G$24+'Rijdend personeel'!$G$42,IF(R42<17,'Rijdend personeel'!$G$26+'Rijdend personeel'!$G$42,IF(R42<18,'Rijdend personeel'!$G$28+'Rijdend personeel'!$G$42,IF(R42<19,'Rijdend personeel'!$G$30+'Rijdend personeel'!$G$42,IF(R42<20,'Rijdend personeel'!$G$32+'Rijdend personeel'!$G$42,IF(R42<21,'Rijdend personeel'!$G$34+'Rijdend personeel'!$G$42,IF(R42<22,'Rijdend personeel'!$G$36+'Rijdend personeel'!$G$42))))))))))))","v":0},{"$f":"IF(S42=0,0,IF(S42<12,'Rijdend personeel'!$G$16+'Rijdend personeel'!$G$42,IF(S42<13,'Rijdend personeel'!$G$18+'Rijdend personeel'!$G$42,IF(S42<14,'Rijdend personeel'!$G$20+'Rijdend personeel'!$G$42,IF(S42<15,'Rijdend personeel'!$G$22+'Rijdend personeel'!$G$42,IF(S42<16,'Rijdend personeel'!$G$24+'Rijdend personeel'!$G$42,IF(S42<17,'Rijdend personeel'!$G$26+'Rijdend personeel'!$G$42,IF(S42<18,'Rijdend personeel'!$G$28+'Rijdend personeel'!$G$42,IF(S42<19,'Rijdend personeel'!$G$30+'Rijdend personeel'!$G$42,IF(S42<20,'Rijdend personeel'!$G$32+'Rijdend personeel'!$G$42,IF(S42<21,'Rijdend personeel'!$G$34+'Rijdend personeel'!$G$42,IF(S42<22,'Rijdend personeel'!$G$36+'Rijdend personeel'!$G$42))))))))))))","v":0}]
[null,null,"Zondagsrust alle CH",null,{"$f":"Reis!F57*'Rijdend personeel'!$G$48","v":0},{"$f":"Reis!G57*'Rijdend personeel'!$G$48","v":0},{"$f":"Reis!H57*'Rijdend personeel'!$G$48","v":0},{"$f":"Reis!I57*'Rijdend personeel'!$G$48","v":0},{"$f":"Reis!J57*'Rijdend personeel'!$G$48","v":0},{"$f":"Reis!K57*'Rijdend personeel'!$G$48","v":0},{"$f":"Reis!L57*'Rijdend personeel'!$G$48","v":0},{"$f":"Reis!M57*'Rijdend personeel'!$G$48","v":0},{"$f":"Reis!N57*'Rijdend personeel'!$G$48","v":0},{"$f":"Reis!O57*'Rijdend personeel'!$G$48","v":0},{"$f":"Reis!P57*'Rijdend personeel'!$G$48","v":0},{"$f":"Reis!Q57*'Rijdend personeel'!$G$48","v":0},{"$f":"Reis!R57*'Rijdend personeel'!$G$48","v":0},{"$f":"Reis!S57*'Rijdend personeel'!$G$48","v":0},{"$f":"Reis!T57*'Rijdend personeel'!$G$48","v":0}]
[null,null,"Inactiviteitsdag alle CH",null,{"$f":"Reis!F58*'Rijdend personeel'!$G$50","v":0},{"$f":"Reis!G58*'Rijdend personeel'!$G$50","v":0},{"$f":"Reis!H58*'Rijdend personeel'!$G$50","v":0},{"$f":"Reis!I58*'Rijdend personeel'!$G$50","v":0},{"$f":"Reis!J58*'Rijdend personeel'!$G$50","v":0},{"$f":"Reis!K58*'Rijdend personeel'!$G$50","v":0},{"$f":"Reis!L58*'Rijdend personeel'!$G$50","v":0},{"$f":"Reis!M58*'Rijdend personeel'!$G$50","v":0},{"$f":"Reis!N58*'Rijdend personeel'!$G$50","v":0},{"$f":"Reis!O58*'Rijdend personeel'!$G$50","v":0},{"$f":"Reis!P58*'Rijdend personeel'!$G$50","v":0},{"$f":"Reis!Q58*'Rijdend personeel'!$G$50","v":0},{"$f":"Reis!R58*'Rijdend personeel'!$G$50","v":0},{"$f":"Reis!S58*'Rijdend personeel'!$G$50","v":0},{"$f":"Reis!T58*'Rijdend personeel'!$G$50","v":0}]
[null,null,"Eindejaarspremie alle CH",null,{"$f":"IF(Reis!F46<1,0,(('Rijdend personeel'!$G$46/'Rijdend personeel'!$G$68)*Reis!F52))","v":{"$error":"#DIV/0!"}},{"$f":"IF(Reis!G46<1,0,(('Rijdend personeel'!$G$46/'Rijdend personeel'!$G$68)*Reis!G52))","v":0},{"$f":"IF(Reis!H46<1,0,(('Rijdend personeel'!$G$46/'Rijdend personeel'!$G$68)*Reis!H52))","v":0},{"$f":"IF(Reis!I46<1,0,(('Rijdend personeel'!$G$46/'Rijdend personeel'!$G$68)*Reis!I52))","v":0},{"$f":"IF(Reis!J46<1,0,(('Rijdend personeel'!$G$46/'Rijdend personeel'!$G$68)*Reis!J52))","v":0},{"$f":"IF(Reis!K46<1,0,(('Rijdend personeel'!$G$46/'Rijdend personeel'!$G$68)*Reis!K52))","v":0},{"$f":"IF(Reis!L46<1,0,(('Rijdend personeel'!$G$46/'Rijdend personeel'!$G$68)*Reis!L52))","v":0},{"$f":"IF(Reis!M46<1,0,(('Rijdend personeel'!$G$46/'Rijdend personeel'!$G$68)*Reis!M52))","v":0},{"$f":"IF(Reis!N46<1,0,(('Rijdend personeel'!$G$46/'Rijdend personeel'!$G$68)*Reis!N52))","v":0},{"$f":"IF(Reis!O46<1,0,(('Rijdend personeel'!$G$46/'Rijdend personeel'!$G$68)*Reis!O52))","v":0},{"$f":"IF(Reis!P46<1,0,(('Rijdend personeel'!$G$46/'Rijdend personeel'!$G$68)*Reis!P52))","v":0},{"$f":"IF(Reis!Q46<1,0,(('Rijdend personeel'!$G$46/'Rijdend personeel'!$G$68)*Reis!Q52))","v":0},{"$f":"IF(Reis!R46<1,0,(('Rijdend personeel'!$G$46/'Rijdend personeel'!$G$68)*Reis!R52))","v":0},{"$f":"IF(Reis!S46<1,0,(('Rijdend personeel'!$G$46/'Rijdend personeel'!$G$68)*Reis!S52))","v":0},{"$f":"IF(Reis!T46<1,0,(('Rijdend personeel'!$G$46/'Rijdend personeel'!$G$68)*Reis!T52))","v":0}]
[null,null,"RSZ werkgever alle CH",null,{"$f":"IF(Reis!F46<1,0,((E43+E44+E45+E46+E47+E48)*1.08*'Rijdend personeel'!$G$52))","v":{"$error":"#DIV/0!"}},{"$f":"IF(Reis!G46<1,0,((F43+F44+F45+F46+F47+F48)*1.08*'Rijdend personeel'!$G$52))","v":0},{"$f":"IF(Reis!H46<1,0,((G43+G44+G45+G46+G47+G48)*1.08*'Rijdend personeel'!$G$52))","v":0},{"$f":"IF(Reis!I46<1,0,((H43+H44+H45+H46+H47+H48)*1.08*'Rijdend personeel'!$G$52))","v":0},{"$f":"IF(Reis!J46<1,0,((I43+I44+I45+I46+I47+I48)*1.08*'Rijdend personeel'!$G$52))","v":0},{"$f":"IF(Reis!K46<1,0,((J43+J44+J45+J46+J47+J48)*1.08*'Rijdend personeel'!$G$52))","v":0},{"$f":"IF(Reis!L46<1,0,((K43+K44+K45+K46+K47+K48)*1.08*'Rijdend personeel'!$G$52))","v":0},{"$f":"IF(Reis!M46<1,0,((L43+L44+L45+L46+L47+L48)*1.08*'Rijdend personeel'!$G$52))","v":0},{"$f":"IF(Reis!N46<1,0,((M43+M44+M45+M46+M47+M48)*1.08*'Rijdend personeel'!$G$52))","v":0},{"$f":"IF(Reis!O46<1,0,((N43+N44+N45+N46+N47+N48)*1.08*'Rijdend personeel'!$G$52))","v":0},{"$f":"IF(Reis!P46<1,0,((O43+O44+O45+O46+O47+O48)*1.08*'Rijdend personeel'!$G$52))","v":0},{"$f":"IF(Reis!Q46<1,0,((P43+P44+P45+P46+P47+P48)*1.08*'Rijdend personeel'!$G$52))","v":0},{"$f":"IF(Reis!R46<1,0,((Q43+Q44+Q45+Q46+Q47+Q48)*1.08*'Rijdend personeel'!$G$52))","v":0},{"$f":"IF(Reis!S46<1,0,((R43+R44+R45+R46+R47+R48)*1.08*'Rijdend personeel'!$G$52))","v":0},{"$f":"IF(Reis!T46<1,0,((S43+S44+S45+S46+S47+S48)*1.08*'Rijdend personeel'!$G$52))","v":0}]
[null,null,"Eco-cheques alle CH",null,{"$f":"IF(Reis!F46<1,0,(('Rijdend personeel'!$G$44/'Rijdend personeel'!$G$68)*Reis!F52))","v":{"$error":"#DIV/0!"}},{"$f":"IF(Reis!G46<1,0,(('Rijdend personeel'!$G$44/'Rijdend personeel'!$G$68)*Reis!G52))","v":0},{"$f":"IF(Reis!H46<1,0,(('Rijdend personeel'!$G$44/'Rijdend personeel'!$G$68)*Reis!H52))","v":0},{"$f":"IF(Reis!I46<1,0,(('Rijdend personeel'!$G$44/'Rijdend personeel'!$G$68)*Reis!I52))","v":0},{"$f":"IF(Reis!J46<1,0,(('Rijdend personeel'!$G$44/'Rijdend personeel'!$G$68)*Reis!J52))","v":0},{"$f":"IF(Reis!K46<1,0,(('Rijdend personeel'!$G$44/'Rijdend personeel'!$G$68)*Reis!K52))","v":0},{"$f":"IF(Reis!L46<1,0,(('Rijdend personeel'!$G$44/'Rijdend personeel'!$G$68)*Reis!L52))","v":0},{"$f":"IF(Reis!M46<1,0,(('Rijdend personeel'!$G$44/'Rijdend personeel'!$G$68)*Reis!M52))","v":0},{"$f":"IF(Reis!N46<1,0,(('Rijdend personeel'!$G$44/'Rijdend personeel'!$G$68)*Reis!N52))","v":0},{"$f":"IF(Reis!O46<1,0,(('Rijdend personeel'!$G$44/'Rijdend personeel'!$G$68)*Reis!O52))","v":0},{"$f":"IF(Reis!P46<1,0,(('Rijdend personeel'!$G$44/'Rijdend personeel'!$G$68)*Reis!P52))","v":0},{"$f":"IF(Reis!Q46<1,0,(('Rijdend personeel'!$G$44/'Rijdend personeel'!$G$68)*Reis!Q52))","v":0},{"$f":"IF(Reis!R46<1,0,(('Rijdend personeel'!$G$44/'Rijdend personeel'!$G$68)*Reis!R52))","v":0},{"$f":"IF(Reis!S46<1,0,(('Rijdend personeel'!$G$44/'Rijdend personeel'!$G$68)*Reis!S52))","v":0},{"$f":"IF(Reis!T46<1,0,(('Rijdend personeel'!$G$44/'Rijdend personeel'!$G$68)*Reis!T52))","v":0}]
[null,null,"ARAB CH ENKEL",null,{"$f":"ROUNDUP(E40,0)*'Rijdend personeel'!$G$40","v":0},{"$f":"ROUNDUP(F40,0)*'Rijdend personeel'!$G$40","v":0},{"$f":"ROUNDUP(G40,0)*'Rijdend personeel'!$G$40","v":0},{"$f":"ROUNDUP(H40,0)*'Rijdend personeel'!$G$40","v":0},{"$f":"ROUNDUP(I40,0)*'Rijdend personeel'!$G$40","v":0},{"$f":"ROUNDUP(J40,0)*'Rijdend personeel'!$G$40","v":0},{"$f":"ROUNDUP(K40,0)*'Rijdend personeel'!$G$40","v":0},{"$f":"ROUNDUP(L40,0)*'Rijdend personeel'!$G$40","v":0},{"$f":"ROUNDUP(M40,0)*'Rijdend personeel'!$G$40","v":0},{"$f":"ROUNDUP(N40,0)*'Rijdend personeel'!$G$40","v":0},{"$f":"ROUNDUP(O40,0)*'Rijdend personeel'!$G$40","v":0},{"$f":"ROUNDUP(P40,0)*'Rijdend personeel'!$G$40","v":0},{"$f":"ROUNDUP(Q40,0)*'Rijdend personeel'!$G$40","v":0},{"$f":"ROUNDUP(R40,0)*'Rijdend personeel'!$G$40","v":0},{"$f":"ROUNDUP(S40,0)*'Rijdend personeel'!$G$40","v":0}]
[null,null,"ARAB CH1 DUBBEL",null,{"$f":"ROUNDUP(E41,0)*'Rijdend personeel'!$G$40","v":0},{"$f":"ROUNDUP(F41,0)*'Rijdend personeel'!$G$40","v":0},{"$f":"ROUNDUP(G41,0)*'Rijdend personeel'!$G$40","v":0},{"$f":"ROUNDUP(H41,0)*'Rijdend personeel'!$G$40","v":0},{"$f":"ROUNDUP(I41,0)*'Rijdend personeel'!$G$40","v":0},{"$f":"ROUNDUP(J41,0)*'Rijdend personeel'!$G$40","v":0},{"$f":"ROUNDUP(K41,0)*'Rijdend personeel'!$G$40","v":0},{"$f":"ROUNDUP(L41,0)*'Rijdend personeel'!$G$40","v":0},{"$f":"ROUNDUP(M41,0)*'Rijdend personeel'!$G$40","v":0},{"$f":"ROUNDUP(N41,0)*'Rijdend personeel'!$G$40","v":0},{"$f":"ROUNDUP(O41,0)*'Rijdend personeel'!$G$40","v":0},{"$f":"ROUNDUP(P41,0)*'Rijdend personeel'!$G$40","v":0},{"$f":"ROUNDUP(Q41,0)*'Rijdend personeel'!$G$40","v":0},{"$f":"ROUNDUP(R41,0)*'Rijdend personeel'!$G$40","v":0},{"$f":"ROUNDUP(S41,0)*'Rijdend personeel'!$G$40","v":0}]
[null,null,"ARAB CH2 DUBBEL",null,{"$f":"ROUNDUP(E42,0)*'Rijdend personeel'!$G$40","v":0},{"$f":"ROUNDUP(F42,0)*'Rijdend personeel'!$G$40","v":0},{"$f":"ROUNDUP(G42,0)*'Rijdend personeel'!$G$40","v":0},{"$f":"ROUNDUP(H42,0)*'Rijdend personeel'!$G$40","v":0},{"$f":"ROUNDUP(I42,0)*'Rijdend personeel'!$G$40","v":0},{"$f":"ROUNDUP(J42,0)*'Rijdend personeel'!$G$40","v":0},{"$f":"ROUNDUP(K42,0)*'Rijdend personeel'!$G$40","v":0},{"$f":"ROUNDUP(L42,0)*'Rijdend personeel'!$G$40","v":0},{"$f":"ROUNDUP(M42,0)*'Rijdend personeel'!$G$40","v":0},{"$f":"ROUNDUP(N42,0)*'Rijdend personeel'!$G$40","v":0},{"$f":"ROUNDUP(O42,0)*'Rijdend personeel'!$G$40","v":0},{"$f":"ROUNDUP(P42,0)*'Rijdend personeel'!$G$40","v":0},{"$f":"ROUNDUP(Q42,0)*'Rijdend personeel'!$G$40","v":0},{"$f":"ROUNDUP(R42,0)*'Rijdend personeel'!$G$40","v":0},{"$f":"ROUNDUP(S42,0)*'Rijdend personeel'!$G$40","v":0}]
[null,null,"Overige kosten alle CH",null,{"$f":"IF(Reis!F46<1,0,((('Rijdend personeel'!$G$54+'Rijdend personeel'!$G$56+'Rijdend personeel'!$G$58+'Rijdend personeel'!$G$60+'Rijdend personeel'!$G$62+'Rijdend personeel'!$G$64+'Rijdend personeel'!$G$66)/'Rijdend personeel'!$G$68)*Reis!F52))","v":{"$error":"#DIV/0!"}},{"$f":"IF(Reis!G46<1,0,((('Rijdend personeel'!$G$54+'Rijdend personeel'!$G$56+'Rijdend personeel'!$G$58+'Rijdend personeel'!$G$60+'Rijdend personeel'!$G$62+'Rijdend personeel'!$G$64+'Rijdend personeel'!$G$66)/'Rijdend personeel'!$G$68)*Reis!G52))","v":0},{"$f":"IF(Reis!H46<1,0,((('Rijdend personeel'!$G$54+'Rijdend personeel'!$G$56+'Rijdend personeel'!$G$58+'Rijdend personeel'!$G$60+'Rijdend personeel'!$G$62+'Rijdend personeel'!$G$64+'Rijdend personeel'!$G$66)/'Rijdend personeel'!$G$68)*Reis!H52))","v":0},{"$f":"IF(Reis!I46<1,0,((('Rijdend personeel'!$G$54+'Rijdend personeel'!$G$56+'Rijdend personeel'!$G$58+'Rijdend personeel'!$G$60+'Rijdend personeel'!$G$62+'Rijdend personeel'!$G$64+'Rijdend personeel'!$G$66)/'Rijdend personeel'!$G$68)*Reis!I52))","v":0},{"$f":"IF(Reis!J46<1,0,((('Rijdend personeel'!$G$54+'Rijdend personeel'!$G$56+'Rijdend personeel'!$G$58+'Rijdend personeel'!$G$60+'Rijdend personeel'!$G$62+'Rijdend personeel'!$G$64+'Rijdend personeel'!$G$66)/'Rijdend personeel'!$G$68)*Reis!J52))","v":0},{"$f":"IF(Reis!K46<1,0,((('Rijdend personeel'!$G$54+'Rijdend personeel'!$G$56+'Rijdend personeel'!$G$58+'Rijdend personeel'!$G$60+'Rijdend personeel'!$G$62+'Rijdend personeel'!$G$64+'Rijdend personeel'!$G$66)/'Rijdend personeel'!$G$68)*Reis!K52))","v":0},{"$f":"IF(Reis!L46<1,0,((('Rijdend personeel'!$G$54+'Rijdend personeel'!$G$56+'Rijdend personeel'!$G$58+'Rijdend personeel'!$G$60+'Rijdend personeel'!$G$62+'Rijdend personeel'!$G$64+'Rijdend personeel'!$G$66)/'Rijdend personeel'!$G$68)*Reis!L52))","v":0},{"$f":"IF(Reis!M46<1,0,((('Rijdend personeel'!$G$54+'Rijdend personeel'!$G$56+'Rijdend personeel'!$G$58+'Rijdend personeel'!$G$60+'Rijdend personeel'!$G$62+'Rijdend personeel'!$G$64+'Rijdend personeel'!$G$66)/'Rijdend personeel'!$G$68)*Reis!M52))","v":0},{"$f":"IF(Reis!N46<1,0,((('Rijdend personeel'!$G$54+'Rijdend personeel'!$G$56+'Rijdend personeel'!$G$58+'Rijdend personeel'!$G$60+'Rijdend personeel'!$G$62+'Rijdend personeel'!$G$64+'Rijdend personeel'!$G$66)/'Rijdend personeel'!$G$68)*Reis!N52))","v":0},{"$f":"IF(Reis!O46<1,0,((('Rijdend personeel'!$G$54+'Rijdend personeel'!$G$56+'Rijdend personeel'!$G$58+'Rijdend personeel'!$G$60+'Rijdend personeel'!$G$62+'Rijdend personeel'!$G$64+'Rijdend personeel'!$G$66)/'Rijdend personeel'!$G$68)*Reis!O52))","v":0},{"$f":"IF(Reis!P46<1,0,((('Rijdend personeel'!$G$54+'Rijdend personeel'!$G$56+'Rijdend personeel'!$G$58+'Rijdend personeel'!$G$60+'Rijdend personeel'!$G$62+'Rijdend personeel'!$G$64+'Rijdend personeel'!$G$66)/'Rijdend personeel'!$G$68)*Reis!P52))","v":0},{"$f":"IF(Reis!Q46<1,0,((('Rijdend personeel'!$G$54+'Rijdend personeel'!$G$56+'Rijdend personeel'!$G$58+'Rijdend personeel'!$G$60+'Rijdend personeel'!$G$62+'Rijdend personeel'!$G$64+'Rijdend personeel'!$G$66)/'Rijdend personeel'!$G$68)*Reis!Q52))","v":0},{"$f":"IF(Reis!R46<1,0,((('Rijdend personeel'!$G$54+'Rijdend personeel'!$G$56+'Rijdend personeel'!$G$58+'Rijdend personeel'!$G$60+'Rijdend personeel'!$G$62+'Rijdend personeel'!$G$64+'Rijdend personeel'!$G$66)/'Rijdend personeel'!$G$68)*Reis!R52))","v":0},{"$f":"IF(Reis!S46<1,0,((('Rijdend personeel'!$G$54+'Rijdend personeel'!$G$56+'Rijdend personeel'!$G$58+'Rijdend personeel'!$G$60+'Rijdend personeel'!$G$62+'Rijdend personeel'!$G$64+'Rijdend personeel'!$G$66)/'Rijdend personeel'!$G$68)*Reis!S52))","v":0},{"$f":"IF(Reis!T46<1,0,((('Rijdend personeel'!$G$54+'Rijdend personeel'!$G$56+'Rijdend personeel'!$G$58+'Rijdend personeel'!$G$60+'Rijdend personeel'!$G$62+'Rijdend personeel'!$G$64+'Rijdend personeel'!$G$66)/'Rijdend personeel'!$G$68)*Reis!T52))","v":0}]
[null,null,"Extra bonussen zondag + feestdag",{"$f":"IF(Reis!E57>0,\"\",IF(AND(Reis!AB51=0,Reis!AC51=1,Reis!E54*24>=3,Reis!E54*24+Reis!D54*24>6),50,IF(AND(Reis!AB51=0,Reis!AC51=1,Reis!E54*24>=3,Reis!E54*24+Reis!D54*24<=6),30,IF(AND(Reis!AB51=0,Reis!AC51=1,Reis!E55*24>=3,Reis!E55*24+Reis!D55*24>6),50,IF(AND(Reis!AB51=0,Reis!AC51=1,Reis!E55*24>=3,Reis!E55*24+Reis!D55*24<=6),30,IF(AND(Reis!AB51=0,Reis!AC51=1,Reis!E56*24>=3,Reis!E56*24+Reis!D56*24>6),50,IF(AND(Reis!AB51=0,Reis!AC51=1,Reis!E56*24>=3,Reis!E56*24+Reis!D56*24<=6),30,IF(AND(Reis!AC51=1,Reis!E54*24<=6,Reis!E54*24>0),30,IF(AND(Reis!AC51=1,Reis!E54*24>6,Reis!E54*24>0),50,IF(AND(Reis!AC51=1,Reis!E55*24<=6,Reis!E55*24>0),30,IF(AND(Reis!AC51=1,Reis!E55*24>6,Reis!E55*24>0),50,IF(AND(Reis!AC51=1,Reis!E56*24<=6,Reis!E56*24>0),30,IF(AND(Reis!AC51=1,Reis!E56*24>6,Reis!E56*24>0),50,\"\")))))))))))))","v":{"$error":"#VALUE!"}},{"$f":"IF(Reis!F57>0,0,IF(Reis!F52=\"\",\"\",IF(Reis!F52=1,Reis!AD50,IF(Reis!F52=2,Reis!AD51+Reis!AD52,IF(Reis!F52=3,Reis!AD50+Reis!AD51+Reis!AD52)))))","v":""},{"$f":"IF(Reis!G57>0,0,IF(Reis!G52=\"\",\"\",IF(Reis!G52=1,Reis!AE50,IF(Reis!G52=2,Reis!AE51+Reis!AE52,IF(Reis!G52=3,Reis!AE50+Reis!AE51+Reis!AE52)))))","v":""},{"$f":"IF(Reis!H57>0,0,IF(Reis!H52=\"\",\"\",IF(Reis!H52=1,Reis!AF50,IF(Reis!H52=2,Reis!AF51+Reis!AF52,IF(Reis!H52=3,Reis!AF50+Reis!AF51+Reis!AF52)))))","v":""},{"$f":"IF(Reis!I57>0,0,IF(Reis!I52=\"\",\"\",IF(Reis!I52=1,Reis!AG50,IF(Reis!I52=2,Reis!AG51+Reis!AG52,IF(Reis!I52=3,Reis!AG50+Reis!AG51+Reis!AG52)))))","v":""},{"$f":"IF(Reis!J57>0,0,IF(Reis!J52=\"\",\"\",IF(Reis!J52=1,Reis!AH50,IF(Reis!J52=2,Reis!AH51+Reis!AH52,IF(Reis!J52=3,Reis!AH50+Reis!AH51+Reis!AH52)))))","v":""},{"$f":"IF(Reis!K57>0,0,IF(Reis!K52=\"\",\"\",IF(Reis!K52=1,Reis!AI50,IF(Reis!K52=2,Reis!AI51+Reis!AI52,IF(Reis!K52=3,Reis!AI50+Reis!AI51+Reis!AI52)))))","v":""},{"$f":"IF(Reis!L57>0,0,IF(Reis!L52=\"\",\"\",IF(Reis!L52=1,Reis!AJ50,IF(Reis!L52=2,Reis!AJ51+Reis!AJ52,IF(Reis!L52=3,Reis!AJ50+Reis!AJ51+Reis!AJ52)))))","v":""},{"$f":"IF(Reis!M57>0,0,IF(Reis!M52=\"\",\"\",IF(Reis!M52=1,Reis!AK50,IF(Reis!M52=2,Reis!AK51+Reis!AK52,IF(Reis!M52=3,Reis!AK50+Reis!AK51+Reis!AK52)))))","v":""},{"$f":"IF(Reis!N57>0,0,IF(Reis!N52=\"\",\"\",IF(Reis!N52=1,Reis!AL50,IF(Reis!N52=2,Reis!AL51+Reis!AL52,IF(Reis!N52=3,Reis!AL50+Reis!AL51+Reis!AL52)))))","v":""},{"$f":"IF(Reis!O57>0,0,IF(Reis!O52=\"\",\"\",IF(Reis!O52=1,Reis!AM50,IF(Reis!O52=2,Reis!AM51+Reis!AM52,IF(Reis!O52=3,Reis!AM50+Reis!AM51+Reis!AM52)))))","v":""},{"$f":"IF(Reis!P57>0,0,IF(Reis!P52=\"\",\"\",IF(Reis!P52=1,Reis!AN50,IF(Reis!P52=2,Reis!AN51+Reis!AN52,IF(Reis!P52=3,Reis!AN50+Reis!AN51+Reis!AN52)))))","v":""},{"$f":"IF(Reis!Q57>0,0,IF(Reis!Q52=\"\",\"\",IF(Reis!Q52=1,Reis!AO50,IF(Reis!Q52=2,Reis!AO51+Reis!AO52,IF(Reis!Q52=3,Reis!AO50+Reis!AO51+Reis!AO52)))))","v":""},{"$f":"IF(Reis!R57>0,0,IF(Reis!R52=\"\",\"\",IF(Reis!R52=1,Reis!AP50,IF(Reis!R52=2,Reis!AP51+Reis!AP52,IF(Reis!R52=3,Reis!AP50+Reis!AP51+Reis!AP52)))))","v":""},{"$f":"IF(Reis!S57>0,0,IF(Reis!S52=\"\",\"\",IF(Reis!S52=1,Reis!AQ50,IF(Reis!S52=2,Reis!AQ51+Reis!AQ52,IF(Reis!S52=3,Reis!AQ50+Reis!AQ51+Reis!AQ52)))))","v":""},{"$f":"IF(Reis!T57>0,0,IF(Reis!T52=\"\",\"\",IF(Reis!T52=1,Reis!AR50,IF(Reis!T52=2,Reis!AR51+Reis!AR52,IF(Reis!T52=3,Reis!AR50+Reis!AR51+Reis!AR52)))))","v":""}]
[null,null,"Maaltijdcheques",{"$f":"IF(Reis!E58>0,\"\",IF(AND(Reis!AB52=0,Reis!AC52=1,Reis!E55*24>=3,Reis!E55*24+Reis!D55*24>6),50,IF(AND(Reis!AB52=0,Reis!AC52=1,Reis!E55*24>=3,Reis!E55*24+Reis!D55*24<=6),30,IF(AND(Reis!AB52=0,Reis!AC52=1,Reis!E56*24>=3,Reis!E56*24+Reis!D56*24>6),50,IF(AND(Reis!AB52=0,Reis!AC52=1,Reis!E56*24>=3,Reis!E56*24+Reis!D56*24<=6),30,IF(AND(Reis!AB52=0,Reis!AC52=1,Reis!E57*24>=3,Reis!E57*24+Reis!D57*24>6),50,IF(AND(Reis!AB52=0,Reis!AC52=1,Reis!E57*24>=3,Reis!E57*24+Reis!D57*24<=6),30,IF(AND(Reis!AC52=1,Reis!E55*24<=6,Reis!E55*24>0),30,IF(AND(Reis!AC52=1,Reis!E55*24>6,Reis!E55*24>0),50,IF(AND(Reis!AC52=1,Reis!E56*24<=6,Reis!E56*24>0),30,IF(AND(Reis!AC52=1,Reis!E56*24>6,Reis!E56*24>0),50,IF(AND(Reis!AC52=1,Reis!E57*24<=6,Reis!E57*24>0),30,IF(AND(Reis!AC52=1,Reis!E57*24>6,Reis!E57*24>0),50,\"\")))))))))))))","v":{"$error":"#VALUE!"}},{"$f":"IF(Reis!F46<1,0,(('Rijdend personeel'!$G$70*Reis!F52)))","v":0},{"$f":"IF(Reis!G46<1,0,(('Rijdend personeel'!$G$70*Reis!G52)))","v":0},{"$f":"IF(Reis!H46<1,0,(('Rijdend personeel'!$G$70*Reis!H52)))","v":0},{"$f":"IF(Reis!I46<1,0,(('Rijdend personeel'!$G$70*Reis!I52)))","v":0},{"$f":"IF(Reis!J46<1,0,(('Rijdend personeel'!$G$70*Reis!J52)))","v":0},{"$f":"IF(Reis!K46<1,0,(('Rijdend personeel'!$G$70*Reis!K52)))","v":0},{"$f":"IF(Reis!L46<1,0,(('Rijdend personeel'!$G$70*Reis!L52)))","v":0},{"$f":"IF(Reis!M46<1,0,(('Rijdend personeel'!$G$70*Reis!M52)))","v":0},{"$f":"IF(Reis!N46<1,0,(('Rijdend personeel'!$G$70*Reis!N52)))","v":0},{"$f":"IF(Reis!O46<1,0,(('Rijdend personeel'!$G$70*Reis!O52)))","v":0},{"$f":"IF(Reis!P46<1,0,(('Rijdend personeel'!$G$70*Reis!P52)))","v":0},{"$f":"IF(Reis!Q46<1,0,(('Rijdend personeel'!$G$70*Reis!Q52)))","v":0},{"$f":"IF(Reis!R46<1,0,(('Rijdend personeel'!$G$70*Reis!R52)))","v":0},{"$f":"IF(Reis!S46<1,0,(('Rijdend personeel'!$G$70*Reis!S52)))","v":0},{"$f":"IF(Reis!T46<1,0,(('Rijdend personeel'!$G$70*Reis!T52)))","v":0}]
[null,null,"Extra loonkosten alle CH"]
[null,null,"Totale loonkost alle CH",null,{"$f":"IF(Reis!F46<1,0,(E43+E44+E45+E46+E47+E48+E50+E49+E51+E52+E53+E54+E55+E57+E56))","v":{"$error":"#DIV/0!"}},{"$f":"IF(Reis!G46<1,0,(F43+F44+F45+F46+F47+F48+F50+F49+F51+F52+F53+F54+F55+F57+F56))","v":0},{"$f":"IF(Reis!H46<1,0,(G43+G44+G45+G46+G47+G48+G50+G49+G51+G52+G53+G54+G55+G57+G56))","v":0},{"$f":"IF(Reis!I46<1,0,(H43+H44+H45+H46+H47+H48+H50+H49+H51+H52+H53+H54+H55+H57+H56))","v":0},{"$f":"IF(Reis!J46<1,0,(I43+I44+I45+I46+I47+I48+I50+I49+I51+I52+I53+I54+I55+I57+I56))","v":0},{"$f":"IF(Reis!K46<1,0,(J43+J44+J45+J46+J47+J48+J50+J49+J51+J52+J53+J54+J55+J57+J56))","v":0},{"$f":"IF(Reis!L46<1,0,(K43+K44+K45+K46+K47+K48+K50+K49+K51+K52+K53+K54+K55+K57+K56))","v":0},{"$f":"IF(Reis!M46<1,0,(L43+L44+L45+L46+L47+L48+L50+L49+L51+L52+L53+L54+L55+L57+L56))","v":0},{"$f":"IF(Reis!N46<1,0,(M43+M44+M45+M46+M47+M48+M50+M49+M51+M52+M53+M54+M55+M57+M56))","v":0},{"$f":"IF(Reis!O46<1,0,(N43+N44+N45+N46+N47+N48+N50+N49+N51+N52+N53+N54+N55+N57+N56))","v":0},{"$f":"IF(Reis!P46<1,0,(O43+O44+O45+O46+O47+O48+O50+O49+O51+O52+O53+O54+O55+O57+O56))","v":0},{"$f":"IF(Reis!Q46<1,0,(P43+P44+P45+P46+P47+P48+P50+P49+P51+P52+P53+P54+P55+P57+P56))","v":0},{"$f":"IF(Reis!R46<1,0,(Q43+Q44+Q45+Q46+Q47+Q48+Q50+Q49+Q51+Q52+Q53+Q54+Q55+Q57+Q56))","v":0},{"$f":"IF(Reis!S46<1,0,(R43+R44+R45+R46+R47+R48+R50+R49+R51+R52+R53+R54+R55+R57+R56))","v":0},{"$f":"IF(Reis!T46<1,0,(S43+S44+S45+S46+S47+S48+S50+S49+S51+S52+S53+S54+S55+S57+S56))","v":0}]
[]
[]
[null,null,null,null,null,null,"Coût personnel roulant ",null,null,{"$f":"Bestemmingen!W12","v":""},null,{"$f":"Bestemmingen!S12","v":"vehicule1"}]
[]
[]
[]
[]
[null,null,null,null,"dag","dag","dag","dag","dag","dag","dag","dag","dag","dag","dag","dag","dag","dag","dag"]
[null,null,null,null,1,2,3,4,5,6,7,8,9,10,11,12,13,14,15]
[null,null,"Diensttijd CH ENKEL",null,{"$f":"Reis!F85*24","v":0},{"$f":"Reis!G85*24","v":0},{"$f":"Reis!H85*24","v":0},{"$f":"Reis!I85*24","v":0},{"$f":"Reis!J85*24","v":0},{"$f":"Reis!K85*24","v":0},{"$f":"Reis!L85*24","v":0},{"$f":"Reis!M85*24","v":0},{"$f":"Reis!N85*24","v":0},{"$f":"Reis!O85*24","v":0},{"$f":"Reis!P85*24","v":0},{"$f":"Reis!Q85*24","v":0},{"$f":"Reis!R85*24","v":0},{"$f":"Reis!S85*24","v":0},{"$f":"Reis!T85*24","v":0}]
[null,null,"Diensttijd CH1 DUBBEL",null,{"$f":"Reis!F86*24","v":0},{"$f":"Reis!G86*24","v":0},{"$f":"Reis!H86*24","v":0},{"$f":"Reis!I86*24","v":0},{"$f":"Reis!J86*24","v":0},{"$f":"Reis!K86*24","v":0},{"$f":"Reis!L86*24","v":0},{"$f":"Reis!M86*24","v":0},{"$f":"Reis!N86*24","v":0},{"$f":"Reis!O86*24","v":0},{"$f":"Reis!P86*24","v":0},{"$f":"Reis!Q86*24","v":0},{"$f":"Reis!R86*24","v":0},{"$f":"Reis!S86*24","v":0},{"$f":"Reis!T86*24","v":0}]
[null,null,"Diensttijd CH2 DUBBEL",null,{"$f":"Reis!F87*24","v":0},{"$f":"Reis!G87*24","v":0},{"$f":"Reis!H87*24","v":0},{"$f":"Reis!I87*24","v":0},{"$f":"Reis!J87*24","v":0},{"$f":"Reis!K87*24","v":0},{"$f":"Reis!L87*24","v":0},{"$f":"Reis!M87*24","v":0},{"$f":"Reis!N87*24","v":0},{"$f":"Reis!O87*24","v":0},{"$f":"Reis!P87*24","v":0},{"$f":"Reis!Q87*24","v":0},{"$f":"Reis!R87*24","v":0},{"$f":"Reis!S87*24","v":0},{"$f":"Reis!T87*24","v":0}]
[null,null,"Bruto Sal CH ENKEL",null,{"$f":"IF(AND(E68>0,E68<=6,Reis!F79=\"Autre\"),('Rijdend personeel'!$G$50+'Rijdend personeel'!$G$42),IF(AND(E68>0,E68<=6),('Rijdend personeel'!$G$9+'Rijdend personeel'!$G$42),IF(AND(E68>6,E68<=12),'Rijdend personeel'!$G$11+'Rijdend personeel'!$G$42,IF(E68>0,'Rijdend personeel'!$G$11+(ROUNDUP(E68,0)-12)*'Rijdend personeel'!$G$13+'Rijdend personeel'!$G$42,0))))","v":0},{"$f":"IF(AND(F68>0,F68<=6,Reis!G79=\"Autre\"),('Rijdend personeel'!$G$50+'Rijdend personeel'!$G$42),IF(AND(F68>0,F68<=6),('Rijdend personeel'!$G$9+'Rijdend personeel'!$G$42),IF(AND(F68>6,F68<=12),'Rijdend personeel'!$G$11+'Rijdend personeel'!$G$42,IF(F68>0,'Rijdend personeel'!$G$11+(ROUNDUP(F68,0)-12)*'Rijdend personeel'!$G$13+'Rijdend personeel'!$G$42,0))))","v":0},{"$f":"IF(AND(G68>0,G68<=6,Reis!H79=\"Autre\"),('Rijdend personeel'!$G$50+'Rijdend personeel'!$G$42),IF(AND(G68>0,G68<=6),('Rijdend personeel'!$G$9+'Rijdend personeel'!$G$42),IF(AND(G68>6,G68<=12),'Rijdend personeel'!$G$11+'Rijdend personeel'!$G$42,IF(G68>0,'Rijdend personeel'!$G$11+(ROUNDUP(G68,0)-12)*'Rijdend personeel'!$G$13+'Rijdend personeel'!$G$42,0))))","v":0},{"$f":"IF(AND(H68>0,H68<=6,Reis!I79=\"Autre\"),('Rijdend personeel'!$G$50+'Rijdend personeel'!$G$42),IF(AND(H68>0,H68<=6),('Rijdend personeel'!$G$9+'Rijdend personeel'!$G$42),IF(AND(H68>6,H68<=12),'Rijdend personeel'!$G$11+'Rijdend personeel'!$G$42,IF(H68>0,'Rijdend personeel'!$G$11+(ROUNDUP(H68,0)-12)*'Rijdend personeel'!$G$13+'Rijdend personeel'!$G$42,0))))","v":0},{"$f":"IF(AND(I68>0,I68<=6,Reis!J79=\"Autre\"),('Rijdend personeel'!$G$50+'Rijdend personeel'!$G$42),IF(AND(I68>0,I68<=6),('Rijdend personeel'!$G$9+'Rijdend personeel'!$G$42),IF(AND(I68>6,I68<=12),'Rijdend personeel'!$G$11+'Rijdend personeel'!$G$42,IF(I68>0,'Rijdend personeel'!$G$11+(ROUNDUP(I68,0)-12)*'Rijdend personeel'!$G$13+'Rijdend personeel'!$G$42,0))))","v":0},{"$f":"IF(AND(J68>0,J68<=6,Reis!K79=\"Autre\"),('Rijdend personeel'!$G$50+'Rijdend personeel'!$G$42),IF(AND(J68>0,J68<=6),('Rijdend personeel'!$G$9+'Rijdend personeel'!$G$42),IF(AND(J68>6,J68<=12),'Rijdend personeel'!$G$11+'Rijdend personeel'!$G$42,IF(J68>0,'Rijdend personeel'!$G$11+(ROUNDUP(J68,0)-12)*'Rijdend personeel'!$G$13+'Rijdend personeel'!$G$42,0))))","v":0},{"$f":"IF(AND(K68>0,K68<=6,Reis!L79=\"Autre\"),('Rijdend personeel'!$G$50+'Rijdend personeel'!$G$42),IF(AND(K68>0,K68<=6),('Rijdend personeel'!$G$9+'Rijdend personeel'!$G$42),IF(AND(K68>6,K68<=12),'Rijdend personeel'!$G$11+'Rijdend personeel'!$G$42,IF(K68>0,'Rijdend personeel'!$G$11+(ROUNDUP(K68,0)-12)*'Rijdend personeel'!$G$13+'Rijdend personeel'!$G$42,0))))","v":0},{"$f":"IF(AND(L68>0,L68<=6,Reis!M79=\"Autre\"),('Rijdend personeel'!$G$50+'Rijdend personeel'!$G$42),IF(AND(L68>0,L68<=6),('Rijdend personeel'!$G$9+'Rijdend personeel'!$G$42),IF(AND(L68>6,L68<=12),'Rijdend personeel'!$G$11+'Rijdend personeel'!$G$42,IF(L68>0,'Rijdend personeel'!$G$11+(ROUNDUP(L68,0)-12)*'Rijdend personeel'!$G$13+'Rijdend personeel'!$G$42,0))))","v":0},{"$f":"IF(AND(M68>0,M68<=6,Reis!N79=\"Autre\"),('Rijdend personeel'!$G$50+'Rijdend personeel'!$G$42),IF(AND(M68>0,M68<=6),('Rijdend personeel'!$G$9+'Rijdend personeel'!$G$42),IF(AND(M68>6,M68<=12),'Rijdend personeel'!$G$11+'Rijdend personeel'!$G$42,IF(M68>0,'Rijdend personeel'!$G$11+(ROUNDUP(M68,0)-12)*'Rijdend personeel'!$G$13+'Rijdend personeel'!$G$42,0))))","v":0},{"$f":"IF(AND(N68>0,N68<=6,Reis!O79=\"Autre\"),('Rijdend personeel'!$G$50+'Rijdend personeel'!$G$42),IF(AND(N68>0,N68<=6),('Rijdend personeel'!$G$9+'Rijdend personeel'!$G$42),IF(AND(N68>6,N68<=12),'Rijdend personeel'!$G$11+'Rijdend personeel'!$G$42,IF(N68>0,'Rijdend personeel'!$G$11+(ROUNDUP(N68,0)-12)*'Rijdend personeel'!$G$13+'Rijdend personeel'!$G$42,0))))","v":0},{"$f":"IF(AND(O68>0,O68<=6,Reis!P79=\"Autre\"),('Rijdend personeel'!$G$50+'Rijdend personeel'!$G$42),IF(AND(O68>0,O68<=6),('Rijdend personeel'!$G$9+'Rijdend personeel'!$G$42),IF(AND(O68>6,O68<=12),'Rijdend personeel'!$G$11+'Rijdend personeel'!$G$42,IF(O68>0,'Rijdend personeel'!$G$11+(ROUNDUP(O68,0)-12)*'Rijdend personeel'!$G$13+'Rijdend personeel'!$G$42,0))))","v":0},{"$f":"IF(AND(P68>0,P68<=6,Reis!Q79=\"Autre\"),('Rijdend personeel'!$G$50+'Rijdend personeel'!$G$42),IF(AND(P68>0,P68<=6),('Rijdend personeel'!$G$9+'Rijdend personeel'!$G$42),IF(AND(P68>6,P68<=12),'Rijdend personeel'!$G$11+'Rijdend personeel'!$G$42,IF(P68>0,'Rijdend personeel'!$G$11+(ROUNDUP(P68,0)-12)*'Rijdend personeel'!$G$13+'Rijdend personeel'!$G$42,0))))","v":0},{"$f":"IF(AND(Q68>0,Q68<=6,Reis!R79=\"Autre\"),('Rijdend personeel'!$G$50+'Rijdend personeel'!$G$42),IF(AND(Q68>0,Q68<=6),('Rijdend personeel'!$G$9+'Rijdend personeel'!$G$42),IF(AND(Q68>6,Q68<=12),'Rijdend personeel'!$G$11+'Rijdend personeel'!$G$42,IF(Q68>0,'Rijdend personeel'!$G$11+(ROUNDUP(Q68,0)-12)*'Rijdend personeel'!$G$13+'Rijdend personeel'!$G$42,0))))","v":0},{"$f":"IF(AND(R68>0,R68<=6,Reis!S79=\"Autre\"),('Rijdend personeel'!$G$50+'Rijdend personeel'!$G$42),IF(AND(R68>0,R68<=6),('Rijdend personeel'!$G$9+'Rijdend personeel'!$G$42),IF(AND(R68>6,R68<=12),'Rijdend personeel'!$G$11+'Rijdend personeel'!$G$42,IF(R68>0,'Rijdend personeel'!$G$11+(ROUNDUP(R68,0)-12)*'Rijdend personeel'!$G$13+'Rijdend personeel'!$G$42,0))))","v":0},{"$f":"IF(AND(S68>0,S68<=6,Reis!T79=\"Autre\"),('Rijdend personeel'!$G$50+'Rijdend personeel'!$G$42),IF(AND(S68>0,S68<=6),('Rijdend personeel'!$G$9+'Rijdend personeel'!$G$42),IF(AND(S68>6,S68<=12),'Rijdend personeel'!$G$11+'Rijdend personeel'!$G$42,IF(S68>0,'Rijdend personeel'!$G$11+(ROUNDUP(S68,0)-12)*'Rijdend personeel'!$G$13+'Rijdend personeel'!$G$42,0))))","v":0}]
[null,null,"Bruto Sal CH1 DUBBEL",null,{"$f":"IF(E69=0,0,IF(E69<12,'Rijdend personeel'!$G$16+'Rijdend personeel'!$G$42,IF(E69<13,'Rijdend personeel'!$G$18+'Rijdend personeel'!$G$42,IF(E69<14,'Rijdend personeel'!$G$20+'Rijdend personeel'!$G$42,IF(E69<15,'Rijdend personeel'!$G$22+'Rijdend personeel'!$G$42,IF(E69<16,'Rijdend personeel'!$G$24+'Rijdend personeel'!$G$42,IF(E69<17,'Rijdend personeel'!$G$26+'Rijdend personeel'!$G$42,IF(E69<18,'Rijdend personeel'!$G$28+'Rijdend personeel'!$G$42,IF(E69<19,'Rijdend personeel'!$G$30+'Rijdend personeel'!$G$42,IF(E69<20,'Rijdend personeel'!$G$32+'Rijdend personeel'!$G$42,IF(E69<21,'Rijdend personeel'!$G$34+'Rijdend personeel'!$G$42,IF(E69<22,'Rijdend personeel'!$G$36+'Rijdend personeel'!$G$42))))))))))))","v":0},{"$f":"IF(F69=0,0,IF(F69<12,'Rijdend personeel'!$G$16+'Rijdend personeel'!$G$42,IF(F69<13,'Rijdend personeel'!$G$18+'Rijdend personeel'!$G$42,IF(F69<14,'Rijdend personeel'!$G$20+'Rijdend personeel'!$G$42,IF(F69<15,'Rijdend personeel'!$G$22+'Rijdend personeel'!$G$42,IF(F69<16,'Rijdend personeel'!$G$24+'Rijdend personeel'!$G$42,IF(F69<17,'Rijdend personeel'!$G$26+'Rijdend personeel'!$G$42,IF(F69<18,'Rijdend personeel'!$G$28+'Rijdend personeel'!$G$42,IF(F69<19,'Rijdend personeel'!$G$30+'Rijdend personeel'!$G$42,IF(F69<20,'Rijdend personeel'!$G$32+'Rijdend personeel'!$G$42,IF(F69<21,'Rijdend personeel'!$G$34+'Rijdend personeel'!$G$42,IF(F69<22,'Rijdend personeel'!$G$36+'Rijdend personeel'!$G$42))))))))))))","v":0},{"$f":"IF(G69=0,0,IF(G69<12,'Rijdend personeel'!$G$16+'Rijdend personeel'!$G$42,IF(G69<13,'Rijdend personeel'!$G$18+'Rijdend personeel'!$G$42,IF(G69<14,'Rijdend personeel'!$G$20+'Rijdend personeel'!$G$42,IF(G69<15,'Rijdend personeel'!$G$22+'Rijdend personeel'!$G$42,IF(G69<16,'Rijdend personeel'!$G$24+'Rijdend personeel'!$G$42,IF(G69<17,'Rijdend personeel'!$G$26+'Rijdend personeel'!$G$42,IF(G69<18,'Rijdend personeel'!$G$28+'Rijdend personeel'!$G$42,IF(G69<19,'Rijdend personeel'!$G$30+'Rijdend personeel'!$G$42,IF(G69<20,'Rijdend personeel'!$G$32+'Rijdend personeel'!$G$42,IF(G69<21,'Rijdend personeel'!$G$34+'Rijdend personeel'!$G$42,IF(G69<22,'Rijdend personeel'!$G$36+'Rijdend personeel'!$G$42))))))))))))","v":0},{"$f":"IF(H69=0,0,IF(H69<12,'Rijdend personeel'!$G$16+'Rijdend personeel'!$G$42,IF(H69<13,'Rijdend personeel'!$G$18+'Rijdend personeel'!$G$42,IF(H69<14,'Rijdend personeel'!$G$20+'Rijdend personeel'!$G$42,IF(H69<15,'Rijdend personeel'!$G$22+'Rijdend personeel'!$G$42,IF(H69<16,'Rijdend personeel'!$G$24+'Rijdend personeel'!$G$42,IF(H69<17,'Rijdend personeel'!$G$26+'Rijdend personeel'!$G$42,IF(H69<18,'Rijdend personeel'!$G$28+'Rijdend personeel'!$G$42,IF(H69<19,'Rijdend personeel'!$G$30+'Rijdend personeel'!$G$42,IF(H69<20,'Rijdend personeel'!$G$32+'Rijdend personeel'!$G$42,IF(H69<21,'Rijdend personeel'!$G$34+'Rijdend personeel'!$G$42,IF(H69<22,'Rijdend personeel'!$G$36+'Rijdend personeel'!$G$42))))))))))))","v":0},{"$f":"IF(I69=0,0,IF(I69<12,'Rijdend personeel'!$G$16+'Rijdend personeel'!$G$42,IF(I69<13,'Rijdend personeel'!$G$18+'Rijdend personeel'!$G$42,IF(I69<14,'Rijdend personeel'!$G$20+'Rijdend personeel'!$G$42,IF(I69<15,'Rijdend personeel'!$G$22+'Rijdend personeel'!$G$42,IF(I69<16,'Rijdend personeel'!$G$24+'Rijdend personeel'!$G$42,IF(I69<17,'Rijdend personeel'!$G$26+'Rijdend personeel'!$G$42,IF(I69<18,'Rijdend personeel'!$G$28+'Rijdend personeel'!$G$42,IF(I69<19,'Rijdend personeel'!$G$30+'Rijdend personeel'!$G$42,IF(I69<20,'Rijdend personeel'!$G$32+'Rijdend personeel'!$G$42,IF(I69<21,'Rijdend personeel'!$G$34+'Rijdend personeel'!$G$42,IF(I69<22,'Rijdend personeel'!$G$36+'Rijdend personeel'!$G$42))))))))))))","v":0},{"$f":"IF(J69=0,0,IF(J69<12,'Rijdend personeel'!$G$16+'Rijdend personeel'!$G$42,IF(J69<13,'Rijdend personeel'!$G$18+'Rijdend personeel'!$G$42,IF(J69<14,'Rijdend personeel'!$G$20+'Rijdend personeel'!$G$42,IF(J69<15,'Rijdend personeel'!$G$22+'Rijdend personeel'!$G$42,IF(J69<16,'Rijdend personeel'!$G$24+'Rijdend personeel'!$G$42,IF(J69<17,'Rijdend personeel'!$G$26+'Rijdend personeel'!$G$42,IF(J69<18,'Rijdend personeel'!$G$28+'Rijdend personeel'!$G$42,IF(J69<19,'Rijdend personeel'!$G$30+'Rijdend personeel'!$G$42,IF(J69<20,'Rijdend personeel'!$G$32+'Rijdend personeel'!$G$42,IF(J69<21,'Rijdend personeel'!$G$34+'Rijdend personeel'!$G$42,IF(J69<22,'Rijdend personeel'!$G$36+'Rijdend personeel'!$G$42))))))))))))","v":0},{"$f":"IF(K69=0,0,IF(K69<12,'Rijdend personeel'!$G$16+'Rijdend personeel'!$G$42,IF(K69<13,'Rijdend personeel'!$G$18+'Rijdend personeel'!$G$42,IF(K69<14,'Rijdend personeel'!$G$20+'Rijdend personeel'!$G$42,IF(K69<15,'Rijdend personeel'!$G$22+'Rijdend personeel'!$G$42,IF(K69<16,'Rijdend personeel'!$G$24+'Rijdend personeel'!$G$42,IF(K69<17,'Rijdend personeel'!$G$26+'Rijdend personeel'!$G$42,IF(K69<18,'Rijdend personeel'!$G$28+'Rijdend personeel'!$G$42,IF(K69<19,'Rijdend personeel'!$G$30+'Rijdend personeel'!$G$42,IF(K69<20,'Rijdend personeel'!$G$32+'Rijdend personeel'!$G$42,IF(K69<21,'Rijdend personeel'!$G$34+'Rijdend personeel'!$G$42,IF(K69<22,'Rijdend personeel'!$G$36+'Rijdend personeel'!$G$42))))))))))))","v":0},{"$f":"IF(L69=0,0,IF(L69<12,'Rijdend personeel'!$G$16+'Rijdend personeel'!$G$42,IF(L69<13,'Rijdend personeel'!$G$18+'Rijdend personeel'!$G$42,IF(L69<14,'Rijdend personeel'!$G$20+'Rijdend personeel'!$G$42,IF(L69<15,'Rijdend personeel'!$G$22+'Rijdend personeel'!$G$42,IF(L69<16,'Rijdend personeel'!$G$24+'Rijdend personeel'!$G$42,IF(L69<17,'Rijdend personeel'!$G$26+'Rijdend personeel'!$G$42,IF(L69<18,'Rijdend personeel'!$G$28+'Rijdend personeel'!$G$42,IF(L69<19,'Rijdend personeel'!$G$30+'Rijdend personeel'!$G$42,IF(L69<20,'Rijdend personeel'!$G$32+'Rijdend personeel'!$G$42,IF(L69<21,'Rijdend personeel'!$G$34+'Rijdend personeel'!$G$42,IF(L69<22,'Rijdend personeel'!$G$36+'Rijdend personeel'!$G$42))))))))))))","v":0},{"$f":"IF(M69=0,0,IF(M69<12,'Rijdend personeel'!$G$16+'Rijdend personeel'!$G$42,IF(M69<13,'Rijdend personeel'!$G$18+'Rijdend personeel'!$G$42,IF(M69<14,'Rijdend personeel'!$G$20+'Rijdend personeel'!$G$42,IF(M69<15,'Rijdend personeel'!$G$22+'Rijdend personeel'!$G$42,IF(M69<16,'Rijdend personeel'!$G$24+'Rijdend personeel'!$G$42,IF(M69<17,'Rijdend personeel'!$G$26+'Rijdend personeel'!$G$42,IF(M69<18,'Rijdend personeel'!$G$28+'Rijdend personeel'!$G$42,IF(M69<19,'Rijdend personeel'!$G$30+'Rijdend personeel'!$G$42,IF(M69<20,'Rijdend personeel'!$G$32+'Rijdend personeel'!$G$42,IF(M69<21,'Rijdend personeel'!$G$34+'Rijdend personeel'!$G$42,IF(M69<22,'Rijdend personeel'!$G$36+'Rijdend personeel'!$G$42))))))))))))","v":0},{"$f":"IF(N69=0,0,IF(N69<12,'Rijdend personeel'!$G$16+'Rijdend personeel'!$G$42,IF(N69<13,'Rijdend personeel'!$G$18+'Rijdend personeel'!$G$42,IF(N69<14,'Rijdend personeel'!$G$20+'Rijdend personeel'!$G$42,IF(N69<15,'Rijdend personeel'!$G$22+'Rijdend personeel'!$G$42,IF(N69<16,'Rijdend personeel'!$G$24+'Rijdend personeel'!$G$42,IF(N69<17,'Rijdend personeel'!$G$26+'Rijdend personeel'!$G$42,IF(N69<18,'Rijdend personeel'!$G$28+'Rijdend personeel'!$G$42,IF(N69<19,'Rijdend personeel'!$G$30+'Rijdend personeel'!$G$42,IF(N69<20,'Rijdend personeel'!$G$32+'Rijdend personeel'!$G$42,IF(N69<21,'Rijdend personeel'!$G$34+'Rijdend personeel'!$G$42,IF(N69<22,'Rijdend personeel'!$G$36+'Rijdend personeel'!$G$42))))))))))))","v":0},{"$f":"IF(O69=0,0,IF(O69<12,'Rijdend personeel'!$G$16+'Rijdend personeel'!$G$42,IF(O69<13,'Rijdend personeel'!$G$18+'Rijdend personeel'!$G$42,IF(O69<14,'Rijdend personeel'!$G$20+'Rijdend personeel'!$G$42,IF(O69<15,'Rijdend personeel'!$G$22+'Rijdend personeel'!$G$42,IF(O69<16,'Rijdend personeel'!$G$24+'Rijdend personeel'!$G$42,IF(O69<17,'Rijdend personeel'!$G$26+'Rijdend personeel'!$G$42,IF(O69<18,'Rijdend personeel'!$G$28+'Rijdend personeel'!$G$42,IF(O69<19,'Rijdend personeel'!$G$30+'Rijdend personeel'!$G$42,IF(O69<20,'Rijdend personeel'!$G$32+'Rijdend personeel'!$G$42,IF(O69<21,'Rijdend personeel'!$G$34+'Rijdend personeel'!$G$42,IF(O69<22,'Rijdend personeel'!$G$36+'Rijdend personeel'!$G$42))))))))))))","v":0},{"$f":"IF(P69=0,0,IF(P69<12,'Rijdend personeel'!$G$16+'Rijdend personeel'!$G$42,IF(P69<13,'Rijdend personeel'!$G$18+'Rijdend personeel'!$G$42,IF(P69<14,'Rijdend personeel'!$G$20+'Rijdend personeel'!$G$42,IF(P69<15,'Rijdend personeel'!$G$22+'Rijdend personeel'!$G$42,IF(P69<16,'Rijdend personeel'!$G$24+'Rijdend personeel'!$G$42,IF(P69<17,'Rijdend personeel'!$G$26+'Rijdend personeel'!$G$42,IF(P69<18,'Rijdend personeel'!$G$28+'Rijdend personeel'!$G$42,IF(P69<19,'Rijdend personeel'!$G$30+'Rijdend personeel'!$G$42,IF(P69<20,'Rijdend personeel'!$G$32+'Rijdend personeel'!$G$42,IF(P69<21,'Rijdend personeel'!$G$34+'Rijdend personeel'!$G$42,IF(P69<22,'Rijdend personeel'!$G$36+'Rijdend personeel'!$G$42))))))))))))","v":0},{"$f":"IF(Q69=0,0,IF(Q69<12,'Rijdend personeel'!$G$16+'Rijdend personeel'!$G$42,IF(Q69<13,'Rijdend personeel'!$G$18+'Rijdend personeel'!$G$42,IF(Q69<14,'Rijdend personeel'!$G$20+'Rijdend personeel'!$G$42,IF(Q69<15,'Rijdend personeel'!$G$22+'Rijdend personeel'!$G$42,IF(Q69<16,'Rijdend personeel'!$G$24+'Rijdend personeel'!$G$42,IF(Q69<17,'Rijdend personeel'!$G$26+'Rijdend personeel'!$G$42,IF(Q69<18,'Rijdend personeel'!$G$28+'Rijdend personeel'!$G$42,IF(Q69<19,'Rijdend personeel'!$G$30+'Rijdend personeel'!$G$42,IF(Q69<20,'Rijdend personeel'!$G$32+'Rijdend personeel'!$G$42,IF(Q69<21,'Rijdend personeel'!$G$34+'Rijdend personeel'!$G$42,IF(Q69<22,'Rijdend personeel'!$G$36+'Rijdend personeel'!$G$42))))))))))))","v":0},{"$f":"IF(R69=0,0,IF(R69<12,'Rijdend personeel'!$G$16+'Rijdend personeel'!$G$42,IF(R69<13,'Rijdend personeel'!$G$18+'Rijdend personeel'!$G$42,IF(R69<14,'Rijdend personeel'!$G$20+'Rijdend personeel'!$G$42,IF(R69<15,'Rijdend personeel'!$G$22+'Rijdend personeel'!$G$42,IF(R69<16,'Rijdend personeel'!$G$24+'Rijdend personeel'!$G$42,IF(R69<17,'Rijdend personeel'!$G$26+'Rijdend personeel'!$G$42,IF(R69<18,'Rijdend personeel'!$G$28+'Rijdend personeel'!$G$42,IF(R69<19,'Rijdend personeel'!$G$30+'Rijdend personeel'!$G$42,IF(R69<20,'Rijdend personeel'!$G$32+'Rijdend personeel'!$G$42,IF(R69<21,'Rijdend personeel'!$G$34+'Rijdend personeel'!$G$42,IF(R69<22,'Rijdend personeel'!$G$36+'Rijdend personeel'!$G$42))))))))))))","v":0},{"$f":"IF(S69=0,0,IF(S69<12,'Rijdend personeel'!$G$16+'Rijdend personeel'!$G$42,IF(S69<13,'Rijdend personeel'!$G$18+'Rijdend personeel'!$G$42,IF(S69<14,'Rijdend personeel'!$G$20+'Rijdend personeel'!$G$42,IF(S69<15,'Rijdend personeel'!$G$22+'Rijdend personeel'!$G$42,IF(S69<16,'Rijdend personeel'!$G$24+'Rijdend personeel'!$G$42,IF(S69<17,'Rijdend personeel'!$G$26+'Rijdend personeel'!$G$42,IF(S69<18,'Rijdend personeel'!$G$28+'Rijdend personeel'!$G$42,IF(S69<19,'Rijdend personeel'!$G$30+'Rijdend personeel'!$G$42,IF(S69<20,'Rijdend personeel'!$G$32+'Rijdend personeel'!$G$42,IF(S69<21,'Rijdend personeel'!$G$34+'Rijdend personeel'!$G$42,IF(S69<22,'Rijdend personeel'!$G$36+'Rijdend personeel'!$G$42))))))))))))","v":0}]
[null,null,"Bruto Sal CH2 DUBBEL",null,{"$f":"IF(E70=0,0,IF(E70<12,'Rijdend personeel'!$G$16+'Rijdend personeel'!$G$42,IF(E70<13,'Rijdend personeel'!$G$18+'Rijdend personeel'!$G$42,IF(E70<14,'Rijdend personeel'!$G$20+'Rijdend personeel'!$G$42,IF(E70<15,'Rijdend personeel'!$G$22+'Rijdend personeel'!$G$42,IF(E70<16,'Rijdend personeel'!$G$24+'Rijdend personeel'!$G$42,IF(E70<17,'Rijdend personeel'!$G$26+'Rijdend personeel'!$G$42,IF(E70<18,'Rijdend personeel'!$G$28+'Rijdend personeel'!$G$42,IF(E70<19,'Rijdend personeel'!$G$30+'Rijdend personeel'!$G$42,IF(E70<20,'Rijdend personeel'!$G$32+'Rijdend personeel'!$G$42,IF(E70<21,'Rijdend personeel'!$G$34+'Rijdend personeel'!$G$42,IF(E70<22,'Rijdend personeel'!$G$36+'Rijdend personeel'!$G$42))))))))))))","v":0},{"$f":"IF(F70=0,0,IF(F70<12,'Rijdend personeel'!$G$16+'Rijdend personeel'!$G$42,IF(F70<13,'Rijdend personeel'!$G$18+'Rijdend personeel'!$G$42,IF(F70<14,'Rijdend personeel'!$G$20+'Rijdend personeel'!$G$42,IF(F70<15,'Rijdend personeel'!$G$22+'Rijdend personeel'!$G$42,IF(F70<16,'Rijdend personeel'!$G$24+'Rijdend personeel'!$G$42,IF(F70<17,'Rijdend personeel'!$G$26+'Rijdend personeel'!$G$42,IF(F70<18,'Rijdend personeel'!$G$28+'Rijdend personeel'!$G$42,IF(F70<19,'Rijdend personeel'!$G$30+'Rijdend personeel'!$G$42,IF(F70<20,'Rijdend personeel'!$G$32+'Rijdend personeel'!$G$42,IF(F70<21,'Rijdend personeel'!$G$34+'Rijdend personeel'!$G$42,IF(F70<22,'Rijdend personeel'!$G$36+'Rijdend personeel'!$G$42))))))))))))","v":0},{"$f":"IF(G70=0,0,IF(G70<12,'Rijdend personeel'!$G$16+'Rijdend personeel'!$G$42,IF(G70<13,'Rijdend personeel'!$G$18+'Rijdend personeel'!$G$42,IF(G70<14,'Rijdend personeel'!$G$20+'Rijdend personeel'!$G$42,IF(G70<15,'Rijdend personeel'!$G$22+'Rijdend personeel'!$G$42,IF(G70<16,'Rijdend personeel'!$G$24+'Rijdend personeel'!$G$42,IF(G70<17,'Rijdend personeel'!$G$26+'Rijdend personeel'!$G$42,IF(G70<18,'Rijdend personeel'!$G$28+'Rijdend personeel'!$G$42,IF(G70<19,'Rijdend personeel'!$G$30+'Rijdend personeel'!$G$42,IF(G70<20,'Rijdend personeel'!$G$32+'Rijdend personeel'!$G$42,IF(G70<21,'Rijdend personeel'!$G$34+'Rijdend personeel'!$G$42,IF(G70<22,'Rijdend personeel'!$G$36+'Rijdend personeel'!$G$42))))))))))))","v":0},{"$f":"IF(H70=0,0,IF(H70<12,'Rijdend personeel'!$G$16+'Rijdend personeel'!$G$42,IF(H70<13,'Rijdend personeel'!$G$18+'Rijdend personeel'!$G$42,IF(H70<14,'Rijdend personeel'!$G$20+'Rijdend personeel'!$G$42,IF(H70<15,'Rijdend personeel'!$G$22+'Rijdend personeel'!$G$42,IF(H70<16,'Rijdend personeel'!$G$24+'Rijdend personeel'!$G$42,IF(H70<17,'Rijdend personeel'!$G$26+'Rijdend personeel'!$G$42,IF(H70<18,'Rijdend personeel'!$G$28+'Rijdend personeel'!$G$42,IF(H70<19,'Rijdend personeel'!$G$30+'Rijdend personeel'!$G$42,IF(H70<20,'Rijdend personeel'!$G$32+'Rijdend personeel'!$G$42,IF(H70<21,'Rijdend personeel'!$G$34+'Rijdend personeel'!$G$42,IF(H70<22,'Rijdend personeel'!$G$36+'Rijdend personeel'!$G$42))))))))))))","v":0},{"$f":"IF(I70=0,0,IF(I70<12,'Rijdend personeel'!$G$16+'Rijdend personeel'!$G$42,IF(I70<13,'Rijdend personeel'!$G$18+'Rijdend personeel'!$G$42,IF(I70<14,'Rijdend personeel'!$G$20+'Rijdend personeel'!$G$42,IF(I70<15,'Rijdend personeel'!$G$22+'Rijdend personeel'!$G$42,IF(I70<16,'Rijdend personeel'!$G$24+'Rijdend personeel'!$G$42,IF(I70<17,'Rijdend personeel'!$G$26+'Rijdend personeel'!$G$42,IF(I70<18,'Rijdend personeel'!$G$28+'Rijdend personeel'!$G$42,IF(I70<19,'Rijdend personeel'!$G$30+'Rijdend personeel'!$G$42,IF(I70<20,'Rijdend personeel'!$G$32+'Rijdend personeel'!$G$42,IF(I70<21,'Rijdend personeel'!$G$34+'Rijdend personeel'!$G$42,IF(I70<22,'Rijdend personeel'!$G$36+'Rijdend personeel'!$G$42))))))))))))","v":0},{"$f":"IF(J70=0,0,IF(J70<12,'Rijdend personeel'!$G$16+'Rijdend personeel'!$G$42,IF(J70<13,'Rijdend personeel'!$G$18+'Rijdend personeel'!$G$42,IF(J70<14,'Rijdend personeel'!$G$20+'Rijdend personeel'!$G$42,IF(J70<15,'Rijdend personeel'!$G$22+'Rijdend personeel'!$G$42,IF(J70<16,'Rijdend personeel'!$G$24+'Rijdend personeel'!$G$42,IF(J70<17,'Rijdend personeel'!$G$26+'Rijdend personeel'!$G$42,IF(J70<18,'Rijdend personeel'!$G$28+'Rijdend personeel'!$G$42,IF(J70<19,'Rijdend personeel'!$G$30+'Rijdend personeel'!$G$42,IF(J70<20,'Rijdend personeel'!$G$32+'Rijdend personeel'!$G$42,IF(J70<21,'Rijdend personeel'!$G$34+'Rijdend personeel'!$G$42,IF(J70<22,'Rijdend personeel'!$G$36+'Rijdend personeel'!$G$42))))))))))))","v":0},{"$f":"IF(K70=0,0,IF(K70<12,'Rijdend personeel'!$G$16+'Rijdend personeel'!$G$42,IF(K70<13,'Rijdend personeel'!$G$18+'Rijdend personeel'!$G$42,IF(K70<14,'Rijdend personeel'!$G$20+'Rijdend personeel'!$G$42,IF(K70<15,'Rijdend personeel'!$G$22+'Rijdend personeel'!$G$42,IF(K70<16,'Rijdend personeel'!$G$24+'Rijdend personeel'!$G$42,IF(K70<17,'Rijdend personeel'!$G$26+'Rijdend personeel'!$G$42,IF(K70<18,'Rijdend personeel'!$G$28+'Rijdend personeel'!$G$42,IF(K70<19,'Rijdend personeel'!$G$30+'Rijdend personeel'!$G$42,IF(K70<20,'Rijdend personeel'!$G$32+'Rijdend personeel'!$G$42,IF(K70<21,'Rijdend personeel'!$G$34+'Rijdend personeel'!$G$42,IF(K70<22,'Rijdend personeel'!$G$36+'Rijdend personeel'!$G$42))))))))))))","v":0},{"$f":"IF(L70=0,0,IF(L70<12,'Rijdend personeel'!$G$16+'Rijdend personeel'!$G$42,IF(L70<13,'Rijdend personeel'!$G$18+'Rijdend personeel'!$G$42,IF(L70<14,'Rijdend personeel'!$G$20+'Rijdend personeel'!$G$42,IF(L70<15,'Rijdend personeel'!$G$22+'Rijdend personeel'!$G$42,IF(L70<16,'Rijdend personeel'!$G$24+'Rijdend personeel'!$G$42,IF(L70<17,'Rijdend personeel'!$G$26+'Rijdend personeel'!$G$42,IF(L70<18,'Rijdend personeel'!$G$28+'Rijdend personeel'!$G$42,IF(L70<19,'Rijdend personeel'!$G$30+'Rijdend personeel'!$G$42,IF(L70<20,'Rijdend personeel'!$G$32+'Rijdend personeel'!$G$42,IF(L70<21,'Rijdend personeel'!$G$34+'Rijdend personeel'!$G$42,IF(L70<22,'Rijdend personeel'!$G$36+'Rijdend personeel'!$G$42))))))))))))","v":0},{"$f":"IF(M70=0,0,IF(M70<12,'Rijdend personeel'!$G$16+'Rijdend personeel'!$G$42,IF(M70<13,'Rijdend personeel'!$G$18+'Rijdend personeel'!$G$42,IF(M70<14,'Rijdend personeel'!$G$20+'Rijdend personeel'!$G$42,IF(M70<15,'Rijdend personeel'!$G$22+'Rijdend personeel'!$G$42,IF(M70<16,'Rijdend personeel'!$G$24+'Rijdend personeel'!$G$42,IF(M70<17,'Rijdend personeel'!$G$26+'Rijdend personeel'!$G$42,IF(M70<18,'Rijdend personeel'!$G$28+'Rijdend personeel'!$G$42,IF(M70<19,'Rijdend personeel'!$G$30+'Rijdend personeel'!$G$42,IF(M70<20,'Rijdend personeel'!$G$32+'Rijdend personeel'!$G$42,IF(M70<21,'Rijdend personeel'!$G$34+'Rijdend personeel'!$G$42,IF(M70<22,'Rijdend personeel'!$G$36+'Rijdend personeel'!$G$42))))))))))))","v":0},{"$f":"IF(N70=0,0,IF(N70<12,'Rijdend personeel'!$G$16+'Rijdend personeel'!$G$42,IF(N70<13,'Rijdend personeel'!$G$18+'Rijdend personeel'!$G$42,IF(N70<14,'Rijdend personeel'!$G$20+'Rijdend personeel'!$G$42,IF(N70<15,'Rijdend personeel'!$G$22+'Rijdend personeel'!$G$42,IF(N70<16,'Rijdend personeel'!$G$24+'Rijdend personeel'!$G$42,IF(N70<17,'Rijdend personeel'!$G$26+'Rijdend personeel'!$G$42,IF(N70<18,'Rijdend personeel'!$G$28+'Rijdend personeel'!$G$42,IF(N70<19,'Rijdend personeel'!$G$30+'Rijdend personeel'!$G$42,IF(N70<20,'Rijdend personeel'!$G$32+'Rijdend personeel'!$G$42,IF(N70<21,'Rijdend personeel'!$G$34+'Rijdend personeel'!$G$42,IF(N70<22,'Rijdend personeel'!$G$36+'Rijdend personeel'!$G$42))))))))))))","v":0},{"$f":"IF(O70=0,0,IF(O70<12,'Rijdend personeel'!$G$16+'Rijdend personeel'!$G$42,IF(O70<13,'Rijdend personeel'!$G$18+'Rijdend personeel'!$G$42,IF(O70<14,'Rijdend personeel'!$G$20+'Rijdend personeel'!$G$42,IF(O70<15,'Rijdend personeel'!$G$22+'Rijdend personeel'!$G$42,IF(O70<16,'Rijdend personeel'!$G$24+'Rijdend personeel'!$G$42,IF(O70<17,'Rijdend personeel'!$G$26+'Rijdend personeel'!$G$42,IF(O70<18,'Rijdend personeel'!$G$28+'Rijdend personeel'!$G$42,IF(O70<19,'Rijdend personeel'!$G$30+'Rijdend personeel'!$G$42,IF(O70<20,'Rijdend personeel'!$G$32+'Rijdend personeel'!$G$42,IF(O70<21,'Rijdend personeel'!$G$34+'Rijdend personeel'!$G$42,IF(O70<22,'Rijdend personeel'!$G$36+'Rijdend personeel'!$G$42))))))))))))","v":0},{"$f":"IF(P70=0,0,IF(P70<12,'Rijdend personeel'!$G$16+'Rijdend personeel'!$G$42,IF(P70<13,'Rijdend personeel'!$G$18+'Rijdend personeel'!$G$42,IF(P70<14,'Rijdend personeel'!$G$20+'Rijdend personeel'!$G$42,IF(P70<15,'Rijdend personeel'!$G$22+'Rijdend personeel'!$G$42,IF(P70<16,'Rijdend personeel'!$G$24+'Rijdend personeel'!$G$42,IF(P70<17,'Rijdend personeel'!$G$26+'Rijdend personeel'!$G$42,IF(P70<18,'Rijdend personeel'!$G$28+'Rijdend personeel'!$G$42,IF(P70<19,'Rijdend personeel'!$G$30+'Rijdend personeel'!$G$42,IF(P70<20,'Rijdend personeel'!$G$32+'Rijdend personeel'!$G$42,IF(P70<21,'Rijdend personeel'!$G$34+'Rijdend personeel'!$G$42,IF(P70<22,'Rijdend personeel'!$G$36+'Rijdend personeel'!$G$42))))))))))))","v":0},{"$f":"IF(Q70=0,0,IF(Q70<12,'Rijdend personeel'!$G$16+'Rijdend personeel'!$G$42,IF(Q70<13,'Rijdend personeel'!$G$18+'Rijdend personeel'!$G$42,IF(Q70<14,'Rijdend personeel'!$G$20+'Rijdend personeel'!$G$42,IF(Q70<15,'Rijdend personeel'!$G$22+'Rijdend personeel'!$G$42,IF(Q70<16,'Rijdend personeel'!$G$24+'Rijdend personeel'!$G$42,IF(Q70<17,'Rijdend personeel'!$G$26+'Rijdend personeel'!$G$42,IF(Q70<18,'Rijdend personeel'!$G$28+'Rijdend personeel'!$G$42,IF(Q70<19,'Rijdend personeel'!$G$30+'Rijdend personeel'!$G$42,IF(Q70<20,'Rijdend personeel'!$G$32+'Rijdend personeel'!$G$42,IF(Q70<21,'Rijdend personeel'!$G$34+'Rijdend personeel'!$G$42,IF(Q70<22,'Rijdend personeel'!$G$36+'Rijdend personeel'!$G$42))))))))))))","v":0},{"$f":"IF(R70=0,0,IF(R70<12,'Rijdend personeel'!$G$16+'Rijdend personeel'!$G$42,IF(R70<13,'Rijdend personeel'!$G$18+'Rijdend personeel'!$G$42,IF(R70<14,'Rijdend personeel'!$G$20+'Rijdend personeel'!$G$42,IF(R70<15,'Rijdend personeel'!$G$22+'Rijdend personeel'!$G$42,IF(R70<16,'Rijdend personeel'!$G$24+'Rijdend personeel'!$G$42,IF(R70<17,'Rijdend personeel'!$G$26+'Rijdend personeel'!$G$42,IF(R70<18,'Rijdend personeel'!$G$28+'Rijdend personeel'!$G$42,IF(R70<19,'Rijdend personeel'!$G$30+'Rijdend personeel'!$G$42,IF(R70<20,'Rijdend personeel'!$G$32+'Rijdend personeel'!$G$42,IF(R70<21,'Rijdend personeel'!$G$34+'Rijdend personeel'!$G$42,IF(R70<22,'Rijdend personeel'!$G$36+'Rijdend personeel'!$G$42))))))))))))","v":0},{"$f":"IF(S70=0,0,IF(S70<12,'Rijdend personeel'!$G$16+'Rijdend personeel'!$G$42,IF(S70<13,'Rijdend personeel'!$G$18+'Rijdend personeel'!$G$42,IF(S70<14,'Rijdend personeel'!$G$20+'Rijdend personeel'!$G$42,IF(S70<15,'Rijdend personeel'!$G$22+'Rijdend personeel'!$G$42,IF(S70<16,'Rijdend personeel'!$G$24+'Rijdend personeel'!$G$42,IF(S70<17,'Rijdend personeel'!$G$26+'Rijdend personeel'!$G$42,IF(S70<18,'Rijdend personeel'!$G$28+'Rijdend personeel'!$G$42,IF(S70<19,'Rijdend personeel'!$G$30+'Rijdend personeel'!$G$42,IF(S70<20,'Rijdend personeel'!$G$32+'Rijdend personeel'!$G$42,IF(S70<21,'Rijdend personeel'!$G$34+'Rijdend personeel'!$G$42,IF(S70<22,'Rijdend personeel'!$G$36+'Rijdend personeel'!$G$42))))))))))))","v":0}]
[null,null,"Zondagsrust alle CH",null,{"$f":"Reis!F88*'Rijdend personeel'!$G$48","v":0},{"$f":"Reis!G88*'Rijdend personeel'!$G$48","v":0},{"$f":"Reis!H88*'Rijdend personeel'!$G$48","v":0},{"$f":"Reis!I88*'Rijdend personeel'!$G$48","v":0},{"$f":"Reis!J88*'Rijdend personeel'!$G$48","v":0},{"$f":"Reis!K88*'Rijdend personeel'!$G$48","v":0},{"$f":"Reis!L88*'Rijdend personeel'!$G$48","v":0},{"$f":"Reis!M88*'Rijdend personeel'!$G$48","v":0},{"$f":"Reis!N88*'Rijdend personeel'!$G$48","v":0},{"$f":"Reis!O88*'Rijdend personeel'!$G$48","v":0},{"$f":"Reis!P88*'Rijdend personeel'!$G$48","v":0},{"$f":"Reis!Q88*'Rijdend personeel'!$G$48","v":0},{"$f":"Reis!R88*'Rijdend personeel'!$G$48","v":0},{"$f":"Reis!S88*'Rijdend personeel'!$G$48","v":0},{"$f":"Reis!T88*'Rijdend personeel'!$G$48","v":0}]
[null,null,"Inactiviteitsdag alle CH",null,{"$f":"Reis!F89*'Rijdend personeel'!$G$50","v":0},{"$f":"Reis!G89*'Rijdend personeel'!$G$50","v":0},{"$f":"Reis!H89*'Rijdend personeel'!$G$50","v":0},{"$f":"Reis!I89*'Rijdend personeel'!$G$50","v":0},{"$f":"Reis!J89*'Rijdend personeel'!$G$50","v":0},{"$f":"Reis!K89*'Rijdend personeel'!$G$50","v":0},{"$f":"Reis!L89*'Rijdend personeel'!$G$50","v":0},{"$f":"Reis!M89*'Rijdend personeel'!$G$50","v":0},{"$f":"Reis!N89*'Rijdend personeel'!$G$50","v":0},{"$f":"Reis!O89*'Rijdend personeel'!$G$50","v":0},{"$f":"Reis!P89*'Rijdend personeel'!$G$50","v":0},{"$f":"Reis!Q89*'Rijdend personeel'!$G$50","v":0},{"$f":"Reis!R89*'Rijdend personeel'!$G$50","v":0},{"$f":"Reis!S89*'Rijdend personeel'!$G$50","v":0},{"$f":"Reis!T89*'Rijdend personeel'!$G$50","v":0}]
[null,null,"Eindejaarspremie alle CH",null,{"$f":"IF(Reis!F77<1,0,(('Rijdend personeel'!$G$46/'Rijdend personeel'!$G$68)*Reis!F83))","v":{"$error":"#DIV/0!"}},{"$f":"IF(Reis!G77<1,0,(('Rijdend personeel'!$G$46/'Rijdend personeel'!$G$68)*Reis!G83))","v":0},{"$f":"IF(Reis!H77<1,0,(('Rijdend personeel'!$G$46/'Rijdend personeel'!$G$68)*Reis!H83))","v":0},{"$f":"IF(Reis!I77<1,0,(('Rijdend personeel'!$G$46/'Rijdend personeel'!$G$68)*Reis!I83))","v":0},{"$f":"IF(Reis!J77<1,0,(('Rijdend personeel'!$G$46/'Rijdend personeel'!$G$68)*Reis!J83))","v":0},{"$f":"IF(Reis!K77<1,0,(('Rijdend personeel'!$G$46/'Rijdend personeel'!$G$68)*Reis!K83))","v":0},{"$f":"IF(Reis!L77<1,0,(('Rijdend personeel'!$G$46/'Rijdend personeel'!$G$68)*Reis!L83))","v":0},{"$f":"IF(Reis!M77<1,0,(('Rijdend personeel'!$G$46/'Rijdend personeel'!$G$68)*Reis!M83))","v":0},{"$f":"IF(Reis!N77<1,0,(('Rijdend personeel'!$G$46/'Rijdend personeel'!$G$68)*Reis!N83))","v":0},{"$f":"IF(Reis!O77<1,0,(('Rijdend personeel'!$G$46/'Rijdend personeel'!$G$68)*Reis!O83))","v":0},{"$f":"IF(Reis!P77<1,0,(('Rijdend personeel'!$G$46/'Rijdend personeel'!$G$68)*Reis!P83))","v":0},{"$f":"IF(Reis!Q77<1,0,(('Rijdend personeel'!$G$46/'Rijdend personeel'!$G$68)*Reis!Q83))","v":0},{"$f":"IF(Reis!R77<1,0,(('Rijdend personeel'!$G$46/'Rijdend personeel'!$G$68)*Reis!R83))","v":0},{"$f":"IF(Reis!S77<1,0,(('Rijdend personeel'!$G$46/'Rijdend personeel'!$G$68)*Reis!S83))","v":0},{"$f":"IF(Reis!T77<1,0,(('Rijdend personeel'!$G$46/'Rijdend personeel'!$G$68)*Reis!T83))","v":0}]
[null,null,"RSZ werkgever alle CH",null,{"$f":"IF(Reis!F77<1,0,((E71+E72+E73+E74+E75+E76)*1.08*'Rijdend personeel'!$G$52))","v":{"$error":"#DIV/0!"}},{"$f":"IF(Reis!G77<1,0,((F71+F72+F73+F74+F75+F76)*1.08*'Rijdend personeel'!$G$52))","v":0},{"$f":"IF(Reis!H77<1,0,((G71+G72+G73+G74+G75+G76)*1.08*'Rijdend personeel'!$G$52))","v":0},{"$f":"IF(Reis!I77<1,0,((H71+H72+H73+H74+H75+H76)*1.08*'Rijdend personeel'!$G$52))","v":0},{"$f":"IF(Reis!J77<1,0,((I71+I72+I73+I74+I75+I76)*1.08*'Rijdend personeel'!$G$52))","v":0},{"$f":"IF(Reis!K77<1,0,((J71+J72+J73+J74+J75+J76)*1.08*'Rijdend personeel'!$G$52))","v":0},{"$f":"IF(Reis!L77<1,0,((K71+K72+K73+K74+K75+K76)*1.08*'Rijdend personeel'!$G$52))","v":0},{"$f":"IF(Reis!M77<1,0,((L71+L72+L73+L74+L75+L76)*1.08*'Rijdend personeel'!$G$52))","v":0},{"$f":"IF(Reis!N77<1,0,((M71+M72+M73+M74+M75+M76)*1.08*'Rijdend personeel'!$G$52))","v":0},{"$f":"IF(Reis!O77<1,0,((N71+N72+N73+N74+N75+N76)*1.08*'Rijdend personeel'!$G$52))","v":0},{"$f":"IF(Reis!P77<1,0,((O71+O72+O73+O74+O75+O76)*1.08*'Rijdend personeel'!$G$52))","v":0},{"$f":"IF(Reis!Q77<1,0,((P71+P72+P73+P74+P75+P76)*1.08*'Rijdend personeel'!$G$52))","v":0},{"$f":"IF(Reis!R77<1,0,((Q71+Q72+Q73+Q74+Q75+Q76)*1.08*'Rijdend personeel'!$G$52))","v":0},{"$f":"IF(Reis!S77<1,0,((R71+R72+R73+R74+R75+R76)*1.08*'Rijdend personeel'!$G$52))","v":0},{"$f":"IF(Reis!T77<1,0,((S71+S72+S73+S74+S75+S76)*1.08*'Rijdend personeel'!$G$52))","v":0}]
[null,null,"Eco-cheques alle CH",null,{"$f":"IF(Reis!F77<1,0,(('Rijdend personeel'!$G$44/'Rijdend personeel'!$G$68)*Reis!F83))","v":{"$error":"#DIV/0!"}},{"$f":"IF(Reis!G77<1,0,(('Rijdend personeel'!$G$44/'Rijdend personeel'!$G$68)*Reis!G83))","v":0},{"$f":"IF(Reis!H77<1,0,(('Rijdend personeel'!$G$44/'Rijdend personeel'!$G$68)*Reis!H83))","v":0},{"$f":"IF(Reis!I77<1,0,(('Rijdend personeel'!$G$44/'Rijdend personeel'!$G$68)*Reis!I83))","v":0},{"$f":"IF(Reis!J77<1,0,(('Rijdend personeel'!$G$44/'Rijdend personeel'!$G$68)*Reis!J83))","v":0},{"$f":"IF(Reis!K77<1,0,(('Rijdend personeel'!$G$44/'Rijdend personeel'!$G$68)*Reis!K83))","v":0},{"$f":"IF(Reis!L77<1,0,(('Rijdend personeel'!$G$44/'Rijdend personeel'!$G$68)*Reis!L83))","v":0},{"$f":"IF(Reis!M77<1,0,(('Rijdend personeel'!$G$44/'Rijdend personeel'!$G$68)*Reis!M83))","v":0},{"$f":"IF(Reis!N77<1,0,(('Rijdend personeel'!$G$44/'Rijdend personeel'!$G$68)*Reis!N83))","v":0},{"$f":"IF(Reis!O77<1,0,(('Rijdend personeel'!$G$44/'Rijdend personeel'!$G$68)*Reis!O83))","v":0},{"$f":"IF(Reis!P77<1,0,(('Rijdend personeel'!$G$44/'Rijdend personeel'!$G$68)*Reis!P83))","v":0},{"$f":"IF(Reis!Q77<1,0,(('Rijdend personeel'!$G$44/'Rijdend personeel'!$G$68)*Reis!Q83))","v":0},{"$f":"IF(Reis!R77<1,0,(('Rijdend personeel'!$G$44/'Rijdend personeel'!$G$68)*Reis!R83))","v":0},{"$f":"IF(Reis!S77<1,0,(('Rijdend personeel'!$G$44/'Rijdend personeel'!$G$68)*Reis!S83))","v":0},{"$f":"IF(Reis!T77<1,0,(('Rijdend personeel'!$G$44/'Rijdend personeel'!$G$68)*Reis!T83))","v":0}]
[null,null,"ARAB CH ENKEL",null,{"$f":"ROUNDUP(E68,0)*'Rijdend personeel'!$G$40","v":0},{"$f":"ROUNDUP(F68,0)*'Rijdend personeel'!$G$40","v":0},{"$f":"ROUNDUP(G68,0)*'Rijdend personeel'!$G$40","v":0},{"$f":"ROUNDUP(H68,0)*'Rijdend personeel'!$G$40","v":0},{"$f":"ROUNDUP(I68,0)*'Rijdend personeel'!$G$40","v":0},{"$f":"ROUNDUP(J68,0)*'Rijdend personeel'!$G$40","v":0},{"$f":"ROUNDUP(K68,0)*'Rijdend personeel'!$G$40","v":0},{"$f":"ROUNDUP(L68,0)*'Rijdend personeel'!$G$40","v":0},{"$f":"ROUNDUP(M68,0)*'Rijdend personeel'!$G$40","v":0},{"$f":"ROUNDUP(N68,0)*'Rijdend personeel'!$G$40","v":0},{"$f":"ROUNDUP(O68,0)*'Rijdend personeel'!$G$40","v":0},{"$f":"ROUNDUP(P68,0)*'Rijdend personeel'!$G$40","v":0},{"$f":"ROUNDUP(Q68,0)*'Rijdend personeel'!$G$40","v":0},{"$f":"ROUNDUP(R68,0)*'Rijdend personeel'!$G$40","v":0},{"$f":"ROUNDUP(S68,0)*'Rijdend personeel'!$G$40","v":0}]
[null,null,"ARAB CH1 DUBBEL",null,{"$f":"ROUNDUP(E69,0)*'Rijdend personeel'!$G$40","v":0},{"$f":"ROUNDUP(F69,0)*'Rijdend personeel'!$G$40","v":0},{"$f":"ROUNDUP(G69,0)*'Rijdend personeel'!$G$40","v":0},{"$f":"ROUNDUP(H69,0)*'Rijdend personeel'!$G$40","v":0},{"$f":"ROUNDUP(I69,0)*'Rijdend personeel'!$G$40","v":0},{"$f":"ROUNDUP(J69,0)*'Rijdend personeel'!$G$40","v":0},{"$f":"ROUNDUP(K69,0)*'Rijdend personeel'!$G$40","v":0},{"$f":"ROUNDUP(L69,0)*'Rijdend personeel'!$G$40","v":0},{"$f":"ROUNDUP(M69,0)*'Rijdend personeel'!$G$40","v":0},{"$f":"ROUNDUP(N69,0)*'Rijdend personeel'!$G$40","v":0},{"$f":"ROUNDUP(O69,0)*'Rijdend personeel'!$G$40","v":0},{"$f":"ROUNDUP(P69,0)*'Rijdend personeel'!$G$40","v":0},{"$f":"ROUNDUP(Q69,0)*'Rijdend personeel'!$G$40","v":0},{"$f":"ROUNDUP(R69,0)*'Rijdend personeel'!$G$40","v":0},{"$f":"ROUNDUP(S69,0)*'Rijdend personeel'!$G$40","v":0}]
[null,null,"ARAB CH2 DUBBEL",null,{"$f":"ROUNDUP(E70,0)*'Rijdend personeel'!$G$40","v":0},{"$f":"ROUNDUP(F70,0)*'Rijdend personeel'!$G$40","v":0},{"$f":"ROUNDUP(G70,0)*'Rijdend personeel'!$G$40","v":0},{"$f":"ROUNDUP(H70,0)*'Rijdend personeel'!$G$40","v":0},{"$f":"ROUNDUP(I70,0)*'Rijdend personeel'!$G$40","v":0},{"$f":"ROUNDUP(J70,0)*'Rijdend personeel'!$G$40","v":0},{"$f":"ROUNDUP(K70,0)*'Rijdend personeel'!$G$40","v":0},{"$f":"ROUNDUP(L70,0)*'Rijdend personeel'!$G$40","v":0},{"$f":"ROUNDUP(M70,0)*'Rijdend personeel'!$G$40","v":0},{"$f":"ROUNDUP(N70,0)*'Rijdend personeel'!$G$40","v":0},{"$f":"ROUNDUP(O70,0)*'Rijdend personeel'!$G$40","v":0},{"$f":"ROUNDUP(P70,0)*'Rijdend personeel'!$G$40","v":0},{"$f":"ROUNDUP(Q70,0)*'Rijdend personeel'!$G$40","v":0},{"$f":"ROUNDUP(R70,0)*'Rijdend personeel'!$G$40","v":0},{"$f":"ROUNDUP(S70,0)*'Rijdend personeel'!$G$40","v":0}]
[null,null,"Overige kosten alle CH",null,{"$f":"IF(Reis!F77<1,0,((('Rijdend personeel'!$G$54+'Rijdend personeel'!$G$56+'Rijdend personeel'!$G$58+'Rijdend personeel'!$G$60+'Rijdend personeel'!$G$62+'Rijdend personeel'!$G$64+'Rijdend personeel'!$G$66)/'Rijdend personeel'!$G$68)*Reis!F83))","v":{"$error":"#DIV/0!"}},{"$f":"IF(Reis!G77<1,0,((('Rijdend personeel'!$G$54+'Rijdend personeel'!$G$56+'Rijdend personeel'!$G$58+'Rijdend personeel'!$G$60+'Rijdend personeel'!$G$62+'Rijdend personeel'!$G$64+'Rijdend personeel'!$G$66)/'Rijdend personeel'!$G$68)*Reis!G83))","v":0},{"$f":"IF(Reis!H77<1,0,((('Rijdend personeel'!$G$54+'Rijdend personeel'!$G$56+'Rijdend personeel'!$G$58+'Rijdend personeel'!$G$60+'Rijdend personeel'!$G$62+'Rijdend personeel'!$G$64+'Rijdend personeel'!$G$66)/'Rijdend personeel'!$G$68)*Reis!H83))","v":0},{"$f":"IF(Reis!I77<1,0,((('Rijdend personeel'!$G$54+'Rijdend personeel'!$G$56+'Rijdend personeel'!$G$58+'Rijdend personeel'!$G$60+'Rijdend personeel'!$G$62+'Rijdend personeel'!$G$64+'Rijdend personeel'!$G$66)/'Rijdend personeel'!$G$68)*Reis!I83))","v":0},{"$f":"IF(Reis!J77<1,0,((('Rijdend personeel'!$G$54+'Rijdend personeel'!$G$56+'Rijdend personeel'!$G$58+'Rijdend personeel'!$G$60+'Rijdend personeel'!$G$62+'Rijdend personeel'!$G$64+'Rijdend personeel'!$G$66)/'Rijdend personeel'!$G$68)*Reis!J83))","v":0},{"$f":"IF(Reis!K77<1,0,((('Rijdend personeel'!$G$54+'Rijdend personeel'!$G$56+'Rijdend personeel'!$G$58+'Rijdend personeel'!$G$60+'Rijdend personeel'!$G$62+'Rijdend personeel'!$G$64+'Rijdend personeel'!$G$66)/'Rijdend personeel'!$G$68)*Reis!K83))","v":0},{"$f":"IF(Reis!L77<1,0,((('Rijdend personeel'!$G$54+'Rijdend personeel'!$G$56+'Rijdend personeel'!$G$58+'Rijdend personeel'!$G$60+'Rijdend personeel'!$G$62+'Rijdend personeel'!$G$64+'Rijdend personeel'!$G$66)/'Rijdend personeel'!$G$68)*Reis!L83))","v":0},{"$f":"IF(Reis!M77<1,0,((('Rijdend personeel'!$G$54+'Rijdend personeel'!$G$56+'Rijdend personeel'!$G$58+'Rijdend personeel'!$G$60+'Rijdend personeel'!$G$62+'Rijdend personeel'!$G$64+'Rijdend personeel'!$G$66)/'Rijdend personeel'!$G$68)*Reis!M83))","v":0},{"$f":"IF(Reis!N77<1,0,((('Rijdend personeel'!$G$54+'Rijdend personeel'!$G$56+'Rijdend personeel'!$G$58+'Rijdend personeel'!$G$60+'Rijdend personeel'!$G$62+'Rijdend personeel'!$G$64+'Rijdend personeel'!$G$66)/'Rijdend personeel'!$G$68)*Reis!N83))","v":0},{"$f":"IF(Reis!O77<1,0,((('Rijdend personeel'!$G$54+'Rijdend personeel'!$G$56+'Rijdend personeel'!$G$58+'Rijdend personeel'!$G$60+'Rijdend personeel'!$G$62+'Rijdend personeel'!$G$64+'Rijdend personeel'!$G$66)/'Rijdend personeel'!$G$68)*Reis!O83))","v":0},{"$f":"IF(Reis!P77<1,0,((('Rijdend personeel'!$G$54+'Rijdend personeel'!$G$56+'Rijdend personeel'!$G$58+'Rijdend personeel'!$G$60+'Rijdend personeel'!$G$62+'Rijdend personeel'!$G$64+'Rijdend personeel'!$G$66)/'Rijdend personeel'!$G$68)*Reis!P83))","v":0},{"$f":"IF(Reis!Q77<1,0,((('Rijdend personeel'!$G$54+'Rijdend personeel'!$G$56+'Rijdend personeel'!$G$58+'Rijdend personeel'!$G$60+'Rijdend personeel'!$G$62+'Rijdend personeel'!$G$64+'Rijdend personeel'!$G$66)/'Rijdend personeel'!$G$68)*Reis!Q83))","v":0},{"$f":"IF(Reis!R77<1,0,((('Rijdend personeel'!$G$54+'Rijdend personeel'!$G$56+'Rijdend personeel'!$G$58+'Rijdend personeel'!$G$60+'Rijdend personeel'!$G$62+'Rijdend personeel'!$G$64+'Rijdend personeel'!$G$66)/'Rijdend personeel'!$G$68)*Reis!R83))","v":0},{"$f":"IF(Reis!S77<1,0,((('Rijdend personeel'!$G$54+'Rijdend personeel'!$G$56+'Rijdend personeel'!$G$58+'Rijdend personeel'!$G$60+'Rijdend personeel'!$G$62+'Rijdend personeel'!$G$64+'Rijdend personeel'!$G$66)/'Rijdend personeel'!$G$68)*Reis!S83))","v":0},{"$f":"IF(Reis!T77<1,0,((('Rijdend personeel'!$G$54+'Rijdend personeel'!$G$56+'Rijdend personeel'!$G$58+'Rijdend personeel'!$G$60+'Rijdend personeel'!$G$62+'Rijdend personeel'!$G$64+'Rijdend personeel'!$G$66)/'Rijdend personeel'!$G$68)*Reis!T83))","v":0}]
[null,null,"Extra bonussen zondag + feestdag",null,{"$f":"IF(Reis!F88>0,0,IF(Reis!F83=\"\",\"\",IF(Reis!F83=1,Reis!AD81,IF(Reis!F83=2,Reis!AD81+Reis!AD82,IF(Reis!F83=3,Reis!AD81+Reis!AD82+Reis!AD83)))))","v":""},{"$f":"IF(Reis!G88>0,0,IF(Reis!G83=\"\",\"\",IF(Reis!G83=1,Reis!AE81,IF(Reis!G83=2,Reis!AE81+Reis!AE82,IF(Reis!G83=3,Reis!AE81+Reis!AE82+Reis!AE83)))))","v":""},{"$f":"IF(Reis!H88>0,0,IF(Reis!H83=\"\",\"\",IF(Reis!H83=1,Reis!AF81,IF(Reis!H83=2,Reis!AF81+Reis!AF82,IF(Reis!H83=3,Reis!AF81+Reis!AF82+Reis!AF83)))))","v":""},{"$f":"IF(Reis!I88>0,0,IF(Reis!I83=\"\",\"\",IF(Reis!I83=1,Reis!AG81,IF(Reis!I83=2,Reis!AG81+Reis!AG82,IF(Reis!I83=3,Reis!AG81+Reis!AG82+Reis!AG83)))))","v":""},{"$f":"IF(Reis!J88>0,0,IF(Reis!J83=\"\",\"\",IF(Reis!J83=1,Reis!AH81,IF(Reis!J83=2,Reis!AH81+Reis!AH82,IF(Reis!J83=3,Reis!AH81+Reis!AH82+Reis!AH83)))))","v":""},{"$f":"IF(Reis!K88>0,0,IF(Reis!K83=\"\",\"\",IF(Reis!K83=1,Reis!AI81,IF(Reis!K83=2,Reis!AI81+Reis!AI82,IF(Reis!K83=3,Reis!AI81+Reis!AI82+Reis!AI83)))))","v":""},{"$f":"IF(Reis!L88>0,0,IF(Reis!L83=\"\",\"\",IF(Reis!L83=1,Reis!AJ81,IF(Reis!L83=2,Reis!AJ81+Reis!AJ82,IF(Reis!L83=3,Reis!AJ81+Reis!AJ82+Reis!AJ83)))))","v":""},{"$f":"IF(Reis!M88>0,0,IF(Reis!M83=\"\",\"\",IF(Reis!M83=1,Reis!AK81,IF(Reis!M83=2,Reis!AK81+Reis!AK82,IF(Reis!M83=3,Reis!AK81+Reis!AK82+Reis!AK83)))))","v":""},{"$f":"IF(Reis!N88>0,0,IF(Reis!N83=\"\",\"\",IF(Reis!N83=1,Reis!AL81,IF(Reis!N83=2,Reis!AL81+Reis!AL82,IF(Reis!N83=3,Reis!AL81+Reis!AL82+Reis!AL83)))))","v":""},{"$f":"IF(Reis!O88>0,0,IF(Reis!O83=\"\",\"\",IF(Reis!O83=1,Reis!AM81,IF(Reis!O83=2,Reis!AM81+Reis!AM82,IF(Reis!O83=3,Reis!AM81+Reis!AM82+Reis!AM83)))))","v":""},{"$f":"IF(Reis!P88>0,0,IF(Reis!P83=\"\",\"\",IF(Reis!P83=1,Reis!AN81,IF(Reis!P83=2,Reis!AN81+Reis!AN82,IF(Reis!P83=3,Reis!AN81+Reis!AN82+Reis!AN83)))))","v":""},{"$f":"IF(Reis!Q88>0,0,IF(Reis!Q83=\"\",\"\",IF(Reis!Q83=1,Reis!AO81,IF(Reis!Q83=2,Reis!AO81+Reis!AO82,IF(Reis!Q83=3,Reis!AO81+Reis!AO82+Reis!AO83)))))","v":""},{"$f":"IF(Reis!R88>0,0,IF(Reis!R83=\"\",\"\",IF(Reis!R83=1,Reis!AP81,IF(Reis!R83=2,Reis!AP81+Reis!AP82,IF(Reis!R83=3,Reis!AP81+Reis!AP82+Reis!AP83)))))","v":""},{"$f":"IF(Reis!S88>0,0,IF(Reis!S83=\"\",\"\",IF(Reis!S83=1,Reis!AQ81,IF(Reis!S83=2,Reis!AQ81+Reis!AQ82,IF(Reis!S83=3,Reis!AQ81+Reis!AQ82+Reis!AQ83)))))","v":""},{"$f":"IF(Reis!T88>0,0,IF(Reis!T83=\"\",\"\",IF(Reis!T83=1,Reis!AR81,IF(Reis!T83=2,Reis!AR81+Reis!AR82,IF(Reis!T83=3,Reis!AR81+Reis!AR82+Reis!AR83)))))","v":""}]
[null,null,"Maaltijdcheques",null,{"$f":"IF(Reis!F77<1,0,(('Rijdend personeel'!$G$70*Reis!F83)))","v":0},{"$f":"IF(Reis!G77<1,0,(('Rijdend personeel'!$G$70*Reis!G83)))","v":0},{"$f":"IF(Reis!H77<1,0,(('Rijdend personeel'!$G$70*Reis!H83)))","v":0},{"$f":"IF(Reis!I77<1,0,(('Rijdend personeel'!$G$70*Reis!I83)))","v":0},{"$f":"IF(Reis!J77<1,0,(('Rijdend personeel'!$G$70*Reis!J83)))","v":0},{"$f":"IF(Reis!K77<1,0,(('Rijdend personeel'!$G$70*Reis!K83)))","v":0},{"$f":"IF(Reis!L77<1,0,(('Rijdend personeel'!$G$70*Reis!L83)))","v":0},{"$f":"IF(Reis!M77<1,0,(('Rijdend personeel'!$G$70*Reis!M83)))","v":0},{"$f":"IF(Reis!N77<1,0,(('Rijdend personeel'!$G$70*Reis!N83)))","v":0},{"$f":"IF(Reis!O77<1,0,(('Rijdend personeel'!$G$70*Reis!O83)))","v":0},{"$f":"IF(Reis!P77<1,0,(('Rijdend personeel'!$G$70*Reis!P83)))","v":0},{"$f":"IF(Reis!Q77<1,0,(('Rijdend personeel'!$G$70*Reis!Q83)))","v":0},{"$f":"IF(Reis!R77<1,0,(('Rijdend personeel'!$G$70*Reis!R83)))","v":0},{"$f":"IF(Reis!S77<1,0,(('Rijdend personeel'!$G$70*Reis!S83)))","v":0},{"$f":"IF(Reis!T77<1,0,(('Rijdend personeel'!$G$70*Reis!T83)))","v":0}]
[null,null,"Extra loonkosten alle CH"]
[null,null,"Totale loonkost alle CH",null,{"$f":"IF(Reis!F77<1,0,(E71+E72+E73+E74+E75+E76+E78+E77+E79+E80+E81+E82+E83+E85+E84))","v":{"$error":"#DIV/0!"}},{"$f":"IF(Reis!G77<1,0,(F71+F72+F73+F74+F75+F76+F78+F77+F79+F80+F81+F82+F83+F85+F84))","v":0},{"$f":"IF(Reis!H77<1,0,(G71+G72+G73+G74+G75+G76+G78+G77+G79+G80+G81+G82+G83+G85+G84))","v":0},{"$f":"IF(Reis!I77<1,0,(H71+H72+H73+H74+H75+H76+H78+H77+H79+H80+H81+H82+H83+H85+H84))","v":0},{"$f":"IF(Reis!J77<1,0,(I71+I72+I73+I74+I75+I76+I78+I77+I79+I80+I81+I82+I83+I85+I84))","v":0},{"$f":"IF(Reis!K77<1,0,(J71+J72+J73+J74+J75+J76+J78+J77+J79+J80+J81+J82+J83+J85+J84))","v":0},{"$f":"IF(Reis!L77<1,0,(K71+K72+K73+K74+K75+K76+K78+K77+K79+K80+K81+K82+K83+K85+K84))","v":0},{"$f":"IF(Reis!M77<1,0,(L71+L72+L73+L74+L75+L76+L78+L77+L79+L80+L81+L82+L83+L85+L84))","v":0},{"$f":"IF(Reis!N77<1,0,(M71+M72+M73+M74+M75+M76+M78+M77+M79+M80+M81+M82+M83+M85+M84))","v":0},{"$f":"IF(Reis!O77<1,0,(N71+N72+N73+N74+N75+N76+N78+N77+N79+N80+N81+N82+N83+N85+N84))","v":0},{"$f":"IF(Reis!P77<1,0,(O71+O72+O73+O74+O75+O76+O78+O77+O79+O80+O81+O82+O83+O85+O84))","v":0},{"$f":"IF(Reis!Q77<1,0,(P71+P72+P73+P74+P75+P76+P78+P77+P79+P80+P81+P82+P83+P85+P84))","v":0},{"$f":"IF(Reis!R77<1,0,(Q71+Q72+Q73+Q74+Q75+Q76+Q78+Q77+Q79+Q80+Q81+Q82+Q83+Q85+Q84))","v":0},{"$f":"IF(Reis!S77<1,0,(R71+R72+R73+R74+R75+R76+R78+R77+R79+R80+R81+R82+R83+R85+R84))","v":0},{"$f":"IF(Reis!T77<1,0,(S71+S72+S73+S74+S75+S76+S78+S77+S79+S80+S81+S82+S83+S85+S84))","v":0}]
[]
[]
[null,null,null,null,null,null,"Coût personnel roulant ",null,null,{"$f":"Bestemmingen!W14","v":""},null,{"$f":"Bestemmingen!S14","v":"vehicule1"}]
[]
[]
[]
[]
[null,null,null,null,"dag","dag","dag","dag","dag","dag","dag","dag","dag","dag","dag","dag","dag","dag","dag"]
[null,null,null,null,1,2,3,4,5,6,7,8,9,10,11,12,13,14,15]
[null,null,"Diensttijd CH ENKEL",null,{"$f":"Reis!F116*24","v":0},{"$f":"Reis!G116*24","v":0},{"$f":"Reis!H116*24","v":0},{"$f":"Reis!I116*24","v":0},{"$f":"Reis!J116*24","v":0},{"$f":"Reis!K116*24","v":0},{"$f":"Reis!L116*24","v":0},{"$f":"Reis!M116*24","v":0},{"$f":"Reis!N116*24","v":0},{"$f":"Reis!O116*24","v":0},{"$f":"Reis!P116*24","v":0},{"$f":"Reis!Q116*24","v":0},{"$f":"Reis!R116*24","v":0},{"$f":"Reis!S116*24","v":0},{"$f":"Reis!T116*24","v":0}]
[null,null,"Diensttijd CH1 DUBBEL",null,{"$f":"Reis!F117*24","v":0},{"$f":"Reis!G117*24","v":0},{"$f":"Reis!H117*24","v":0},{"$f":"Reis!I117*24","v":0},{"$f":"Reis!J117*24","v":0},{"$f":"Reis!K117*24","v":0},{"$f":"Reis!L117*24","v":0},{"$f":"Reis!M117*24","v":0},{"$f":"Reis!N117*24","v":0},{"$f":"Reis!O117*24","v":0},{"$f":"Reis!P117*24","v":0},{"$f":"Reis!Q117*24","v":0},{"$f":"Reis!R117*24","v":0},{"$f":"Reis!S117*24","v":0},{"$f":"Reis!T117*24","v":0}]
[null,null,"Diensttijd CH2 DUBBEL",null,{"$f":"Reis!F118*24","v":0},{"$f":"Reis!G118*24","v":0},{"$f":"Reis!H118*24","v":0},{"$f":"Reis!I118*24","v":0},{"$f":"Reis!J118*24","v":0},{"$f":"Reis!K118*24","v":0},{"$f":"Reis!L118*24","v":0},{"$f":"Reis!M118*24","v":0},{"$f":"Reis!N118*24","v":0},{"$f":"Reis!O118*24","v":0},{"$f":"Reis!P118*24","v":0},{"$f":"Reis!Q118*24","v":0},{"$f":"Reis!R118*24","v":0},{"$f":"Reis!S118*24","v":0},{"$f":"Reis!T118*24","v":0}]
[null,null,"Bruto Sal CH ENKEL",null,{"$f":"IF(AND(E96>0,E96<=6,Reis!F107=\"Autre\"),('Rijdend personeel'!$G$50+'Rijdend personeel'!$G$42),IF(AND(E96>0,E96<=6),('Rijdend personeel'!$G$9+'Rijdend personeel'!$G$42),IF(AND(E96>6,E96<=12),'Rijdend personeel'!$G$11+'Rijdend personeel'!$G$42,IF(E96>0,'Rijdend personeel'!$G$11+(ROUNDUP(E96,0)-12)*'Rijdend personeel'!$G$13+'Rijdend personeel'!$G$42,0))))","v":0},{"$f":"IF(AND(F96>0,F96<=6,Reis!G107=\"Autre\"),('Rijdend personeel'!$G$50+'Rijdend personeel'!$G$42),IF(AND(F96>0,F96<=6),('Rijdend personeel'!$G$9+'Rijdend personeel'!$G$42),IF(AND(F96>6,F96<=12),'Rijdend personeel'!$G$11+'Rijdend personeel'!$G$42,IF(F96>0,'Rijdend personeel'!$G$11+(ROUNDUP(F96,0)-12)*'Rijdend personeel'!$G$13+'Rijdend personeel'!$G$42,0))))","v":0},{"$f":"IF(AND(G96>0,G96<=6,Reis!H107=\"Autre\"),('Rijdend personeel'!$G$50+'Rijdend personeel'!$G$42),IF(AND(G96>0,G96<=6),('Rijdend personeel'!$G$9+'Rijdend personeel'!$G$42),IF(AND(G96>6,G96<=12),'Rijdend personeel'!$G$11+'Rijdend personeel'!$G$42,IF(G96>0,'Rijdend personeel'!$G$11+(ROUNDUP(G96,0)-12)*'Rijdend personeel'!$G$13+'Rijdend personeel'!$G$42,0))))","v":0},{"$f":"IF(AND(H96>0,H96<=6,Reis!I107=\"Autre\"),('Rijdend personeel'!$G$50+'Rijdend personeel'!$G$42),IF(AND(H96>0,H96<=6),('Rijdend personeel'!$G$9+'Rijdend personeel'!$G$42),IF(AND(H96>6,H96<=12),'Rijdend personeel'!$G$11+'Rijdend personeel'!$G$42,IF(H96>0,'Rijdend personeel'!$G$11+(ROUNDUP(H96,0)-12)*'Rijdend personeel'!$G$13+'Rijdend personeel'!$G$42,0))))","v":0},{"$f":"IF(AND(I96>0,I96<=6,Reis!J107=\"Autre\"),('Rijdend personeel'!$G$50+'Rijdend personeel'!$G$42),IF(AND(I96>0,I96<=6),('Rijdend personeel'!$G$9+'Rijdend personeel'!$G$42),IF(AND(I96>6,I96<=12),'Rijdend personeel'!$G$11+'Rijdend personeel'!$G$42,IF(I96>0,'Rijdend personeel'!$G$11+(ROUNDUP(I96,0)-12)*'Rijdend personeel'!$G$13+'Rijdend personeel'!$G$42,0))))","v":0},{"$f":"IF(AND(J96>0,J96<=6,Reis!K107=\"Autre\"),('Rijdend personeel'!$G$50+'Rijdend personeel'!$G$42),IF(AND(J96>0,J96<=6),('Rijdend personeel'!$G$9+'Rijdend personeel'!$G$42),IF(AND(J96>6,J96<=12),'Rijdend personeel'!$G$11+'Rijdend personeel'!$G$42,IF(J96>0,'Rijdend personeel'!$G$11+(ROUNDUP(J96,0)-12)*'Rijdend personeel'!$G$13+'Rijdend personeel'!$G$42,0))))","v":0},{"$f":"IF(AND(K96>0,K96<=6,Reis!L107=\"Autre\"),('Rijdend personeel'!$G$50+'Rijdend personeel'!$G$42),IF(AND(K96>0,K96<=6),('Rijdend personeel'!$G$9+'Rijdend personeel'!$G$42),IF(AND(K96>6,K96<=12),'Rijdend personeel'!$G$11+'Rijdend personeel'!$G$42,IF(K96>0,'Rijdend personeel'!$G$11+(ROUNDUP(K96,0)-12)*'Rijdend personeel'!$G$13+'Rijdend personeel'!$G$42,0))))","v":0},{"$f":"IF(AND(L96>0,L96<=6,Reis!M107=\"Autre\"),('Rijdend personeel'!$G$50+'Rijdend personeel'!$G$42),IF(AND(L96>0,L96<=6),('Rijdend personeel'!$G$9+'Rijdend personeel'!$G$42),IF(AND(L96>6,L96<=12),'Rijdend personeel'!$G$11+'Rijdend personeel'!$G$42,IF(L96>0,'Rijdend personeel'!$G$11+(ROUNDUP(L96,0)-12)*'Rijdend personeel'!$G$13+'Rijdend personeel'!$G$42,0))))","v":0},{"$f":"IF(AND(M96>0,M96<=6,Reis!N107=\"Autre\"),('Rijdend personeel'!$G$50+'Rijdend personeel'!$G$42),IF(AND(M96>0,M96<=6),('Rijdend personeel'!$G$9+'Rijdend personeel'!$G$42),IF(AND(M96>6,M96<=12),'Rijdend personeel'!$G$11+'Rijdend personeel'!$G$42,IF(M96>0,'Rijdend personeel'!$G$11+(ROUNDUP(M96,0)-12)*'Rijdend personeel'!$G$13+'Rijdend personeel'!$G$42,0))))","v":0},{"$f":"IF(AND(N96>0,N96<=6,Reis!O107=\"Autre\"),('Rijdend personeel'!$G$50+'Rijdend personeel'!$G$42),IF(AND(N96>0,N96<=6),('Rijdend personeel'!$G$9+'Rijdend personeel'!$G$42),IF(AND(N96>6,N96<=12),'Rijdend personeel'!$G$11+'Rijdend personeel'!$G$42,IF(N96>0,'Rijdend personeel'!$G$11+(ROUNDUP(N96,0)-12)*'Rijdend personeel'!$G$13+'Rijdend personeel'!$G$42,0))))","v":0},{"$f":"IF(AND(O96>0,O96<=6,Reis!P107=\"Autre\"),('Rijdend personeel'!$G$50+'Rijdend personeel'!$G$42),IF(AND(O96>0,O96<=6),('Rijdend personeel'!$G$9+'Rijdend personeel'!$G$42),IF(AND(O96>6,O96<=12),'Rijdend personeel'!$G$11+'Rijdend personeel'!$G$42,IF(O96>0,'Rijdend personeel'!$G$11+(ROUNDUP(O96,0)-12)*'Rijdend personeel'!$G$13+'Rijdend personeel'!$G$42,0))))","v":0},{"$f":"IF(AND(P96>0,P96<=6,Reis!Q107=\"Autre\"),('Rijdend personeel'!$G$50+'Rijdend personeel'!$G$42),IF(AND(P96>0,P96<=6),('Rijdend personeel'!$G$9+'Rijdend personeel'!$G$42),IF(AND(P96>6,P96<=12),'Rijdend personeel'!$G$11+'Rijdend personeel'!$G$42,IF(P96>0,'Rijdend personeel'!$G$11+(ROUNDUP(P96,0)-12)*'Rijdend personeel'!$G$13+'Rijdend personeel'!$G$42,0))))","v":0},{"$f":"IF(AND(Q96>0,Q96<=6,Reis!R107=\"Autre\"),('Rijdend personeel'!$G$50+'Rijdend personeel'!$G$42),IF(AND(Q96>0,Q96<=6),('Rijdend personeel'!$G$9+'Rijdend personeel'!$G$42),IF(AND(Q96>6,Q96<=12),'Rijdend personeel'!$G$11+'Rijdend personeel'!$G$42,IF(Q96>0,'Rijdend personeel'!$G$11+(ROUNDUP(Q96,0)-12)*'Rijdend personeel'!$G$13+'Rijdend personeel'!$G$42,0))))","v":0},{"$f":"IF(AND(R96>0,R96<=6,Reis!S107=\"Autre\"),('Rijdend personeel'!$G$50+'Rijdend personeel'!$G$42),IF(AND(R96>0,R96<=6),('Rijdend personeel'!$G$9+'Rijdend personeel'!$G$42),IF(AND(R96>6,R96<=12),'Rijdend personeel'!$G$11+'Rijdend personeel'!$G$42,IF(R96>0,'Rijdend personeel'!$G$11+(ROUNDUP(R96,0)-12)*'Rijdend personeel'!$G$13+'Rijdend personeel'!$G$42,0))))","v":0},{"$f":"IF(AND(S96>0,S96<=6,Reis!T107=\"Autre\"),('Rijdend personeel'!$G$50+'Rijdend personeel'!$G$42),IF(AND(S96>0,S96<=6),('Rijdend personeel'!$G$9+'Rijdend personeel'!$G$42),IF(AND(S96>6,S96<=12),'Rijdend personeel'!$G$11+'Rijdend personeel'!$G$42,IF(S96>0,'Rijdend personeel'!$G$11+(ROUNDUP(S96,0)-12)*'Rijdend personeel'!$G$13+'Rijdend personeel'!$G$42,0))))","v":0}]
[null,null,"Bruto Sal CH1 DUBBEL",null,{"$f":"IF(E97=0,0,IF(E97<12,'Rijdend personeel'!$G$16+'Rijdend personeel'!$G$42,IF(E97<13,'Rijdend personeel'!$G$18+'Rijdend personeel'!$G$42,IF(E97<14,'Rijdend personeel'!$G$20+'Rijdend personeel'!$G$42,IF(E97<15,'Rijdend personeel'!$G$22+'Rijdend personeel'!$G$42,IF(E97<16,'Rijdend personeel'!$G$24+'Rijdend personeel'!$G$42,IF(E97<17,'Rijdend personeel'!$G$26+'Rijdend personeel'!$G$42,IF(E97<18,'Rijdend personeel'!$G$28+'Rijdend personeel'!$G$42,IF(E97<19,'Rijdend personeel'!$G$30+'Rijdend personeel'!$G$42,IF(E97<20,'Rijdend personeel'!$G$32+'Rijdend personeel'!$G$42,IF(E97<21,'Rijdend personeel'!$G$34+'Rijdend personeel'!$G$42,IF(E97<22,'Rijdend personeel'!$G$36+'Rijdend personeel'!$G$42))))))))))))","v":0},{"$f":"IF(F97=0,0,IF(F97<12,'Rijdend personeel'!$G$16+'Rijdend personeel'!$G$42,IF(F97<13,'Rijdend personeel'!$G$18+'Rijdend personeel'!$G$42,IF(F97<14,'Rijdend personeel'!$G$20+'Rijdend personeel'!$G$42,IF(F97<15,'Rijdend personeel'!$G$22+'Rijdend personeel'!$G$42,IF(F97<16,'Rijdend personeel'!$G$24+'Rijdend personeel'!$G$42,IF(F97<17,'Rijdend personeel'!$G$26+'Rijdend personeel'!$G$42,IF(F97<18,'Rijdend personeel'!$G$28+'Rijdend personeel'!$G$42,IF(F97<19,'Rijdend personeel'!$G$30+'Rijdend personeel'!$G$42,IF(F97<20,'Rijdend personeel'!$G$32+'Rijdend personeel'!$G$42,IF(F97<21,'Rijdend personeel'!$G$34+'Rijdend personeel'!$G$42,IF(F97<22,'Rijdend personeel'!$G$36+'Rijdend personeel'!$G$42))))))))))))","v":0},{"$f":"IF(G97=0,0,IF(G97<12,'Rijdend personeel'!$G$16+'Rijdend personeel'!$G$42,IF(G97<13,'Rijdend personeel'!$G$18+'Rijdend personeel'!$G$42,IF(G97<14,'Rijdend personeel'!$G$20+'Rijdend personeel'!$G$42,IF(G97<15,'Rijdend personeel'!$G$22+'Rijdend personeel'!$G$42,IF(G97<16,'Rijdend personeel'!$G$24+'Rijdend personeel'!$G$42,IF(G97<17,'Rijdend personeel'!$G$26+'Rijdend personeel'!$G$42,IF(G97<18,'Rijdend personeel'!$G$28+'Rijdend personeel'!$G$42,IF(G97<19,'Rijdend personeel'!$G$30+'Rijdend personeel'!$G$42,IF(G97<20,'Rijdend personeel'!$G$32+'Rijdend personeel'!$G$42,IF(G97<21,'Rijdend personeel'!$G$34+'Rijdend personeel'!$G$42,IF(G97<22,'Rijdend personeel'!$G$36+'Rijdend personeel'!$G$42))))))))))))","v":0},{"$f":"IF(H97=0,0,IF(H97<12,'Rijdend personeel'!$G$16+'Rijdend personeel'!$G$42,IF(H97<13,'Rijdend personeel'!$G$18+'Rijdend personeel'!$G$42,IF(H97<14,'Rijdend personeel'!$G$20+'Rijdend personeel'!$G$42,IF(H97<15,'Rijdend personeel'!$G$22+'Rijdend personeel'!$G$42,IF(H97<16,'Rijdend personeel'!$G$24+'Rijdend personeel'!$G$42,IF(H97<17,'Rijdend personeel'!$G$26+'Rijdend personeel'!$G$42,IF(H97<18,'Rijdend personeel'!$G$28+'Rijdend personeel'!$G$42,IF(H97<19,'Rijdend personeel'!$G$30+'Rijdend personeel'!$G$42,IF(H97<20,'Rijdend personeel'!$G$32+'Rijdend personeel'!$G$42,IF(H97<21,'Rijdend personeel'!$G$34+'Rijdend personeel'!$G$42,IF(H97<22,'Rijdend personeel'!$G$36+'Rijdend personeel'!$G$42))))))))))))","v":0},{"$f":"IF(I97=0,0,IF(I97<12,'Rijdend personeel'!$G$16+'Rijdend personeel'!$G$42,IF(I97<13,'Rijdend personeel'!$G$18+'Rijdend personeel'!$G$42,IF(I97<14,'Rijdend personeel'!$G$20+'Rijdend personeel'!$G$42,IF(I97<15,'Rijdend personeel'!$G$22+'Rijdend personeel'!$G$42,IF(I97<16,'Rijdend personeel'!$G$24+'Rijdend personeel'!$G$42,IF(I97<17,'Rijdend personeel'!$G$26+'Rijdend personeel'!$G$42,IF(I97<18,'Rijdend personeel'!$G$28+'Rijdend personeel'!$G$42,IF(I97<19,'Rijdend personeel'!$G$30+'Rijdend personeel'!$G$42,IF(I97<20,'Rijdend personeel'!$G$32+'Rijdend personeel'!$G$42,IF(I97<21,'Rijdend personeel'!$G$34+'Rijdend personeel'!$G$42,IF(I97<22,'Rijdend personeel'!$G$36+'Rijdend personeel'!$G$42))))))))))))","v":0},{"$f":"IF(J97=0,0,IF(J97<12,'Rijdend personeel'!$G$16+'Rijdend personeel'!$G$42,IF(J97<13,'Rijdend personeel'!$G$18+'Rijdend personeel'!$G$42,IF(J97<14,'Rijdend personeel'!$G$20+'Rijdend personeel'!$G$42,IF(J97<15,'Rijdend personeel'!$G$22+'Rijdend personeel'!$G$42,IF(J97<16,'Rijdend personeel'!$G$24+'Rijdend personeel'!$G$42,IF(J97<17,'Rijdend personeel'!$G$26+'Rijdend personeel'!$G$42,IF(J97<18,'Rijdend personeel'!$G$28+'Rijdend personeel'!$G$42,IF(J97<19,'Rijdend personeel'!$G$30+'Rijdend personeel'!$G$42,IF(J97<20,'Rijdend personeel'!$G$32+'Rijdend personeel'!$G$42,IF(J97<21,'Rijdend personeel'!$G$34+'Rijdend personeel'!$G$42,IF(J97<22,'Rijdend personeel'!$G$36+'Rijdend personeel'!$G$42))))))))))))","v":0},{"$f":"IF(K97=0,0,IF(K97<12,'Rijdend personeel'!$G$16+'Rijdend personeel'!$G$42,IF(K97<13,'Rijdend personeel'!$G$18+'Rijdend personeel'!$G$42,IF(K97<14,'Rijdend personeel'!$G$20+'Rijdend personeel'!$G$42,IF(K97<15,'Rijdend personeel'!$G$22+'Rijdend personeel'!$G$42,IF(K97<16,'Rijdend personeel'!$G$24+'Rijdend personeel'!$G$42,IF(K97<17,'Rijdend personeel'!$G$26+'Rijdend personeel'!$G$42,IF(K97<18,'Rijdend personeel'!$G$28+'Rijdend personeel'!$G$42,IF(K97<19,'Rijdend personeel'!$G$30+'Rijdend personeel'!$G$42,IF(K97<20,'Rijdend personeel'!$G$32+'Rijdend personeel'!$G$42,IF(K97<21,'Rijdend personeel'!$G$34+'Rijdend personeel'!$G$42,IF(K97<22,'Rijdend personeel'!$G$36+'Rijdend personeel'!$G$42))))))))))))","v":0},{"$f":"IF(L97=0,0,IF(L97<12,'Rijdend personeel'!$G$16+'Rijdend personeel'!$G$42,IF(L97<13,'Rijdend personeel'!$G$18+'Rijdend personeel'!$G$42,IF(L97<14,'Rijdend personeel'!$G$20+'Rijdend personeel'!$G$42,IF(L97<15,'Rijdend personeel'!$G$22+'Rijdend personeel'!$G$42,IF(L97<16,'Rijdend personeel'!$G$24+'Rijdend personeel'!$G$42,IF(L97<17,'Rijdend personeel'!$G$26+'Rijdend personeel'!$G$42,IF(L97<18,'Rijdend personeel'!$G$28+'Rijdend personeel'!$G$42,IF(L97<19,'Rijdend personeel'!$G$30+'Rijdend personeel'!$G$42,IF(L97<20,'Rijdend personeel'!$G$32+'Rijdend personeel'!$G$42,IF(L97<21,'Rijdend personeel'!$G$34+'Rijdend personeel'!$G$42,IF(L97<22,'Rijdend personeel'!$G$36+'Rijdend personeel'!$G$42))))))))))))","v":0},{"$f":"IF(M97=0,0,IF(M97<12,'Rijdend personeel'!$G$16+'Rijdend personeel'!$G$42,IF(M97<13,'Rijdend personeel'!$G$18+'Rijdend personeel'!$G$42,IF(M97<14,'Rijdend personeel'!$G$20+'Rijdend personeel'!$G$42,IF(M97<15,'Rijdend personeel'!$G$22+'Rijdend personeel'!$G$42,IF(M97<16,'Rijdend personeel'!$G$24+'Rijdend personeel'!$G$42,IF(M97<17,'Rijdend personeel'!$G$26+'Rijdend personeel'!$G$42,IF(M97<18,'Rijdend personeel'!$G$28+'Rijdend personeel'!$G$42,IF(M97<19,'Rijdend personeel'!$G$30+'Rijdend personeel'!$G$42,IF(M97<20,'Rijdend personeel'!$G$32+'Rijdend personeel'!$G$42,IF(M97<21,'Rijdend personeel'!$G$34+'Rijdend personeel'!$G$42,IF(M97<22,'Rijdend personeel'!$G$36+'Rijdend personeel'!$G$42))))))))))))","v":0},{"$f":"IF(N97=0,0,IF(N97<12,'Rijdend personeel'!$G$16+'Rijdend personeel'!$G$42,IF(N97<13,'Rijdend personeel'!$G$18+'Rijdend personeel'!$G$42,IF(N97<14,'Rijdend personeel'!$G$20+'Rijdend personeel'!$G$42,IF(N97<15,'Rijdend personeel'!$G$22+'Rijdend personeel'!$G$42,IF(N97<16,'Rijdend personeel'!$G$24+'Rijdend personeel'!$G$42,IF(N97<17,'Rijdend personeel'!$G$26+'Rijdend personeel'!$G$42,IF(N97<18,'Rijdend personeel'!$G$28+'Rijdend personeel'!$G$42,IF(N97<19,'Rijdend personeel'!$G$30+'Rijdend personeel'!$G$42,IF(N97<20,'Rijdend personeel'!$G$32+'Rijdend personeel'!$G$42,IF(N97<21,'Rijdend personeel'!$G$34+'Rijdend personeel'!$G$42,IF(N97<22,'Rijdend personeel'!$G$36+'Rijdend personeel'!$G$42))))))))))))","v":0},{"$f":"IF(O97=0,0,IF(O97<12,'Rijdend personeel'!$G$16+'Rijdend personeel'!$G$42,IF(O97<13,'Rijdend personeel'!$G$18+'Rijdend personeel'!$G$42,IF(O97<14,'Rijdend personeel'!$G$20+'Rijdend personeel'!$G$42,IF(O97<15,'Rijdend personeel'!$G$22+'Rijdend personeel'!$G$42,IF(O97<16,'Rijdend personeel'!$G$24+'Rijdend personeel'!$G$42,IF(O97<17,'Rijdend personeel'!$G$26+'Rijdend personeel'!$G$42,IF(O97<18,'Rijdend personeel'!$G$28+'Rijdend personeel'!$G$42,IF(O97<19,'Rijdend personeel'!$G$30+'Rijdend personeel'!$G$42,IF(O97<20,'Rijdend personeel'!$G$32+'Rijdend personeel'!$G$42,IF(O97<21,'Rijdend personeel'!$G$34+'Rijdend personeel'!$G$42,IF(O97<22,'Rijdend personeel'!$G$36+'Rijdend personeel'!$G$42))))))))))))","v":0},{"$f":"IF(P97=0,0,IF(P97<12,'Rijdend personeel'!$G$16+'Rijdend personeel'!$G$42,IF(P97<13,'Rijdend personeel'!$G$18+'Rijdend personeel'!$G$42,IF(P97<14,'Rijdend personeel'!$G$20+'Rijdend personeel'!$G$42,IF(P97<15,'Rijdend personeel'!$G$22+'Rijdend personeel'!$G$42,IF(P97<16,'Rijdend personeel'!$G$24+'Rijdend personeel'!$G$42,IF(P97<17,'Rijdend personeel'!$G$26+'Rijdend personeel'!$G$42,IF(P97<18,'Rijdend personeel'!$G$28+'Rijdend personeel'!$G$42,IF(P97<19,'Rijdend personeel'!$G$30+'Rijdend personeel'!$G$42,IF(P97<20,'Rijdend personeel'!$G$32+'Rijdend personeel'!$G$42,IF(P97<21,'Rijdend personeel'!$G$34+'Rijdend personeel'!$G$42,IF(P97<22,'Rijdend personeel'!$G$36+'Rijdend personeel'!$G$42))))))))))))","v":0},{"$f":"IF(Q97=0,0,IF(Q97<12,'Rijdend personeel'!$G$16+'Rijdend personeel'!$G$42,IF(Q97<13,'Rijdend personeel'!$G$18+'Rijdend personeel'!$G$42,IF(Q97<14,'Rijdend personeel'!$G$20+'Rijdend personeel'!$G$42,IF(Q97<15,'Rijdend personeel'!$G$22+'Rijdend personeel'!$G$42,IF(Q97<16,'Rijdend personeel'!$G$24+'Rijdend personeel'!$G$42,IF(Q97<17,'Rijdend personeel'!$G$26+'Rijdend personeel'!$G$42,IF(Q97<18,'Rijdend personeel'!$G$28+'Rijdend personeel'!$G$42,IF(Q97<19,'Rijdend personeel'!$G$30+'Rijdend personeel'!$G$42,IF(Q97<20,'Rijdend personeel'!$G$32+'Rijdend personeel'!$G$42,IF(Q97<21,'Rijdend personeel'!$G$34+'Rijdend personeel'!$G$42,IF(Q97<22,'Rijdend personeel'!$G$36+'Rijdend personeel'!$G$42))))))))))))","v":0},{"$f":"IF(R97=0,0,IF(R97<12,'Rijdend personeel'!$G$16+'Rijdend personeel'!$G$42,IF(R97<13,'Rijdend personeel'!$G$18+'Rijdend personeel'!$G$42,IF(R97<14,'Rijdend personeel'!$G$20+'Rijdend personeel'!$G$42,IF(R97<15,'Rijdend personeel'!$G$22+'Rijdend personeel'!$G$42,IF(R97<16,'Rijdend personeel'!$G$24+'Rijdend personeel'!$G$42,IF(R97<17,'Rijdend personeel'!$G$26+'Rijdend personeel'!$G$42,IF(R97<18,'Rijdend personeel'!$G$28+'Rijdend personeel'!$G$42,IF(R97<19,'Rijdend personeel'!$G$30+'Rijdend personeel'!$G$42,IF(R97<20,'Rijdend personeel'!$G$32+'Rijdend personeel'!$G$42,IF(R97<21,'Rijdend personeel'!$G$34+'Rijdend personeel'!$G$42,IF(R97<22,'Rijdend personeel'!$G$36+'Rijdend personeel'!$G$42))))))))))))","v":0},{"$f":"IF(S97=0,0,IF(S97<12,'Rijdend personeel'!$G$16+'Rijdend personeel'!$G$42,IF(S97<13,'Rijdend personeel'!$G$18+'Rijdend personeel'!$G$42,IF(S97<14,'Rijdend personeel'!$G$20+'Rijdend personeel'!$G$42,IF(S97<15,'Rijdend personeel'!$G$22+'Rijdend personeel'!$G$42,IF(S97<16,'Rijdend personeel'!$G$24+'Rijdend personeel'!$G$42,IF(S97<17,'Rijdend personeel'!$G$26+'Rijdend personeel'!$G$42,IF(S97<18,'Rijdend personeel'!$G$28+'Rijdend personeel'!$G$42,IF(S97<19,'Rijdend personeel'!$G$30+'Rijdend personeel'!$G$42,IF(S97<20,'Rijdend personeel'!$G$32+'Rijdend personeel'!$G$42,IF(S97<21,'Rijdend personeel'!$G$34+'Rijdend personeel'!$G$42,IF(S97<22,'Rijdend personeel'!$G$36+'Rijdend personeel'!$G$42))))))))))))","v":0}]
[null,null,"Bruto Sal CH2 DUBBEL",null,{"$f":"IF(E98=0,0,IF(E98<12,'Rijdend personeel'!$G$16+'Rijdend personeel'!$G$42,IF(E98<13,'Rijdend personeel'!$G$18+'Rijdend personeel'!$G$42,IF(E98<14,'Rijdend personeel'!$G$20+'Rijdend personeel'!$G$42,IF(E98<15,'Rijdend personeel'!$G$22+'Rijdend personeel'!$G$42,IF(E98<16,'Rijdend personeel'!$G$24+'Rijdend personeel'!$G$42,IF(E98<17,'Rijdend personeel'!$G$26+'Rijdend personeel'!$G$42,IF(E98<18,'Rijdend personeel'!$G$28+'Rijdend personeel'!$G$42,IF(E98<19,'Rijdend personeel'!$G$30+'Rijdend personeel'!$G$42,IF(E98<20,'Rijdend personeel'!$G$32+'Rijdend personeel'!$G$42,IF(E98<21,'Rijdend personeel'!$G$34+'Rijdend personeel'!$G$42,IF(E98<22,'Rijdend personeel'!$G$36+'Rijdend personeel'!$G$42))))))))))))","v":0},{"$f":"IF(F98=0,0,IF(F98<12,'Rijdend personeel'!$G$16+'Rijdend personeel'!$G$42,IF(F98<13,'Rijdend personeel'!$G$18+'Rijdend personeel'!$G$42,IF(F98<14,'Rijdend personeel'!$G$20+'Rijdend personeel'!$G$42,IF(F98<15,'Rijdend personeel'!$G$22+'Rijdend personeel'!$G$42,IF(F98<16,'Rijdend personeel'!$G$24+'Rijdend personeel'!$G$42,IF(F98<17,'Rijdend personeel'!$G$26+'Rijdend personeel'!$G$42,IF(F98<18,'Rijdend personeel'!$G$28+'Rijdend personeel'!$G$42,IF(F98<19,'Rijdend personeel'!$G$30+'Rijdend personeel'!$G$42,IF(F98<20,'Rijdend personeel'!$G$32+'Rijdend personeel'!$G$42,IF(F98<21,'Rijdend personeel'!$G$34+'Rijdend personeel'!$G$42,IF(F98<22,'Rijdend personeel'!$G$36+'Rijdend personeel'!$G$42))))))))))))","v":0},{"$f":"IF(G98=0,0,IF(G98<12,'Rijdend personeel'!$G$16+'Rijdend personeel'!$G$42,IF(G98<13,'Rijdend personeel'!$G$18+'Rijdend personeel'!$G$42,IF(G98<14,'Rijdend personeel'!$G$20+'Rijdend personeel'!$G$42,IF(G98<15,'Rijdend personeel'!$G$22+'Rijdend personeel'!$G$42,IF(G98<16,'Rijdend personeel'!$G$24+'Rijdend personeel'!$G$42,IF(G98<17,'Rijdend personeel'!$G$26+'Rijdend personeel'!$G$42,IF(G98<18,'Rijdend personeel'!$G$28+'Rijdend personeel'!$G$42,IF(G98<19,'Rijdend personeel'!$G$30+'Rijdend personeel'!$G$42,IF(G98<20,'Rijdend personeel'!$G$32+'Rijdend personeel'!$G$42,IF(G98<21,'Rijdend personeel'!$G$34+'Rijdend personeel'!$G$42,IF(G98<22,'Rijdend personeel'!$G$36+'Rijdend personeel'!$G$42))))))))))))","v":0},{"$f":"IF(H98=0,0,IF(H98<12,'Rijdend personeel'!$G$16+'Rijdend personeel'!$G$42,IF(H98<13,'Rijdend personeel'!$G$18+'Rijdend personeel'!$G$42,IF(H98<14,'Rijdend personeel'!$G$20+'Rijdend personeel'!$G$42,IF(H98<15,'Rijdend personeel'!$G$22+'Rijdend personeel'!$G$42,IF(H98<16,'Rijdend personeel'!$G$24+'Rijdend personeel'!$G$42,IF(H98<17,'Rijdend personeel'!$G$26+'Rijdend personeel'!$G$42,IF(H98<18,'Rijdend personeel'!$G$28+'Rijdend personeel'!$G$42,IF(H98<19,'Rijdend personeel'!$G$30+'Rijdend personeel'!$G$42,IF(H98<20,'Rijdend personeel'!$G$32+'Rijdend personeel'!$G$42,IF(H98<21,'Rijdend personeel'!$G$34+'Rijdend personeel'!$G$42,IF(H98<22,'Rijdend personeel'!$G$36+'Rijdend personeel'!$G$42))))))))))))","v":0},{"$f":"IF(I98=0,0,IF(I98<12,'Rijdend personeel'!$G$16+'Rijdend personeel'!$G$42,IF(I98<13,'Rijdend personeel'!$G$18+'Rijdend personeel'!$G$42,IF(I98<14,'Rijdend personeel'!$G$20+'Rijdend personeel'!$G$42,IF(I98<15,'Rijdend personeel'!$G$22+'Rijdend personeel'!$G$42,IF(I98<16,'Rijdend personeel'!$G$24+'Rijdend personeel'!$G$42,IF(I98<17,'Rijdend personeel'!$G$26+'Rijdend personeel'!$G$42,IF(I98<18,'Rijdend personeel'!$G$28+'Rijdend personeel'!$G$42,IF(I98<19,'Rijdend personeel'!$G$30+'Rijdend personeel'!$G$42,IF(I98<20,'Rijdend personeel'!$G$32+'Rijdend personeel'!$G$42,IF(I98<21,'Rijdend personeel'!$G$34+'Rijdend personeel'!$G$42,IF(I98<22,'Rijdend personeel'!$G$36+'Rijdend personeel'!$G$42))))))))))))","v":0},{"$f":"IF(J98=0,0,IF(J98<12,'Rijdend personeel'!$G$16+'Rijdend personeel'!$G$42,IF(J98<13,'Rijdend personeel'!$G$18+'Rijdend personeel'!$G$42,IF(J98<14,'Rijdend personeel'!$G$20+'Rijdend personeel'!$G$42,IF(J98<15,'Rijdend personeel'!$G$22+'Rijdend personeel'!$G$42,IF(J98<16,'Rijdend personeel'!$G$24+'Rijdend personeel'!$G$42,IF(J98<17,'Rijdend personeel'!$G$26+'Rijdend personeel'!$G$42,IF(J98<18,'Rijdend personeel'!$G$28+'Rijdend personeel'!$G$42,IF(J98<19,'Rijdend personeel'!$G$30+'Rijdend personeel'!$G$42,IF(J98<20,'Rijdend personeel'!$G$32+'Rijdend personeel'!$G$42,IF(J98<21,'Rijdend personeel'!$G$34+'Rijdend personeel'!$G$42,IF(J98<22,'Rijdend personeel'!$G$36+'Rijdend personeel'!$G$42))))))))))))","v":0},{"$f":"IF(K98=0,0,IF(K98<12,'Rijdend personeel'!$G$16+'Rijdend personeel'!$G$42,IF(K98<13,'Rijdend personeel'!$G$18+'Rijdend personeel'!$G$42,IF(K98<14,'Rijdend personeel'!$G$20+'Rijdend personeel'!$G$42,IF(K98<15,'Rijdend personeel'!$G$22+'Rijdend personeel'!$G$42,IF(K98<16,'Rijdend personeel'!$G$24+'Rijdend personeel'!$G$42,IF(K98<17,'Rijdend personeel'!$G$26+'Rijdend personeel'!$G$42,IF(K98<18,'Rijdend personeel'!$G$28+'Rijdend personeel'!$G$42,IF(K98<19,'Rijdend personeel'!$G$30+'Rijdend personeel'!$G$42,IF(K98<20,'Rijdend personeel'!$G$32+'Rijdend personeel'!$G$42,IF(K98<21,'Rijdend personeel'!$G$34+'Rijdend personeel'!$G$42,IF(K98<22,'Rijdend personeel'!$G$36+'Rijdend personeel'!$G$42))))))))))))","v":0},{"$f":"IF(L98=0,0,IF(L98<12,'Rijdend personeel'!$G$16+'Rijdend personeel'!$G$42,IF(L98<13,'Rijdend personeel'!$G$18+'Rijdend personeel'!$G$42,IF(L98<14,'Rijdend personeel'!$G$20+'Rijdend personeel'!$G$42,IF(L98<15,'Rijdend personeel'!$G$22+'Rijdend personeel'!$G$42,IF(L98<16,'Rijdend personeel'!$G$24+'Rijdend personeel'!$G$42,IF(L98<17,'Rijdend personeel'!$G$26+'Rijdend personeel'!$G$42,IF(L98<18,'Rijdend personeel'!$G$28+'Rijdend personeel'!$G$42,IF(L98<19,'Rijdend personeel'!$G$30+'Rijdend personeel'!$G$42,IF(L98<20,'Rijdend personeel'!$G$32+'Rijdend personeel'!$G$42,IF(L98<21,'Rijdend personeel'!$G$34+'Rijdend personeel'!$G$42,IF(L98<22,'Rijdend personeel'!$G$36+'Rijdend personeel'!$G$42))))))))))))","v":0},{"$f":"IF(M98=0,0,IF(M98<12,'Rijdend personeel'!$G$16+'Rijdend personeel'!$G$42,IF(M98<13,'Rijdend personeel'!$G$18+'Rijdend personeel'!$G$42,IF(M98<14,'Rijdend personeel'!$G$20+'Rijdend personeel'!$G$42,IF(M98<15,'Rijdend personeel'!$G$22+'Rijdend personeel'!$G$42,IF(M98<16,'Rijdend personeel'!$G$24+'Rijdend personeel'!$G$42,IF(M98<17,'Rijdend personeel'!$G$26+'Rijdend personeel'!$G$42,IF(M98<18,'Rijdend personeel'!$G$28+'Rijdend personeel'!$G$42,IF(M98<19,'Rijdend personeel'!$G$30+'Rijdend personeel'!$G$42,IF(M98<20,'Rijdend personeel'!$G$32+'Rijdend personeel'!$G$42,IF(M98<21,'Rijdend personeel'!$G$34+'Rijdend personeel'!$G$42,IF(M98<22,'Rijdend personeel'!$G$36+'Rijdend personeel'!$G$42))))))))))))","v":0},{"$f":"IF(N98=0,0,IF(N98<12,'Rijdend personeel'!$G$16+'Rijdend personeel'!$G$42,IF(N98<13,'Rijdend personeel'!$G$18+'Rijdend personeel'!$G$42,IF(N98<14,'Rijdend personeel'!$G$20+'Rijdend personeel'!$G$42,IF(N98<15,'Rijdend personeel'!$G$22+'Rijdend personeel'!$G$42,IF(N98<16,'Rijdend personeel'!$G$24+'Rijdend personeel'!$G$42,IF(N98<17,'Rijdend personeel'!$G$26+'Rijdend personeel'!$G$42,IF(N98<18,'Rijdend personeel'!$G$28+'Rijdend personeel'!$G$42,IF(N98<19,'Rijdend personeel'!$G$30+'Rijdend personeel'!$G$42,IF(N98<20,'Rijdend personeel'!$G$32+'Rijdend personeel'!$G$42,IF(N98<21,'Rijdend personeel'!$G$34+'Rijdend personeel'!$G$42,IF(N98<22,'Rijdend personeel'!$G$36+'Rijdend personeel'!$G$42))))))))))))","v":0},{"$f":"IF(O98=0,0,IF(O98<12,'Rijdend personeel'!$G$16+'Rijdend personeel'!$G$42,IF(O98<13,'Rijdend personeel'!$G$18+'Rijdend personeel'!$G$42,IF(O98<14,'Rijdend personeel'!$G$20+'Rijdend personeel'!$G$42,IF(O98<15,'Rijdend personeel'!$G$22+'Rijdend personeel'!$G$42,IF(O98<16,'Rijdend personeel'!$G$24+'Rijdend personeel'!$G$42,IF(O98<17,'Rijdend personeel'!$G$26+'Rijdend personeel'!$G$42,IF(O98<18,'Rijdend personeel'!$G$28+'Rijdend personeel'!$G$42,IF(O98<19,'Rijdend personeel'!$G$30+'Rijdend personeel'!$G$42,IF(O98<20,'Rijdend personeel'!$G$32+'Rijdend personeel'!$G$42,IF(O98<21,'Rijdend personeel'!$G$34+'Rijdend personeel'!$G$42,IF(O98<22,'Rijdend personeel'!$G$36+'Rijdend personeel'!$G$42))))))))))))","v":0},{"$f":"IF(P98=0,0,IF(P98<12,'Rijdend personeel'!$G$16+'Rijdend personeel'!$G$42,IF(P98<13,'Rijdend personeel'!$G$18+'Rijdend personeel'!$G$42,IF(P98<14,'Rijdend personeel'!$G$20+'Rijdend personeel'!$G$42,IF(P98<15,'Rijdend personeel'!$G$22+'Rijdend personeel'!$G$42,IF(P98<16,'Rijdend personeel'!$G$24+'Rijdend personeel'!$G$42,IF(P98<17,'Rijdend personeel'!$G$26+'Rijdend personeel'!$G$42,IF(P98<18,'Rijdend personeel'!$G$28+'Rijdend personeel'!$G$42,IF(P98<19,'Rijdend personeel'!$G$30+'Rijdend personeel'!$G$42,IF(P98<20,'Rijdend personeel'!$G$32+'Rijdend personeel'!$G$42,IF(P98<21,'Rijdend personeel'!$G$34+'Rijdend personeel'!$G$42,IF(P98<22,'Rijdend personeel'!$G$36+'Rijdend personeel'!$G$42))))))))))))","v":0},{"$f":"IF(Q98=0,0,IF(Q98<12,'Rijdend personeel'!$G$16+'Rijdend personeel'!$G$42,IF(Q98<13,'Rijdend personeel'!$G$18+'Rijdend personeel'!$G$42,IF(Q98<14,'Rijdend personeel'!$G$20+'Rijdend personeel'!$G$42,IF(Q98<15,'Rijdend personeel'!$G$22+'Rijdend personeel'!$G$42,IF(Q98<16,'Rijdend personeel'!$G$24+'Rijdend personeel'!$G$42,IF(Q98<17,'Rijdend personeel'!$G$26+'Rijdend personeel'!$G$42,IF(Q98<18,'Rijdend personeel'!$G$28+'Rijdend personeel'!$G$42,IF(Q98<19,'Rijdend personeel'!$G$30+'Rijdend personeel'!$G$42,IF(Q98<20,'Rijdend personeel'!$G$32+'Rijdend personeel'!$G$42,IF(Q98<21,'Rijdend personeel'!$G$34+'Rijdend personeel'!$G$42,IF(Q98<22,'Rijdend personeel'!$G$36+'Rijdend personeel'!$G$42))))))))))))","v":0},{"$f":"IF(R98=0,0,IF(R98<12,'Rijdend personeel'!$G$16+'Rijdend personeel'!$G$42,IF(R98<13,'Rijdend personeel'!$G$18+'Rijdend personeel'!$G$42,IF(R98<14,'Rijdend personeel'!$G$20+'Rijdend personeel'!$G$42,IF(R98<15,'Rijdend personeel'!$G$22+'Rijdend personeel'!$G$42,IF(R98<16,'Rijdend personeel'!$G$24+'Rijdend personeel'!$G$42,IF(R98<17,'Rijdend personeel'!$G$26+'Rijdend personeel'!$G$42,IF(R98<18,'Rijdend personeel'!$G$28+'Rijdend personeel'!$G$42,IF(R98<19,'Rijdend personeel'!$G$30+'Rijdend personeel'!$G$42,IF(R98<20,'Rijdend personeel'!$G$32+'Rijdend personeel'!$G$42,IF(R98<21,'Rijdend personeel'!$G$34+'Rijdend personeel'!$G$42,IF(R98<22,'Rijdend personeel'!$G$36+'Rijdend personeel'!$G$42))))))))))))","v":0},{"$f":"IF(S98=0,0,IF(S98<12,'Rijdend personeel'!$G$16+'Rijdend personeel'!$G$42,IF(S98<13,'Rijdend personeel'!$G$18+'Rijdend personeel'!$G$42,IF(S98<14,'Rijdend personeel'!$G$20+'Rijdend personeel'!$G$42,IF(S98<15,'Rijdend personeel'!$G$22+'Rijdend personeel'!$G$42,IF(S98<16,'Rijdend personeel'!$G$24+'Rijdend personeel'!$G$42,IF(S98<17,'Rijdend personeel'!$G$26+'Rijdend personeel'!$G$42,IF(S98<18,'Rijdend personeel'!$G$28+'Rijdend personeel'!$G$42,IF(S98<19,'Rijdend personeel'!$G$30+'Rijdend personeel'!$G$42,IF(S98<20,'Rijdend personeel'!$G$32+'Rijdend personeel'!$G$42,IF(S98<21,'Rijdend personeel'!$G$34+'Rijdend personeel'!$G$42,IF(S98<22,'Rijdend personeel'!$G$36+'Rijdend personeel'!$G$42))))))))))))","v":0}]
[null,null,"Zondagsrust alle CH",null,{"$f":"Reis!F119*'Rijdend personeel'!$G$48","v":0},{"$f":"Reis!G119*'Rijdend personeel'!$G$48","v":0},{"$f":"Reis!H119*'Rijdend personeel'!$G$48","v":0},{"$f":"Reis!I119*'Rijdend personeel'!$G$48","v":0},{"$f":"Reis!J119*'Rijdend personeel'!$G$48","v":0},{"$f":"Reis!K119*'Rijdend personeel'!$G$48","v":0},{"$f":"Reis!L119*'Rijdend personeel'!$G$48","v":0},{"$f":"Reis!M119*'Rijdend personeel'!$G$48","v":0},{"$f":"Reis!N119*'Rijdend personeel'!$G$48","v":0},{"$f":"Reis!O119*'Rijdend personeel'!$G$48","v":0},{"$f":"Reis!P119*'Rijdend personeel'!$G$48","v":0},{"$f":"Reis!Q119*'Rijdend personeel'!$G$48","v":0},{"$f":"Reis!R119*'Rijdend personeel'!$G$48","v":0},{"$f":"Reis!S119*'Rijdend personeel'!$G$48","v":0},{"$f":"Reis!T119*'Rijdend personeel'!$G$48","v":0}]
[null,null,"Inactiviteitsdag alle CH",null,{"$f":"Reis!F120*'Rijdend personeel'!$G$50","v":0},{"$f":"Reis!G120*'Rijdend personeel'!$G$50","v":0},{"$f":"Reis!H120*'Rijdend personeel'!$G$50","v":0},{"$f":"Reis!I120*'Rijdend personeel'!$G$50","v":0},{"$f":"Reis!J120*'Rijdend personeel'!$G$50","v":0},{"$f":"Reis!K120*'Rijdend personeel'!$G$50","v":0},{"$f":"Reis!L120*'Rijdend personeel'!$G$50","v":0},{"$f":"Reis!M120*'Rijdend personeel'!$G$50","v":0},{"$f":"Reis!N120*'Rijdend personeel'!$G$50","v":0},{"$f":"Reis!O120*'Rijdend personeel'!$G$50","v":0},{"$f":"Reis!P120*'Rijdend personeel'!$G$50","v":0},{"$f":"Reis!Q120*'Rijdend personeel'!$G$50","v":0},{"$f":"Reis!R120*'Rijdend personeel'!$G$50","v":0},{"$f":"Reis!S120*'Rijdend personeel'!$G$50","v":0},{"$f":"Reis!T120*'Rijdend personeel'!$G$50","v":0}]
[null,null,"Eindejaarspremie alle CH",null,{"$f":"IF(Reis!F108<1,0,(('Rijdend personeel'!$G$46/'Rijdend personeel'!$G$68)*Reis!F114))","v":{"$error":"#DIV/0!"}},{"$f":"IF(Reis!G108<1,0,(('Rijdend personeel'!$G$46/'Rijdend personeel'!$G$68)*Reis!G114))","v":0},{"$f":"IF(Reis!H108<1,0,(('Rijdend personeel'!$G$46/'Rijdend personeel'!$G$68)*Reis!H114))","v":0},{"$f":"IF(Reis!I108<1,0,(('Rijdend personeel'!$G$46/'Rijdend personeel'!$G$68)*Reis!I114))","v":0},{"$f":"IF(Reis!J108<1,0,(('Rijdend personeel'!$G$46/'Rijdend personeel'!$G$68)*Reis!J114))","v":0},{"$f":"IF(Reis!K108<1,0,(('Rijdend personeel'!$G$46/'Rijdend personeel'!$G$68)*Reis!K114))","v":0},{"$f":"IF(Reis!L108<1,0,(('Rijdend personeel'!$G$46/'Rijdend personeel'!$G$68)*Reis!L114))","v":0},{"$f":"IF(Reis!M108<1,0,(('Rijdend personeel'!$G$46/'Rijdend personeel'!$G$68)*Reis!M114))","v":0},{"$f":"IF(Reis!N108<1,0,(('Rijdend personeel'!$G$46/'Rijdend personeel'!$G$68)*Reis!N114))","v":0},{"$f":"IF(Reis!O108<1,0,(('Rijdend personeel'!$G$46/'Rijdend personeel'!$G$68)*Reis!O114))","v":0},{"$f":"IF(Reis!P108<1,0,(('Rijdend personeel'!$G$46/'Rijdend personeel'!$G$68)*Reis!P114))","v":0},{"$f":"IF(Reis!Q108<1,0,(('Rijdend personeel'!$G$46/'Rijdend personeel'!$G$68)*Reis!Q114))","v":0},{"$f":"IF(Reis!R108<1,0,(('Rijdend personeel'!$G$46/'Rijdend personeel'!$G$68)*Reis!R114))","v":0},{"$f":"IF(Reis!S108<1,0,(('Rijdend personeel'!$G$46/'Rijdend personeel'!$G$68)*Reis!S114))","v":0},{"$f":"IF(Reis!T108<1,0,(('Rijdend personeel'!$G$46/'Rijdend personeel'!$G$68)*Reis!T114))","v":0}]
[null,null,"RSZ werkgever alle CH",null,{"$f":"IF(Reis!F108<1,0,((E99+E100+E101+E102+E103+E104)*1.08*'Rijdend personeel'!$G$52))","v":{"$error":"#DIV/0!"}},{"$f":"IF(Reis!G108<1,0,((F99+F100+F101+F102+F103+F104)*1.08*'Rijdend personeel'!$G$52))","v":0},{"$f":"IF(Reis!H108<1,0,((G99+G100+G101+G102+G103+G104)*1.08*'Rijdend personeel'!$G$52))","v":0},{"$f":"IF(Reis!I108<1,0,((H99+H100+H101+H102+H103+H104)*1.08*'Rijdend personeel'!$G$52))","v":0},{"$f":"IF(Reis!J108<1,0,((I99+I100+I101+I102+I103+I104)*1.08*'Rijdend personeel'!$G$52))","v":0},{"$f":"IF(Reis!K108<1,0,((J99+J100+J101+J102+J103+J104)*1.08*'Rijdend personeel'!$G$52))","v":0},{"$f":"IF(Reis!L108<1,0,((K99+K100+K101+K102+K103+K104)*1.08*'Rijdend personeel'!$G$52))","v":0},{"$f":"IF(Reis!M108<1,0,((L99+L100+L101+L102+L103+L104)*1.08*'Rijdend personeel'!$G$52))","v":0},{"$f":"IF(Reis!N108<1,0,((M99+M100+M101+M102+M103+M104)*1.08*'Rijdend personeel'!$G$52))","v":0},{"$f":"IF(Reis!O108<1,0,((N99+N100+N101+N102+N103+N104)*1.08*'Rijdend personeel'!$G$52))","v":0},{"$f":"IF(Reis!P108<1,0,((O99+O100+O101+O102+O103+O104)*1.08*'Rijdend personeel'!$G$52))","v":0},{"$f":"IF(Reis!Q108<1,0,((P99+P100+P101+P102+P103+P104)*1.08*'Rijdend personeel'!$G$52))","v":0},{"$f":"IF(Reis!R108<1,0,((Q99+Q100+Q101+Q102+Q103+Q104)*1.08*'Rijdend personeel'!$G$52))","v":0},{"$f":"IF(Reis!S108<1,0,((R99+R100+R101+R102+R103+R104)*1.08*'Rijdend personeel'!$G$52))","v":0},{"$f":"IF(Reis!T108<1,0,((S99+S100+S101+S102+S103+S104)*1.08*'Rijdend personeel'!$G$52))","v":0}]
[null,null,"Eco-cheques alle CH",null,{"$f":"IF(Reis!F108<1,0,(('Rijdend personeel'!$G$44/'Rijdend personeel'!$G$68)*Reis!F114))","v":{"$error":"#DIV/0!"}},{"$f":"IF(Reis!G108<1,0,(('Rijdend personeel'!$G$44/'Rijdend personeel'!$G$68)*Reis!G114))","v":0},{"$f":"IF(Reis!H108<1,0,(('Rijdend personeel'!$G$44/'Rijdend personeel'!$G$68)*Reis!H114))","v":0},{"$f":"IF(Reis!I108<1,0,(('Rijdend personeel'!$G$44/'Rijdend personeel'!$G$68)*Reis!I114))","v":0},{"$f":"IF(Reis!J108<1,0,(('Rijdend personeel'!$G$44/'Rijdend personeel'!$G$68)*Reis!J114))","v":0},{"$f":"IF(Reis!K108<1,0,(('Rijdend personeel'!$G$44/'Rijdend personeel'!$G$68)*Reis!K114))","v":0},{"$f":"IF(Reis!L108<1,0,(('Rijdend personeel'!$G$44/'Rijdend personeel'!$G$68)*Reis!L114))","v":0},{"$f":"IF(Reis!M108<1,0,(('Rijdend personeel'!$G$44/'Rijdend personeel'!$G$68)*Reis!M114))","v":0},{"$f":"IF(Reis!N108<1,0,(('Rijdend personeel'!$G$44/'Rijdend personeel'!$G$68)*Reis!N114))","v":0},{"$f":"IF(Reis!O108<1,0,(('Rijdend personeel'!$G$44/'Rijdend personeel'!$G$68)*Reis!O114))","v":0},{"$f":"IF(Reis!P108<1,0,(('Rijdend personeel'!$G$44/'Rijdend personeel'!$G$68)*Reis!P114))","v":0},{"$f":"IF(Reis!Q108<1,0,(('Rijdend personeel'!$G$44/'Rijdend personeel'!$G$68)*Reis!Q114))","v":0},{"$f":"IF(Reis!R108<1,0,(('Rijdend personeel'!$G$44/'Rijdend personeel'!$G$68)*Reis!R114))","v":0},{"$f":"IF(Reis!S108<1,0,(('Rijdend personeel'!$G$44/'Rijdend personeel'!$G$68)*Reis!S114))","v":0},{"$f":"IF(Reis!T108<1,0,(('Rijdend personeel'!$G$44/'Rijdend personeel'!$G$68)*Reis!T114))","v":0}]
[null,null,"ARAB CH ENKEL",null,{"$f":"ROUNDUP(E96,0)*'Rijdend personeel'!$G$40","v":0},{"$f":"ROUNDUP(F96,0)*'Rijdend personeel'!$G$40","v":0},{"$f":"ROUNDUP(G96,0)*'Rijdend personeel'!$G$40","v":0},{"$f":"ROUNDUP(H96,0)*'Rijdend personeel'!$G$40","v":0},{"$f":"ROUNDUP(I96,0)*'Rijdend personeel'!$G$40","v":0},{"$f":"ROUNDUP(J96,0)*'Rijdend personeel'!$G$40","v":0},{"$f":"ROUNDUP(K96,0)*'Rijdend personeel'!$G$40","v":0},{"$f":"ROUNDUP(L96,0)*'Rijdend personeel'!$G$40","v":0},{"$f":"ROUNDUP(M96,0)*'Rijdend personeel'!$G$40","v":0},{"$f":"ROUNDUP(N96,0)*'Rijdend personeel'!$G$40","v":0},{"$f":"ROUNDUP(O96,0)*'Rijdend personeel'!$G$40","v":0},{"$f":"ROUNDUP(P96,0)*'Rijdend personeel'!$G$40","v":0},{"$f":"ROUNDUP(Q96,0)*'Rijdend personeel'!$G$40","v":0},{"$f":"ROUNDUP(R96,0)*'Rijdend personeel'!$G$40","v":0},{"$f":"ROUNDUP(S96,0)*'Rijdend personeel'!$G$40","v":0}]
[null,null,"ARAB CH1 DUBBEL",null,{"$f":"ROUNDUP(E97,0)*'Rijdend personeel'!$G$40","v":0},{"$f":"ROUNDUP(F97,0)*'Rijdend personeel'!$G$40","v":0},{"$f":"ROUNDUP(G97,0)*'Rijdend personeel'!$G$40","v":0},{"$f":"ROUNDUP(H97,0)*'Rijdend personeel'!$G$40","v":0},{"$f":"ROUNDUP(I97,0)*'Rijdend personeel'!$G$40","v":0},{"$f":"ROUNDUP(J97,0)*'Rijdend personeel'!$G$40","v":0},{"$f":"ROUNDUP(K97,0)*'Rijdend personeel'!$G$40","v":0},{"$f":"ROUNDUP(L97,0)*'Rijdend personeel'!$G$40","v":0},{"$f":"ROUNDUP(M97,0)*'Rijdend personeel'!$G$40","v":0},{"$f":"ROUNDUP(N97,0)*'Rijdend personeel'!$G$40","v":0},{"$f":"ROUNDUP(O97,0)*'Rijdend personeel'!$G$40","v":0},{"$f":"ROUNDUP(P97,0)*'Rijdend personeel'!$G$40","v":0},{"$f":"ROUNDUP(Q97,0)*'Rijdend personeel'!$G$40","v":0},{"$f":"ROUNDUP(R97,0)*'Rijdend personeel'!$G$40","v":0},{"$f":"ROUNDUP(S97,0)*'Rijdend personeel'!$G$40","v":0}]
[null,null,"ARAB CH2 DUBBEL",null,{"$f":"ROUNDUP(E98,0)*'Rijdend personeel'!$G$40","v":0},{"$f":"ROUNDUP(F98,0)*'Rijdend personeel'!$G$40","v":0},{"$f":"ROUNDUP(G98,0)*'Rijdend personeel'!$G$40","v":0},{"$f":"ROUNDUP(H98,0)*'Rijdend personeel'!$G$40","v":0},{"$f":"ROUNDUP(I98,0)*'Rijdend personeel'!$G$40","v":0},{"$f":"ROUNDUP(J98,0)*'Rijdend personeel'!$G$40","v":0},{"$f":"ROUNDUP(K98,0)*'Rijdend personeel'!$G$40","v":0},{"$f":"ROUNDUP(L98,0)*'Rijdend personeel'!$G$40","v":0},{"$f":"ROUNDUP(M98,0)*'Rijdend personeel'!$G$40","v":0},{"$f":"ROUNDUP(N98,0)*'Rijdend personeel'!$G$40","v":0},{"$f":"ROUNDUP(O98,0)*'Rijdend personeel'!$G$40","v":0},{"$f":"ROUNDUP(P98,0)*'Rijdend personeel'!$G$40","v":0},{"$f":"ROUNDUP(Q98,0)*'Rijdend personeel'!$G$40","v":0},{"$f":"ROUNDUP(R98,0)*'Rijdend personeel'!$G$40","v":0},{"$f":"ROUNDUP(S98,0)*'Rijdend personeel'!$G$40","v":0}]
[null,null,"Overige kosten alle CH",null,{"$f":"IF(Reis!F108<1,0,((('Rijdend personeel'!$G$54+'Rijdend personeel'!$G$56+'Rijdend personeel'!$G$58+'Rijdend personeel'!$G$60+'Rijdend personeel'!$G$62+'Rijdend personeel'!$G$64+'Rijdend personeel'!$G$66)/'Rijdend personeel'!$G$68)*Reis!F114))","v":{"$error":"#DIV/0!"}},{"$f":"IF(Reis!G108<1,0,((('Rijdend personeel'!$G$54+'Rijdend personeel'!$G$56+'Rijdend personeel'!$G$58+'Rijdend personeel'!$G$60+'Rijdend personeel'!$G$62+'Rijdend personeel'!$G$64+'Rijdend personeel'!$G$66)/'Rijdend personeel'!$G$68)*Reis!G114))","v":0},{"$f":"IF(Reis!H108<1,0,((('Rijdend personeel'!$G$54+'Rijdend personeel'!$G$56+'Rijdend personeel'!$G$58+'Rijdend personeel'!$G$60+'Rijdend personeel'!$G$62+'Rijdend personeel'!$G$64+'Rijdend personeel'!$G$66)/'Rijdend personeel'!$G$68)*Reis!H114))","v":0},{"$f":"IF(Reis!I108<1,0,((('Rijdend personeel'!$G$54+'Rijdend personeel'!$G$56+'Rijdend personeel'!$G$58+'Rijdend personeel'!$G$60+'Rijdend personeel'!$G$62+'Rijdend personeel'!$G$64+'Rijdend personeel'!$G$66)/'Rijdend personeel'!$G$68)*Reis!I114))","v":0},{"$f":"IF(Reis!J108<1,0,((('Rijdend personeel'!$G$54+'Rijdend personeel'!$G$56+'Rijdend personeel'!$G$58+'Rijdend personeel'!$G$60+'Rijdend personeel'!$G$62+'Rijdend personeel'!$G$64+'Rijdend personeel'!$G$66)/'Rijdend personeel'!$G$68)*Reis!J114))","v":0},{"$f":"IF(Reis!K108<1,0,((('Rijdend personeel'!$G$54+'Rijdend personeel'!$G$56+'Rijdend personeel'!$G$58+'Rijdend personeel'!$G$60+'Rijdend personeel'!$G$62+'Rijdend personeel'!$G$64+'Rijdend personeel'!$G$66)/'Rijdend personeel'!$G$68)*Reis!K114))","v":0},{"$f":"IF(Reis!L108<1,0,((('Rijdend personeel'!$G$54+'Rijdend personeel'!$G$56+'Rijdend personeel'!$G$58+'Rijdend personeel'!$G$60+'Rijdend personeel'!$G$62+'Rijdend personeel'!$G$64+'Rijdend personeel'!$G$66)/'Rijdend personeel'!$G$68)*Reis!L114))","v":0},{"$f":"IF(Reis!M108<1,0,((('Rijdend personeel'!$G$54+'Rijdend personeel'!$G$56+'Rijdend personeel'!$G$58+'Rijdend personeel'!$G$60+'Rijdend personeel'!$G$62+'Rijdend personeel'!$G$64+'Rijdend personeel'!$G$66)/'Rijdend personeel'!$G$68)*Reis!M114))","v":0},{"$f":"IF(Reis!N108<1,0,((('Rijdend personeel'!$G$54+'Rijdend personeel'!$G$56+'Rijdend personeel'!$G$58+'Rijdend personeel'!$G$60+'Rijdend personeel'!$G$62+'Rijdend personeel'!$G$64+'Rijdend personeel'!$G$66)/'Rijdend personeel'!$G$68)*Reis!N114))","v":0},{"$f":"IF(Reis!O108<1,0,((('Rijdend personeel'!$G$54+'Rijdend personeel'!$G$56+'Rijdend personeel'!$G$58+'Rijdend personeel'!$G$60+'Rijdend personeel'!$G$62+'Rijdend personeel'!$G$64+'Rijdend personeel'!$G$66)/'Rijdend personeel'!$G$68)*Reis!O114))","v":0},{"$f":"IF(Reis!P108<1,0,((('Rijdend personeel'!$G$54+'Rijdend personeel'!$G$56+'Rijdend personeel'!$G$58+'Rijdend personeel'!$G$60+'Rijdend personeel'!$G$62+'Rijdend personeel'!$G$64+'Rijdend personeel'!$G$66)/'Rijdend personeel'!$G$68)*Reis!P114))","v":0},{"$f":"IF(Reis!Q108<1,0,((('Rijdend personeel'!$G$54+'Rijdend personeel'!$G$56+'Rijdend personeel'!$G$58+'Rijdend personeel'!$G$60+'Rijdend personeel'!$G$62+'Rijdend personeel'!$G$64+'Rijdend personeel'!$G$66)/'Rijdend personeel'!$G$68)*Reis!Q114))","v":0},{"$f":"IF(Reis!R108<1,0,((('Rijdend personeel'!$G$54+'Rijdend personeel'!$G$56+'Rijdend personeel'!$G$58+'Rijdend personeel'!$G$60+'Rijdend personeel'!$G$62+'Rijdend personeel'!$G$64+'Rijdend personeel'!$G$66)/'Rijdend personeel'!$G$68)*Reis!R114))","v":0},{"$f":"IF(Reis!S108<1,0,((('Rijdend personeel'!$G$54+'Rijdend personeel'!$G$56+'Rijdend personeel'!$G$58+'Rijdend personeel'!$G$60+'Rijdend personeel'!$G$62+'Rijdend personeel'!$G$64+'Rijdend personeel'!$G$66)/'Rijdend personeel'!$G$68)*Reis!S114))","v":0},{"$f":"IF(Reis!T108<1,0,((('Rijdend personeel'!$G$54+'Rijdend personeel'!$G$56+'Rijdend personeel'!$G$58+'Rijdend personeel'!$G$60+'Rijdend personeel'!$G$62+'Rijdend personeel'!$G$64+'Rijdend personeel'!$G$66)/'Rijdend personeel'!$G$68)*Reis!T114))","v":0}]
[null,null,"Extra bonussen zondag + feestdag",null,{"$f":"IF(Reis!F119>0,0,IF(Reis!F114=\"\",\"\",IF(Reis!F114=1,Reis!AD111,IF(Reis!F114=2,Reis!AD111+Reis!AD112,IF(Reis!F114=3,Reis!AD111+Reis!AD112+Reis!AD113)))))","v":""},{"$f":"IF(Reis!G119>0,0,IF(Reis!G114=\"\",\"\",IF(Reis!G114=1,Reis!AE111,IF(Reis!G114=2,Reis!AE111+Reis!AE112,IF(Reis!G114=3,Reis!AE111+Reis!AE112+Reis!AE113)))))","v":""},{"$f":"IF(Reis!H119>0,0,IF(Reis!H114=\"\",\"\",IF(Reis!H114=1,Reis!AF111,IF(Reis!H114=2,Reis!AF111+Reis!AF112,IF(Reis!H114=3,Reis!AF111+Reis!AF112+Reis!AF113)))))","v":""},{"$f":"IF(Reis!I119>0,0,IF(Reis!I114=\"\",\"\",IF(Reis!I114=1,Reis!AG111,IF(Reis!I114=2,Reis!AG111+Reis!AG112,IF(Reis!I114=3,Reis!AG111+Reis!AG112+Reis!AG113)))))","v":""},{"$f":"IF(Reis!J119>0,0,IF(Reis!J114=\"\",\"\",IF(Reis!J114=1,Reis!AH111,IF(Reis!J114=2,Reis!AH111+Reis!AH112,IF(Reis!J114=3,Reis!AH111+Reis!AH112+Reis!AH113)))))","v":""},{"$f":"IF(Reis!K119>0,0,IF(Reis!K114=\"\",\"\",IF(Reis!K114=1,Reis!AI111,IF(Reis!K114=2,Reis!AI111+Reis!AI112,IF(Reis!K114=3,Reis!AI111+Reis!AI112+Reis!AI113)))))","v":""},{"$f":"IF(Reis!L119>0,0,IF(Reis!L114=\"\",\"\",IF(Reis!L114=1,Reis!AJ111,IF(Reis!L114=2,Reis!AJ111+Reis!AJ112,IF(Reis!L114=3,Reis!AJ111+Reis!AJ112+Reis!AJ113)))))","v":""},{"$f":"IF(Reis!M119>0,0,IF(Reis!M114=\"\",\"\",IF(Reis!M114=1,Reis!AK111,IF(Reis!M114=2,Reis!AK111+Reis!AK112,IF(Reis!M114=3,Reis!AK111+Reis!AK112+Reis!AK113)))))","v":""},{"$f":"IF(Reis!N119>0,0,IF(Reis!N114=\"\",\"\",IF(Reis!N114=1,Reis!AL111,IF(Reis!N114=2,Reis!AL111+Reis!AL112,IF(Reis!N114=3,Reis!AL111+Reis!AL112+Reis!AL113)))))","v":""},{"$f":"IF(Reis!O119>0,0,IF(Reis!O114=\"\",\"\",IF(Reis!O114=1,Reis!AM111,IF(Reis!O114=2,Reis!AM111+Reis!AM112,IF(Reis!O114=3,Reis!AM111+Reis!AM112+Reis!AM113)))))","v":""},{"$f":"IF(Reis!P119>0,0,IF(Reis!P114=\"\",\"\",IF(Reis!P114=1,Reis!AN111,IF(Reis!P114=2,Reis!AN111+Reis!AN112,IF(Reis!P114=3,Reis!AN111+Reis!AN112+Reis!AN113)))))","v":""},{"$f":"IF(Reis!Q119>0,0,IF(Reis!Q114=\"\",\"\",IF(Reis!Q114=1,Reis!AO111,IF(Reis!Q114=2,Reis!AO111+Reis!AO112,IF(Reis!Q114=3,Reis!AO111+Reis!AO112+Reis!AO113)))))","v":""},{"$f":"IF(Reis!R119>0,0,IF(Reis!R114=\"\",\"\",IF(Reis!R114=1,Reis!AP111,IF(Reis!R114=2,Reis!AP111+Reis!AP112,IF(Reis!R114=3,Reis!AP111+Reis!AP112+Reis!AP113)))))","v":""},{"$f":"IF(Reis!S119>0,0,IF(Reis!S114=\"\",\"\",IF(Reis!S114=1,Reis!AQ111,IF(Reis!S114=2,Reis!AQ111+Reis!AQ112,IF(Reis!S114=3,Reis!AQ111+Reis!AQ112+Reis!AQ113)))))","v":""},{"$f":"IF(Reis!T119>0,0,IF(Reis!T114=\"\",\"\",IF(Reis!T114=1,Reis!AR111,IF(Reis!T114=2,Reis!AR111+Reis!AR112,IF(Reis!T114=3,Reis!AR111+Reis!AR112+Reis!AR113)))))","v":""}]
[null,null,"Maaltijdcheques",null,{"$f":"IF(Reis!F108<1,0,(('Rijdend personeel'!$G$70*Reis!F114)))","v":0},{"$f":"IF(Reis!G108<1,0,(('Rijdend personeel'!$G$70*Reis!G114)))","v":0},{"$f":"IF(Reis!H108<1,0,(('Rijdend personeel'!$G$70*Reis!H114)))","v":0},{"$f":"IF(Reis!I108<1,0,(('Rijdend personeel'!$G$70*Reis!I114)))","v":0},{"$f":"IF(Reis!J108<1,0,(('Rijdend personeel'!$G$70*Reis!J114)))","v":0},{"$f":"IF(Reis!K108<1,0,(('Rijdend personeel'!$G$70*Reis!K114)))","v":0},{"$f":"IF(Reis!L108<1,0,(('Rijdend personeel'!$G$70*Reis!L114)))","v":0},{"$f":"IF(Reis!M108<1,0,(('Rijdend personeel'!$G$70*Reis!M114)))","v":0},{"$f":"IF(Reis!N108<1,0,(('Rijdend personeel'!$G$70*Reis!N114)))","v":0},{"$f":"IF(Reis!O108<1,0,(('Rijdend personeel'!$G$70*Reis!O114)))","v":0},{"$f":"IF(Reis!P108<1,0,(('Rijdend personeel'!$G$70*Reis!P114)))","v":0},{"$f":"IF(Reis!Q108<1,0,(('Rijdend personeel'!$G$70*Reis!Q114)))","v":0},{"$f":"IF(Reis!R108<1,0,(('Rijdend personeel'!$G$70*Reis!R114)))","v":0},{"$f":"IF(Reis!S108<1,0,(('Rijdend personeel'!$G$70*Reis!S114)))","v":0},{"$f":"IF(Reis!T108<1,0,(('Rijdend personeel'!$G$70*Reis!T114)))","v":0}]
[null,null,"Extra loonkosten alle CH"]
[null,null,"Totale loonkost alle CH",null,{"$f":"IF(Reis!F108<1,0,(E99+E100+E101+E102+E103+E104+E106+E105+E107+E108+E109+E110+E111+E113+E112))","v":{"$error":"#DIV/0!"}},{"$f":"IF(Reis!G108<1,0,(F99+F100+F101+F102+F103+F104+F106+F105+F107+F108+F109+F110+F111+F113+F112))","v":0},{"$f":"IF(Reis!H108<1,0,(G99+G100+G101+G102+G103+G104+G106+G105+G107+G108+G109+G110+G111+G113+G112))","v":0},{"$f":"IF(Reis!I108<1,0,(H99+H100+H101+H102+H103+H104+H106+H105+H107+H108+H109+H110+H111+H113+H112))","v":0},{"$f":"IF(Reis!J108<1,0,(I99+I100+I101+I102+I103+I104+I106+I105+I107+I108+I109+I110+I111+I113+I112))","v":0},{"$f":"IF(Reis!K108<1,0,(J99+J100+J101+J102+J103+J104+J106+J105+J107+J108+J109+J110+J111+J113+J112))","v":0},{"$f":"IF(Reis!L108<1,0,(K99+K100+K101+K102+K103+K104+K106+K105+K107+K108+K109+K110+K111+K113+K112))","v":0},{"$f":"IF(Reis!M108<1,0,(L99+L100+L101+L102+L103+L104+L106+L105+L107+L108+L109+L110+L111+L113+L112))","v":0},{"$f":"IF(Reis!N108<1,0,(M99+M100+M101+M102+M103+M104+M106+M105+M107+M108+M109+M110+M111+M113+M112))","v":0},{"$f":"IF(Reis!O108<1,0,(N99+N100+N101+N102+N103+N104+N106+N105+N107+N108+N109+N110+N111+N113+N112))","v":0},{"$f":"IF(Reis!P108<1,0,(O99+O100+O101+O102+O103+O104+O106+O105+O107+O108+O109+O110+O111+O113+O112))","v":0},{"$f":"IF(Reis!Q108<1,0,(P99+P100+P101+P102+P103+P104+P106+P105+P107+P108+P109+P110+P111+P113+P112))","v":0},{"$f":"IF(Reis!R108<1,0,(Q99+Q100+Q101+Q102+Q103+Q104+Q106+Q105+Q107+Q108+Q109+Q110+Q111+Q113+Q112))","v":0},{"$f":"IF(Reis!S108<1,0,(R99+R100+R101+R102+R103+R104+R106+R105+R107+R108+R109+R110+R111+R113+R112))","v":0},{"$f":"IF(Reis!T108<1,0,(S99+S100+S101+S102+S103+S104+S106+S105+S107+S108+S109+S110+S111+S113+S112))","v":0}]
[]
[]
[null,null,null,null,null,null,"Coût personnel roulant ",null,null,{"$f":"Bestemmingen!W16","v":""},null,{"$f":"Bestemmingen!S16","v":"vehicule1"}]
[]
[]
[]
[]
[]
[null,null,null,null,"dag","dag","dag","dag","dag","dag","dag","dag","dag","dag","dag","dag","dag","dag","dag"]
[null,null,null,null,1,2,3,4,5,6,7,8,9,10,11,12,13,14,15]
[null,null,"Diensttijd CH ENKEL",null,{"$f":"Reis!F147*24","v":0},{"$f":"Reis!G147*24","v":0},{"$f":"Reis!H147*24","v":0},{"$f":"Reis!I147*24","v":0},{"$f":"Reis!J147*24","v":0},{"$f":"Reis!K147*24","v":0},{"$f":"Reis!L147*24","v":0},{"$f":"Reis!M147*24","v":0},{"$f":"Reis!N147*24","v":0},{"$f":"Reis!O147*24","v":0},{"$f":"Reis!P147*24","v":0},{"$f":"Reis!Q147*24","v":0},{"$f":"Reis!R147*24","v":0},{"$f":"Reis!S147*24","v":0},{"$f":"Reis!T147*24","v":0}]
[null,null,"Diensttijd CH1 DUBBEL",null,{"$f":"Reis!F148*24","v":0},{"$f":"Reis!G148*24","v":0},{"$f":"Reis!H148*24","v":0},{"$f":"Reis!I148*24","v":0},{"$f":"Reis!J148*24","v":0},{"$f":"Reis!K148*24","v":0},{"$f":"Reis!L148*24","v":0},{"$f":"Reis!M148*24","v":0},{"$f":"Reis!N148*24","v":0},{"$f":"Reis!O148*24","v":0},{"$f":"Reis!P148*24","v":0},{"$f":"Reis!Q148*24","v":0},{"$f":"Reis!R148*24","v":0},{"$f":"Reis!S148*24","v":0},{"$f":"Reis!T148*24","v":0}]
[null,null,"Diensttijd CH2 DUBBEL",null,{"$f":"Reis!F149*24","v":0},{"$f":"Reis!G149*24","v":0},{"$f":"Reis!H149*24","v":0},{"$f":"Reis!I149*24","v":0},{"$f":"Reis!J149*24","v":0},{"$f":"Reis!K149*24","v":0},{"$f":"Reis!L149*24","v":0},{"$f":"Reis!M149*24","v":0},{"$f":"Reis!N149*24","v":0},{"$f":"Reis!O149*24","v":0},{"$f":"Reis!P149*24","v":0},{"$f":"Reis!Q149*24","v":0},{"$f":"Reis!R149*24","v":0},{"$f":"Reis!S149*24","v":0},{"$f":"Reis!T149*24","v":0}]
[null,null,"Bruto Sal CH ENKEL",null,{"$f":"IF(AND(E125>0,E125<=6,Reis!F134=\"Autre\"),('Rijdend personeel'!$G$50+'Rijdend personeel'!$G$42),IF(AND(E125>0,E125<=6),('Rijdend personeel'!$G$9+'Rijdend personeel'!$G$42),IF(AND(E125>6,E125<=12),'Rijdend personeel'!$G$11+'Rijdend personeel'!$G$42,IF(E125>0,'Rijdend personeel'!$G$11+(ROUNDUP(E125,0)-12)*'Rijdend personeel'!$G$13+'Rijdend personeel'!$G$42,0))))","v":0},{"$f":"IF(AND(F125>0,F125<=6,Reis!G134=\"Autre\"),('Rijdend personeel'!$G$50+'Rijdend personeel'!$G$42),IF(AND(F125>0,F125<=6),('Rijdend personeel'!$G$9+'Rijdend personeel'!$G$42),IF(AND(F125>6,F125<=12),'Rijdend personeel'!$G$11+'Rijdend personeel'!$G$42,IF(F125>0,'Rijdend personeel'!$G$11+(ROUNDUP(F125,0)-12)*'Rijdend personeel'!$G$13+'Rijdend personeel'!$G$42,0))))","v":0},{"$f":"IF(AND(G125>0,G125<=6,Reis!H134=\"Autre\"),('Rijdend personeel'!$G$50+'Rijdend personeel'!$G$42),IF(AND(G125>0,G125<=6),('Rijdend personeel'!$G$9+'Rijdend personeel'!$G$42),IF(AND(G125>6,G125<=12),'Rijdend personeel'!$G$11+'Rijdend personeel'!$G$42,IF(G125>0,'Rijdend personeel'!$G$11+(ROUNDUP(G125,0)-12)*'Rijdend personeel'!$G$13+'Rijdend personeel'!$G$42,0))))","v":0},{"$f":"IF(AND(H125>0,H125<=6,Reis!I134=\"Autre\"),('Rijdend personeel'!$G$50+'Rijdend personeel'!$G$42),IF(AND(H125>0,H125<=6),('Rijdend personeel'!$G$9+'Rijdend personeel'!$G$42),IF(AND(H125>6,H125<=12),'Rijdend personeel'!$G$11+'Rijdend personeel'!$G$42,IF(H125>0,'Rijdend personeel'!$G$11+(ROUNDUP(H125,0)-12)*'Rijdend personeel'!$G$13+'Rijdend personeel'!$G$42,0))))","v":0},{"$f":"IF(AND(I125>0,I125<=6,Reis!J134=\"Autre\"),('Rijdend personeel'!$G$50+'Rijdend personeel'!$G$42),IF(AND(I125>0,I125<=6),('Rijdend personeel'!$G$9+'Rijdend personeel'!$G$42),IF(AND(I125>6,I125<=12),'Rijdend personeel'!$G$11+'Rijdend personeel'!$G$42,IF(I125>0,'Rijdend personeel'!$G$11+(ROUNDUP(I125,0)-12)*'Rijdend personeel'!$G$13+'Rijdend personeel'!$G$42,0))))","v":0},{"$f":"IF(AND(J125>0,J125<=6,Reis!K134=\"Autre\"),('Rijdend personeel'!$G$50+'Rijdend personeel'!$G$42),IF(AND(J125>0,J125<=6),('Rijdend personeel'!$G$9+'Rijdend personeel'!$G$42),IF(AND(J125>6,J125<=12),'Rijdend personeel'!$G$11+'Rijdend personeel'!$G$42,IF(J125>0,'Rijdend personeel'!$G$11+(ROUNDUP(J125,0)-12)*'Rijdend personeel'!$G$13+'Rijdend personeel'!$G$42,0))))","v":0},{"$f":"IF(AND(K125>0,K125<=6,Reis!L134=\"Autre\"),('Rijdend personeel'!$G$50+'Rijdend personeel'!$G$42),IF(AND(K125>0,K125<=6),('Rijdend personeel'!$G$9+'Rijdend personeel'!$G$42),IF(AND(K125>6,K125<=12),'Rijdend personeel'!$G$11+'Rijdend personeel'!$G$42,IF(K125>0,'Rijdend personeel'!$G$11+(ROUNDUP(K125,0)-12)*'Rijdend personeel'!$G$13+'Rijdend personeel'!$G$42,0))))","v":0},{"$f":"IF(AND(L125>0,L125<=6,Reis!M134=\"Autre\"),('Rijdend personeel'!$G$50+'Rijdend personeel'!$G$42),IF(AND(L125>0,L125<=6),('Rijdend personeel'!$G$9+'Rijdend personeel'!$G$42),IF(AND(L125>6,L125<=12),'Rijdend personeel'!$G$11+'Rijdend personeel'!$G$42,IF(L125>0,'Rijdend personeel'!$G$11+(ROUNDUP(L125,0)-12)*'Rijdend personeel'!$G$13+'Rijdend personeel'!$G$42,0))))","v":0},{"$f":"IF(AND(M125>0,M125<=6,Reis!N134=\"Autre\"),('Rijdend personeel'!$G$50+'Rijdend personeel'!$G$42),IF(AND(M125>0,M125<=6),('Rijdend personeel'!$G$9+'Rijdend personeel'!$G$42),IF(AND(M125>6,M125<=12),'Rijdend personeel'!$G$11+'Rijdend personeel'!$G$42,IF(M125>0,'Rijdend personeel'!$G$11+(ROUNDUP(M125,0)-12)*'Rijdend personeel'!$G$13+'Rijdend personeel'!$G$42,0))))","v":0},{"$f":"IF(AND(N125>0,N125<=6,Reis!O134=\"Autre\"),('Rijdend personeel'!$G$50+'Rijdend personeel'!$G$42),IF(AND(N125>0,N125<=6),('Rijdend personeel'!$G$9+'Rijdend personeel'!$G$42),IF(AND(N125>6,N125<=12),'Rijdend personeel'!$G$11+'Rijdend personeel'!$G$42,IF(N125>0,'Rijdend personeel'!$G$11+(ROUNDUP(N125,0)-12)*'Rijdend personeel'!$G$13+'Rijdend personeel'!$G$42,0))))","v":0},{"$f":"IF(AND(O125>0,O125<=6,Reis!P134=\"Autre\"),('Rijdend personeel'!$G$50+'Rijdend personeel'!$G$42),IF(AND(O125>0,O125<=6),('Rijdend personeel'!$G$9+'Rijdend personeel'!$G$42),IF(AND(O125>6,O125<=12),'Rijdend personeel'!$G$11+'Rijdend personeel'!$G$42,IF(O125>0,'Rijdend personeel'!$G$11+(ROUNDUP(O125,0)-12)*'Rijdend personeel'!$G$13+'Rijdend personeel'!$G$42,0))))","v":0},{"$f":"IF(AND(P125>0,P125<=6,Reis!Q134=\"Autre\"),('Rijdend personeel'!$G$50+'Rijdend personeel'!$G$42),IF(AND(P125>0,P125<=6),('Rijdend personeel'!$G$9+'Rijdend personeel'!$G$42),IF(AND(P125>6,P125<=12),'Rijdend personeel'!$G$11+'Rijdend personeel'!$G$42,IF(P125>0,'Rijdend personeel'!$G$11+(ROUNDUP(P125,0)-12)*'Rijdend personeel'!$G$13+'Rijdend personeel'!$G$42,0))))","v":0},{"$f":"IF(AND(Q125>0,Q125<=6,Reis!R134=\"Autre\"),('Rijdend personeel'!$G$50+'Rijdend personeel'!$G$42),IF(AND(Q125>0,Q125<=6),('Rijdend personeel'!$G$9+'Rijdend personeel'!$G$42),IF(AND(Q125>6,Q125<=12),'Rijdend personeel'!$G$11+'Rijdend personeel'!$G$42,IF(Q125>0,'Rijdend personeel'!$G$11+(ROUNDUP(Q125,0)-12)*'Rijdend personeel'!$G$13+'Rijdend personeel'!$G$42,0))))","v":0},{"$f":"IF(AND(R125>0,R125<=6,Reis!S134=\"Autre\"),('Rijdend personeel'!$G$50+'Rijdend personeel'!$G$42),IF(AND(R125>0,R125<=6),('Rijdend personeel'!$G$9+'Rijdend personeel'!$G$42),IF(AND(R125>6,R125<=12),'Rijdend personeel'!$G$11+'Rijdend personeel'!$G$42,IF(R125>0,'Rijdend personeel'!$G$11+(ROUNDUP(R125,0)-12)*'Rijdend personeel'!$G$13+'Rijdend personeel'!$G$42,0))))","v":0},{"$f":"IF(AND(S125>0,S125<=6,Reis!T134=\"Autre\"),('Rijdend personeel'!$G$50+'Rijdend personeel'!$G$42),IF(AND(S125>0,S125<=6),('Rijdend personeel'!$G$9+'Rijdend personeel'!$G$42),IF(AND(S125>6,S125<=12),'Rijdend personeel'!$G$11+'Rijdend personeel'!$G$42,IF(S125>0,'Rijdend personeel'!$G$11+(ROUNDUP(S125,0)-12)*'Rijdend personeel'!$G$13+'Rijdend personeel'!$G$42,0))))","v":0}]
[null,null,"Bruto Sal CH1 DUBBEL",null,{"$f":"IF(E126=0,0,IF(E126<12,'Rijdend personeel'!$G$16+'Rijdend personeel'!$G$42,IF(E126<13,'Rijdend personeel'!$G$18+'Rijdend personeel'!$G$42,IF(E126<14,'Rijdend personeel'!$G$20+'Rijdend personeel'!$G$42,IF(E126<15,'Rijdend personeel'!$G$22+'Rijdend personeel'!$G$42,IF(E126<16,'Rijdend personeel'!$G$24+'Rijdend personeel'!$G$42,IF(E126<17,'Rijdend personeel'!$G$26+'Rijdend personeel'!$G$42,IF(E126<18,'Rijdend personeel'!$G$28+'Rijdend personeel'!$G$42,IF(E126<19,'Rijdend personeel'!$G$30+'Rijdend personeel'!$G$42,IF(E126<20,'Rijdend personeel'!$G$32+'Rijdend personeel'!$G$42,IF(E126<21,'Rijdend personeel'!$G$34+'Rijdend personeel'!$G$42,IF(E126<22,'Rijdend personeel'!$G$36+'Rijdend personeel'!$G$42))))))))))))","v":0},{"$f":"IF(F126=0,0,IF(F126<12,'Rijdend personeel'!$G$16+'Rijdend personeel'!$G$42,IF(F126<13,'Rijdend personeel'!$G$18+'Rijdend personeel'!$G$42,IF(F126<14,'Rijdend personeel'!$G$20+'Rijdend personeel'!$G$42,IF(F126<15,'Rijdend personeel'!$G$22+'Rijdend personeel'!$G$42,IF(F126<16,'Rijdend personeel'!$G$24+'Rijdend personeel'!$G$42,IF(F126<17,'Rijdend personeel'!$G$26+'Rijdend personeel'!$G$42,IF(F126<18,'Rijdend personeel'!$G$28+'Rijdend personeel'!$G$42,IF(F126<19,'Rijdend personeel'!$G$30+'Rijdend personeel'!$G$42,IF(F126<20,'Rijdend personeel'!$G$32+'Rijdend personeel'!$G$42,IF(F126<21,'Rijdend personeel'!$G$34+'Rijdend personeel'!$G$42,IF(F126<22,'Rijdend personeel'!$G$36+'Rijdend personeel'!$G$42))))))))))))","v":0},{"$f":"IF(G126=0,0,IF(G126<12,'Rijdend personeel'!$G$16+'Rijdend personeel'!$G$42,IF(G126<13,'Rijdend personeel'!$G$18+'Rijdend personeel'!$G$42,IF(G126<14,'Rijdend personeel'!$G$20+'Rijdend personeel'!$G$42,IF(G126<15,'Rijdend personeel'!$G$22+'Rijdend personeel'!$G$42,IF(G126<16,'Rijdend personeel'!$G$24+'Rijdend personeel'!$G$42,IF(G126<17,'Rijdend personeel'!$G$26+'Rijdend personeel'!$G$42,IF(G126<18,'Rijdend personeel'!$G$28+'Rijdend personeel'!$G$42,IF(G126<19,'Rijdend personeel'!$G$30+'Rijdend personeel'!$G$42,IF(G126<20,'Rijdend personeel'!$G$32+'Rijdend personeel'!$G$42,IF(G126<21,'Rijdend personeel'!$G$34+'Rijdend personeel'!$G$42,IF(G126<22,'Rijdend personeel'!$G$36+'Rijdend personeel'!$G$42))))))))))))","v":0},{"$f":"IF(H126=0,0,IF(H126<12,'Rijdend personeel'!$G$16+'Rijdend personeel'!$G$42,IF(H126<13,'Rijdend personeel'!$G$18+'Rijdend personeel'!$G$42,IF(H126<14,'Rijdend personeel'!$G$20+'Rijdend personeel'!$G$42,IF(H126<15,'Rijdend personeel'!$G$22+'Rijdend personeel'!$G$42,IF(H126<16,'Rijdend personeel'!$G$24+'Rijdend personeel'!$G$42,IF(H126<17,'Rijdend personeel'!$G$26+'Rijdend personeel'!$G$42,IF(H126<18,'Rijdend personeel'!$G$28+'Rijdend personeel'!$G$42,IF(H126<19,'Rijdend personeel'!$G$30+'Rijdend personeel'!$G$42,IF(H126<20,'Rijdend personeel'!$G$32+'Rijdend personeel'!$G$42,IF(H126<21,'Rijdend personeel'!$G$34+'Rijdend personeel'!$G$42,IF(H126<22,'Rijdend personeel'!$G$36+'Rijdend personeel'!$G$42))))))))))))","v":0},{"$f":"IF(I126=0,0,IF(I126<12,'Rijdend personeel'!$G$16+'Rijdend personeel'!$G$42,IF(I126<13,'Rijdend personeel'!$G$18+'Rijdend personeel'!$G$42,IF(I126<14,'Rijdend personeel'!$G$20+'Rijdend personeel'!$G$42,IF(I126<15,'Rijdend personeel'!$G$22+'Rijdend personeel'!$G$42,IF(I126<16,'Rijdend personeel'!$G$24+'Rijdend personeel'!$G$42,IF(I126<17,'Rijdend personeel'!$G$26+'Rijdend personeel'!$G$42,IF(I126<18,'Rijdend personeel'!$G$28+'Rijdend personeel'!$G$42,IF(I126<19,'Rijdend personeel'!$G$30+'Rijdend personeel'!$G$42,IF(I126<20,'Rijdend personeel'!$G$32+'Rijdend personeel'!$G$42,IF(I126<21,'Rijdend personeel'!$G$34+'Rijdend personeel'!$G$42,IF(I126<22,'Rijdend personeel'!$G$36+'Rijdend personeel'!$G$42))))))))))))","v":0},{"$f":"IF(J126=0,0,IF(J126<12,'Rijdend personeel'!$G$16+'Rijdend personeel'!$G$42,IF(J126<13,'Rijdend personeel'!$G$18+'Rijdend personeel'!$G$42,IF(J126<14,'Rijdend personeel'!$G$20+'Rijdend personeel'!$G$42,IF(J126<15,'Rijdend personeel'!$G$22+'Rijdend personeel'!$G$42,IF(J126<16,'Rijdend personeel'!$G$24+'Rijdend personeel'!$G$42,IF(J126<17,'Rijdend personeel'!$G$26+'Rijdend personeel'!$G$42,IF(J126<18,'Rijdend personeel'!$G$28+'Rijdend personeel'!$G$42,IF(J126<19,'Rijdend personeel'!$G$30+'Rijdend personeel'!$G$42,IF(J126<20,'Rijdend personeel'!$G$32+'Rijdend personeel'!$G$42,IF(J126<21,'Rijdend personeel'!$G$34+'Rijdend personeel'!$G$42,IF(J126<22,'Rijdend personeel'!$G$36+'Rijdend personeel'!$G$42))))))))))))","v":0},{"$f":"IF(K126=0,0,IF(K126<12,'Rijdend personeel'!$G$16+'Rijdend personeel'!$G$42,IF(K126<13,'Rijdend personeel'!$G$18+'Rijdend personeel'!$G$42,IF(K126<14,'Rijdend personeel'!$G$20+'Rijdend personeel'!$G$42,IF(K126<15,'Rijdend personeel'!$G$22+'Rijdend personeel'!$G$42,IF(K126<16,'Rijdend personeel'!$G$24+'Rijdend personeel'!$G$42,IF(K126<17,'Rijdend personeel'!$G$26+'Rijdend personeel'!$G$42,IF(K126<18,'Rijdend personeel'!$G$28+'Rijdend personeel'!$G$42,IF(K126<19,'Rijdend personeel'!$G$30+'Rijdend personeel'!$G$42,IF(K126<20,'Rijdend personeel'!$G$32+'Rijdend personeel'!$G$42,IF(K126<21,'Rijdend personeel'!$G$34+'Rijdend personeel'!$G$42,IF(K126<22,'Rijdend personeel'!$G$36+'Rijdend personeel'!$G$42))))))))))))","v":0},{"$f":"IF(L126=0,0,IF(L126<12,'Rijdend personeel'!$G$16+'Rijdend personeel'!$G$42,IF(L126<13,'Rijdend personeel'!$G$18+'Rijdend personeel'!$G$42,IF(L126<14,'Rijdend personeel'!$G$20+'Rijdend personeel'!$G$42,IF(L126<15,'Rijdend personeel'!$G$22+'Rijdend personeel'!$G$42,IF(L126<16,'Rijdend personeel'!$G$24+'Rijdend personeel'!$G$42,IF(L126<17,'Rijdend personeel'!$G$26+'Rijdend personeel'!$G$42,IF(L126<18,'Rijdend personeel'!$G$28+'Rijdend personeel'!$G$42,IF(L126<19,'Rijdend personeel'!$G$30+'Rijdend personeel'!$G$42,IF(L126<20,'Rijdend personeel'!$G$32+'Rijdend personeel'!$G$42,IF(L126<21,'Rijdend personeel'!$G$34+'Rijdend personeel'!$G$42,IF(L126<22,'Rijdend personeel'!$G$36+'Rijdend personeel'!$G$42))))))))))))","v":0},{"$f":"IF(M126=0,0,IF(M126<12,'Rijdend personeel'!$G$16+'Rijdend personeel'!$G$42,IF(M126<13,'Rijdend personeel'!$G$18+'Rijdend personeel'!$G$42,IF(M126<14,'Rijdend personeel'!$G$20+'Rijdend personeel'!$G$42,IF(M126<15,'Rijdend personeel'!$G$22+'Rijdend personeel'!$G$42,IF(M126<16,'Rijdend personeel'!$G$24+'Rijdend personeel'!$G$42,IF(M126<17,'Rijdend personeel'!$G$26+'Rijdend personeel'!$G$42,IF(M126<18,'Rijdend personeel'!$G$28+'Rijdend personeel'!$G$42,IF(M126<19,'Rijdend personeel'!$G$30+'Rijdend personeel'!$G$42,IF(M126<20,'Rijdend personeel'!$G$32+'Rijdend personeel'!$G$42,IF(M126<21,'Rijdend personeel'!$G$34+'Rijdend personeel'!$G$42,IF(M126<22,'Rijdend personeel'!$G$36+'Rijdend personeel'!$G$42))))))))))))","v":0},{"$f":"IF(N126=0,0,IF(N126<12,'Rijdend personeel'!$G$16+'Rijdend personeel'!$G$42,IF(N126<13,'Rijdend personeel'!$G$18+'Rijdend personeel'!$G$42,IF(N126<14,'Rijdend personeel'!$G$20+'Rijdend personeel'!$G$42,IF(N126<15,'Rijdend personeel'!$G$22+'Rijdend personeel'!$G$42,IF(N126<16,'Rijdend personeel'!$G$24+'Rijdend personeel'!$G$42,IF(N126<17,'Rijdend personeel'!$G$26+'Rijdend personeel'!$G$42,IF(N126<18,'Rijdend personeel'!$G$28+'Rijdend personeel'!$G$42,IF(N126<19,'Rijdend personeel'!$G$30+'Rijdend personeel'!$G$42,IF(N126<20,'Rijdend personeel'!$G$32+'Rijdend personeel'!$G$42,IF(N126<21,'Rijdend personeel'!$G$34+'Rijdend personeel'!$G$42,IF(N126<22,'Rijdend personeel'!$G$36+'Rijdend personeel'!$G$42))))))))))))","v":0},{"$f":"IF(O126=0,0,IF(O126<12,'Rijdend personeel'!$G$16+'Rijdend personeel'!$G$42,IF(O126<13,'Rijdend personeel'!$G$18+'Rijdend personeel'!$G$42,IF(O126<14,'Rijdend personeel'!$G$20+'Rijdend personeel'!$G$42,IF(O126<15,'Rijdend personeel'!$G$22+'Rijdend personeel'!$G$42,IF(O126<16,'Rijdend personeel'!$G$24+'Rijdend personeel'!$G$42,IF(O126<17,'Rijdend personeel'!$G$26+'Rijdend personeel'!$G$42,IF(O126<18,'Rijdend personeel'!$G$28+'Rijdend personeel'!$G$42,IF(O126<19,'Rijdend personeel'!$G$30+'Rijdend personeel'!$G$42,IF(O126<20,'Rijdend personeel'!$G$32+'Rijdend personeel'!$G$42,IF(O126<21,'Rijdend personeel'!$G$34+'Rijdend personeel'!$G$42,IF(O126<22,'Rijdend personeel'!$G$36+'Rijdend personeel'!$G$42))))))))))))","v":0},{"$f":"IF(P126=0,0,IF(P126<12,'Rijdend personeel'!$G$16+'Rijdend personeel'!$G$42,IF(P126<13,'Rijdend personeel'!$G$18+'Rijdend personeel'!$G$42,IF(P126<14,'Rijdend personeel'!$G$20+'Rijdend personeel'!$G$42,IF(P126<15,'Rijdend personeel'!$G$22+'Rijdend personeel'!$G$42,IF(P126<16,'Rijdend personeel'!$G$24+'Rijdend personeel'!$G$42,IF(P126<17,'Rijdend personeel'!$G$26+'Rijdend personeel'!$G$42,IF(P126<18,'Rijdend personeel'!$G$28+'Rijdend personeel'!$G$42,IF(P126<19,'Rijdend personeel'!$G$30+'Rijdend personeel'!$G$42,IF(P126<20,'Rijdend personeel'!$G$32+'Rijdend personeel'!$G$42,IF(P126<21,'Rijdend personeel'!$G$34+'Rijdend personeel'!$G$42,IF(P126<22,'Rijdend personeel'!$G$36+'Rijdend personeel'!$G$42))))))))))))","v":0},{"$f":"IF(Q126=0,0,IF(Q126<12,'Rijdend personeel'!$G$16+'Rijdend personeel'!$G$42,IF(Q126<13,'Rijdend personeel'!$G$18+'Rijdend personeel'!$G$42,IF(Q126<14,'Rijdend personeel'!$G$20+'Rijdend personeel'!$G$42,IF(Q126<15,'Rijdend personeel'!$G$22+'Rijdend personeel'!$G$42,IF(Q126<16,'Rijdend personeel'!$G$24+'Rijdend personeel'!$G$42,IF(Q126<17,'Rijdend personeel'!$G$26+'Rijdend personeel'!$G$42,IF(Q126<18,'Rijdend personeel'!$G$28+'Rijdend personeel'!$G$42,IF(Q126<19,'Rijdend personeel'!$G$30+'Rijdend personeel'!$G$42,IF(Q126<20,'Rijdend personeel'!$G$32+'Rijdend personeel'!$G$42,IF(Q126<21,'Rijdend personeel'!$G$34+'Rijdend personeel'!$G$42,IF(Q126<22,'Rijdend personeel'!$G$36+'Rijdend personeel'!$G$42))))))))))))","v":0},{"$f":"IF(R126=0,0,IF(R126<12,'Rijdend personeel'!$G$16+'Rijdend personeel'!$G$42,IF(R126<13,'Rijdend personeel'!$G$18+'Rijdend personeel'!$G$42,IF(R126<14,'Rijdend personeel'!$G$20+'Rijdend personeel'!$G$42,IF(R126<15,'Rijdend personeel'!$G$22+'Rijdend personeel'!$G$42,IF(R126<16,'Rijdend personeel'!$G$24+'Rijdend personeel'!$G$42,IF(R126<17,'Rijdend personeel'!$G$26+'Rijdend personeel'!$G$42,IF(R126<18,'Rijdend personeel'!$G$28+'Rijdend personeel'!$G$42,IF(R126<19,'Rijdend personeel'!$G$30+'Rijdend personeel'!$G$42,IF(R126<20,'Rijdend personeel'!$G$32+'Rijdend personeel'!$G$42,IF(R126<21,'Rijdend personeel'!$G$34+'Rijdend personeel'!$G$42,IF(R126<22,'Rijdend personeel'!$G$36+'Rijdend personeel'!$G$42))))))))))))","v":0},{"$f":"IF(S126=0,0,IF(S126<12,'Rijdend personeel'!$G$16+'Rijdend personeel'!$G$42,IF(S126<13,'Rijdend personeel'!$G$18+'Rijdend personeel'!$G$42,IF(S126<14,'Rijdend personeel'!$G$20+'Rijdend personeel'!$G$42,IF(S126<15,'Rijdend personeel'!$G$22+'Rijdend personeel'!$G$42,IF(S126<16,'Rijdend personeel'!$G$24+'Rijdend personeel'!$G$42,IF(S126<17,'Rijdend personeel'!$G$26+'Rijdend personeel'!$G$42,IF(S126<18,'Rijdend personeel'!$G$28+'Rijdend personeel'!$G$42,IF(S126<19,'Rijdend personeel'!$G$30+'Rijdend personeel'!$G$42,IF(S126<20,'Rijdend personeel'!$G$32+'Rijdend personeel'!$G$42,IF(S126<21,'Rijdend personeel'!$G$34+'Rijdend personeel'!$G$42,IF(S126<22,'Rijdend personeel'!$G$36+'Rijdend personeel'!$G$42))))))))))))","v":0}]
[null,null,"Bruto Sal CH2 DUBBEL",null,{"$f":"IF(E127=0,0,IF(E127<12,'Rijdend personeel'!$G$16+'Rijdend personeel'!$G$42,IF(E127<13,'Rijdend personeel'!$G$18+'Rijdend personeel'!$G$42,IF(E127<14,'Rijdend personeel'!$G$20+'Rijdend personeel'!$G$42,IF(E127<15,'Rijdend personeel'!$G$22+'Rijdend personeel'!$G$42,IF(E127<16,'Rijdend personeel'!$G$24+'Rijdend personeel'!$G$42,IF(E127<17,'Rijdend personeel'!$G$26+'Rijdend personeel'!$G$42,IF(E127<18,'Rijdend personeel'!$G$28+'Rijdend personeel'!$G$42,IF(E127<19,'Rijdend personeel'!$G$30+'Rijdend personeel'!$G$42,IF(E127<20,'Rijdend personeel'!$G$32+'Rijdend personeel'!$G$42,IF(E127<21,'Rijdend personeel'!$G$34+'Rijdend personeel'!$G$42,IF(E127<22,'Rijdend personeel'!$G$36+'Rijdend personeel'!$G$42))))))))))))","v":0},{"$f":"IF(F127=0,0,IF(F127<12,'Rijdend personeel'!$G$16+'Rijdend personeel'!$G$42,IF(F127<13,'Rijdend personeel'!$G$18+'Rijdend personeel'!$G$42,IF(F127<14,'Rijdend personeel'!$G$20+'Rijdend personeel'!$G$42,IF(F127<15,'Rijdend personeel'!$G$22+'Rijdend personeel'!$G$42,IF(F127<16,'Rijdend personeel'!$G$24+'Rijdend personeel'!$G$42,IF(F127<17,'Rijdend personeel'!$G$26+'Rijdend personeel'!$G$42,IF(F127<18,'Rijdend personeel'!$G$28+'Rijdend personeel'!$G$42,IF(F127<19,'Rijdend personeel'!$G$30+'Rijdend personeel'!$G$42,IF(F127<20,'Rijdend personeel'!$G$32+'Rijdend personeel'!$G$42,IF(F127<21,'Rijdend personeel'!$G$34+'Rijdend personeel'!$G$42,IF(F127<22,'Rijdend personeel'!$G$36+'Rijdend personeel'!$G$42))))))))))))","v":0},{"$f":"IF(G127=0,0,IF(G127<12,'Rijdend personeel'!$G$16+'Rijdend personeel'!$G$42,IF(G127<13,'Rijdend personeel'!$G$18+'Rijdend personeel'!$G$42,IF(G127<14,'Rijdend personeel'!$G$20+'Rijdend personeel'!$G$42,IF(G127<15,'Rijdend personeel'!$G$22+'Rijdend personeel'!$G$42,IF(G127<16,'Rijdend personeel'!$G$24+'Rijdend personeel'!$G$42,IF(G127<17,'Rijdend personeel'!$G$26+'Rijdend personeel'!$G$42,IF(G127<18,'Rijdend personeel'!$G$28+'Rijdend personeel'!$G$42,IF(G127<19,'Rijdend personeel'!$G$30+'Rijdend personeel'!$G$42,IF(G127<20,'Rijdend personeel'!$G$32+'Rijdend personeel'!$G$42,IF(G127<21,'Rijdend personeel'!$G$34+'Rijdend personeel'!$G$42,IF(G127<22,'Rijdend personeel'!$G$36+'Rijdend personeel'!$G$42))))))))))))","v":0},{"$f":"IF(H127=0,0,IF(H127<12,'Rijdend personeel'!$G$16+'Rijdend personeel'!$G$42,IF(H127<13,'Rijdend personeel'!$G$18+'Rijdend personeel'!$G$42,IF(H127<14,'Rijdend personeel'!$G$20+'Rijdend personeel'!$G$42,IF(H127<15,'Rijdend personeel'!$G$22+'Rijdend personeel'!$G$42,IF(H127<16,'Rijdend personeel'!$G$24+'Rijdend personeel'!$G$42,IF(H127<17,'Rijdend personeel'!$G$26+'Rijdend personeel'!$G$42,IF(H127<18,'Rijdend personeel'!$G$28+'Rijdend personeel'!$G$42,IF(H127<19,'Rijdend personeel'!$G$30+'Rijdend personeel'!$G$42,IF(H127<20,'Rijdend personeel'!$G$32+'Rijdend personeel'!$G$42,IF(H127<21,'Rijdend personeel'!$G$34+'Rijdend personeel'!$G$42,IF(H127<22,'Rijdend personeel'!$G$36+'Rijdend personeel'!$G$42))))))))))))","v":0},{"$f":"IF(I127=0,0,IF(I127<12,'Rijdend personeel'!$G$16+'Rijdend personeel'!$G$42,IF(I127<13,'Rijdend personeel'!$G$18+'Rijdend personeel'!$G$42,IF(I127<14,'Rijdend personeel'!$G$20+'Rijdend personeel'!$G$42,IF(I127<15,'Rijdend personeel'!$G$22+'Rijdend personeel'!$G$42,IF(I127<16,'Rijdend personeel'!$G$24+'Rijdend personeel'!$G$42,IF(I127<17,'Rijdend personeel'!$G$26+'Rijdend personeel'!$G$42,IF(I127<18,'Rijdend personeel'!$G$28+'Rijdend personeel'!$G$42,IF(I127<19,'Rijdend personeel'!$G$30+'Rijdend personeel'!$G$42,IF(I127<20,'Rijdend personeel'!$G$32+'Rijdend personeel'!$G$42,IF(I127<21,'Rijdend personeel'!$G$34+'Rijdend personeel'!$G$42,IF(I127<22,'Rijdend personeel'!$G$36+'Rijdend personeel'!$G$42))))))))))))","v":0},{"$f":"IF(J127=0,0,IF(J127<12,'Rijdend personeel'!$G$16+'Rijdend personeel'!$G$42,IF(J127<13,'Rijdend personeel'!$G$18+'Rijdend personeel'!$G$42,IF(J127<14,'Rijdend personeel'!$G$20+'Rijdend personeel'!$G$42,IF(J127<15,'Rijdend personeel'!$G$22+'Rijdend personeel'!$G$42,IF(J127<16,'Rijdend personeel'!$G$24+'Rijdend personeel'!$G$42,IF(J127<17,'Rijdend personeel'!$G$26+'Rijdend personeel'!$G$42,IF(J127<18,'Rijdend personeel'!$G$28+'Rijdend personeel'!$G$42,IF(J127<19,'Rijdend personeel'!$G$30+'Rijdend personeel'!$G$42,IF(J127<20,'Rijdend personeel'!$G$32+'Rijdend personeel'!$G$42,IF(J127<21,'Rijdend personeel'!$G$34+'Rijdend personeel'!$G$42,IF(J127<22,'Rijdend personeel'!$G$36+'Rijdend personeel'!$G$42))))))))))))","v":0},{"$f":"IF(K127=0,0,IF(K127<12,'Rijdend personeel'!$G$16+'Rijdend personeel'!$G$42,IF(K127<13,'Rijdend personeel'!$G$18+'Rijdend personeel'!$G$42,IF(K127<14,'Rijdend personeel'!$G$20+'Rijdend personeel'!$G$42,IF(K127<15,'Rijdend personeel'!$G$22+'Rijdend personeel'!$G$42,IF(K127<16,'Rijdend personeel'!$G$24+'Rijdend personeel'!$G$42,IF(K127<17,'Rijdend personeel'!$G$26+'Rijdend personeel'!$G$42,IF(K127<18,'Rijdend personeel'!$G$28+'Rijdend personeel'!$G$42,IF(K127<19,'Rijdend personeel'!$G$30+'Rijdend personeel'!$G$42,IF(K127<20,'Rijdend personeel'!$G$32+'Rijdend personeel'!$G$42,IF(K127<21,'Rijdend personeel'!$G$34+'Rijdend personeel'!$G$42,IF(K127<22,'Rijdend personeel'!$G$36+'Rijdend personeel'!$G$42))))))))))))","v":0},{"$f":"IF(L127=0,0,IF(L127<12,'Rijdend personeel'!$G$16+'Rijdend personeel'!$G$42,IF(L127<13,'Rijdend personeel'!$G$18+'Rijdend personeel'!$G$42,IF(L127<14,'Rijdend personeel'!$G$20+'Rijdend personeel'!$G$42,IF(L127<15,'Rijdend personeel'!$G$22+'Rijdend personeel'!$G$42,IF(L127<16,'Rijdend personeel'!$G$24+'Rijdend personeel'!$G$42,IF(L127<17,'Rijdend personeel'!$G$26+'Rijdend personeel'!$G$42,IF(L127<18,'Rijdend personeel'!$G$28+'Rijdend personeel'!$G$42,IF(L127<19,'Rijdend personeel'!$G$30+'Rijdend personeel'!$G$42,IF(L127<20,'Rijdend personeel'!$G$32+'Rijdend personeel'!$G$42,IF(L127<21,'Rijdend personeel'!$G$34+'Rijdend personeel'!$G$42,IF(L127<22,'Rijdend personeel'!$G$36+'Rijdend personeel'!$G$42))))))))))))","v":0},{"$f":"IF(M127=0,0,IF(M127<12,'Rijdend personeel'!$G$16+'Rijdend personeel'!$G$42,IF(M127<13,'Rijdend personeel'!$G$18+'Rijdend personeel'!$G$42,IF(M127<14,'Rijdend personeel'!$G$20+'Rijdend personeel'!$G$42,IF(M127<15,'Rijdend personeel'!$G$22+'Rijdend personeel'!$G$42,IF(M127<16,'Rijdend personeel'!$G$24+'Rijdend personeel'!$G$42,IF(M127<17,'Rijdend personeel'!$G$26+'Rijdend personeel'!$G$42,IF(M127<18,'Rijdend personeel'!$G$28+'Rijdend personeel'!$G$42,IF(M127<19,'Rijdend personeel'!$G$30+'Rijdend personeel'!$G$42,IF(M127<20,'Rijdend personeel'!$G$32+'Rijdend personeel'!$G$42,IF(M127<21,'Rijdend personeel'!$G$34+'Rijdend personeel'!$G$42,IF(M127<22,'Rijdend personeel'!$G$36+'Rijdend personeel'!$G$42))))))))))))","v":0},{"$f":"IF(N127=0,0,IF(N127<12,'Rijdend personeel'!$G$16+'Rijdend personeel'!$G$42,IF(N127<13,'Rijdend personeel'!$G$18+'Rijdend personeel'!$G$42,IF(N127<14,'Rijdend personeel'!$G$20+'Rijdend personeel'!$G$42,IF(N127<15,'Rijdend personeel'!$G$22+'Rijdend personeel'!$G$42,IF(N127<16,'Rijdend personeel'!$G$24+'Rijdend personeel'!$G$42,IF(N127<17,'Rijdend personeel'!$G$26+'Rijdend personeel'!$G$42,IF(N127<18,'Rijdend personeel'!$G$28+'Rijdend personeel'!$G$42,IF(N127<19,'Rijdend personeel'!$G$30+'Rijdend personeel'!$G$42,IF(N127<20,'Rijdend personeel'!$G$32+'Rijdend personeel'!$G$42,IF(N127<21,'Rijdend personeel'!$G$34+'Rijdend personeel'!$G$42,IF(N127<22,'Rijdend personeel'!$G$36+'Rijdend personeel'!$G$42))))))))))))","v":0},{"$f":"IF(O127=0,0,IF(O127<12,'Rijdend personeel'!$G$16+'Rijdend personeel'!$G$42,IF(O127<13,'Rijdend personeel'!$G$18+'Rijdend personeel'!$G$42,IF(O127<14,'Rijdend personeel'!$G$20+'Rijdend personeel'!$G$42,IF(O127<15,'Rijdend personeel'!$G$22+'Rijdend personeel'!$G$42,IF(O127<16,'Rijdend personeel'!$G$24+'Rijdend personeel'!$G$42,IF(O127<17,'Rijdend personeel'!$G$26+'Rijdend personeel'!$G$42,IF(O127<18,'Rijdend personeel'!$G$28+'Rijdend personeel'!$G$42,IF(O127<19,'Rijdend personeel'!$G$30+'Rijdend personeel'!$G$42,IF(O127<20,'Rijdend personeel'!$G$32+'Rijdend personeel'!$G$42,IF(O127<21,'Rijdend personeel'!$G$34+'Rijdend personeel'!$G$42,IF(O127<22,'Rijdend personeel'!$G$36+'Rijdend personeel'!$G$42))))))))))))","v":0},{"$f":"IF(P127=0,0,IF(P127<12,'Rijdend personeel'!$G$16+'Rijdend personeel'!$G$42,IF(P127<13,'Rijdend personeel'!$G$18+'Rijdend personeel'!$G$42,IF(P127<14,'Rijdend personeel'!$G$20+'Rijdend personeel'!$G$42,IF(P127<15,'Rijdend personeel'!$G$22+'Rijdend personeel'!$G$42,IF(P127<16,'Rijdend personeel'!$G$24+'Rijdend personeel'!$G$42,IF(P127<17,'Rijdend personeel'!$G$26+'Rijdend personeel'!$G$42,IF(P127<18,'Rijdend personeel'!$G$28+'Rijdend personeel'!$G$42,IF(P127<19,'Rijdend personeel'!$G$30+'Rijdend personeel'!$G$42,IF(P127<20,'Rijdend personeel'!$G$32+'Rijdend personeel'!$G$42,IF(P127<21,'Rijdend personeel'!$G$34+'Rijdend personeel'!$G$42,IF(P127<22,'Rijdend personeel'!$G$36+'Rijdend personeel'!$G$42))))))))))))","v":0},{"$f":"IF(Q127=0,0,IF(Q127<12,'Rijdend personeel'!$G$16+'Rijdend personeel'!$G$42,IF(Q127<13,'Rijdend personeel'!$G$18+'Rijdend personeel'!$G$42,IF(Q127<14,'Rijdend personeel'!$G$20+'Rijdend personeel'!$G$42,IF(Q127<15,'Rijdend personeel'!$G$22+'Rijdend personeel'!$G$42,IF(Q127<16,'Rijdend personeel'!$G$24+'Rijdend personeel'!$G$42,IF(Q127<17,'Rijdend personeel'!$G$26+'Rijdend personeel'!$G$42,IF(Q127<18,'Rijdend personeel'!$G$28+'Rijdend personeel'!$G$42,IF(Q127<19,'Rijdend personeel'!$G$30+'Rijdend personeel'!$G$42,IF(Q127<20,'Rijdend personeel'!$G$32+'Rijdend personeel'!$G$42,IF(Q127<21,'Rijdend personeel'!$G$34+'Rijdend personeel'!$G$42,IF(Q127<22,'Rijdend personeel'!$G$36+'Rijdend personeel'!$G$42))))))))))))","v":0},{"$f":"IF(R127=0,0,IF(R127<12,'Rijdend personeel'!$G$16+'Rijdend personeel'!$G$42,IF(R127<13,'Rijdend personeel'!$G$18+'Rijdend personeel'!$G$42,IF(R127<14,'Rijdend personeel'!$G$20+'Rijdend personeel'!$G$42,IF(R127<15,'Rijdend personeel'!$G$22+'Rijdend personeel'!$G$42,IF(R127<16,'Rijdend personeel'!$G$24+'Rijdend personeel'!$G$42,IF(R127<17,'Rijdend personeel'!$G$26+'Rijdend personeel'!$G$42,IF(R127<18,'Rijdend personeel'!$G$28+'Rijdend personeel'!$G$42,IF(R127<19,'Rijdend personeel'!$G$30+'Rijdend personeel'!$G$42,IF(R127<20,'Rijdend personeel'!$G$32+'Rijdend personeel'!$G$42,IF(R127<21,'Rijdend personeel'!$G$34+'Rijdend personeel'!$G$42,IF(R127<22,'Rijdend personeel'!$G$36+'Rijdend personeel'!$G$42))))))))))))","v":0},{"$f":"IF(S127=0,0,IF(S127<12,'Rijdend personeel'!$G$16+'Rijdend personeel'!$G$42,IF(S127<13,'Rijdend personeel'!$G$18+'Rijdend personeel'!$G$42,IF(S127<14,'Rijdend personeel'!$G$20+'Rijdend personeel'!$G$42,IF(S127<15,'Rijdend personeel'!$G$22+'Rijdend personeel'!$G$42,IF(S127<16,'Rijdend personeel'!$G$24+'Rijdend personeel'!$G$42,IF(S127<17,'Rijdend personeel'!$G$26+'Rijdend personeel'!$G$42,IF(S127<18,'Rijdend personeel'!$G$28+'Rijdend personeel'!$G$42,IF(S127<19,'Rijdend personeel'!$G$30+'Rijdend personeel'!$G$42,IF(S127<20,'Rijdend personeel'!$G$32+'Rijdend personeel'!$G$42,IF(S127<21,'Rijdend personeel'!$G$34+'Rijdend personeel'!$G$42,IF(S127<22,'Rijdend personeel'!$G$36+'Rijdend personeel'!$G$42))))))))))))","v":0}]
[null,null,"Zondagsrust alle CH",null,{"$f":"Reis!F150*'Rijdend personeel'!$G$48","v":0},{"$f":"Reis!G150*'Rijdend personeel'!$G$48","v":0},{"$f":"Reis!H150*'Rijdend personeel'!$G$48","v":0},{"$f":"Reis!I150*'Rijdend personeel'!$G$48","v":0},{"$f":"Reis!J150*'Rijdend personeel'!$G$48","v":0},{"$f":"Reis!K150*'Rijdend personeel'!$G$48","v":0},{"$f":"Reis!L150*'Rijdend personeel'!$G$48","v":0},{"$f":"Reis!M150*'Rijdend personeel'!$G$48","v":0},{"$f":"Reis!N150*'Rijdend personeel'!$G$48","v":0},{"$f":"Reis!O150*'Rijdend personeel'!$G$48","v":0},{"$f":"Reis!P150*'Rijdend personeel'!$G$48","v":0},{"$f":"Reis!Q150*'Rijdend personeel'!$G$48","v":0},{"$f":"Reis!R150*'Rijdend personeel'!$G$48","v":0},{"$f":"Reis!S150*'Rijdend personeel'!$G$48","v":0},{"$f":"Reis!T150*'Rijdend personeel'!$G$48","v":0}]
[null,null,"Inactiviteitsdag alle CH",null,{"$f":"Reis!F151*'Rijdend personeel'!$G$50","v":0},{"$f":"Reis!G151*'Rijdend personeel'!$G$50","v":0},{"$f":"Reis!H151*'Rijdend personeel'!$G$50","v":0},{"$f":"Reis!I151*'Rijdend personeel'!$G$50","v":0},{"$f":"Reis!J151*'Rijdend personeel'!$G$50","v":0},{"$f":"Reis!K151*'Rijdend personeel'!$G$50","v":0},{"$f":"Reis!L151*'Rijdend personeel'!$G$50","v":0},{"$f":"Reis!M151*'Rijdend personeel'!$G$50","v":0},{"$f":"Reis!N151*'Rijdend personeel'!$G$50","v":0},{"$f":"Reis!O151*'Rijdend personeel'!$G$50","v":0},{"$f":"Reis!P151*'Rijdend personeel'!$G$50","v":0},{"$f":"Reis!Q151*'Rijdend personeel'!$G$50","v":0},{"$f":"Reis!R151*'Rijdend personeel'!$G$50","v":0},{"$f":"Reis!S151*'Rijdend personeel'!$G$50","v":0},{"$f":"Reis!T151*'Rijdend personeel'!$G$50","v":0}]
[null,null,"Eindejaarspremie alle CH",null,{"$f":"IF(Reis!F139<1,0,(('Rijdend personeel'!$G$46/'Rijdend personeel'!$G$68)*Reis!F145))","v":{"$error":"#DIV/0!"}},{"$f":"IF(Reis!G139<1,0,(('Rijdend personeel'!$G$46/'Rijdend personeel'!$G$68)*Reis!G145))","v":0},{"$f":"IF(Reis!H139<1,0,(('Rijdend personeel'!$G$46/'Rijdend personeel'!$G$68)*Reis!H145))","v":0},{"$f":"IF(Reis!I139<1,0,(('Rijdend personeel'!$G$46/'Rijdend personeel'!$G$68)*Reis!I145))","v":0},{"$f":"IF(Reis!J139<1,0,(('Rijdend personeel'!$G$46/'Rijdend personeel'!$G$68)*Reis!J145))","v":0},{"$f":"IF(Reis!K139<1,0,(('Rijdend personeel'!$G$46/'Rijdend personeel'!$G$68)*Reis!K145))","v":0},{"$f":"IF(Reis!L139<1,0,(('Rijdend personeel'!$G$46/'Rijdend personeel'!$G$68)*Reis!L145))","v":0},{"$f":"IF(Reis!M139<1,0,(('Rijdend personeel'!$G$46/'Rijdend personeel'!$G$68)*Reis!M145))","v":0},{"$f":"IF(Reis!N139<1,0,(('Rijdend personeel'!$G$46/'Rijdend personeel'!$G$68)*Reis!N145))","v":0},{"$f":"IF(Reis!O139<1,0,(('Rijdend personeel'!$G$46/'Rijdend personeel'!$G$68)*Reis!O145))","v":0},{"$f":"IF(Reis!P139<1,0,(('Rijdend personeel'!$G$46/'Rijdend personeel'!$G$68)*Reis!P145))","v":0},{"$f":"IF(Reis!Q139<1,0,(('Rijdend personeel'!$G$46/'Rijdend personeel'!$G$68)*Reis!Q145))","v":0},{"$f":"IF(Reis!R139<1,0,(('Rijdend personeel'!$G$46/'Rijdend personeel'!$G$68)*Reis!R145))","v":0},{"$f":"IF(Reis!S139<1,0,(('Rijdend personeel'!$G$46/'Rijdend personeel'!$G$68)*Reis!S145))","v":0},{"$f":"IF(Reis!T139<1,0,(('Rijdend personeel'!$G$46/'Rijdend personeel'!$G$68)*Reis!T145))","v":0}]
[null,null,"RSZ werkgever alle CH",null,{"$f":"IF(Reis!F139<1,0,((E128+E129+E130+E131+E132+E133)*1.08*'Rijdend personeel'!$G$52))","v":{"$error":"#DIV/0!"}},{"$f":"IF(Reis!G139<1,0,((F128+F129+F130+F131+F132+F133)*1.08*'Rijdend personeel'!$G$52))","v":0},{"$f":"IF(Reis!H139<1,0,((G128+G129+G130+G131+G132+G133)*1.08*'Rijdend personeel'!$G$52))","v":0},{"$f":"IF(Reis!I139<1,0,((H128+H129+H130+H131+H132+H133)*1.08*'Rijdend personeel'!$G$52))","v":0},{"$f":"IF(Reis!J139<1,0,((I128+I129+I130+I131+I132+I133)*1.08*'Rijdend personeel'!$G$52))","v":0},{"$f":"IF(Reis!K139<1,0,((J128+J129+J130+J131+J132+J133)*1.08*'Rijdend personeel'!$G$52))","v":0},{"$f":"IF(Reis!L139<1,0,((K128+K129+K130+K131+K132+K133)*1.08*'Rijdend personeel'!$G$52))","v":0},{"$f":"IF(Reis!M139<1,0,((L128+L129+L130+L131+L132+L133)*1.08*'Rijdend personeel'!$G$52))","v":0},{"$f":"IF(Reis!N139<1,0,((M128+M129+M130+M131+M132+M133)*1.08*'Rijdend personeel'!$G$52))","v":0},{"$f":"IF(Reis!O139<1,0,((N128+N129+N130+N131+N132+N133)*1.08*'Rijdend personeel'!$G$52))","v":0},{"$f":"IF(Reis!P139<1,0,((O128+O129+O130+O131+O132+O133)*1.08*'Rijdend personeel'!$G$52))","v":0},{"$f":"IF(Reis!Q139<1,0,((P128+P129+P130+P131+P132+P133)*1.08*'Rijdend personeel'!$G$52))","v":0},{"$f":"IF(Reis!R139<1,0,((Q128+Q129+Q130+Q131+Q132+Q133)*1.08*'Rijdend personeel'!$G$52))","v":0},{"$f":"IF(Reis!S139<1,0,((R128+R129+R130+R131+R132+R133)*1.08*'Rijdend personeel'!$G$52))","v":0},{"$f":"IF(Reis!T139<1,0,((S128+S129+S130+S131+S132+S133)*1.08*'Rijdend personeel'!$G$52))","v":0}]
[null,null,"Eco-cheques alle CH",null,{"$f":"IF(Reis!F139<1,0,(('Rijdend personeel'!$G$44/'Rijdend personeel'!$G$68)*Reis!F145))","v":{"$error":"#DIV/0!"}},{"$f":"IF(Reis!G139<1,0,(('Rijdend personeel'!$G$44/'Rijdend personeel'!$G$68)*Reis!G145))","v":0},{"$f":"IF(Reis!H139<1,0,(('Rijdend personeel'!$G$44/'Rijdend personeel'!$G$68)*Reis!H145))","v":0},{"$f":"IF(Reis!I139<1,0,(('Rijdend personeel'!$G$44/'Rijdend personeel'!$G$68)*Reis!I145))","v":0},{"$f":"IF(Reis!J139<1,0,(('Rijdend personeel'!$G$44/'Rijdend personeel'!$G$68)*Reis!J145))","v":0},{"$f":"IF(Reis!K139<1,0,(('Rijdend personeel'!$G$44/'Rijdend personeel'!$G$68)*Reis!K145))","v":0},{"$f":"IF(Reis!L139<1,0,(('Rijdend personeel'!$G$44/'Rijdend personeel'!$G$68)*Reis!L145))","v":0},{"$f":"IF(Reis!M139<1,0,(('Rijdend personeel'!$G$44/'Rijdend personeel'!$G$68)*Reis!M145))","v":0},{"$f":"IF(Reis!N139<1,0,(('Rijdend personeel'!$G$44/'Rijdend personeel'!$G$68)*Reis!N145))","v":0},{"$f":"IF(Reis!O139<1,0,(('Rijdend personeel'!$G$44/'Rijdend personeel'!$G$68)*Reis!O145))","v":0},{"$f":"IF(Reis!P139<1,0,(('Rijdend personeel'!$G$44/'Rijdend personeel'!$G$68)*Reis!P145))","v":0},{"$f":"IF(Reis!Q139<1,0,(('Rijdend personeel'!$G$44/'Rijdend personeel'!$G$68)*Reis!Q145))","v":0},{"$f":"IF(Reis!R139<1,0,(('Rijdend personeel'!$G$44/'Rijdend personeel'!$G$68)*Reis!R145))","v":0},{"$f":"IF(Reis!S139<1,0,(('Rijdend personeel'!$G$44/'Rijdend personeel'!$G$68)*Reis!S145))","v":0},{"$f":"IF(Reis!T139<1,0,(('Rijdend personeel'!$G$44/'Rijdend personeel'!$G$68)*Reis!T145))","v":0}]
[null,null,"ARAB CH ENKEL",null,{"$f":"ROUNDUP(E125,0)*'Rijdend personeel'!$G$40","v":0},{"$f":"ROUNDUP(F125,0)*'Rijdend personeel'!$G$40","v":0},{"$f":"ROUNDUP(G125,0)*'Rijdend personeel'!$G$40","v":0},{"$f":"ROUNDUP(H125,0)*'Rijdend personeel'!$G$40","v":0},{"$f":"ROUNDUP(I125,0)*'Rijdend personeel'!$G$40","v":0},{"$f":"ROUNDUP(J125,0)*'Rijdend personeel'!$G$40","v":0},{"$f":"ROUNDUP(K125,0)*'Rijdend personeel'!$G$40","v":0},{"$f":"ROUNDUP(L125,0)*'Rijdend personeel'!$G$40","v":0},{"$f":"ROUNDUP(M125,0)*'Rijdend personeel'!$G$40","v":0},{"$f":"ROUNDUP(N125,0)*'Rijdend personeel'!$G$40","v":0},{"$f":"ROUNDUP(O125,0)*'Rijdend personeel'!$G$40","v":0},{"$f":"ROUNDUP(P125,0)*'Rijdend personeel'!$G$40","v":0},{"$f":"ROUNDUP(Q125,0)*'Rijdend personeel'!$G$40","v":0},{"$f":"ROUNDUP(R125,0)*'Rijdend personeel'!$G$40","v":0},{"$f":"ROUNDUP(S125,0)*'Rijdend personeel'!$G$40","v":0}]
[null,null,"ARAB CH1 DUBBEL",null,{"$f":"ROUNDUP(E126,0)*'Rijdend personeel'!$G$40","v":0},{"$f":"ROUNDUP(F126,0)*'Rijdend personeel'!$G$40","v":0},{"$f":"ROUNDUP(G126,0)*'Rijdend personeel'!$G$40","v":0},{"$f":"ROUNDUP(H126,0)*'Rijdend personeel'!$G$40","v":0},{"$f":"ROUNDUP(I126,0)*'Rijdend personeel'!$G$40","v":0},{"$f":"ROUNDUP(J126,0)*'Rijdend personeel'!$G$40","v":0},{"$f":"ROUNDUP(K126,0)*'Rijdend personeel'!$G$40","v":0},{"$f":"ROUNDUP(L126,0)*'Rijdend personeel'!$G$40","v":0},{"$f":"ROUNDUP(M126,0)*'Rijdend personeel'!$G$40","v":0},{"$f":"ROUNDUP(N126,0)*'Rijdend personeel'!$G$40","v":0},{"$f":"ROUNDUP(O126,0)*'Rijdend personeel'!$G$40","v":0},{"$f":"ROUNDUP(P126,0)*'Rijdend personeel'!$G$40","v":0},{"$f":"ROUNDUP(Q126,0)*'Rijdend personeel'!$G$40","v":0},{"$f":"ROUNDUP(R126,0)*'Rijdend personeel'!$G$40","v":0},{"$f":"ROUNDUP(S126,0)*'Rijdend personeel'!$G$40","v":0}]
[null,null,"ARAB CH2 DUBBEL",null,{"$f":"ROUNDUP(E127,0)*'Rijdend personeel'!$G$40","v":0},{"$f":"ROUNDUP(F127,0)*'Rijdend personeel'!$G$40","v":0},{"$f":"ROUNDUP(G127,0)*'Rijdend personeel'!$G$40","v":0},{"$f":"ROUNDUP(H127,0)*'Rijdend personeel'!$G$40","v":0},{"$f":"ROUNDUP(I127,0)*'Rijdend personeel'!$G$40","v":0},{"$f":"ROUNDUP(J127,0)*'Rijdend personeel'!$G$40","v":0},{"$f":"ROUNDUP(K127,0)*'Rijdend personeel'!$G$40","v":0},{"$f":"ROUNDUP(L127,0)*'Rijdend personeel'!$G$40","v":0},{"$f":"ROUNDUP(M127,0)*'Rijdend personeel'!$G$40","v":0},{"$f":"ROUNDUP(N127,0)*'Rijdend personeel'!$G$40","v":0},{"$f":"ROUNDUP(O127,0)*'Rijdend personeel'!$G$40","v":0},{"$f":"ROUNDUP(P127,0)*'Rijdend personeel'!$G$40","v":0},{"$f":"ROUNDUP(Q127,0)*'Rijdend personeel'!$G$40","v":0},{"$f":"ROUNDUP(R127,0)*'Rijdend personeel'!$G$40","v":0},{"$f":"ROUNDUP(S127,0)*'Rijdend personeel'!$G$40","v":0}]
[null,null,"Overige kosten alle CH",null,{"$f":"IF(Reis!F139<1,0,((('Rijdend personeel'!$G$54+'Rijdend personeel'!$G$56+'Rijdend personeel'!$G$58+'Rijdend personeel'!$G$60+'Rijdend personeel'!$G$62+'Rijdend personeel'!$G$64+'Rijdend personeel'!$G$66)/'Rijdend personeel'!$G$68)*Reis!F145))","v":{"$error":"#DIV/0!"}},{"$f":"IF(Reis!G139<1,0,((('Rijdend personeel'!$G$54+'Rijdend personeel'!$G$56+'Rijdend personeel'!$G$58+'Rijdend personeel'!$G$60+'Rijdend personeel'!$G$62+'Rijdend personeel'!$G$64+'Rijdend personeel'!$G$66)/'Rijdend personeel'!$G$68)*Reis!G145))","v":0},{"$f":"IF(Reis!H139<1,0,((('Rijdend personeel'!$G$54+'Rijdend personeel'!$G$56+'Rijdend personeel'!$G$58+'Rijdend personeel'!$G$60+'Rijdend personeel'!$G$62+'Rijdend personeel'!$G$64+'Rijdend personeel'!$G$66)/'Rijdend personeel'!$G$68)*Reis!H145))","v":0},{"$f":"IF(Reis!I139<1,0,((('Rijdend personeel'!$G$54+'Rijdend personeel'!$G$56+'Rijdend personeel'!$G$58+'Rijdend personeel'!$G$60+'Rijdend personeel'!$G$62+'Rijdend personeel'!$G$64+'Rijdend personeel'!$G$66)/'Rijdend personeel'!$G$68)*Reis!I145))","v":0},{"$f":"IF(Reis!J139<1,0,((('Rijdend personeel'!$G$54+'Rijdend personeel'!$G$56+'Rijdend personeel'!$G$58+'Rijdend personeel'!$G$60+'Rijdend personeel'!$G$62+'Rijdend personeel'!$G$64+'Rijdend personeel'!$G$66)/'Rijdend personeel'!$G$68)*Reis!J145))","v":0},{"$f":"IF(Reis!K139<1,0,((('Rijdend personeel'!$G$54+'Rijdend personeel'!$G$56+'Rijdend personeel'!$G$58+'Rijdend personeel'!$G$60+'Rijdend personeel'!$G$62+'Rijdend personeel'!$G$64+'Rijdend personeel'!$G$66)/'Rijdend personeel'!$G$68)*Reis!K145))","v":0},{"$f":"IF(Reis!L139<1,0,((('Rijdend personeel'!$G$54+'Rijdend personeel'!$G$56+'Rijdend personeel'!$G$58+'Rijdend personeel'!$G$60+'Rijdend personeel'!$G$62+'Rijdend personeel'!$G$64+'Rijdend personeel'!$G$66)/'Rijdend personeel'!$G$68)*Reis!L145))","v":0},{"$f":"IF(Reis!M139<1,0,((('Rijdend personeel'!$G$54+'Rijdend personeel'!$G$56+'Rijdend personeel'!$G$58+'Rijdend personeel'!$G$60+'Rijdend personeel'!$G$62+'Rijdend personeel'!$G$64+'Rijdend personeel'!$G$66)/'Rijdend personeel'!$G$68)*Reis!M145))","v":0},{"$f":"IF(Reis!N139<1,0,((('Rijdend personeel'!$G$54+'Rijdend personeel'!$G$56+'Rijdend personeel'!$G$58+'Rijdend personeel'!$G$60+'Rijdend personeel'!$G$62+'Rijdend personeel'!$G$64+'Rijdend personeel'!$G$66)/'Rijdend personeel'!$G$68)*Reis!N145))","v":0},{"$f":"IF(Reis!O139<1,0,((('Rijdend personeel'!$G$54+'Rijdend personeel'!$G$56+'Rijdend personeel'!$G$58+'Rijdend personeel'!$G$60+'Rijdend personeel'!$G$62+'Rijdend personeel'!$G$64+'Rijdend personeel'!$G$66)/'Rijdend personeel'!$G$68)*Reis!O145))","v":0},{"$f":"IF(Reis!P139<1,0,((('Rijdend personeel'!$G$54+'Rijdend personeel'!$G$56+'Rijdend personeel'!$G$58+'Rijdend personeel'!$G$60+'Rijdend personeel'!$G$62+'Rijdend personeel'!$G$64+'Rijdend personeel'!$G$66)/'Rijdend personeel'!$G$68)*Reis!P145))","v":0},{"$f":"IF(Reis!Q139<1,0,((('Rijdend personeel'!$G$54+'Rijdend personeel'!$G$56+'Rijdend personeel'!$G$58+'Rijdend personeel'!$G$60+'Rijdend personeel'!$G$62+'Rijdend personeel'!$G$64+'Rijdend personeel'!$G$66)/'Rijdend personeel'!$G$68)*Reis!Q145))","v":0},{"$f":"IF(Reis!R139<1,0,((('Rijdend personeel'!$G$54+'Rijdend personeel'!$G$56+'Rijdend personeel'!$G$58+'Rijdend personeel'!$G$60+'Rijdend personeel'!$G$62+'Rijdend personeel'!$G$64+'Rijdend personeel'!$G$66)/'Rijdend personeel'!$G$68)*Reis!R145))","v":0},{"$f":"IF(Reis!S139<1,0,((('Rijdend personeel'!$G$54+'Rijdend personeel'!$G$56+'Rijdend personeel'!$G$58+'Rijdend personeel'!$G$60+'Rijdend personeel'!$G$62+'Rijdend personeel'!$G$64+'Rijdend personeel'!$G$66)/'Rijdend personeel'!$G$68)*Reis!S145))","v":0},{"$f":"IF(Reis!T139<1,0,((('Rijdend personeel'!$G$54+'Rijdend personeel'!$G$56+'Rijdend personeel'!$G$58+'Rijdend personeel'!$G$60+'Rijdend personeel'!$G$62+'Rijdend personeel'!$G$64+'Rijdend personeel'!$G$66)/'Rijdend personeel'!$G$68)*Reis!T145))","v":0}]
[null,null,"Extra bonussen zondag + feestdag",null,{"$f":"IF(Reis!F150>0,0,IF(Reis!F145=\"\",\"\",IF(Reis!F145=1,Reis!AD142,IF(Reis!F145=2,Reis!AD142+Reis!AD143,IF(Reis!F145=3,Reis!AD142+Reis!AD143+Reis!AD144)))))","v":""},{"$f":"IF(Reis!G150>0,0,IF(Reis!G145=\"\",\"\",IF(Reis!G145=1,Reis!AE142,IF(Reis!G145=2,Reis!AE142+Reis!AE143,IF(Reis!G145=3,Reis!AE142+Reis!AE143+Reis!AE144)))))","v":""},{"$f":"IF(Reis!H150>0,0,IF(Reis!H145=\"\",\"\",IF(Reis!H145=1,Reis!AF142,IF(Reis!H145=2,Reis!AF142+Reis!AF143,IF(Reis!H145=3,Reis!AF142+Reis!AF143+Reis!AF144)))))","v":""},{"$f":"IF(Reis!I150>0,0,IF(Reis!I145=\"\",\"\",IF(Reis!I145=1,Reis!AG142,IF(Reis!I145=2,Reis!AG142+Reis!AG143,IF(Reis!I145=3,Reis!AG142+Reis!AG143+Reis!AG144)))))","v":""},{"$f":"IF(Reis!J150>0,0,IF(Reis!J145=\"\",\"\",IF(Reis!J145=1,Reis!AH142,IF(Reis!J145=2,Reis!AH142+Reis!AH143,IF(Reis!J145=3,Reis!AH142+Reis!AH143+Reis!AH144)))))","v":""},{"$f":"IF(Reis!K150>0,0,IF(Reis!K145=\"\",\"\",IF(Reis!K145=1,Reis!AI142,IF(Reis!K145=2,Reis!AI142+Reis!AI143,IF(Reis!K145=3,Reis!AI142+Reis!AI143+Reis!AI144)))))","v":""},{"$f":"IF(Reis!L150>0,0,IF(Reis!L145=\"\",\"\",IF(Reis!L145=1,Reis!AJ142,IF(Reis!L145=2,Reis!AJ142+Reis!AJ143,IF(Reis!L145=3,Reis!AJ142+Reis!AJ143+Reis!AJ144)))))","v":""},{"$f":"IF(Reis!M150>0,0,IF(Reis!M145=\"\",\"\",IF(Reis!M145=1,Reis!AK142,IF(Reis!M145=2,Reis!AK142+Reis!AK143,IF(Reis!M145=3,Reis!AK142+Reis!AK143+Reis!AK144)))))","v":""},{"$f":"IF(Reis!N150>0,0,IF(Reis!N145=\"\",\"\",IF(Reis!N145=1,Reis!AL142,IF(Reis!N145=2,Reis!AL142+Reis!AL143,IF(Reis!N145=3,Reis!AL142+Reis!AL143+Reis!AL144)))))","v":""},{"$f":"IF(Reis!O150>0,0,IF(Reis!O145=\"\",\"\",IF(Reis!O145=1,Reis!AM142,IF(Reis!O145=2,Reis!AM142+Reis!AM143,IF(Reis!O145=3,Reis!AM142+Reis!AM143+Reis!AM144)))))","v":""},{"$f":"IF(Reis!P150>0,0,IF(Reis!P145=\"\",\"\",IF(Reis!P145=1,Reis!AN142,IF(Reis!P145=2,Reis!AN142+Reis!AN143,IF(Reis!P145=3,Reis!AN142+Reis!AN143+Reis!AN144)))))","v":""},{"$f":"IF(Reis!Q150>0,0,IF(Reis!Q145=\"\",\"\",IF(Reis!Q145=1,Reis!AO142,IF(Reis!Q145=2,Reis!AO142+Reis!AO143,IF(Reis!Q145=3,Reis!AO142+Reis!AO143+Reis!AO144)))))","v":""},{"$f":"IF(Reis!R150>0,0,IF(Reis!R145=\"\",\"\",IF(Reis!R145=1,Reis!AP142,IF(Reis!R145=2,Reis!AP142+Reis!AP143,IF(Reis!R145=3,Reis!AP142+Reis!AP143+Reis!AP144)))))","v":""},{"$f":"IF(Reis!S150>0,0,IF(Reis!S145=\"\",\"\",IF(Reis!S145=1,Reis!AQ142,IF(Reis!S145=2,Reis!AQ142+Reis!AQ143,IF(Reis!S145=3,Reis!AQ142+Reis!AQ143+Reis!AQ144)))))","v":""},{"$f":"IF(Reis!T150>0,0,IF(Reis!T145=\"\",\"\",IF(Reis!T145=1,Reis!AR142,IF(Reis!T145=2,Reis!AR142+Reis!AR143,IF(Reis!T145=3,Reis!AR142+Reis!AR143+Reis!AR144)))))","v":""}]
[null,null,"Maaltijdcheques",null,{"$f":"IF(Reis!F139<1,0,(('Rijdend personeel'!$G$70*Reis!F145)))","v":0},{"$f":"IF(Reis!G139<1,0,(('Rijdend personeel'!$G$70*Reis!G145)))","v":0},{"$f":"IF(Reis!H139<1,0,(('Rijdend personeel'!$G$70*Reis!H145)))","v":0},{"$f":"IF(Reis!I139<1,0,(('Rijdend personeel'!$G$70*Reis!I145)))","v":0},{"$f":"IF(Reis!J139<1,0,(('Rijdend personeel'!$G$70*Reis!J145)))","v":0},{"$f":"IF(Reis!K139<1,0,(('Rijdend personeel'!$G$70*Reis!K145)))","v":0},{"$f":"IF(Reis!L139<1,0,(('Rijdend personeel'!$G$70*Reis!L145)))","v":0},{"$f":"IF(Reis!M139<1,0,(('Rijdend personeel'!$G$70*Reis!M145)))","v":0},{"$f":"IF(Reis!N139<1,0,(('Rijdend personeel'!$G$70*Reis!N145)))","v":0},{"$f":"IF(Reis!O139<1,0,(('Rijdend personeel'!$G$70*Reis!O145)))","v":0},{"$f":"IF(Reis!P139<1,0,(('Rijdend personeel'!$G$70*Reis!P145)))","v":0},{"$f":"IF(Reis!Q139<1,0,(('Rijdend personeel'!$G$70*Reis!Q145)))","v":0},{"$f":"IF(Reis!R139<1,0,(('Rijdend personeel'!$G$70*Reis!R145)))","v":0},{"$f":"IF(Reis!S139<1,0,(('Rijdend personeel'!$G$70*Reis!S145)))","v":0},{"$f":"IF(Reis!T139<1,0,(('Rijdend personeel'!$G$70*Reis!T145)))","v":0}]
[null,null,"Extra loonkosten alle CH"]
[null,null,"Totale loonkost alle CH",null,{"$f":"IF(Reis!F139<1,0,(E128+E129+E130+E131+E132+E133+E135+E134+E136+E137+E138+E139+E140+E142+E141))","v":{"$error":"#DIV/0!"}},{"$f":"IF(Reis!G139<1,0,(F128+F129+F130+F131+F132+F133+F135+F134+F136+F137+F138+F139+F140+F142+F141))","v":0},{"$f":"IF(Reis!H139<1,0,(G128+G129+G130+G131+G132+G133+G135+G134+G136+G137+G138+G139+G140+G142+G141))","v":0},{"$f":"IF(Reis!I139<1,0,(H128+H129+H130+H131+H132+H133+H135+H134+H136+H137+H138+H139+H140+H142+H141))","v":0},{"$f":"IF(Reis!J139<1,0,(I128+I129+I130+I131+I132+I133+I135+I134+I136+I137+I138+I139+I140+I142+I141))","v":0},{"$f":"IF(Reis!K139<1,0,(J128+J129+J130+J131+J132+J133+J135+J134+J136+J137+J138+J139+J140+J142+J141))","v":0},{"$f":"IF(Reis!L139<1,0,(K128+K129+K130+K131+K132+K133+K135+K134+K136+K137+K138+K139+K140+K142+K141))","v":0},{"$f":"IF(Reis!M139<1,0,(L128+L129+L130+L131+L132+L133+L135+L134+L136+L137+L138+L139+L140+L142+L141))","v":0},{"$f":"IF(Reis!N139<1,0,(M128+M129+M130+M131+M132+M133+M135+M134+M136+M137+M138+M139+M140+M142+M141))","v":0},{"$f":"IF(Reis!O139<1,0,(N128+N129+N130+N131+N132+N133+N135+N134+N136+N137+N138+N139+N140+N142+N141))","v":0},{"$f":"IF(Reis!P139<1,0,(O128+O129+O130+O131+O132+O133+O135+O134+O136+O137+O138+O139+O140+O142+O141))","v":0},{"$f":"IF(Reis!Q139<1,0,(P128+P129+P130+P131+P132+P133+P135+P134+P136+P137+P138+P139+P140+P142+P141))","v":0},{"$f":"IF(Reis!R139<1,0,(Q128+Q129+Q130+Q131+Q132+Q133+Q135+Q134+Q136+Q137+Q138+Q139+Q140+Q142+Q141))","v":0},{"$f":"IF(Reis!S139<1,0,(R128+R129+R130+R131+R132+R133+R135+R134+R136+R137+R138+R139+R140+R142+R141))","v":0},{"$f":"IF(Reis!T139<1,0,(S128+S129+S130+S131+S132+S133+S135+S134+S136+S137+S138+S139+S140+S142+S141))","v":0}]

{"sheet":"Kostprijs en Verkoopprijs","index":11,"n_rows":196,"n_cols":25,"rows_kept":196,"cut":false,"hidden":false,"merged":[[179,2,182,2],[196,1,196,22],[140,2,143,2],[158,9,158,10],[158,11,158,14],[161,22,162,22],[164,2,168,2],[172,2,177,2],[133,2,138,2],[62,2,65,2],[80,9,80,10],[80,11,80,14],[83,22,84,22],[86,2,90,2],[94,2,99,2],[101,2,104,2],[119,9,119,10],[119,11,119,14],[122,22,123,22],[125,2,129,2],[55,2,60,2],[1,1,1,23],[3,9,3,10],[3,11,3,14],[6,22,7,22],[9,2,13,2],[17,2,22,2],[24,2,27,2],[41,9,41,10],[41,11,41,14],[44,22,45,22],[47,2,51,2]]}
[]
[null,"Kostprijs en Verkoopprijs"]
[]
[null,null,null,null,null,null,null,null,null,{"$f":"Bestemmingen!I8","v":0},null,{"$f":"Bestemmingen!S8","v":"vehicule1"},null,null,null,null,null,null,null,null,null,null,null,null,"J4&L4"]
[null,null,null,null,{"$f":"Bestemmingen!$Q$8","v":1}]
[null,null,null,null,7,null,null,null,null,null,null,null,null,null,null,null,null,null,null,null,null,null,{"$f":"J4&L4","v":"0vehicule1"}]
[null,null,null,null,null,null,null,"dag","dag","dag","dag","dag","dag","dag","dag","dag","dag","dag","dag","dag","dag","dag","Total"]
[null,null,null,null,null,null,null,1,2,3,4,5,6,7,8,9,10,11,12,13,14,15]
[]
[null,null,"VAST","Voertuig (economische afschr.)",null,null,null,{"$f":"(IF(calculprv1!$G$15=\"economisch\",\n(calculprv1!$G$11*(1-calculprv1!$G$13))/(calculprv1!$G$19*calculprv1!$G$23)*Reis!F35*Reis!F13))","v":false},{"$f":"(IF(calculprv1!$G$15=\"economisch\",\n(calculprv1!$G$11*(1-calculprv1!$G$13))/(calculprv1!$G$19*calculprv1!$G$23)*Reis!G35*Reis!G13))","v":false},{"$f":"(IF(calculprv1!$G$15=\"economisch\",\n(calculprv1!$G$11*(1-calculprv1!$G$13))/(calculprv1!$G$19*calculprv1!$G$23)*Reis!H35*Reis!H13))","v":false},{"$f":"(IF(calculprv1!$G$15=\"economisch\",\n(calculprv1!$G$11*(1-calculprv1!$G$13))/(calculprv1!$G$19*calculprv1!$G$23)*Reis!I35*Reis!I13))","v":false},{"$f":"(IF(calculprv1!$G$15=\"economisch\",\n(calculprv1!$G$11*(1-calculprv1!$G$13))/(calculprv1!$G$19*calculprv1!$G$23)*Reis!J35*Reis!J13))","v":false},{"$f":"(IF(calculprv1!$G$15=\"economisch\",\n(calculprv1!$G$11*(1-calculprv1!$G$13))/(calculprv1!$G$19*calculprv1!$G$23)*Reis!K35*Reis!K13))","v":false},{"$f":"(IF(calculprv1!$G$15=\"economisch\",\n(calculprv1!$G$11*(1-calculprv1!$G$13))/(calculprv1!$G$19*calculprv1!$G$23)*Reis!L35*Reis!L13))","v":false},{"$f":"(IF(calculprv1!$G$15=\"economisch\",\n(calculprv1!$G$11*(1-calculprv1!$G$13))/(calculprv1!$G$19*calculprv1!$G$23)*Reis!M35*Reis!M13))","v":false},{"$f":"(IF(calculprv1!$G$15=\"economisch\",\n(calculprv1!$G$11*(1-calculprv1!$G$13))/(calculprv1!$G$19*calculprv1!$G$23)*Reis!N35*Reis!N13))","v":false},{"$f":"(IF(calculprv1!$G$15=\"economisch\",\n(calculprv1!$G$11*(1-calculprv1!$G$13))/(calculprv1!$G$19*calculprv1!$G$23)*Reis!O35*Reis!O13))","v":false},{"$f":"(IF(calculprv1!$G$15=\"economisch\",\n(calculprv1!$G$11*(1-calculprv1!$G$13))/(calculprv1!$G$19*calculprv1!$G$23)*Reis!P35*Reis!P13))","v":false},{"$f":"(IF(calculprv1!$G$15=\"economisch\",\n(calculprv1!$G$11*(1-calculprv1!$G$13))/(calculprv1!$G$19*calculprv1!$G$23)*Reis!Q35*Reis!Q13))","v":false},{"$f":"(IF(calculprv1!$G$15=\"economisch\",\n(calculprv1!$G$11*(1-calculprv1!$G$13))/(calculprv1!$G$19*calculprv1!$G$23)*Reis!R35*Reis!R13))","v":false},{"$f":"(IF(calculprv1!$G$15=\"economisch\",\n(calculprv1!$G$11*(1-calculprv1!$G$13))/(calculprv1!$G$19*calculprv1!$G$23)*Reis!S35*Reis!S13))","v":false},{"$f":"(IF(calculprv1!$G$15=\"economisch\",\n(calculprv1!$G$11*(1-calculprv1!$G$13))/(calculprv1!$G$19*calculprv1!$G$23)*Reis!T35*Reis!T13))","v":false},{"$f":"SUM(H10:V10)","v":0}]
[null,null,null,"Financiering voertuig",null,null,null,{"$f":"(calculprv1!$G$11*(1-calculprv1!$G$13)/2+calculprv1!$G$11*calculprv1!$G$13)\n*(calculprv1!$G$27*(1-calculprv1!$G$29)+calculprv1!$G$31*calculprv1!$G$29)\n/calculprv1!$G$23\n*Reis!F35*Reis!F13","v":{"$error":"#DIV/0!"}},{"$f":"(calculprv1!$G$11*(1-calculprv1!$G$13)/2+calculprv1!$G$11*calculprv1!$G$13)\n*(calculprv1!$G$27*(1-calculprv1!$G$29)+calculprv1!$G$31*calculprv1!$G$29)\n/calculprv1!$G$23\n*Reis!G35*Reis!G13","v":{"$error":"#DIV/0!"}},{"$f":"(calculprv1!$G$11*(1-calculprv1!$G$13)/2+calculprv1!$G$11*calculprv1!$G$13)\n*(calculprv1!$G$27*(1-calculprv1!$G$29)+calculprv1!$G$31*calculprv1!$G$29)\n/calculprv1!$G$23\n*Reis!H35*Reis!H13","v":{"$error":"#DIV/0!"}},{"$f":"(calculprv1!$G$11*(1-calculprv1!$G$13)/2+calculprv1!$G$11*calculprv1!$G$13)\n*(calculprv1!$G$27*(1-calculprv1!$G$29)+calculprv1!$G$31*calculprv1!$G$29)\n/calculprv1!$G$23\n*Reis!I35*Reis!I13","v":{"$error":"#DIV/0!"}},{"$f":"(calculprv1!$G$11*(1-calculprv1!$G$13)/2+calculprv1!$G$11*calculprv1!$G$13)\n*(calculprv1!$G$27*(1-calculprv1!$G$29)+calculprv1!$G$31*calculprv1!$G$29)\n/calculprv1!$G$23\n*Reis!J35*Reis!J13","v":{"$error":"#DIV/0!"}},{"$f":"(calculprv1!$G$11*(1-calculprv1!$G$13)/2+calculprv1!$G$11*calculprv1!$G$13)\n*(calculprv1!$G$27*(1-calculprv1!$G$29)+calculprv1!$G$31*calculprv1!$G$29)\n/calculprv1!$G$23\n*Reis!K35*Reis!K13","v":{"$error":"#DIV/0!"}},{"$f":"(calculprv1!$G$11*(1-calculprv1!$G$13)/2+calculprv1!$G$11*calculprv1!$G$13)\n*(calculprv1!$G$27*(1-calculprv1!$G$29)+calculprv1!$G$31*calculprv1!$G$29)\n/calculprv1!$G$23\n*Reis!L35*Reis!L13","v":{"$error":"#DIV/0!"}},{"$f":"(calculprv1!$G$11*(1-calculprv1!$G$13)/2+calculprv1!$G$11*calculprv1!$G$13)\n*(calculprv1!$G$27*(1-calculprv1!$G$29)+calculprv1!$G$31*calculprv1!$G$29)\n/calculprv1!$G$23\n*Reis!M35*Reis!M13","v":{"$error":"#DIV/0!"}},{"$f":"(calculprv1!$G$11*(1-calculprv1!$G$13)/2+calculprv1!$G$11*calculprv1!$G$13)\n*(calculprv1!$G$27*(1-calculprv1!$G$29)+calculprv1!$G$31*calculprv1!$G$29)\n/calculprv1!$G$23\n*Reis!N35*Reis!N13","v":{"$error":"#DIV/0!"}},{"$f":"(calculprv1!$G$11*(1-calculprv1!$G$13)/2+calculprv1!$G$11*calculprv1!$G$13)\n*(calculprv1!$G$27*(1-calculprv1!$G$29)+calculprv1!$G$31*calculprv1!$G$29)\n/calculprv1!$G$23\n*Reis!O35*Reis!O13","v":{"$error":"#DIV/0!"}},{"$f":"(calculprv1!$G$11*(1-calculprv1!$G$13)/2+calculprv1!$G$11*calculprv1!$G$13)\n*(calculprv1!$G$27*(1-calculprv1!$G$29)+calculprv1!$G$31*calculprv1!$G$29)\n/calculprv1!$G$23\n*Reis!P35*Reis!P13","v":{"$error":"#DIV/0!"}},{"$f":"(calculprv1!$G$11*(1-calculprv1!$G$13)/2+calculprv1!$G$11*calculprv1!$G$13)\n*(calculprv1!$G$27*(1-calculprv1!$G$29)+calculprv1!$G$31*calculprv1!$G$29)\n/calculprv1!$G$23\n*Reis!Q35*Reis!Q13","v":{"$error":"#DIV/0!"}},{"$f":"(calculprv1!$G$11*(1-calculprv1!$G$13)/2+calculprv1!$G$11*calculprv1!$G$13)\n*(calculprv1!$G$27*(1-calculprv1!$G$29)+calculprv1!$G$31*calculprv1!$G$29)\n/calculprv1!$G$23\n*Reis!R35*Reis!R13","v":{"$error":"#DIV/0!"}},{"$f":"(calculprv1!$G$11*(1-calculprv1!$G$13)/2+calculprv1!$G$11*calculprv1!$G$13)\n*(calculprv1!$G$27*(1-calculprv1!$G$29)+calculprv1!$G$31*calculprv1!$G$29)\n/calculprv1!$G$23\n*Reis!S35*Reis!S13","v":{"$error":"#DIV/0!"}},{"$f":"(calculprv1!$G$11*(1-calculprv1!$G$13)/2+calculprv1!$G$11*calculprv1!$G$13)\n*(calculprv1!$G$27*(1-calculprv1!$G$29)+calculprv1!$G$31*calculprv1!$G$29)\n/calculprv1!$G$23\n*Reis!T35*Reis!T13","v":{"$error":"#DIV/0!"}},{"$f":"SUM(H11:V11)","v":{"$error":"#DIV/0!"}}]
[null,null,null,"Verzekeringen voertuig",null,null,null,{"$f":"calculprv1!$G$56/calculprv1!$G$23*Reis!F35*Reis!F13","v":{"$error":"#DIV/0!"}},{"$f":"calculprv1!$G$56/calculprv1!$G$23*Reis!G35*Reis!G13","v":{"$error":"#DIV/0!"}},{"$f":"calculprv1!$G$56/calculprv1!$G$23*Reis!H35*Reis!H13","v":{"$error":"#DIV/0!"}},{"$f":"calculprv1!$G$56/calculprv1!$G$23*Reis!I35*Reis!I13","v":{"$error":"#DIV/0!"}},{"$f":"calculprv1!$G$56/calculprv1!$G$23*Reis!J35*Reis!J13","v":{"$error":"#DIV/0!"}},{"$f":"calculprv1!$G$56/calculprv1!$G$23*Reis!K35*Reis!K13","v":{"$error":"#DIV/0!"}},{"$f":"calculprv1!$G$56/calculprv1!$G$23*Reis!L35*Reis!L13","v":{"$error":"#DIV/0!"}},{"$f":"calculprv1!$G$56/calculprv1!$G$23*Reis!M35*Reis!M13","v":{"$error":"#DIV/0!"}},{"$f":"calculprv1!$G$56/calculprv1!$G$23*Reis!N35*Reis!N13","v":{"$error":"#DIV/0!"}},{"$f":"calculprv1!$G$56/calculprv1!$G$23*Reis!O35*Reis!O13","v":{"$error":"#DIV/0!"}},{"$f":"calculprv1!$G$56/calculprv1!$G$23*Reis!P35*Reis!P13","v":{"$error":"#DIV/0!"}},{"$f":"calculprv1!$G$56/calculprv1!$G$23*Reis!Q35*Reis!Q13","v":{"$error":"#DIV/0!"}},{"$f":"calculprv1!$G$56/calculprv1!$G$23*Reis!R35*Reis!R13","v":{"$error":"#DIV/0!"}},{"$f":"calculprv1!$G$56/calculprv1!$G$23*Reis!S35*Reis!S13","v":{"$error":"#DIV/0!"}},{"$f":"calculprv1!$G$56/calculprv1!$G$23*Reis!T35*Reis!T13","v":{"$error":"#DIV/0!"}},{"$f":"SUM(H12:V12)","v":{"$error":"#DIV/0!"}}]
[null,null,null,"Andere vaste kosten voertuig",null,null,null,{"$f":"calculprv1!$G$61/calculprv1!$G$23*Reis!F35*Reis!F13","v":{"$error":"#DIV/0!"}},{"$f":"calculprv1!$G$61/calculprv1!$G$23*Reis!G35*Reis!G13","v":{"$error":"#DIV/0!"}},{"$f":"calculprv1!$G$61/calculprv1!$G$23*Reis!H35*Reis!H13","v":{"$error":"#DIV/0!"}},{"$f":"calculprv1!$G$61/calculprv1!$G$23*Reis!I35*Reis!I13","v":{"$error":"#DIV/0!"}},{"$f":"calculprv1!$G$61/calculprv1!$G$23*Reis!J35*Reis!J13","v":{"$error":"#DIV/0!"}},{"$f":"calculprv1!$G$61/calculprv1!$G$23*Reis!K35*Reis!K13","v":{"$error":"#DIV/0!"}},{"$f":"calculprv1!$G$61/calculprv1!$G$23*Reis!L35*Reis!L13","v":{"$error":"#DIV/0!"}},{"$f":"calculprv1!$G$61/calculprv1!$G$23*Reis!M35*Reis!M13","v":{"$error":"#DIV/0!"}},{"$f":"calculprv1!$G$61/calculprv1!$G$23*Reis!N35*Reis!N13","v":{"$error":"#DIV/0!"}},{"$f":"calculprv1!$G$61/calculprv1!$G$23*Reis!O35*Reis!O13","v":{"$error":"#DIV/0!"}},{"$f":"calculprv1!$G$61/calculprv1!$G$23*Reis!P35*Reis!P13","v":{"$error":"#DIV/0!"}},{"$f":"calculprv1!$G$61/calculprv1!$G$23*Reis!Q35*Reis!Q13","v":{"$error":"#DIV/0!"}},{"$f":"calculprv1!$G$61/calculprv1!$G$23*Reis!R35*Reis!R13","v":{"$error":"#DIV/0!"}},{"$f":"calculprv1!$G$61/calculprv1!$G$23*Reis!S35*Reis!S13","v":{"$error":"#DIV/0!"}},{"$f":"calculprv1!$G$61/calculprv1!$G$23*Reis!T35*Reis!T13","v":{"$error":"#DIV/0!"}},{"$f":"SUM(H13:V13)","v":{"$error":"#DIV/0!"}}]
[null,null,null,"Andere vaste kosten bedrijf",null,null,null,{"$f":"Bedrijf!$G$32/Bedrijf!$G$9/calculprv1!$G$23*Reis!F35*Reis!F13","v":{"$error":"#DIV/0!"}},{"$f":"Bedrijf!$G$32/Bedrijf!$G$9/calculprv1!$G$23*Reis!G35*Reis!G13","v":{"$error":"#DIV/0!"}},{"$f":"Bedrijf!$G$32/Bedrijf!$G$9/calculprv1!$G$23*Reis!H35*Reis!H13","v":{"$error":"#DIV/0!"}},{"$f":"Bedrijf!$G$32/Bedrijf!$G$9/calculprv1!$G$23*Reis!I35*Reis!I13","v":{"$error":"#DIV/0!"}},{"$f":"Bedrijf!$G$32/Bedrijf!$G$9/calculprv1!$G$23*Reis!J35*Reis!J13","v":{"$error":"#DIV/0!"}},{"$f":"Bedrijf!$G$32/Bedrijf!$G$9/calculprv1!$G$23*Reis!K35*Reis!K13","v":{"$error":"#DIV/0!"}},{"$f":"Bedrijf!$G$32/Bedrijf!$G$9/calculprv1!$G$23*Reis!L35*Reis!L13","v":{"$error":"#DIV/0!"}},{"$f":"Bedrijf!$G$32/Bedrijf!$G$9/calculprv1!$G$23*Reis!M35*Reis!M13","v":{"$error":"#DIV/0!"}},{"$f":"Bedrijf!$G$32/Bedrijf!$G$9/calculprv1!$G$23*Reis!N35*Reis!N13","v":{"$error":"#DIV/0!"}},{"$f":"Bedrijf!$G$32/Bedrijf!$G$9/calculprv1!$G$23*Reis!O35*Reis!O13","v":{"$error":"#DIV/0!"}},{"$f":"Bedrijf!$G$32/Bedrijf!$G$9/calculprv1!$G$23*Reis!P35*Reis!P13","v":{"$error":"#DIV/0!"}},{"$f":"Bedrijf!$G$32/Bedrijf!$G$9/calculprv1!$G$23*Reis!Q35*Reis!Q13","v":{"$error":"#DIV/0!"}},{"$f":"Bedrijf!$G$32/Bedrijf!$G$9/calculprv1!$G$23*Reis!R35*Reis!R13","v":{"$error":"#DIV/0!"}},{"$f":"Bedrijf!$G$32/Bedrijf!$G$9/calculprv1!$G$23*Reis!S35*Reis!S13","v":{"$error":"#DIV/0!"}},{"$f":"Bedrijf!$G$32/Bedrijf!$G$9/calculprv1!$G$23*Reis!T35*Reis!T13","v":{"$error":"#DIV/0!"}},{"$f":"SUM(H14:V14)","v":{"$error":"#DIV/0!"}}]
[]
[null,null,"LOONKOST CHAUFFEURS",null,null,null,null,{"$f":"Personneelskost!E30","v":{"$error":"#DIV/0!"}},{"$f":"Personneelskost!F30","v":0},{"$f":"Personneelskost!G30","v":0},{"$f":"Personneelskost!H30","v":0},{"$f":"Personneelskost!I30","v":0},{"$f":"Personneelskost!J30","v":0},{"$f":"Personneelskost!K30","v":0},{"$f":"Personneelskost!L30","v":0},{"$f":"Personneelskost!M30","v":0},{"$f":"Personneelskost!N30","v":0},{"$f":"Personneelskost!O30","v":0},{"$f":"Personneelskost!P30","v":0},{"$f":"Personneelskost!Q30","v":0},{"$f":"Personneelskost!R30","v":0},{"$f":"Personneelskost!S30","v":0},{"$f":"SUM(H16:V16)","v":{"$error":"#DIV/0!"}}]
[]
[null,null,"VARIABEL","Brandstof",null,null,null,{"$f":"((calculprv1!$G$35/100)*Bedrijf!$G$23*Reis!F18*(1-Reis!F26))+((calculprv1!$G$35/100)*Reis!F27*Reis!F18*Reis!F26)","v":0},{"$f":"((calculprv1!$G$35/100)*Bedrijf!$G$23*Reis!G18*(1-Reis!G26))+((calculprv1!$G$35/100)*Reis!G27*Reis!G18*Reis!G26)","v":0},{"$f":"((calculprv1!$G$35/100)*Bedrijf!$G$23*Reis!H18*(1-Reis!H26))+((calculprv1!$G$35/100)*Reis!H27*Reis!H18*Reis!H26)","v":0},{"$f":"((calculprv1!$G$35/100)*Bedrijf!$G$23*Reis!I18*(1-Reis!I26))+((calculprv1!$G$35/100)*Reis!I27*Reis!I18*Reis!I26)","v":0},{"$f":"((calculprv1!$G$35/100)*Bedrijf!$G$23*Reis!J18*(1-Reis!J26))+((calculprv1!$G$35/100)*Reis!J27*Reis!J18*Reis!J26)","v":0},{"$f":"((calculprv1!$G$35/100)*Bedrijf!$G$23*Reis!K18*(1-Reis!K26))+((calculprv1!$G$35/100)*Reis!K27*Reis!K18*Reis!K26)","v":0},{"$f":"((calculprv1!$G$35/100)*Bedrijf!$G$23*Reis!L18*(1-Reis!L26))+((calculprv1!$G$35/100)*Reis!L27*Reis!L18*Reis!L26)","v":0},{"$f":"((calculprv1!$G$35/100)*Bedrijf!$G$23*Reis!M18*(1-Reis!M26))+((calculprv1!$G$35/100)*Reis!M27*Reis!M18*Reis!M26)","v":0},{"$f":"((calculprv1!$G$35/100)*Bedrijf!$G$23*Reis!N18*(1-Reis!N26))+((calculprv1!$G$35/100)*Reis!N27*Reis!N18*Reis!N26)","v":0},{"$f":"((calculprv1!$G$35/100)*Bedrijf!$G$23*Reis!O18*(1-Reis!O26))+((calculprv1!$G$35/100)*Reis!O27*Reis!O18*Reis!O26)","v":0},{"$f":"((calculprv1!$G$35/100)*Bedrijf!$G$23*Reis!P18*(1-Reis!P26))+((calculprv1!$G$35/100)*Reis!P27*Reis!P18*Reis!P26)","v":0},{"$f":"((calculprv1!$G$35/100)*Bedrijf!$G$23*Reis!Q18*(1-Reis!Q26))+((calculprv1!$G$35/100)*Reis!Q27*Reis!Q18*Reis!Q26)","v":0},{"$f":"((calculprv1!$G$35/100)*Bedrijf!$G$23*Reis!R18*(1-Reis!R26))+((calculprv1!$G$35/100)*Reis!R27*Reis!R18*Reis!R26)","v":0},{"$f":"((calculprv1!$G$35/100)*Bedrijf!$G$23*Reis!S18*(1-Reis!S26))+((calculprv1!$G$35/100)*Reis!S27*Reis!S18*Reis!S26)","v":0},{"$f":"((calculprv1!$G$35/100)*Bedrijf!$G$23*Reis!T18*(1-Reis!T26))+((calculprv1!$G$35/100)*Reis!T27*Reis!T18*Reis!T26)","v":0},{"$f":"SUM(H18:V18)","v":0}]
[null,null,null,"Olie",null,null,null,{"$f":"((calculprv1!$G$37/100)*Bedrijf!$G$25*Reis!F18)","v":0},{"$f":"((calculprv1!$G$37/100)*Bedrijf!$G$25*Reis!G18)","v":0},{"$f":"((calculprv1!$G$37/100)*Bedrijf!$G$25*Reis!H18)","v":0},{"$f":"((calculprv1!$G$37/100)*Bedrijf!$G$25*Reis!I18)","v":0},{"$f":"((calculprv1!$G$37/100)*Bedrijf!$G$25*Reis!J18)","v":0},{"$f":"((calculprv1!$G$37/100)*Bedrijf!$G$25*Reis!K18)","v":0},{"$f":"((calculprv1!$G$37/100)*Bedrijf!$G$25*Reis!L18)","v":0},{"$f":"((calculprv1!$G$37/100)*Bedrijf!$G$25*Reis!M18)","v":0},{"$f":"((calculprv1!$G$37/100)*Bedrijf!$G$25*Reis!N18)","v":0},{"$f":"((calculprv1!$G$37/100)*Bedrijf!$G$25*Reis!O18)","v":0},{"$f":"((calculprv1!$G$37/100)*Bedrijf!$G$25*Reis!P18)","v":0},{"$f":"((calculprv1!$G$37/100)*Bedrijf!$G$25*Reis!Q18)","v":0},{"$f":"((calculprv1!$G$37/100)*Bedrijf!$G$25*Reis!R18)","v":0},{"$f":"((calculprv1!$G$37/100)*Bedrijf!$G$25*Reis!S18)","v":0},{"$f":"((calculprv1!$G$37/100)*Bedrijf!$G$25*Reis!T18)","v":0},0]
[null,null,null,"Adblue",null,null,null,{"$f":"((calculprv1!$G$39/100)*Bedrijf!$G$27*Reis!F18)","v":0},{"$f":"((calculprv1!$G$39/100)*Bedrijf!$G$27*Reis!G18)","v":0},{"$f":"((calculprv1!$G$39/100)*Bedrijf!$G$27*Reis!H18)","v":0},{"$f":"((calculprv1!$G$39/100)*Bedrijf!$G$27*Reis!I18)","v":0},{"$f":"((calculprv1!$G$39/100)*Bedrijf!$G$27*Reis!J18)","v":0},{"$f":"((calculprv1!$G$39/100)*Bedrijf!$G$27*Reis!K18)","v":0},{"$f":"((calculprv1!$G$39/100)*Bedrijf!$G$27*Reis!L18)","v":0},{"$f":"((calculprv1!$G$39/100)*Bedrijf!$G$27*Reis!M18)","v":0},{"$f":"((calculprv1!$G$39/100)*Bedrijf!$G$27*Reis!N18)","v":0},{"$f":"((calculprv1!$G$39/100)*Bedrijf!$G$27*Reis!O18)","v":0},{"$f":"((calculprv1!$G$39/100)*Bedrijf!$G$27*Reis!P18)","v":0},{"$f":"((calculprv1!$G$39/100)*Bedrijf!$G$27*Reis!Q18)","v":0},{"$f":"((calculprv1!$G$39/100)*Bedrijf!$G$27*Reis!R18)","v":0},{"$f":"((calculprv1!$G$39/100)*Bedrijf!$G$27*Reis!S18)","v":0},{"$f":"((calculprv1!$G$39/100)*Bedrijf!$G$27*Reis!T18)","v":0},0]
[null,null,null,"Banden",null,null,null,{"$f":"((calculprv1!$G$51/calculprv1!$G$47)*calculprv1!$G$43*Reis!F18)+((calculprv1!$G$51/calculprv1!$G$49)*calculprv1!$G$45*Reis!F18)","v":{"$error":"#DIV/0!"}},{"$f":"((calculprv1!$G$51/calculprv1!$G$47)*calculprv1!$G$43*Reis!G18)+((calculprv1!$G$51/calculprv1!$G$49)*calculprv1!$G$45*Reis!G18)","v":{"$error":"#DIV/0!"}},{"$f":"((calculprv1!$G$51/calculprv1!$G$47)*calculprv1!$G$43*Reis!H18)+((calculprv1!$G$51/calculprv1!$G$49)*calculprv1!$G$45*Reis!H18)","v":{"$error":"#DIV/0!"}},{"$f":"((calculprv1!$G$51/calculprv1!$G$47)*calculprv1!$G$43*Reis!I18)+((calculprv1!$G$51/calculprv1!$G$49)*calculprv1!$G$45*Reis!I18)","v":{"$error":"#DIV/0!"}},{"$f":"((calculprv1!$G$51/calculprv1!$G$47)*calculprv1!$G$43*Reis!J18)+((calculprv1!$G$51/calculprv1!$G$49)*calculprv1!$G$45*Reis!J18)","v":{"$error":"#DIV/0!"}},{"$f":"((calculprv1!$G$51/calculprv1!$G$47)*calculprv1!$G$43*Reis!K18)+((calculprv1!$G$51/calculprv1!$G$49)*calculprv1!$G$45*Reis!K18)","v":{"$error":"#DIV/0!"}},{"$f":"((calculprv1!$G$51/calculprv1!$G$47)*calculprv1!$G$43*Reis!L18)+((calculprv1!$G$51/calculprv1!$G$49)*calculprv1!$G$45*Reis!L18)","v":{"$error":"#DIV/0!"}},{"$f":"((calculprv1!$G$51/calculprv1!$G$47)*calculprv1!$G$43*Reis!M18)+((calculprv1!$G$51/calculprv1!$G$49)*calculprv1!$G$45*Reis!M18)","v":{"$error":"#DIV/0!"}},{"$f":"((calculprv1!$G$51/calculprv1!$G$47)*calculprv1!$G$43*Reis!N18)+((calculprv1!$G$51/calculprv1!$G$49)*calculprv1!$G$45*Reis!N18)","v":{"$error":"#DIV/0!"}},{"$f":"((calculprv1!$G$51/calculprv1!$G$47)*calculprv1!$G$43*Reis!O18)+((calculprv1!$G$51/calculprv1!$G$49)*calculprv1!$G$45*Reis!O18)","v":{"$error":"#DIV/0!"}},{"$f":"((calculprv1!$G$51/calculprv1!$G$47)*calculprv1!$G$43*Reis!P18)+((calculprv1!$G$51/calculprv1!$G$49)*calculprv1!$G$45*Reis!P18)","v":{"$error":"#DIV/0!"}},{"$f":"((calculprv1!$G$51/calculprv1!$G$47)*calculprv1!$G$43*Reis!Q18)+((calculprv1!$G$51/calculprv1!$G$49)*calculprv1!$G$45*Reis!Q18)","v":{"$error":"#DIV/0!"}},{"$f":"((calculprv1!$G$51/calculprv1!$G$47)*calculprv1!$G$43*Reis!R18)+((calculprv1!$G$51/calculprv1!$G$49)*calculprv1!$G$45*Reis!R18)","v":{"$error":"#DIV/0!"}},{"$f":"((calculprv1!$G$51/calculprv1!$G$47)*calculprv1!$G$43*Reis!S18)+((calculprv1!$G$51/calculprv1!$G$49)*calculprv1!$G$45*Reis!S18)","v":{"$error":"#DIV/0!"}},{"$f":"((calculprv1!$G$51/calculprv1!$G$47)*calculprv1!$G$43*Reis!T18)+((calculprv1!$G$51/calculprv1!$G$49)*calculprv1!$G$45*Reis!T18)","v":{"$error":"#DIV/0!"}},{"$error":"#DIV/0!"}]
[null,null,null,"Onderhoud",null,null,null,{"$f":"(Bedrijf!$G$15+Bedrijf!$G$17+Bedrijf!$G$19)/Bedrijf!$G$11*Reis!F18","v":{"$error":"#DIV/0!"}},{"$f":"(Bedrijf!$G$15+Bedrijf!$G$17+Bedrijf!$G$19)/Bedrijf!$G$11*Reis!G18","v":{"$error":"#DIV/0!"}},{"$f":"(Bedrijf!$G$15+Bedrijf!$G$17+Bedrijf!$G$19)/Bedrijf!$G$11*Reis!H18","v":{"$error":"#DIV/0!"}},{"$f":"(Bedrijf!$G$15+Bedrijf!$G$17+Bedrijf!$G$19)/Bedrijf!$G$11*Reis!I18","v":{"$error":"#DIV/0!"}},{"$f":"(Bedrijf!$G$15+Bedrijf!$G$17+Bedrijf!$G$19)/Bedrijf!$G$11*Reis!J18","v":{"$error":"#DIV/0!"}},{"$f":"(Bedrijf!$G$15+Bedrijf!$G$17+Bedrijf!$G$19)/Bedrijf!$G$11*Reis!K18","v":{"$error":"#DIV/0!"}},{"$f":"(Bedrijf!$G$15+Bedrijf!$G$17+Bedrijf!$G$19)/Bedrijf!$G$11*Reis!L18","v":{"$error":"#DIV/0!"}},{"$f":"(Bedrijf!$G$15+Bedrijf!$G$17+Bedrijf!$G$19)/Bedrijf!$G$11*Reis!M18","v":{"$error":"#DIV/0!"}},{"$f":"(Bedrijf!$G$15+Bedrijf!$G$17+Bedrijf!$G$19)/Bedrijf!$G$11*Reis!N18","v":{"$error":"#DIV/0!"}},{"$f":"(Bedrijf!$G$15+Bedrijf!$G$17+Bedrijf!$G$19)/Bedrijf!$G$11*Reis!O18","v":{"$error":"#DIV/0!"}},{"$f":"(Bedrijf!$G$15+Bedrijf!$G$17+Bedrijf!$G$19)/Bedrijf!$G$11*Reis!P18","v":{"$error":"#DIV/0!"}},{"$f":"(Bedrijf!$G$15+Bedrijf!$G$17+Bedrijf!$G$19)/Bedrijf!$G$11*Reis!Q18","v":{"$error":"#DIV/0!"}},{"$f":"(Bedrijf!$G$15+Bedrijf!$G$17+Bedrijf!$G$19)/Bedrijf!$G$11*Reis!R18","v":{"$error":"#DIV/0!"}},{"$f":"(Bedrijf!$G$15+Bedrijf!$G$17+Bedrijf!$G$19)/Bedrijf!$G$11*Reis!S18","v":{"$error":"#DIV/0!"}},{"$f":"(Bedrijf!$G$15+Bedrijf!$G$17+Bedrijf!$G$19)/Bedrijf!$G$11*Reis!T18","v":{"$error":"#DIV/0!"}},{"$error":"#DIV/0!"}]
[null,null,null,"Voertuig (technische afschr.)",null,null,null,{"$f":"IF(calculprv1!$G$15=\"technisch\",((calculprv1!$G$11*(1-calculprv1!$G$13))/calculprv1!$G$21)*Reis!F18,0)","v":0},{"$f":"IF(calculprv1!$G$15=\"technisch\",((calculprv1!$G$11*(1-calculprv1!$G$13))/calculprv1!$G$21)*Reis!G18,0)","v":0},{"$f":"IF(calculprv1!$G$15=\"technisch\",((calculprv1!$G$11*(1-calculprv1!$G$13))/calculprv1!$G$21)*Reis!H18,0)","v":0},{"$f":"IF(calculprv1!$G$15=\"technisch\",((calculprv1!$G$11*(1-calculprv1!$G$13))/calculprv1!$G$21)*Reis!I18,0)","v":0},{"$f":"IF(calculprv1!$G$15=\"technisch\",((calculprv1!$G$11*(1-calculprv1!$G$13))/calculprv1!$G$21)*Reis!J18,0)","v":0},{"$f":"IF(calculprv1!$G$15=\"technisch\",((calculprv1!$G$11*(1-calculprv1!$G$13))/calculprv1!$G$21)*Reis!K18,0)","v":0},{"$f":"IF(calculprv1!$G$15=\"technisch\",((calculprv1!$G$11*(1-calculprv1!$G$13))/calculprv1!$G$21)*Reis!L18,0)","v":0},{"$f":"IF(calculprv1!$G$15=\"technisch\",((calculprv1!$G$11*(1-calculprv1!$G$13))/calculprv1!$G$21)*Reis!M18,0)","v":0},{"$f":"IF(calculprv1!$G$15=\"technisch\",((calculprv1!$G$11*(1-calculprv1!$G$13))/calculprv1!$G$21)*Reis!N18,0)","v":0},{"$f":"IF(calculprv1!$G$15=\"technisch\",((calculprv1!$G$11*(1-calculprv1!$G$13))/calculprv1!$G$21)*Reis!O18,0)","v":0},{"$f":"IF(calculprv1!$G$15=\"technisch\",((calculprv1!$G$11*(1-calculprv1!$G$13))/calculprv1!$G$21)*Reis!P18,0)","v":0},{"$f":"IF(calculprv1!$G$15=\"technisch\",((calculprv1!$G$11*(1-calculprv1!$G$13))/calculprv1!$G$21)*Reis!Q18,0)","v":0},{"$f":"IF(calculprv1!$G$15=\"technisch\",((calculprv1!$G$11*(1-calculprv1!$G$13))/calculprv1!$G$21)*Reis!R18,0)","v":0},{"$f":"IF(calculprv1!$G$15=\"technisch\",((calculprv1!$G$11*(1-calculprv1!$G$13))/calculprv1!$G$21)*Reis!S18,0)","v":0},{"$f":"IF(calculprv1!$G$15=\"technisch\",((calculprv1!$G$11*(1-calculprv1!$G$13))/calculprv1!$G$21)*Reis!T18,0)","v":0},0]
[]
[null,null,"SPECIFIEK","Specifieke ritkosten",null,null,null,{"$f":"Reis!F30","v":0},{"$f":"Reis!G30","v":0},{"$f":"Reis!H30","v":0},{"$f":"Reis!I30","v":0},{"$f":"Reis!J30","v":0},{"$f":"Reis!K30","v":0},{"$f":"Reis!L30","v":0},{"$f":"Reis!M30","v":0},{"$f":"Reis!N30","v":0},{"$f":"Reis!O30","v":0},{"$f":"Reis!P30","v":0},{"$f":"Reis!Q30","v":0},{"$f":"Reis!R30","v":0},{"$f":"Reis!S30","v":0},{"$f":"Reis!T30","v":0},{"$f":"SUM(H25:V25)","v":0}]
[null,null,null,"aanhangwagens",null,false,{"$f":"IF(F26=TRUE,1,0)","v":0},{"$f":"IF($G$26<1,0,IF($G$26>=1,((\n((calculprv1!$G$81/calculprv1!$G$83)\n+calculprv1!$G$85\n+calculprv1!$G$87\n+calculprv1!$G$89\n+calculprv1!$G$91)\n/calculprv1!$G$79)\n+((H18+H19+H20)*calculprv1!$G$94))\n*Reis!F13*$G$26))","v":0},{"$f":"IF($G$26<1,0,IF($G$26>=1,((\n((calculprv1!$G$81/calculprv1!$G$83)\n+calculprv1!$G$85\n+calculprv1!$G$87\n+calculprv1!$G$89\n+calculprv1!$G$91)\n/calculprv1!$G$79)\n+((I18+I19+I20)*calculprv1!$G$94))\n*Reis!G13*$G$26))","v":0},{"$f":"IF($G$26<1,0,IF($G$26>=1,((\n((calculprv1!$G$81/calculprv1!$G$83)\n+calculprv1!$G$85\n+calculprv1!$G$87\n+calculprv1!$G$89\n+calculprv1!$G$91)\n/calculprv1!$G$79)\n+((J18+J19+J20)*calculprv1!$G$94))\n*Reis!H13*$G$26))","v":0},{"$f":"IF($G$26<1,0,IF($G$26>=1,((\n((calculprv1!$G$81/calculprv1!$G$83)\n+calculprv1!$G$85\n+calculprv1!$G$87\n+calculprv1!$G$89\n+calculprv1!$G$91)\n/calculprv1!$G$79)\n+((K18+K19+K20)*calculprv1!$G$94))\n*Reis!I13*$G$26))","v":0},{"$f":"IF($G$26<1,0,IF($G$26>=1,((\n((calculprv1!$G$81/calculprv1!$G$83)\n+calculprv1!$G$85\n+calculprv1!$G$87\n+calculprv1!$G$89\n+calculprv1!$G$91)\n/calculprv1!$G$79)\n+((L18+L19+L20)*calculprv1!$G$94))\n*Reis!J13*$G$26))","v":0},{"$f":"IF($G$26<1,0,IF($G$26>=1,((\n((calculprv1!$G$81/calculprv1!$G$83)\n+calculprv1!$G$85\n+calculprv1!$G$87\n+calculprv1!$G$89\n+calculprv1!$G$91)\n/calculprv1!$G$79)\n+((M18+M19+M20)*calculprv1!$G$94))\n*Reis!K13*$G$26))","v":0},{"$f":"IF($G$26<1,0,IF($G$26>=1,((\n((calculprv1!$G$81/calculprv1!$G$83)\n+calculprv1!$G$85\n+calculprv1!$G$87\n+calculprv1!$G$89\n+calculprv1!$G$91)\n/calculprv1!$G$79)\n+((N18+N19+N20)*calculprv1!$G$94))\n*Reis!L13*$G$26))","v":0},{"$f":"IF($G$26<1,0,IF($G$26>=1,((\n((calculprv1!$G$81/calculprv1!$G$83)\n+calculprv1!$G$85\n+calculprv1!$G$87\n+calculprv1!$G$89\n+calculprv1!$G$91)\n/calculprv1!$G$79)\n+((O18+O19+O20)*calculprv1!$G$94))\n*Reis!M13*$G$26))","v":0},{"$f":"IF($G$26<1,0,IF($G$26>=1,((\n((calculprv1!$G$81/calculprv1!$G$83)\n+calculprv1!$G$85\n+calculprv1!$G$87\n+calculprv1!$G$89\n+calculprv1!$G$91)\n/calculprv1!$G$79)\n+((P18+P19+P20)*calculprv1!$G$94))\n*Reis!N13*$G$26))","v":0},{"$f":"IF($G$26<1,0,IF($G$26>=1,((\n((calculprv1!$G$81/calculprv1!$G$83)\n+calculprv1!$G$85\n+calculprv1!$G$87\n+calculprv1!$G$89\n+calculprv1!$G$91)\n/calculprv1!$G$79)\n+((Q18+Q19+Q20)*calculprv1!$G$94))\n*Reis!O13*$G$26))","v":0},{"$f":"IF($G$26<1,0,IF($G$26>=1,((\n((calculprv1!$G$81/calculprv1!$G$83)\n+calculprv1!$G$85\n+calculprv1!$G$87\n+calculprv1!$G$89\n+calculprv1!$G$91)\n/calculprv1!$G$79)\n+((R18+R19+R20)*calculprv1!$G$94))\n*Reis!P13*$G$26))","v":0},{"$f":"IF($G$26<1,0,IF($G$26>=1,((\n((calculprv1!$G$81/calculprv1!$G$83)\n+calculprv1!$G$85\n+calculprv1!$G$87\n+calculprv1!$G$89\n+calculprv1!$G$91)\n/calculprv1!$G$79)\n+((S18+S19+S20)*calculprv1!$G$94))\n*Reis!Q13*$G$26))","v":0},{"$f":"IF($G$26<1,0,IF($G$26>=1,((\n((calculprv1!$G$81/calculprv1!$G$83)\n+calculprv1!$G$85\n+calculprv1!$G$87\n+calculprv1!$G$89\n+calculprv1!$G$91)\n/calculprv1!$G$79)\n+((T18+T19+T20)*calculprv1!$G$94))\n*Reis!R13*$G$26))","v":0},{"$f":"IF($G$26<1,0,IF($G$26>=1,((\n((calculprv1!$G$81/calculprv1!$G$83)\n+calculprv1!$G$85\n+calculprv1!$G$87\n+calculprv1!$G$89\n+calculprv1!$G$91)\n/calculprv1!$G$79)\n+((U18+U19+U20)*calculprv1!$G$94))\n*Reis!S13*$G$26))","v":0},{"$f":"IF($G$26<1,0,IF($G$26>=1,((\n((calculprv1!$G$81/calculprv1!$G$83)\n+calculprv1!$G$85\n+calculprv1!$G$87\n+calculprv1!$G$89\n+calculprv1!$G$91)\n/calculprv1!$G$79)\n+((V18+V19+V20)*calculprv1!$G$94))\n*Reis!T13*$G$26))","v":0},{"$f":"SUM(H26:V26)","v":0}]
[null,null,null,"skiboxen",null,false,{"$f":"IF(F27=TRUE,1,0)","v":0},{"$f":"IF($G$27<1,0,IF($G$27>=1,((calculprv1!$G$99/calculprv1!$G$101/calculprv1!$G$97)+calculprv1!$G$103)*Reis!F13*'Kostprijs en Verkoopprijs'!$G$27))","v":0},{"$f":"IF($G$27<1,0,IF($G$27>=1,((calculprv1!$G$99/calculprv1!$G$101/calculprv1!$G$97)+calculprv1!$G$103)*Reis!G13*'Kostprijs en Verkoopprijs'!$G$27))","v":0},{"$f":"IF($G$27<1,0,IF($G$27>=1,((calculprv1!$G$99/calculprv1!$G$101/calculprv1!$G$97)+calculprv1!$G$103)*Reis!H13*'Kostprijs en Verkoopprijs'!$G$27))","v":0},{"$f":"IF($G$27<1,0,IF($G$27>=1,((calculprv1!$G$99/calculprv1!$G$101/calculprv1!$G$97)+calculprv1!$G$103)*Reis!I13*'Kostprijs en Verkoopprijs'!$G$27))","v":0},{"$f":"IF($G$27<1,0,IF($G$27>=1,((calculprv1!$G$99/calculprv1!$G$101/calculprv1!$G$97)+calculprv1!$G$103)*Reis!J13*'Kostprijs en Verkoopprijs'!$G$27))","v":0},{"$f":"IF($G$27<1,0,IF($G$27>=1,((calculprv1!$G$99/calculprv1!$G$101/calculprv1!$G$97)+calculprv1!$G$103)*Reis!K13*'Kostprijs en Verkoopprijs'!$G$27))","v":0},{"$f":"IF($G$27<1,0,IF($G$27>=1,((calculprv1!$G$99/calculprv1!$G$101/calculprv1!$G$97)+calculprv1!$G$103)*Reis!L13*'Kostprijs en Verkoopprijs'!$G$27))","v":0},{"$f":"IF($G$27<1,0,IF($G$27>=1,((calculprv1!$G$99/calculprv1!$G$101/calculprv1!$G$97)+calculprv1!$G$103)*Reis!M13*'Kostprijs en Verkoopprijs'!$G$27))","v":0},{"$f":"IF($G$27<1,0,IF($G$27>=1,((calculprv1!$G$99/calculprv1!$G$101/calculprv1!$G$97)+calculprv1!$G$103)*Reis!N13*'Kostprijs en Verkoopprijs'!$G$27))","v":0},{"$f":"IF($G$27<1,0,IF($G$27>=1,((calculprv1!$G$99/calculprv1!$G$101/calculprv1!$G$97)+calculprv1!$G$103)*Reis!O13*'Kostprijs en Verkoopprijs'!$G$27))","v":0},{"$f":"IF($G$27<1,0,IF($G$27>=1,((calculprv1!$G$99/calculprv1!$G$101/calculprv1!$G$97)+calculprv1!$G$103)*Reis!P13*'Kostprijs en Verkoopprijs'!$G$27))","v":0},{"$f":"IF($G$27<1,0,IF($G$27>=1,((calculprv1!$G$99/calculprv1!$G$101/calculprv1!$G$97)+calculprv1!$G$103)*Reis!Q13*'Kostprijs en Verkoopprijs'!$G$27))","v":0},{"$f":"IF($G$27<1,0,IF($G$27>=1,((calculprv1!$G$99/calculprv1!$G$101/calculprv1!$G$97)+calculprv1!$G$103)*Reis!R13*'Kostprijs en Verkoopprijs'!$G$27))","v":0},{"$f":"IF($G$27<1,0,IF($G$27>=1,((calculprv1!$G$99/calculprv1!$G$101/calculprv1!$G$97)+calculprv1!$G$103)*Reis!S13*'Kostprijs en Verkoopprijs'!$G$27))","v":0},{"$f":"IF($G$27<1,0,IF($G$27>=1,((calculprv1!$G$99/calculprv1!$G$101/calculprv1!$G$97)+calculprv1!$G$103)*Reis!T13*'Kostprijs en Verkoopprijs'!$G$27))","v":0},{"$f":"SUM(H27:V27)","v":0}]
[null,null,null,"Lift",null,false,{"$f":"IF(F28=TRUE,1,0)","v":0},{"$f":"IF($G$28<1,0,IF($G$28>=1,((calculprv1!$G$110/calculprv1!$G$112/calculprv1!$G$108)+calculprv1!$G$114)*Reis!F13*'Kostprijs en Verkoopprijs'!$G$28))","v":0},{"$f":"IF($G$28<1,0,IF($G$28>=1,((calculprv1!$G$110/calculprv1!$G$112/calculprv1!$G$108)+calculprv1!$G$114)*Reis!G13*'Kostprijs en Verkoopprijs'!$G$28))","v":0},{"$f":"IF($G$28<1,0,IF($G$28>=1,((calculprv1!$G$110/calculprv1!$G$112/calculprv1!$G$108)+calculprv1!$G$114)*Reis!H13*'Kostprijs en Verkoopprijs'!$G$28))","v":0},{"$f":"IF($G$28<1,0,IF($G$28>=1,((calculprv1!$G$110/calculprv1!$G$112/calculprv1!$G$108)+calculprv1!$G$114)*Reis!I13*'Kostprijs en Verkoopprijs'!$G$28))","v":0},{"$f":"IF($G$28<1,0,IF($G$28>=1,((calculprv1!$G$110/calculprv1!$G$112/calculprv1!$G$108)+calculprv1!$G$114)*Reis!J13*'Kostprijs en Verkoopprijs'!$G$28))","v":0},{"$f":"IF($G$28<1,0,IF($G$28>=1,((calculprv1!$G$110/calculprv1!$G$112/calculprv1!$G$108)+calculprv1!$G$114)*Reis!K13*'Kostprijs en Verkoopprijs'!$G$28))","v":0},{"$f":"IF($G$28<1,0,IF($G$28>=1,((calculprv1!$G$110/calculprv1!$G$112/calculprv1!$G$108)+calculprv1!$G$114)*Reis!L13*'Kostprijs en Verkoopprijs'!$G$28))","v":0},{"$f":"IF($G$28<1,0,IF($G$28>=1,((calculprv1!$G$110/calculprv1!$G$112/calculprv1!$G$108)+calculprv1!$G$114)*Reis!M13*'Kostprijs en Verkoopprijs'!$G$28))","v":0},{"$f":"IF($G$28<1,0,IF($G$28>=1,((calculprv1!$G$110/calculprv1!$G$112/calculprv1!$G$108)+calculprv1!$G$114)*Reis!N13*'Kostprijs en Verkoopprijs'!$G$28))","v":0},{"$f":"IF($G$28<1,0,IF($G$28>=1,((calculprv1!$G$110/calculprv1!$G$112/calculprv1!$G$108)+calculprv1!$G$114)*Reis!O13*'Kostprijs en Verkoopprijs'!$G$28))","v":0},{"$f":"IF($G$28<1,0,IF($G$28>=1,((calculprv1!$G$110/calculprv1!$G$112/calculprv1!$G$108)+calculprv1!$G$114)*Reis!P13*'Kostprijs en Verkoopprijs'!$G$28))","v":0},{"$f":"IF($G$28<1,0,IF($G$28>=1,((calculprv1!$G$110/calculprv1!$G$112/calculprv1!$G$108)+calculprv1!$G$114)*Reis!Q13*'Kostprijs en Verkoopprijs'!$G$28))","v":0},{"$f":"IF($G$28<1,0,IF($G$28>=1,((calculprv1!$G$110/calculprv1!$G$112/calculprv1!$G$108)+calculprv1!$G$114)*Reis!R13*'Kostprijs en Verkoopprijs'!$G$28))","v":0},{"$f":"IF($G$28<1,0,IF($G$28>=1,((calculprv1!$G$110/calculprv1!$G$112/calculprv1!$G$108)+calculprv1!$G$114)*Reis!S13*'Kostprijs en Verkoopprijs'!$G$28))","v":0},{"$f":"IF($G$28<1,0,IF($G$28>=1,((calculprv1!$G$110/calculprv1!$G$112/calculprv1!$G$108)+calculprv1!$G$114)*Reis!T13*'Kostprijs en Verkoopprijs'!$G$28))","v":0},{"$f":"SUM(H28:V28)","v":0}]
[null,null,null,null,null,null,null,null,null,null,null,null,null,null,null,null,null,null,null,null,null,null,{"$f":"SUM(W26:W28)","v":0}]
[null,null,null,"Totale kostprijs",null,null,null,{"$f":"SUM(H18:H24,H10:H14,H25:H28,H16)","v":{"$error":"#DIV/0!"}},{"$f":"SUM(I18:I24,I10:I14,I25:I28,I16)","v":{"$error":"#DIV/0!"}},{"$error":"#DIV/0!"},{"$error":"#DIV/0!"},{"$error":"#DIV/0!"},{"$error":"#DIV/0!"},{"$error":"#DIV/0!"},{"$error":"#DIV/0!"},{"$error":"#DIV/0!"},{"$error":"#DIV/0!"},{"$error":"#DIV/0!"},{"$error":"#DIV/0!"},{"$error":"#DIV/0!"},{"$error":"#DIV/0!"},{"$error":"#DIV/0!"},{"$f":"SUM(H30:V30)","v":{"$error":"#DIV/0!"}}]
[null,null,null,"per kilometer1",null,null,null,{"$f":"IF(AND(Reis!F13>0,Reis!F180),\"\",IF(AND(Reis!F13>0,Reis!F18<>0),SUM(H18:H23)/Reis!F18,\"\"))","v":""},{"$f":"IF(AND(Reis!G13>0,Reis!G180),\"\",IF(AND(Reis!G13>0,Reis!G18<>0),SUM(I18:I23)/Reis!G18,\"\"))","v":""},{"$f":"IF(AND(Reis!H13>0,Reis!H180),\"\",IF(AND(Reis!H13>0,Reis!H18<>0),SUM(J18:J23)/Reis!H18,\"\"))","v":""},{"$f":"IF(AND(Reis!I13>0,Reis!I180),\"\",IF(AND(Reis!I13>0,Reis!I18<>0),SUM(K18:K23)/Reis!I18,\"\"))","v":""},{"$f":"IF(AND(Reis!J13>0,Reis!J180),\"\",IF(AND(Reis!J13>0,Reis!J18<>0),SUM(L18:L23)/Reis!J18,\"\"))","v":""},{"$f":"IF(AND(Reis!K13>0,Reis!K180),\"\",IF(AND(Reis!K13>0,Reis!K18<>0),SUM(M18:M23)/Reis!K18,\"\"))","v":""},{"$f":"IF(AND(Reis!L13>0,Reis!L180),\"\",IF(AND(Reis!L13>0,Reis!L18<>0),SUM(N18:N23)/Reis!L18,\"\"))","v":""},{"$f":"IF(AND(Reis!M13>0,Reis!M180),\"\",IF(AND(Reis!M13>0,Reis!M18<>0),SUM(O18:O23)/Reis!M18,\"\"))","v":""},{"$f":"IF(AND(Reis!N13>0,Reis!N180),\"\",IF(AND(Reis!N13>0,Reis!N18<>0),SUM(P18:P23)/Reis!N18,\"\"))","v":""},{"$f":"IF(AND(Reis!O13>0,Reis!O180),\"\",IF(AND(Reis!O13>0,Reis!O18<>0),SUM(Q18:Q23)/Reis!O18,\"\"))","v":""},{"$f":"IF(AND(Reis!P13>0,Reis!P180),\"\",IF(AND(Reis!P13>0,Reis!P18<>0),SUM(R18:R23)/Reis!P18,\"\"))","v":""},{"$f":"IF(AND(Reis!Q13>0,Reis!Q180),\"\",IF(AND(Reis!Q13>0,Reis!Q18<>0),SUM(S18:S23)/Reis!Q18,\"\"))","v":""},{"$f":"IF(AND(Reis!R13>0,Reis!R180),\"\",IF(AND(Reis!R13>0,Reis!R18<>0),SUM(T18:T23)/Reis!R18,\"\"))","v":""},{"$f":"IF(AND(Reis!S13>0,Reis!S180),\"\",IF(AND(Reis!S13>0,Reis!S18<>0),SUM(U18:U23)/Reis!S18,\"\"))","v":""},{"$f":"IF(AND(Reis!T13>0,Reis!T180),\"\",IF(AND(Reis!T13>0,Reis!T18<>0),SUM(V18:V23)/Reis!T18,\"\"))","v":""},{"$f":"IF(SUM(Reis!F18:T18)>0,SUM('Kostprijs en Verkoopprijs'!W18:W23)/SUM(Reis!F18:T18),0)","v":0}]
[null,null,null,"per dag2",null,null,null,{"$f":"SUM(H10:H14,H16)","v":{"$error":"#DIV/0!"}},{"$f":"SUM(I10:I14,I16)","v":{"$error":"#DIV/0!"}},{"$error":"#DIV/0!"},{"$error":"#DIV/0!"},{"$error":"#DIV/0!"},{"$error":"#DIV/0!"},{"$error":"#DIV/0!"},{"$error":"#DIV/0!"},{"$error":"#DIV/0!"},{"$error":"#DIV/0!"},{"$error":"#DIV/0!"},{"$error":"#DIV/0!"},{"$error":"#DIV/0!"},{"$error":"#DIV/0!"},{"$error":"#DIV/0!"},{"$f":"SUM(W10:W14,W16)","v":{"$error":"#DIV/0!"}}]
[]
[null,null,null,"Marge bénéficiaire désirée"]
[]
[null,null,null,"Totale verkoopprijs",null,null,null,{"$f":"H30*(1+$H$34)","v":{"$error":"#DIV/0!"}},{"$f":"I30*(1+$H$34)","v":{"$error":"#DIV/0!"}},{"$error":"#DIV/0!"},{"$error":"#DIV/0!"},{"$error":"#DIV/0!"},{"$error":"#DIV/0!"},{"$error":"#DIV/0!"},{"$error":"#DIV/0!"},{"$error":"#DIV/0!"},{"$error":"#DIV/0!"},{"$error":"#DIV/0!"},{"$error":"#DIV/0!"},{"$error":"#DIV/0!"},{"$error":"#DIV/0!"},{"$error":"#DIV/0!"},{"$f":"W30*(1+$H$34)","v":{"$error":"#DIV/0!"}}]
[null,null,null,"per kilometer1",null,null,null,{"$f":"IF(H31=\"\",\"\",H31*(1+$H$34))","v":""},{"$f":"IF(I31=\"\",\"\",I31*(1+$H$34))","v":""},"","","","","","","","","","","","","",{"$f":"W31*(1+$H$34)","v":0}]
[null,null,null,"per dag2",null,null,null,{"$f":"H32*(1+$H$34)","v":{"$error":"#DIV/0!"}},{"$f":"I32*(1+$H$34)","v":{"$error":"#DIV/0!"}},{"$error":"#DIV/0!"},{"$error":"#DIV/0!"},{"$error":"#DIV/0!"},{"$error":"#DIV/0!"},{"$error":"#DIV/0!"},{"$error":"#DIV/0!"},{"$error":"#DIV/0!"},{"$error":"#DIV/0!"},{"$error":"#DIV/0!"},{"$error":"#DIV/0!"},{"$error":"#DIV/0!"},{"$error":"#DIV/0!"},{"$error":"#DIV/0!"},{"$f":"W32*(1+$H$34)","v":{"$error":"#DIV/0!"}}]
[]
[null,null,"1 enkel rekening houdend met variabele kosten"]
[null,null,"2 enkel rekening houdend met vaste kost en loonkost"]
[null,null,null,null,null,null,null,null,null,{"$f":"Bestemmingen!I10","v":0},null,{"$f":"Bestemmingen!S10","v":0},null,null,null,null,null,null,null,null,null,null,null,null,"J42&L42"]
[null,null,null,null,{"$f":"Bestemmingen!$Q$10","v":2}]
[null,null,null,null,9,null,null,null,null,null,null,null,null,null,null,null,null,null,null,null,null,null,{"$f":"J42&L42","v":"00"}]
[null,null,null,null,null,null,null,"dag","dag","dag","dag","dag","dag","dag","dag","dag","dag","dag","dag","dag","dag","dag","Total"]
[null,null,null,null,null,null,null,1,2,3,4,5,6,7,8,9,10,11,12,13,14,15]
[]
[null,null,"VAST","Voertuig (economische afschr.)",null,null,null,{"$f":"(IF(calculprv2!$G$15=\"economisch\",\n(calculprv2!$G$11*(1-calculprv2!$G$13))/(calculprv2!$G$19*calculprv2!$G$23)*Reis!F68*Reis!F46))","v":false},{"$f":"(IF(calculprv2!$G$15=\"economisch\",\n(calculprv2!$G$11*(1-calculprv2!$G$13))/(calculprv2!$G$19*calculprv2!$G$23)*Reis!G68*Reis!G46))","v":false},{"$f":"(IF(calculprv2!$G$15=\"economisch\",\n(calculprv2!$G$11*(1-calculprv2!$G$13))/(calculprv2!$G$19*calculprv2!$G$23)*Reis!H68*Reis!H46))","v":false},{"$f":"(IF(calculprv2!$G$15=\"economisch\",\n(calculprv2!$G$11*(1-calculprv2!$G$13))/(calculprv2!$G$19*calculprv2!$G$23)*Reis!I68*Reis!I46))","v":false},{"$f":"(IF(calculprv2!$G$15=\"economisch\",\n(calculprv2!$G$11*(1-calculprv2!$G$13))/(calculprv2!$G$19*calculprv2!$G$23)*Reis!J68*Reis!J46))","v":false},{"$f":"(IF(calculprv2!$G$15=\"economisch\",\n(calculprv2!$G$11*(1-calculprv2!$G$13))/(calculprv2!$G$19*calculprv2!$G$23)*Reis!K68*Reis!K46))","v":false},{"$f":"(IF(calculprv2!$G$15=\"economisch\",\n(calculprv2!$G$11*(1-calculprv2!$G$13))/(calculprv2!$G$19*calculprv2!$G$23)*Reis!L68*Reis!L46))","v":false},{"$f":"(IF(calculprv2!$G$15=\"economisch\",\n(calculprv2!$G$11*(1-calculprv2!$G$13))/(calculprv2!$G$19*calculprv2!$G$23)*Reis!M68*Reis!M46))","v":false},{"$f":"(IF(calculprv2!$G$15=\"economisch\",\n(calculprv2!$G$11*(1-calculprv2!$G$13))/(calculprv2!$G$19*calculprv2!$G$23)*Reis!N68*Reis!N46))","v":false},{"$f":"(IF(calculprv2!$G$15=\"economisch\",\n(calculprv2!$G$11*(1-calculprv2!$G$13))/(calculprv2!$G$19*calculprv2!$G$23)*Reis!O68*Reis!O46))","v":false},{"$f":"(IF(calculprv2!$G$15=\"economisch\",\n(calculprv2!$G$11*(1-calculprv2!$G$13))/(calculprv2!$G$19*calculprv2!$G$23)*Reis!P68*Reis!P46))","v":false},{"$f":"(IF(calculprv2!$G$15=\"economisch\",\n(calculprv2!$G$11*(1-calculprv2!$G$13))/(calculprv2!$G$19*calculprv2!$G$23)*Reis!Q68*Reis!Q46))","v":false},{"$f":"(IF(calculprv2!$G$15=\"economisch\",\n(calculprv2!$G$11*(1-calculprv2!$G$13))/(calculprv2!$G$19*calculprv2!$G$23)*Reis!R68*Reis!R46))","v":false},{"$f":"(IF(calculprv2!$G$15=\"economisch\",\n(calculprv2!$G$11*(1-calculprv2!$G$13))/(calculprv2!$G$19*calculprv2!$G$23)*Reis!S68*Reis!S46))","v":false},{"$f":"(IF(calculprv2!$G$15=\"economisch\",\n(calculprv2!$G$11*(1-calculprv2!$G$13))/(calculprv2!$G$19*calculprv2!$G$23)*Reis!T68*Reis!T46))","v":false},{"$f":"SUM(H48:V48)","v":0}]
[null,null,null,"Financiering voertuig",null,null,null,{"$f":"(calculprv2!$G$11*(1-calculprv2!$G$13)/2+calculprv2!$G$11*calculprv2!$G$13)\n*(calculprv2!$G$27*(1-calculprv2!$G$29)+calculprv2!$G$31*calculprv2!$G$29)\n/calculprv2!$G$23\n*Reis!F68*Reis!F46","v":{"$error":"#VALUE!"}},{"$f":"(calculprv2!$G$11*(1-calculprv2!$G$13)/2+calculprv2!$G$11*calculprv2!$G$13)\n*(calculprv2!$G$27*(1-calculprv2!$G$29)+calculprv2!$G$31*calculprv2!$G$29)\n/calculprv2!$G$23\n*Reis!G68*Reis!G46","v":{"$error":"#VALUE!"}},{"$f":"(calculprv2!$G$11*(1-calculprv2!$G$13)/2+calculprv2!$G$11*calculprv2!$G$13)\n*(calculprv2!$G$27*(1-calculprv2!$G$29)+calculprv2!$G$31*calculprv2!$G$29)\n/calculprv2!$G$23\n*Reis!H68*Reis!H46","v":{"$error":"#VALUE!"}},{"$f":"(calculprv2!$G$11*(1-calculprv2!$G$13)/2+calculprv2!$G$11*calculprv2!$G$13)\n*(calculprv2!$G$27*(1-calculprv2!$G$29)+calculprv2!$G$31*calculprv2!$G$29)\n/calculprv2!$G$23\n*Reis!I68*Reis!I46","v":{"$error":"#VALUE!"}},{"$f":"(calculprv2!$G$11*(1-calculprv2!$G$13)/2+calculprv2!$G$11*calculprv2!$G$13)\n*(calculprv2!$G$27*(1-calculprv2!$G$29)+calculprv2!$G$31*calculprv2!$G$29)\n/calculprv2!$G$23\n*Reis!J68*Reis!J46","v":{"$error":"#VALUE!"}},{"$f":"(calculprv2!$G$11*(1-calculprv2!$G$13)/2+calculprv2!$G$11*calculprv2!$G$13)\n*(calculprv2!$G$27*(1-calculprv2!$G$29)+calculprv2!$G$31*calculprv2!$G$29)\n/calculprv2!$G$23\n*Reis!K68*Reis!K46","v":{"$error":"#VALUE!"}},{"$f":"(calculprv2!$G$11*(1-calculprv2!$G$13)/2+calculprv2!$G$11*calculprv2!$G$13)\n*(calculprv2!$G$27*(1-calculprv2!$G$29)+calculprv2!$G$31*calculprv2!$G$29)\n/calculprv2!$G$23\n*Reis!L68*Reis!L46","v":{"$error":"#VALUE!"}},{"$f":"(calculprv2!$G$11*(1-calculprv2!$G$13)/2+calculprv2!$G$11*calculprv2!$G$13)\n*(calculprv2!$G$27*(1-calculprv2!$G$29)+calculprv2!$G$31*calculprv2!$G$29)\n/calculprv2!$G$23\n*Reis!M68*Reis!M46","v":{"$error":"#VALUE!"}},{"$f":"(calculprv2!$G$11*(1-calculprv2!$G$13)/2+calculprv2!$G$11*calculprv2!$G$13)\n*(calculprv2!$G$27*(1-calculprv2!$G$29)+calculprv2!$G$31*calculprv2!$G$29)\n/calculprv2!$G$23\n*Reis!N68*Reis!N46","v":{"$error":"#VALUE!"}},{"$f":"(calculprv2!$G$11*(1-calculprv2!$G$13)/2+calculprv2!$G$11*calculprv2!$G$13)\n*(calculprv2!$G$27*(1-calculprv2!$G$29)+calculprv2!$G$31*calculprv2!$G$29)\n/calculprv2!$G$23\n*Reis!O68*Reis!O46","v":{"$error":"#VALUE!"}},{"$f":"(calculprv2!$G$11*(1-calculprv2!$G$13)/2+calculprv2!$G$11*calculprv2!$G$13)\n*(calculprv2!$G$27*(1-calculprv2!$G$29)+calculprv2!$G$31*calculprv2!$G$29)\n/calculprv2!$G$23\n*Reis!P68*Reis!P46","v":{"$error":"#VALUE!"}},{"$f":"(calculprv2!$G$11*(1-calculprv2!$G$13)/2+calculprv2!$G$11*calculprv2!$G$13)\n*(calculprv2!$G$27*(1-calculprv2!$G$29)+calculprv2!$G$31*calculprv2!$G$29)\n/calculprv2!$G$23\n*Reis!Q68*Reis!Q46","v":{"$error":"#VALUE!"}},{"$f":"(calculprv2!$G$11*(1-calculprv2!$G$13)/2+calculprv2!$G$11*calculprv2!$G$13)\n*(calculprv2!$G$27*(1-calculprv2!$G$29)+calculprv2!$G$31*calculprv2!$G$29)\n/calculprv2!$G$23\n*Reis!R68*Reis!R46","v":{"$error":"#VALUE!"}},{"$f":"(calculprv2!$G$11*(1-calculprv2!$G$13)/2+calculprv2!$G$11*calculprv2!$G$13)\n*(calculprv2!$G$27*(1-calculprv2!$G$29)+calculprv2!$G$31*calculprv2!$G$29)\n/calculprv2!$G$23\n*Reis!S68*Reis!S46","v":{"$error":"#VALUE!"}},{"$f":"(calculprv2!$G$11*(1-calculprv2!$G$13)/2+calculprv2!$G$11*calculprv2!$G$13)\n*(calculprv2!$G$27*(1-calculprv2!$G$29)+calculprv2!$G$31*calculprv2!$G$29)\n/calculprv2!$G$23\n*Reis!T68*Reis!T46","v":{"$error":"#VALUE!"}},{"$f":"SUM(H49:V49)","v":{"$error":"#VALUE!"}}]
[null,null,null,"Verzekeringen voertuig",null,null,null,{"$f":"calculprv2!$G$56/calculprv2!$G$23*Reis!F68*Reis!F46","v":{"$error":"#VALUE!"}},{"$f":"calculprv2!$G$56/calculprv2!$G$23*Reis!G68*Reis!G46","v":{"$error":"#VALUE!"}},{"$f":"calculprv2!$G$56/calculprv2!$G$23*Reis!H68*Reis!H46","v":{"$error":"#VALUE!"}},{"$f":"calculprv2!$G$56/calculprv2!$G$23*Reis!I68*Reis!I46","v":{"$error":"#VALUE!"}},{"$f":"calculprv2!$G$56/calculprv2!$G$23*Reis!J68*Reis!J46","v":{"$error":"#VALUE!"}},{"$f":"calculprv2!$G$56/calculprv2!$G$23*Reis!K68*Reis!K46","v":{"$error":"#VALUE!"}},{"$f":"calculprv2!$G$56/calculprv2!$G$23*Reis!L68*Reis!L46","v":{"$error":"#VALUE!"}},{"$f":"calculprv2!$G$56/calculprv2!$G$23*Reis!M68*Reis!M46","v":{"$error":"#VALUE!"}},{"$f":"calculprv2!$G$56/calculprv2!$G$23*Reis!N68*Reis!N46","v":{"$error":"#VALUE!"}},{"$f":"calculprv2!$G$56/calculprv2!$G$23*Reis!O68*Reis!O46","v":{"$error":"#VALUE!"}},{"$f":"calculprv2!$G$56/calculprv2!$G$23*Reis!P68*Reis!P46","v":{"$error":"#VALUE!"}},{"$f":"calculprv2!$G$56/calculprv2!$G$23*Reis!Q68*Reis!Q46","v":{"$error":"#VALUE!"}},{"$f":"calculprv2!$G$56/calculprv2!$G$23*Reis!R68*Reis!R46","v":{"$error":"#VALUE!"}},{"$f":"calculprv2!$G$56/calculprv2!$G$23*Reis!S68*Reis!S46","v":{"$error":"#VALUE!"}},{"$f":"calculprv2!$G$56/calculprv2!$G$23*Reis!T68*Reis!T46","v":{"$error":"#VALUE!"}},{"$f":"SUM(H50:V50)","v":{"$error":"#VALUE!"}}]
[null,null,null,"Andere vaste kosten voertuig",null,null,null,{"$f":"calculprv2!$G$61/calculprv2!$G$23*Reis!F68*Reis!F46","v":{"$error":"#VALUE!"}},{"$f":"calculprv2!$G$61/calculprv2!$G$23*Reis!G68*Reis!G46","v":{"$error":"#VALUE!"}},{"$f":"calculprv2!$G$61/calculprv2!$G$23*Reis!H68*Reis!H46","v":{"$error":"#VALUE!"}},{"$f":"calculprv2!$G$61/calculprv2!$G$23*Reis!I68*Reis!I46","v":{"$error":"#VALUE!"}},{"$f":"calculprv2!$G$61/calculprv2!$G$23*Reis!J68*Reis!J46","v":{"$error":"#VALUE!"}},{"$f":"calculprv2!$G$61/calculprv2!$G$23*Reis!K68*Reis!K46","v":{"$error":"#VALUE!"}},{"$f":"calculprv2!$G$61/calculprv2!$G$23*Reis!L68*Reis!L46","v":{"$error":"#VALUE!"}},{"$f":"calculprv2!$G$61/calculprv2!$G$23*Reis!M68*Reis!M46","v":{"$error":"#VALUE!"}},{"$f":"calculprv2!$G$61/calculprv2!$G$23*Reis!N68*Reis!N46","v":{"$error":"#VALUE!"}},{"$f":"calculprv2!$G$61/calculprv2!$G$23*Reis!O68*Reis!O46","v":{"$error":"#VALUE!"}},{"$f":"calculprv2!$G$61/calculprv2!$G$23*Reis!P68*Reis!P46","v":{"$error":"#VALUE!"}},{"$f":"calculprv2!$G$61/calculprv2!$G$23*Reis!Q68*Reis!Q46","v":{"$error":"#VALUE!"}},{"$f":"calculprv2!$G$61/calculprv2!$G$23*Reis!R68*Reis!R46","v":{"$error":"#VALUE!"}},{"$f":"calculprv2!$G$61/calculprv2!$G$23*Reis!S68*Reis!S46","v":{"$error":"#VALUE!"}},{"$f":"calculprv2!$G$61/calculprv2!$G$23*Reis!T68*Reis!T46","v":{"$error":"#VALUE!"}},{"$f":"SUM(H51:V51)","v":{"$error":"#VALUE!"}}]
[null,null,null,"Andere vaste kosten bedrijf",null,null,null,{"$f":"Bedrijf!$G$32/Bedrijf!$G$9/calculprv2!$G$23*Reis!F68*Reis!F46","v":{"$error":"#DIV/0!"}},{"$f":"Bedrijf!$G$32/Bedrijf!$G$9/calculprv2!$G$23*Reis!G68*Reis!G46","v":{"$error":"#DIV/0!"}},{"$f":"Bedrijf!$G$32/Bedrijf!$G$9/calculprv2!$G$23*Reis!H68*Reis!H46","v":{"$error":"#DIV/0!"}},{"$f":"Bedrijf!$G$32/Bedrijf!$G$9/calculprv2!$G$23*Reis!I68*Reis!I46","v":{"$error":"#DIV/0!"}},{"$f":"Bedrijf!$G$32/Bedrijf!$G$9/calculprv2!$G$23*Reis!J68*Reis!J46","v":{"$error":"#DIV/0!"}},{"$f":"Bedrijf!$G$32/Bedrijf!$G$9/calculprv2!$G$23*Reis!K68*Reis!K46","v":{"$error":"#DIV/0!"}},{"$f":"Bedrijf!$G$32/Bedrijf!$G$9/calculprv2!$G$23*Reis!L68*Reis!L46","v":{"$error":"#DIV/0!"}},{"$f":"Bedrijf!$G$32/Bedrijf!$G$9/calculprv2!$G$23*Reis!M68*Reis!M46","v":{"$error":"#DIV/0!"}},{"$f":"Bedrijf!$G$32/Bedrijf!$G$9/calculprv2!$G$23*Reis!N68*Reis!N46","v":{"$error":"#DIV/0!"}},{"$f":"Bedrijf!$G$32/Bedrijf!$G$9/calculprv2!$G$23*Reis!O68*Reis!O46","v":{"$error":"#DIV/0!"}},{"$f":"Bedrijf!$G$32/Bedrijf!$G$9/calculprv2!$G$23*Reis!P68*Reis!P46","v":{"$error":"#DIV/0!"}},{"$f":"Bedrijf!$G$32/Bedrijf!$G$9/calculprv2!$G$23*Reis!Q68*Reis!Q46","v":{"$error":"#DIV/0!"}},{"$f":"Bedrijf!$G$32/Bedrijf!$G$9/calculprv2!$G$23*Reis!R68*Reis!R46","v":{"$error":"#DIV/0!"}},{"$f":"Bedrijf!$G$32/Bedrijf!$G$9/calculprv2!$G$23*Reis!S68*Reis!S46","v":{"$error":"#DIV/0!"}},{"$f":"Bedrijf!$G$32/Bedrijf!$G$9/calculprv2!$G$23*Reis!T68*Reis!T46","v":{"$error":"#DIV/0!"}},{"$f":"SUM(H52:V52)","v":{"$error":"#DIV/0!"}}]
[]
[null,null,"LOONKOST CHAUFFEURS",null,null,null,null,{"$f":"Personneelskost!E58","v":{"$error":"#DIV/0!"}},{"$f":"Personneelskost!F58","v":0},{"$f":"Personneelskost!G58","v":0},{"$f":"Personneelskost!H58","v":0},{"$f":"Personneelskost!I58","v":0},{"$f":"Personneelskost!J58","v":0},{"$f":"Personneelskost!K58","v":0},{"$f":"Personneelskost!L58","v":0},{"$f":"Personneelskost!M58","v":0},{"$f":"Personneelskost!N58","v":0},{"$f":"Personneelskost!O58","v":0},{"$f":"Personneelskost!P58","v":0},{"$f":"Personneelskost!Q58","v":0},{"$f":"Personneelskost!R58","v":0},{"$f":"Personneelskost!S58","v":0},{"$f":"SUM(H54:V54)","v":{"$error":"#DIV/0!"}}]
[]
[null,null,"VARIABEL","Brandstof",null,null,null,{"$f":"((calculprv2!$G$35/100)*Bedrijf!$G$23*Reis!F51*(1-Reis!F59))+((calculprv2!$G$35/100)*Reis!F60*Reis!F51*Reis!F59)","v":{"$error":"#VALUE!"}},{"$f":"((calculprv2!$G$35/100)*Bedrijf!$G$23*Reis!G51*(1-Reis!G59))+((calculprv2!$G$35/100)*Reis!G60*Reis!G51*Reis!G59)","v":{"$error":"#VALUE!"}},{"$f":"((calculprv2!$G$35/100)*Bedrijf!$G$23*Reis!H51*(1-Reis!H59))+((calculprv2!$G$35/100)*Reis!H60*Reis!H51*Reis!H59)","v":{"$error":"#VALUE!"}},{"$f":"((calculprv2!$G$35/100)*Bedrijf!$G$23*Reis!I51*(1-Reis!I59))+((calculprv2!$G$35/100)*Reis!I60*Reis!I51*Reis!I59)","v":{"$error":"#VALUE!"}},{"$f":"((calculprv2!$G$35/100)*Bedrijf!$G$23*Reis!J51*(1-Reis!J59))+((calculprv2!$G$35/100)*Reis!J60*Reis!J51*Reis!J59)","v":{"$error":"#VALUE!"}},{"$f":"((calculprv2!$G$35/100)*Bedrijf!$G$23*Reis!K51*(1-Reis!K59))+((calculprv2!$G$35/100)*Reis!K60*Reis!K51*Reis!K59)","v":{"$error":"#VALUE!"}},{"$f":"((calculprv2!$G$35/100)*Bedrijf!$G$23*Reis!L51*(1-Reis!L59))+((calculprv2!$G$35/100)*Reis!L60*Reis!L51*Reis!L59)","v":{"$error":"#VALUE!"}},{"$f":"((calculprv2!$G$35/100)*Bedrijf!$G$23*Reis!M51*(1-Reis!M59))+((calculprv2!$G$35/100)*Reis!M60*Reis!M51*Reis!M59)","v":{"$error":"#VALUE!"}},{"$f":"((calculprv2!$G$35/100)*Bedrijf!$G$23*Reis!N51*(1-Reis!N59))+((calculprv2!$G$35/100)*Reis!N60*Reis!N51*Reis!N59)","v":{"$error":"#VALUE!"}},{"$f":"((calculprv2!$G$35/100)*Bedrijf!$G$23*Reis!O51*(1-Reis!O59))+((calculprv2!$G$35/100)*Reis!O60*Reis!O51*Reis!O59)","v":{"$error":"#VALUE!"}},{"$f":"((calculprv2!$G$35/100)*Bedrijf!$G$23*Reis!P51*(1-Reis!P59))+((calculprv2!$G$35/100)*Reis!P60*Reis!P51*Reis!P59)","v":{"$error":"#VALUE!"}},{"$f":"((calculprv2!$G$35/100)*Bedrijf!$G$23*Reis!Q51*(1-Reis!Q59))+((calculprv2!$G$35/100)*Reis!Q60*Reis!Q51*Reis!Q59)","v":{"$error":"#VALUE!"}},{"$f":"((calculprv2!$G$35/100)*Bedrijf!$G$23*Reis!R51*(1-Reis!R59))+((calculprv2!$G$35/100)*Reis!R60*Reis!R51*Reis!R59)","v":{"$error":"#VALUE!"}},{"$f":"((calculprv2!$G$35/100)*Bedrijf!$G$23*Reis!S51*(1-Reis!S59))+((calculprv2!$G$35/100)*Reis!S60*Reis!S51*Reis!S59)","v":{"$error":"#VALUE!"}},{"$f":"((calculprv2!$G$35/100)*Bedrijf!$G$23*Reis!T51*(1-Reis!T59))+((calculprv2!$G$35/100)*Reis!T60*Reis!T51*Reis!T59)","v":{"$error":"#VALUE!"}},{"$f":"SUM(H56:V56)","v":{"$error":"#VALUE!"}}]
[null,null,null,"Olie",null,null,null,{"$f":"((calculprv2!$G$37/100)*Bedrijf!$G$25*Reis!F51)","v":{"$error":"#VALUE!"}},{"$f":"((calculprv2!$G$37/100)*Bedrijf!$G$25*Reis!G51)","v":{"$error":"#VALUE!"}},{"$f":"((calculprv2!$G$37/100)*Bedrijf!$G$25*Reis!H51)","v":{"$error":"#VALUE!"}},{"$f":"((calculprv2!$G$37/100)*Bedrijf!$G$25*Reis!I51)","v":{"$error":"#VALUE!"}},{"$f":"((calculprv2!$G$37/100)*Bedrijf!$G$25*Reis!J51)","v":{"$error":"#VALUE!"}},{"$f":"((calculprv2!$G$37/100)*Bedrijf!$G$25*Reis!K51)","v":{"$error":"#VALUE!"}},{"$f":"((calculprv2!$G$37/100)*Bedrijf!$G$25*Reis!L51)","v":{"$error":"#VALUE!"}},{"$f":"((calculprv2!$G$37/100)*Bedrijf!$G$25*Reis!M51)","v":{"$error":"#VALUE!"}},{"$f":"((calculprv2!$G$37/100)*Bedrijf!$G$25*Reis!N51)","v":{"$error":"#VALUE!"}},{"$f":"((calculprv2!$G$37/100)*Bedrijf!$G$25*Reis!O51)","v":{"$error":"#VALUE!"}},{"$f":"((calculprv2!$G$37/100)*Bedrijf!$G$25*Reis!P51)","v":{"$error":"#VALUE!"}},{"$f":"((calculprv2!$G$37/100)*Bedrijf!$G$25*Reis!Q51)","v":{"$error":"#VALUE!"}},{"$f":"((calculprv2!$G$37/100)*Bedrijf!$G$25*Reis!R51)","v":{"$error":"#VALUE!"}},{"$f":"((calculprv2!$G$37/100)*Bedrijf!$G$25*Reis!S51)","v":{"$error":"#VALUE!"}},{"$f":"((calculprv2!$G$37/100)*Bedrijf!$G$25*Reis!T51)","v":{"$error":"#VALUE!"}},{"$error":"#VALUE!"}]
[null,null,null,"Adblue",null,null,null,{"$f":"((calculprv2!$G$39/100)*Bedrijf!$G$27*Reis!F51)","v":{"$error":"#VALUE!"}},{"$f":"((calculprv2!$G$39/100)*Bedrijf!$G$27*Reis!G51)","v":{"$error":"#VALUE!"}},{"$f":"((calculprv2!$G$39/100)*Bedrijf!$G$27*Reis!H51)","v":{"$error":"#VALUE!"}},{"$f":"((calculprv2!$G$39/100)*Bedrijf!$G$27*Reis!I51)","v":{"$error":"#VALUE!"}},{"$f":"((calculprv2!$G$39/100)*Bedrijf!$G$27*Reis!J51)","v":{"$error":"#VALUE!"}},{"$f":"((calculprv2!$G$39/100)*Bedrijf!$G$27*Reis!K51)","v":{"$error":"#VALUE!"}},{"$f":"((calculprv2!$G$39/100)*Bedrijf!$G$27*Reis!L51)","v":{"$error":"#VALUE!"}},{"$f":"((calculprv2!$G$39/100)*Bedrijf!$G$27*Reis!M51)","v":{"$error":"#VALUE!"}},{"$f":"((calculprv2!$G$39/100)*Bedrijf!$G$27*Reis!N51)","v":{"$error":"#VALUE!"}},{"$f":"((calculprv2!$G$39/100)*Bedrijf!$G$27*Reis!O51)","v":{"$error":"#VALUE!"}},{"$f":"((calculprv2!$G$39/100)*Bedrijf!$G$27*Reis!P51)","v":{"$error":"#VALUE!"}},{"$f":"((calculprv2!$G$39/100)*Bedrijf!$G$27*Reis!Q51)","v":{"$error":"#VALUE!"}},{"$f":"((calculprv2!$G$39/100)*Bedrijf!$G$27*Reis!R51)","v":{"$error":"#VALUE!"}},{"$f":"((calculprv2!$G$39/100)*Bedrijf!$G$27*Reis!S51)","v":{"$error":"#VALUE!"}},{"$f":"((calculprv2!$G$39/100)*Bedrijf!$G$27*Reis!T51)","v":{"$error":"#VALUE!"}},{"$error":"#VALUE!"}]
[null,null,null,"Banden",null,null,null,{"$f":"((calculprv2!$G$51/calculprv2!$G$47)*calculprv2!$G$43*Reis!F51)+((calculprv2!$G$51/calculprv2!$G$49)*calculprv2!$G$45*Reis!F51)","v":{"$error":"#VALUE!"}},{"$f":"((calculprv2!$G$51/calculprv2!$G$47)*calculprv2!$G$43*Reis!G51)+((calculprv2!$G$51/calculprv2!$G$49)*calculprv2!$G$45*Reis!G51)","v":{"$error":"#VALUE!"}},{"$f":"((calculprv2!$G$51/calculprv2!$G$47)*calculprv2!$G$43*Reis!H51)+((calculprv2!$G$51/calculprv2!$G$49)*calculprv2!$G$45*Reis!H51)","v":{"$error":"#VALUE!"}},{"$f":"((calculprv2!$G$51/calculprv2!$G$47)*calculprv2!$G$43*Reis!I51)+((calculprv2!$G$51/calculprv2!$G$49)*calculprv2!$G$45*Reis!I51)","v":{"$error":"#VALUE!"}},{"$f":"((calculprv2!$G$51/calculprv2!$G$47)*calculprv2!$G$43*Reis!J51)+((calculprv2!$G$51/calculprv2!$G$49)*calculprv2!$G$45*Reis!J51)","v":{"$error":"#VALUE!"}},{"$f":"((calculprv2!$G$51/calculprv2!$G$47)*calculprv2!$G$43*Reis!K51)+((calculprv2!$G$51/calculprv2!$G$49)*calculprv2!$G$45*Reis!K51)","v":{"$error":"#VALUE!"}},{"$f":"((calculprv2!$G$51/calculprv2!$G$47)*calculprv2!$G$43*Reis!L51)+((calculprv2!$G$51/calculprv2!$G$49)*calculprv2!$G$45*Reis!L51)","v":{"$error":"#VALUE!"}},{"$f":"((calculprv2!$G$51/calculprv2!$G$47)*calculprv2!$G$43*Reis!M51)+((calculprv2!$G$51/calculprv2!$G$49)*calculprv2!$G$45*Reis!M51)","v":{"$error":"#VALUE!"}},{"$f":"((calculprv2!$G$51/calculprv2!$G$47)*calculprv2!$G$43*Reis!N51)+((calculprv2!$G$51/calculprv2!$G$49)*calculprv2!$G$45*Reis!N51)","v":{"$error":"#VALUE!"}},{"$f":"((calculprv2!$G$51/calculprv2!$G$47)*calculprv2!$G$43*Reis!O51)+((calculprv2!$G$51/calculprv2!$G$49)*calculprv2!$G$45*Reis!O51)","v":{"$error":"#VALUE!"}},{"$f":"((calculprv2!$G$51/calculprv2!$G$47)*calculprv2!$G$43*Reis!P51)+((calculprv2!$G$51/calculprv2!$G$49)*calculprv2!$G$45*Reis!P51)","v":{"$error":"#VALUE!"}},{"$f":"((calculprv2!$G$51/calculprv2!$G$47)*calculprv2!$G$43*Reis!Q51)+((calculprv2!$G$51/calculprv2!$G$49)*calculprv2!$G$45*Reis!Q51)","v":{"$error":"#VALUE!"}},{"$f":"((calculprv2!$G$51/calculprv2!$G$47)*calculprv2!$G$43*Reis!R51)+((calculprv2!$G$51/calculprv2!$G$49)*calculprv2!$G$45*Reis!R51)","v":{"$error":"#VALUE!"}},{"$f":"((calculprv2!$G$51/calculprv2!$G$47)*calculprv2!$G$43*Reis!S51)+((calculprv2!$G$51/calculprv2!$G$49)*calculprv2!$G$45*Reis!S51)","v":{"$error":"#VALUE!"}},{"$f":"((calculprv2!$G$51/calculprv2!$G$47)*calculprv2!$G$43*Reis!T51)+((calculprv2!$G$51/calculprv2!$G$49)*calculprv2!$G$45*Reis!T51)","v":{"$error":"#VALUE!"}},{"$error":"#VALUE!"}]
[null,null,null,"Onderhoud",null,null,null,{"$f":"(Bedrijf!$G$15+Bedrijf!$G$17+Bedrijf!$G$19)/Bedrijf!$G$11*Reis!F51","v":{"$error":"#DIV/0!"}},{"$f":"(Bedrijf!$G$15+Bedrijf!$G$17+Bedrijf!$G$19)/Bedrijf!$G$11*Reis!G51","v":{"$error":"#DIV/0!"}},{"$f":"(Bedrijf!$G$15+Bedrijf!$G$17+Bedrijf!$G$19)/Bedrijf!$G$11*Reis!H51","v":{"$error":"#DIV/0!"}},{"$f":"(Bedrijf!$G$15+Bedrijf!$G$17+Bedrijf!$G$19)/Bedrijf!$G$11*Reis!I51","v":{"$error":"#DIV/0!"}},{"$f":"(Bedrijf!$G$15+Bedrijf!$G$17+Bedrijf!$G$19)/Bedrijf!$G$11*Reis!J51","v":{"$error":"#DIV/0!"}},{"$f":"(Bedrijf!$G$15+Bedrijf!$G$17+Bedrijf!$G$19)/Bedrijf!$G$11*Reis!K51","v":{"$error":"#DIV/0!"}},{"$f":"(Bedrijf!$G$15+Bedrijf!$G$17+Bedrijf!$G$19)/Bedrijf!$G$11*Reis!L51","v":{"$error":"#DIV/0!"}},{"$f":"(Bedrijf!$G$15+Bedrijf!$G$17+Bedrijf!$G$19)/Bedrijf!$G$11*Reis!M51","v":{"$error":"#DIV/0!"}},{"$f":"(Bedrijf!$G$15+Bedrijf!$G$17+Bedrijf!$G$19)/Bedrijf!$G$11*Reis!N51","v":{"$error":"#DIV/0!"}},{"$f":"(Bedrijf!$G$15+Bedrijf!$G$17+Bedrijf!$G$19)/Bedrijf!$G$11*Reis!O51","v":{"$error":"#DIV/0!"}},{"$f":"(Bedrijf!$G$15+Bedrijf!$G$17+Bedrijf!$G$19)/Bedrijf!$G$11*Reis!P51","v":{"$error":"#DIV/0!"}},{"$f":"(Bedrijf!$G$15+Bedrijf!$G$17+Bedrijf!$G$19)/Bedrijf!$G$11*Reis!Q51","v":{"$error":"#DIV/0!"}},{"$f":"(Bedrijf!$G$15+Bedrijf!$G$17+Bedrijf!$G$19)/Bedrijf!$G$11*Reis!R51","v":{"$error":"#DIV/0!"}},{"$f":"(Bedrijf!$G$15+Bedrijf!$G$17+Bedrijf!$G$19)/Bedrijf!$G$11*Reis!S51","v":{"$error":"#DIV/0!"}},{"$f":"(Bedrijf!$G$15+Bedrijf!$G$17+Bedrijf!$G$19)/Bedrijf!$G$11*Reis!T51","v":{"$error":"#DIV/0!"}},{"$error":"#DIV/0!"}]
[null,null,null,"Voertuig (technische afschr.)",null,null,null,{"$f":"IF(calculprv2!$G$15=\"technisch\",((calculprv2!$G$11*(1-calculprv2!$G$13))/calculprv2!$G$21)*Reis!F51,0)","v":0},{"$f":"IF(calculprv2!$G$15=\"technisch\",((calculprv2!$G$11*(1-calculprv2!$G$13))/calculprv2!$G$21)*Reis!G51,0)","v":0},{"$f":"IF(calculprv2!$G$15=\"technisch\",((calculprv2!$G$11*(1-calculprv2!$G$13))/calculprv2!$G$21)*Reis!H51,0)","v":0},{"$f":"IF(calculprv2!$G$15=\"technisch\",((calculprv2!$G$11*(1-calculprv2!$G$13))/calculprv2!$G$21)*Reis!I51,0)","v":0},{"$f":"IF(calculprv2!$G$15=\"technisch\",((calculprv2!$G$11*(1-calculprv2!$G$13))/calculprv2!$G$21)*Reis!J51,0)","v":0},{"$f":"IF(calculprv2!$G$15=\"technisch\",((calculprv2!$G$11*(1-calculprv2!$G$13))/calculprv2!$G$21)*Reis!K51,0)","v":0},{"$f":"IF(calculprv2!$G$15=\"technisch\",((calculprv2!$G$11*(1-calculprv2!$G$13))/calculprv2!$G$21)*Reis!L51,0)","v":0},{"$f":"IF(calculprv2!$G$15=\"technisch\",((calculprv2!$G$11*(1-calculprv2!$G$13))/calculprv2!$G$21)*Reis!M51,0)","v":0},{"$f":"IF(calculprv2!$G$15=\"technisch\",((calculprv2!$G$11*(1-calculprv2!$G$13))/calculprv2!$G$21)*Reis!N51,0)","v":0},{"$f":"IF(calculprv2!$G$15=\"technisch\",((calculprv2!$G$11*(1-calculprv2!$G$13))/calculprv2!$G$21)*Reis!O51,0)","v":0},{"$f":"IF(calculprv2!$G$15=\"technisch\",((calculprv2!$G$11*(1-calculprv2!$G$13))/calculprv2!$G$21)*Reis!P51,0)","v":0},{"$f":"IF(calculprv2!$G$15=\"technisch\",((calculprv2!$G$11*(1-calculprv2!$G$13))/calculprv2!$G$21)*Reis!Q51,0)","v":0},{"$f":"IF(calculprv2!$G$15=\"technisch\",((calculprv2!$G$11*(1-calculprv2!$G$13))/calculprv2!$G$21)*Reis!R51,0)","v":0},{"$f":"IF(calculprv2!$G$15=\"technisch\",((calculprv2!$G$11*(1-calculprv2!$G$13))/calculprv2!$G$21)*Reis!S51,0)","v":0},{"$f":"IF(calculprv2!$G$15=\"technisch\",((calculprv2!$G$11*(1-calculprv2!$G$13))/calculprv2!$G$21)*Reis!T51,0)","v":0},0]
[]
[null,null,"SPECIFIEK","Specifieke ritkosten",null,null,null,{"$f":"Reis!F63","v":0},{"$f":"Reis!G63","v":0},{"$f":"Reis!H63","v":0},{"$f":"Reis!I63","v":0},{"$f":"Reis!J63","v":0},{"$f":"Reis!K63","v":0},{"$f":"Reis!L63","v":0},{"$f":"Reis!M63","v":0},{"$f":"Reis!N63","v":0},{"$f":"Reis!O63","v":0},{"$f":"Reis!P63","v":0},{"$f":"Reis!Q63","v":0},{"$f":"Reis!R63","v":0},{"$f":"Reis!S63","v":0},{"$f":"Reis!T63","v":0},{"$f":"SUM(H63:V63)","v":0}]
[null,null,null,"aanhangwagens",null,false,{"$f":"IF(F64=TRUE,1,0)","v":0},{"$f":"IF($G$64<1,0,IF($G$64>=1,((\n((calculprv2!$G$81/calculprv2!$G$83)\n+calculprv2!$G$85\n+calculprv2!$G$87\n+calculprv2!$G$89\n+calculprv2!$G$91)\n/calculprv2!$G$79)\n+((H56+H57+H58)*calculprv2!$G$94))\n*Reis!F46*$G$64))","v":0},{"$f":"IF($G$64<1,0,IF($G$64>=1,((\n((calculprv2!$G$81/calculprv2!$G$83)\n+calculprv2!$G$85\n+calculprv2!$G$87\n+calculprv2!$G$89\n+calculprv2!$G$91)\n/calculprv2!$G$79)\n+((I56+I57+I58)*calculprv2!$G$94))\n*Reis!G46*$G$64))","v":0},{"$f":"IF($G$64<1,0,IF($G$64>=1,((\n((calculprv2!$G$81/calculprv2!$G$83)\n+calculprv2!$G$85\n+calculprv2!$G$87\n+calculprv2!$G$89\n+calculprv2!$G$91)\n/calculprv2!$G$79)\n+((J56+J57+J58)*calculprv2!$G$94))\n*Reis!H46*$G$64))","v":0},{"$f":"IF($G$64<1,0,IF($G$64>=1,((\n((calculprv2!$G$81/calculprv2!$G$83)\n+calculprv2!$G$85\n+calculprv2!$G$87\n+calculprv2!$G$89\n+calculprv2!$G$91)\n/calculprv2!$G$79)\n+((K56+K57+K58)*calculprv2!$G$94))\n*Reis!I46*$G$64))","v":0},{"$f":"IF($G$64<1,0,IF($G$64>=1,((\n((calculprv2!$G$81/calculprv2!$G$83)\n+calculprv2!$G$85\n+calculprv2!$G$87\n+calculprv2!$G$89\n+calculprv2!$G$91)\n/calculprv2!$G$79)\n+((L56+L57+L58)*calculprv2!$G$94))\n*Reis!J46*$G$64))","v":0},{"$f":"IF($G$64<1,0,IF($G$64>=1,((\n((calculprv2!$G$81/calculprv2!$G$83)\n+calculprv2!$G$85\n+calculprv2!$G$87\n+calculprv2!$G$89\n+calculprv2!$G$91)\n/calculprv2!$G$79)\n+((M56+M57+M58)*calculprv2!$G$94))\n*Reis!K46*$G$64))","v":0},{"$f":"IF($G$64<1,0,IF($G$64>=1,((\n((calculprv2!$G$81/calculprv2!$G$83)\n+calculprv2!$G$85\n+calculprv2!$G$87\n+calculprv2!$G$89\n+calculprv2!$G$91)\n/calculprv2!$G$79)\n+((N56+N57+N58)*calculprv2!$G$94))\n*Reis!L46*$G$64))","v":0},{"$f":"IF($G$64<1,0,IF($G$64>=1,((\n((calculprv2!$G$81/calculprv2!$G$83)\n+calculprv2!$G$85\n+calculprv2!$G$87\n+calculprv2!$G$89\n+calculprv2!$G$91)\n/calculprv2!$G$79)\n+((O56+O57+O58)*calculprv2!$G$94))\n*Reis!M46*$G$64))","v":0},{"$f":"IF($G$64<1,0,IF($G$64>=1,((\n((calculprv2!$G$81/calculprv2!$G$83)\n+calculprv2!$G$85\n+calculprv2!$G$87\n+calculprv2!$G$89\n+calculprv2!$G$91)\n/calculprv2!$G$79)\n+((P56+P57+P58)*calculprv2!$G$94))\n*Reis!N46*$G$64))","v":0},{"$f":"IF($G$64<1,0,IF($G$64>=1,((\n((calculprv2!$G$81/calculprv2!$G$83)\n+calculprv2!$G$85\n+calculprv2!$G$87\n+calculprv2!$G$89\n+calculprv2!$G$91)\n/calculprv2!$G$79)\n+((Q56+Q57+Q58)*calculprv2!$G$94))\n*Reis!O46*$G$64))","v":0},{"$f":"IF($G$64<1,0,IF($G$64>=1,((\n((calculprv2!$G$81/calculprv2!$G$83)\n+calculprv2!$G$85\n+calculprv2!$G$87\n+calculprv2!$G$89\n+calculprv2!$G$91)\n/calculprv2!$G$79)\n+((R56+R57+R58)*calculprv2!$G$94))\n*Reis!P46*$G$64))","v":0},{"$f":"IF($G$64<1,0,IF($G$64>=1,((\n((calculprv2!$G$81/calculprv2!$G$83)\n+calculprv2!$G$85\n+calculprv2!$G$87\n+calculprv2!$G$89\n+calculprv2!$G$91)\n/calculprv2!$G$79)\n+((S56+S57+S58)*calculprv2!$G$94))\n*Reis!Q46*$G$64))","v":0},{"$f":"IF($G$64<1,0,IF($G$64>=1,((\n((calculprv2!$G$81/calculprv2!$G$83)\n+calculprv2!$G$85\n+calculprv2!$G$87\n+calculprv2!$G$89\n+calculprv2!$G$91)\n/calculprv2!$G$79)\n+((T56+T57+T58)*calculprv2!$G$94))\n*Reis!R46*$G$64))","v":0},{"$f":"IF($G$64<1,0,IF($G$64>=1,((\n((calculprv2!$G$81/calculprv2!$G$83)\n+calculprv2!$G$85\n+calculprv2!$G$87\n+calculprv2!$G$89\n+calculprv2!$G$91)\n/calculprv2!$G$79)\n+((U56+U57+U58)*calculprv2!$G$94))\n*Reis!S46*$G$64))","v":0},{"$f":"IF($G$64<1,0,IF($G$64>=1,((\n((calculprv2!$G$81/calculprv2!$G$83)\n+calculprv2!$G$85\n+calculprv2!$G$87\n+calculprv2!$G$89\n+calculprv2!$G$91)\n/calculprv2!$G$79)\n+((V56+V57+V58)*calculprv2!$G$94))\n*Reis!T46*$G$64))","v":0},{"$f":"SUM(H64:V64)","v":0}]
[null,null,null,"skiboxen",null,false,{"$f":"IF(F65=TRUE,1,0)","v":0},{"$f":"IF($G$65<1,0,IF($G$65>=1,((calculprv2!$G$99/calculprv2!$G$101/calculprv2!$G$97)+calculprv2!$G$103)*Reis!F46*'Kostprijs en Verkoopprijs'!$G$65))","v":0},{"$f":"IF($G$65<1,0,IF($G$65>=1,((calculprv2!$G$99/calculprv2!$G$101/calculprv2!$G$97)+calculprv2!$G$103)*Reis!G46*'Kostprijs en Verkoopprijs'!$G$65))","v":0},{"$f":"IF($G$65<1,0,IF($G$65>=1,((calculprv2!$G$99/calculprv2!$G$101/calculprv2!$G$97)+calculprv2!$G$103)*Reis!H46*'Kostprijs en Verkoopprijs'!$G$65))","v":0},{"$f":"IF($G$65<1,0,IF($G$65>=1,((calculprv2!$G$99/calculprv2!$G$101/calculprv2!$G$97)+calculprv2!$G$103)*Reis!I46*'Kostprijs en Verkoopprijs'!$G$65))","v":0},{"$f":"IF($G$65<1,0,IF($G$65>=1,((calculprv2!$G$99/calculprv2!$G$101/calculprv2!$G$97)+calculprv2!$G$103)*Reis!J46*'Kostprijs en Verkoopprijs'!$G$65))","v":0},{"$f":"IF($G$65<1,0,IF($G$65>=1,((calculprv2!$G$99/calculprv2!$G$101/calculprv2!$G$97)+calculprv2!$G$103)*Reis!K46*'Kostprijs en Verkoopprijs'!$G$65))","v":0},{"$f":"IF($G$65<1,0,IF($G$65>=1,((calculprv2!$G$99/calculprv2!$G$101/calculprv2!$G$97)+calculprv2!$G$103)*Reis!L46*'Kostprijs en Verkoopprijs'!$G$65))","v":0},{"$f":"IF($G$65<1,0,IF($G$65>=1,((calculprv2!$G$99/calculprv2!$G$101/calculprv2!$G$97)+calculprv2!$G$103)*Reis!M46*'Kostprijs en Verkoopprijs'!$G$65))","v":0},{"$f":"IF($G$65<1,0,IF($G$65>=1,((calculprv2!$G$99/calculprv2!$G$101/calculprv2!$G$97)+calculprv2!$G$103)*Reis!N46*'Kostprijs en Verkoopprijs'!$G$65))","v":0},{"$f":"IF($G$65<1,0,IF($G$65>=1,((calculprv2!$G$99/calculprv2!$G$101/calculprv2!$G$97)+calculprv2!$G$103)*Reis!O46*'Kostprijs en Verkoopprijs'!$G$65))","v":0},{"$f":"IF($G$65<1,0,IF($G$65>=1,((calculprv2!$G$99/calculprv2!$G$101/calculprv2!$G$97)+calculprv2!$G$103)*Reis!P46*'Kostprijs en Verkoopprijs'!$G$65))","v":0},{"$f":"IF($G$65<1,0,IF($G$65>=1,((calculprv2!$G$99/calculprv2!$G$101/calculprv2!$G$97)+calculprv2!$G$103)*Reis!Q46*'Kostprijs en Verkoopprijs'!$G$65))","v":0},{"$f":"IF($G$65<1,0,IF($G$65>=1,((calculprv2!$G$99/calculprv2!$G$101/calculprv2!$G$97)+calculprv2!$G$103)*Reis!R46*'Kostprijs en Verkoopprijs'!$G$65))","v":0},{"$f":"IF($G$65<1,0,IF($G$65>=1,((calculprv2!$G$99/calculprv2!$G$101/calculprv2!$G$97)+calculprv2!$G$103)*Reis!S46*'Kostprijs en Verkoopprijs'!$G$65))","v":0},{"$f":"IF($G$65<1,0,IF($G$65>=1,((calculprv2!$G$99/calculprv2!$G$101/calculprv2!$G$97)+calculprv2!$G$103)*Reis!T46*'Kostprijs en Verkoopprijs'!$G$65))","v":0},{"$f":"SUM(H65:V65)","v":0}]
[null,null,null,"Lift",null,false,{"$f":"IF(F66=TRUE,1,0)","v":0},{"$f":"IF($G$66<1,0,IF($G$66>=1,((calculprv2!$G$110/calculprv2!$G$112/calculprv2!$G$108)+calculprv2!$G$114)*Reis!F46*'Kostprijs en Verkoopprijs'!$G$66))","v":0},{"$f":"IF($G$66<1,0,IF($G$66>=1,((calculprv2!$G$110/calculprv2!$G$112/calculprv2!$G$108)+calculprv2!$G$114)*Reis!G46*'Kostprijs en Verkoopprijs'!$G$66))","v":0},{"$f":"IF($G$66<1,0,IF($G$66>=1,((calculprv2!$G$110/calculprv2!$G$112/calculprv2!$G$108)+calculprv2!$G$114)*Reis!H46*'Kostprijs en Verkoopprijs'!$G$66))","v":0},{"$f":"IF($G$66<1,0,IF($G$66>=1,((calculprv2!$G$110/calculprv2!$G$112/calculprv2!$G$108)+calculprv2!$G$114)*Reis!I46*'Kostprijs en Verkoopprijs'!$G$66))","v":0},{"$f":"IF($G$66<1,0,IF($G$66>=1,((calculprv2!$G$110/calculprv2!$G$112/calculprv2!$G$108)+calculprv2!$G$114)*Reis!J46*'Kostprijs en Verkoopprijs'!$G$66))","v":0},{"$f":"IF($G$66<1,0,IF($G$66>=1,((calculprv2!$G$110/calculprv2!$G$112/calculprv2!$G$108)+calculprv2!$G$114)*Reis!K46*'Kostprijs en Verkoopprijs'!$G$66))","v":0},{"$f":"IF($G$66<1,0,IF($G$66>=1,((calculprv2!$G$110/calculprv2!$G$112/calculprv2!$G$108)+calculprv2!$G$114)*Reis!L46*'Kostprijs en Verkoopprijs'!$G$66))","v":0},{"$f":"IF($G$66<1,0,IF($G$66>=1,((calculprv2!$G$110/calculprv2!$G$112/calculprv2!$G$108)+calculprv2!$G$114)*Reis!M46*'Kostprijs en Verkoopprijs'!$G$66))","v":0},{"$f":"IF($G$66<1,0,IF($G$66>=1,((calculprv2!$G$110/calculprv2!$G$112/calculprv2!$G$108)+calculprv2!$G$114)*Reis!N46*'Kostprijs en Verkoopprijs'!$G$66))","v":0},{"$f":"IF($G$66<1,0,IF($G$66>=1,((calculprv2!$G$110/calculprv2!$G$112/calculprv2!$G$108)+calculprv2!$G$114)*Reis!O46*'Kostprijs en Verkoopprijs'!$G$66))","v":0},{"$f":"IF($G$66<1,0,IF($G$66>=1,((calculprv2!$G$110/calculprv2!$G$112/calculprv2!$G$108)+calculprv2!$G$114)*Reis!P46*'Kostprijs en Verkoopprijs'!$G$66))","v":0},{"$f":"IF($G$66<1,0,IF($G$66>=1,((calculprv2!$G$110/calculprv2!$G$112/calculprv2!$G$108)+calculprv2!$G$114)*Reis!Q46*'Kostprijs en Verkoopprijs'!$G$66))","v":0},{"$f":"IF($G$66<1,0,IF($G$66>=1,((calculprv2!$G$110/calculprv2!$G$112/calculprv2!$G$108)+calculprv2!$G$114)*Reis!R46*'Kostprijs en Verkoopprijs'!$G$66))","v":0},{"$f":"IF($G$66<1,0,IF($G$66>=1,((calculprv2!$G$110/calculprv2!$G$112/calculprv2!$G$108)+calculprv2!$G$114)*Reis!S46*'Kostprijs en Verkoopprijs'!$G$66))","v":0},{"$f":"IF($G$66<1,0,IF($G$66>=1,((calculprv2!$G$110/calculprv2!$G$112/calculprv2!$G$108)+calculprv2!$G$114)*Reis!T46*'Kostprijs en Verkoopprijs'!$G$66))","v":0},{"$f":"SUM(H66:V66)","v":0}]
[null,null,null,null,null,null,null,null,null,null,null,null,null,null,null,null,null,null,null,null,null,null,{"$f":"SUM(W64:W66)","v":0}]
[null,null,null,"Totale kostprijs",null,null,null,{"$f":"SUM(H56:H62,H48:H52,H63:H66,H54)","v":{"$error":"#VALUE!"}},{"$f":"SUM(I56:I62,I48:I52,I63:I66,I54)","v":{"$error":"#VALUE!"}},{"$error":"#VALUE!"},{"$error":"#VALUE!"},{"$error":"#VALUE!"},{"$error":"#VALUE!"},{"$error":"#VALUE!"},{"$error":"#VALUE!"},{"$error":"#VALUE!"},{"$error":"#VALUE!"},{"$error":"#VALUE!"},{"$error":"#VALUE!"},{"$error":"#VALUE!"},{"$error":"#VALUE!"},{"$error":"#VALUE!"},{"$f":"SUM(H68:V68)","v":{"$error":"#VALUE!"}}]
[null,null,null,"per kilometer1",null,null,null,{"$f":"IF(AND(Reis!F46>0,Reis!F510),\"\",IF(AND(Reis!F46>0,Reis!F51<>0),SUM(H56:H61)/Reis!F51,\"\"))","v":""},{"$f":"IF(AND(Reis!G46>0,Reis!G510),\"\",IF(AND(Reis!G46>0,Reis!G51<>0),SUM(I56:I61)/Reis!G51,\"\"))","v":""},{"$f":"IF(AND(Reis!H46>0,Reis!H510),\"\",IF(AND(Reis!H46>0,Reis!H51<>0),SUM(J56:J61)/Reis!H51,\"\"))","v":""},{"$f":"IF(AND(Reis!I46>0,Reis!I510),\"\",IF(AND(Reis!I46>0,Reis!I51<>0),SUM(K56:K61)/Reis!I51,\"\"))","v":""},{"$f":"IF(AND(Reis!J46>0,Reis!J510),\"\",IF(AND(Reis!J46>0,Reis!J51<>0),SUM(L56:L61)/Reis!J51,\"\"))","v":""},{"$f":"IF(AND(Reis!K46>0,Reis!K510),\"\",IF(AND(Reis!K46>0,Reis!K51<>0),SUM(M56:M61)/Reis!K51,\"\"))","v":""},{"$f":"IF(AND(Reis!L46>0,Reis!L510),\"\",IF(AND(Reis!L46>0,Reis!L51<>0),SUM(N56:N61)/Reis!L51,\"\"))","v":""},{"$f":"IF(AND(Reis!M46>0,Reis!M510),\"\",IF(AND(Reis!M46>0,Reis!M51<>0),SUM(O56:O61)/Reis!M51,\"\"))","v":""},{"$f":"IF(AND(Reis!N46>0,Reis!N510),\"\",IF(AND(Reis!N46>0,Reis!N51<>0),SUM(P56:P61)/Reis!N51,\"\"))","v":""},{"$f":"IF(AND(Reis!O46>0,Reis!O510),\"\",IF(AND(Reis!O46>0,Reis!O51<>0),SUM(Q56:Q61)/Reis!O51,\"\"))","v":""},{"$f":"IF(AND(Reis!P46>0,Reis!P510),\"\",IF(AND(Reis!P46>0,Reis!P51<>0),SUM(R56:R61)/Reis!P51,\"\"))","v":""},{"$f":"IF(AND(Reis!Q46>0,Reis!Q510),\"\",IF(AND(Reis!Q46>0,Reis!Q51<>0),SUM(S56:S61)/Reis!Q51,\"\"))","v":""},{"$f":"IF(AND(Reis!R46>0,Reis!R510),\"\",IF(AND(Reis!R46>0,Reis!R51<>0),SUM(T56:T61)/Reis!R51,\"\"))","v":""},{"$f":"IF(AND(Reis!S46>0,Reis!S510),\"\",IF(AND(Reis!S46>0,Reis!S51<>0),SUM(U56:U61)/Reis!S51,\"\"))","v":""},{"$f":"IF(AND(Reis!T46>0,Reis!T510),\"\",IF(AND(Reis!T46>0,Reis!T51<>0),SUM(V56:V61)/Reis!T51,\"\"))","v":""},{"$f":"IF(SUM(Reis!F51:T51)>0,SUM(W56:W61)/SUM(Reis!F51:T51),0)","v":0}]
[null,null,null,"per dag2",null,null,null,{"$f":"SUM(H48:H52,H54)","v":{"$error":"#VALUE!"}},{"$f":"SUM(I48:I52,I54)","v":{"$error":"#VALUE!"}},{"$error":"#VALUE!"},{"$error":"#VALUE!"},{"$error":"#VALUE!"},{"$error":"#VALUE!"},{"$error":"#VALUE!"},{"$error":"#VALUE!"},{"$error":"#VALUE!"},{"$error":"#VALUE!"},{"$error":"#VALUE!"},{"$error":"#VALUE!"},{"$error":"#VALUE!"},{"$error":"#VALUE!"},{"$error":"#VALUE!"},{"$f":"SUM(W48:W52,W54)","v":{"$error":"#VALUE!"}}]
[]
[null,null,null,"Marge bénéficiaire désirée",null,null,null,0.1]
[]
[null,null,null,"Totale verkoopprijs",null,null,null,{"$f":"H68*(1+$H$72)","v":{"$error":"#VALUE!"}},{"$f":"I68*(1+$H$72)","v":{"$error":"#VALUE!"}},{"$error":"#VALUE!"},{"$error":"#VALUE!"},{"$error":"#VALUE!"},{"$error":"#VALUE!"},{"$error":"#VALUE!"},{"$error":"#VALUE!"},{"$error":"#VALUE!"},{"$error":"#VALUE!"},{"$error":"#VALUE!"},{"$error":"#VALUE!"},{"$error":"#VALUE!"},{"$error":"#VALUE!"},{"$error":"#VALUE!"},{"$f":"W68*(1+$H$72)","v":{"$error":"#VALUE!"}}]
[null,null,null,"per kilometer1",null,null,null,{"$f":"IF(H69=\"\",\"\",H69*(1+$H$72))","v":""},{"$f":"IF(I69=\"\",\"\",I69*(1+$H$72))","v":""},"","","","","","","","","","","","","",{"$f":"W69*(1+$H$72)","v":0}]
[null,null,null,"per dag2",null,null,null,{"$f":"H70*(1+$H$72)","v":{"$error":"#VALUE!"}},{"$f":"I70*(1+$H$72)","v":{"$error":"#VALUE!"}},{"$error":"#VALUE!"},{"$error":"#VALUE!"},{"$error":"#VALUE!"},{"$error":"#VALUE!"},{"$error":"#VALUE!"},{"$error":"#VALUE!"},{"$error":"#VALUE!"},{"$error":"#VALUE!"},{"$error":"#VALUE!"},{"$error":"#VALUE!"},{"$error":"#VALUE!"},{"$error":"#VALUE!"},{"$error":"#VALUE!"},{"$f":"W70*(1+$H$72)","v":{"$error":"#VALUE!"}}]
[]
[null,null,"1 enkel rekening houdend met variabele kosten"]
[null,null,"2 enkel rekening houdend met vaste kost en loonkost"]
[]
[null,null,null,null,null,null,null,null,null,{"$f":"Bestemmingen!I12","v":0},null,{"$f":"Bestemmingen!S12","v":"vehicule1"},null,null,null,null,null,null,null,null,null,null,null,null,"J81&L81"]
[null,null,null,null,{"$f":"Bestemmingen!$Q$12","v":1}]
[null,null,null,null,7,null,null,null,null,null,null,null,null,null,null,null,null,null,null,null,null,null,{"$f":"J81&L81","v":"0vehicule1"}]
[null,null,null,null,null,null,null,"dag","dag","dag","dag","dag","dag","dag","dag","dag","dag","dag","dag","dag","dag","dag","Total"]
[null,null,null,null,null,null,null,1,2,3,4,5,6,7,8,9,10,11,12,13,14,15]
[]
[null,null,"VAST","Voertuig (economische afschr.)",null,null,null,{"$f":"(IF(calculprv3!$G$15=\"economisch\",(calculprv3!$G$11*(1-calculprv3!$G$13))/(calculprv3!$G$19*calculprv3!$G$23)*Reis!F99*Reis!F77))","v":false},{"$f":"(IF(calculprv3!$G$15=\"economisch\",(calculprv3!$G$11*(1-calculprv3!$G$13))/(calculprv3!$G$19*calculprv3!$G$23)*Reis!G99*Reis!G77))","v":false},{"$f":"(IF(calculprv3!$G$15=\"economisch\",(calculprv3!$G$11*(1-calculprv3!$G$13))/(calculprv3!$G$19*calculprv3!$G$23)*Reis!H99*Reis!H77))","v":false},{"$f":"(IF(calculprv3!$G$15=\"economisch\",(calculprv3!$G$11*(1-calculprv3!$G$13))/(calculprv3!$G$19*calculprv3!$G$23)*Reis!I99*Reis!I77))","v":false},{"$f":"(IF(calculprv3!$G$15=\"economisch\",(calculprv3!$G$11*(1-calculprv3!$G$13))/(calculprv3!$G$19*calculprv3!$G$23)*Reis!J99*Reis!J77))","v":false},{"$f":"(IF(calculprv3!$G$15=\"economisch\",(calculprv3!$G$11*(1-calculprv3!$G$13))/(calculprv3!$G$19*calculprv3!$G$23)*Reis!K99*Reis!K77))","v":false},{"$f":"(IF(calculprv3!$G$15=\"economisch\",(calculprv3!$G$11*(1-calculprv3!$G$13))/(calculprv3!$G$19*calculprv3!$G$23)*Reis!L99*Reis!L77))","v":false},{"$f":"(IF(calculprv3!$G$15=\"economisch\",(calculprv3!$G$11*(1-calculprv3!$G$13))/(calculprv3!$G$19*calculprv3!$G$23)*Reis!M99*Reis!M77))","v":false},{"$f":"(IF(calculprv3!$G$15=\"economisch\",(calculprv3!$G$11*(1-calculprv3!$G$13))/(calculprv3!$G$19*calculprv3!$G$23)*Reis!N99*Reis!N77))","v":false},{"$f":"(IF(calculprv3!$G$15=\"economisch\",(calculprv3!$G$11*(1-calculprv3!$G$13))/(calculprv3!$G$19*calculprv3!$G$23)*Reis!O99*Reis!O77))","v":false},{"$f":"(IF(calculprv3!$G$15=\"economisch\",(calculprv3!$G$11*(1-calculprv3!$G$13))/(calculprv3!$G$19*calculprv3!$G$23)*Reis!P99*Reis!P77))","v":false},{"$f":"(IF(calculprv3!$G$15=\"economisch\",(calculprv3!$G$11*(1-calculprv3!$G$13))/(calculprv3!$G$19*calculprv3!$G$23)*Reis!Q99*Reis!Q77))","v":false},{"$f":"(IF(calculprv3!$G$15=\"economisch\",(calculprv3!$G$11*(1-calculprv3!$G$13))/(calculprv3!$G$19*calculprv3!$G$23)*Reis!R99*Reis!R77))","v":false},{"$f":"(IF(calculprv3!$G$15=\"economisch\",(calculprv3!$G$11*(1-calculprv3!$G$13))/(calculprv3!$G$19*calculprv3!$G$23)*Reis!S99*Reis!S77))","v":false},{"$f":"(IF(calculprv3!$G$15=\"economisch\",(calculprv3!$G$11*(1-calculprv3!$G$13))/(calculprv3!$G$19*calculprv3!$G$23)*Reis!T99*Reis!T77))","v":false},{"$f":"SUM(H87:V87)","v":0}]
[null,null,null,"Financiering voertuig",null,null,null,{"$f":"(calculprv3!$G$11*(1-calculprv3!$G$13)/2+calculprv3!$G$11*calculprv3!$G$13)\n*(calculprv3!$G$27*(1-calculprv3!$G$29)+calculprv3!$G$31*calculprv3!$G$29)\n/calculprv3!$G$23\n*Reis!F99*Reis!F77","v":{"$error":"#DIV/0!"}},{"$f":"(calculprv3!$G$11*(1-calculprv3!$G$13)/2+calculprv3!$G$11*calculprv3!$G$13)\n*(calculprv3!$G$27*(1-calculprv3!$G$29)+calculprv3!$G$31*calculprv3!$G$29)\n/calculprv3!$G$23\n*Reis!G99*Reis!G77","v":{"$error":"#DIV/0!"}},{"$f":"(calculprv3!$G$11*(1-calculprv3!$G$13)/2+calculprv3!$G$11*calculprv3!$G$13)\n*(calculprv3!$G$27*(1-calculprv3!$G$29)+calculprv3!$G$31*calculprv3!$G$29)\n/calculprv3!$G$23\n*Reis!H99*Reis!H77","v":{"$error":"#DIV/0!"}},{"$f":"(calculprv3!$G$11*(1-calculprv3!$G$13)/2+calculprv3!$G$11*calculprv3!$G$13)\n*(calculprv3!$G$27*(1-calculprv3!$G$29)+calculprv3!$G$31*calculprv3!$G$29)\n/calculprv3!$G$23\n*Reis!I99*Reis!I77","v":{"$error":"#DIV/0!"}},{"$f":"(calculprv3!$G$11*(1-calculprv3!$G$13)/2+calculprv3!$G$11*calculprv3!$G$13)\n*(calculprv3!$G$27*(1-calculprv3!$G$29)+calculprv3!$G$31*calculprv3!$G$29)\n/calculprv3!$G$23\n*Reis!J99*Reis!J77","v":{"$error":"#DIV/0!"}},{"$f":"(calculprv3!$G$11*(1-calculprv3!$G$13)/2+calculprv3!$G$11*calculprv3!$G$13)\n*(calculprv3!$G$27*(1-calculprv3!$G$29)+calculprv3!$G$31*calculprv3!$G$29)\n/calculprv3!$G$23\n*Reis!K99*Reis!K77","v":{"$error":"#DIV/0!"}},{"$f":"(calculprv3!$G$11*(1-calculprv3!$G$13)/2+calculprv3!$G$11*calculprv3!$G$13)\n*(calculprv3!$G$27*(1-calculprv3!$G$29)+calculprv3!$G$31*calculprv3!$G$29)\n/calculprv3!$G$23\n*Reis!L99*Reis!L77","v":{"$error":"#DIV/0!"}},{"$f":"(calculprv3!$G$11*(1-calculprv3!$G$13)/2+calculprv3!$G$11*calculprv3!$G$13)\n*(calculprv3!$G$27*(1-calculprv3!$G$29)+calculprv3!$G$31*calculprv3!$G$29)\n/calculprv3!$G$23\n*Reis!M99*Reis!M77","v":{"$error":"#DIV/0!"}},{"$f":"(calculprv3!$G$11*(1-calculprv3!$G$13)/2+calculprv3!$G$11*calculprv3!$G$13)\n*(calculprv3!$G$27*(1-calculprv3!$G$29)+calculprv3!$G$31*calculprv3!$G$29)\n/calculprv3!$G$23\n*Reis!N99*Reis!N77","v":{"$error":"#DIV/0!"}},{"$f":"(calculprv3!$G$11*(1-calculprv3!$G$13)/2+calculprv3!$G$11*calculprv3!$G$13)\n*(calculprv3!$G$27*(1-calculprv3!$G$29)+calculprv3!$G$31*calculprv3!$G$29)\n/calculprv3!$G$23\n*Reis!O99*Reis!O77","v":{"$error":"#DIV/0!"}},{"$f":"(calculprv3!$G$11*(1-calculprv3!$G$13)/2+calculprv3!$G$11*calculprv3!$G$13)\n*(calculprv3!$G$27*(1-calculprv3!$G$29)+calculprv3!$G$31*calculprv3!$G$29)\n/calculprv3!$G$23\n*Reis!P99*Reis!P77","v":{"$error":"#DIV/0!"}},{"$f":"(calculprv3!$G$11*(1-calculprv3!$G$13)/2+calculprv3!$G$11*calculprv3!$G$13)\n*(calculprv3!$G$27*(1-calculprv3!$G$29)+calculprv3!$G$31*calculprv3!$G$29)\n/calculprv3!$G$23\n*Reis!Q99*Reis!Q77","v":{"$error":"#DIV/0!"}},{"$f":"(calculprv3!$G$11*(1-calculprv3!$G$13)/2+calculprv3!$G$11*calculprv3!$G$13)\n*(calculprv3!$G$27*(1-calculprv3!$G$29)+calculprv3!$G$31*calculprv3!$G$29)\n/calculprv3!$G$23\n*Reis!R99*Reis!R77","v":{"$error":"#DIV/0!"}},{"$f":"(calculprv3!$G$11*(1-calculprv3!$G$13)/2+calculprv3!$G$11*calculprv3!$G$13)\n*(calculprv3!$G$27*(1-calculprv3!$G$29)+calculprv3!$G$31*calculprv3!$G$29)\n/calculprv3!$G$23\n*Reis!S99*Reis!S77","v":{"$error":"#DIV/0!"}},{"$f":"(calculprv3!$G$11*(1-calculprv3!$G$13)/2+calculprv3!$G$11*calculprv3!$G$13)\n*(calculprv3!$G$27*(1-calculprv3!$G$29)+calculprv3!$G$31*calculprv3!$G$29)\n/calculprv3!$G$23\n*Reis!T99*Reis!T77","v":{"$error":"#DIV/0!"}},{"$f":"SUM(H88:V88)","v":{"$error":"#DIV/0!"}}]
[null,null,null,"Verzekeringen voertuig",null,null,null,{"$f":"calculprv3!$G$56/calculprv3!$G$23*Reis!F99*Reis!F77","v":{"$error":"#DIV/0!"}},{"$f":"calculprv3!$G$56/calculprv3!$G$23*Reis!G99*Reis!G77","v":{"$error":"#DIV/0!"}},{"$f":"calculprv3!$G$56/calculprv3!$G$23*Reis!H99*Reis!H77","v":{"$error":"#DIV/0!"}},{"$f":"calculprv3!$G$56/calculprv3!$G$23*Reis!I99*Reis!I77","v":{"$error":"#DIV/0!"}},{"$f":"calculprv3!$G$56/calculprv3!$G$23*Reis!J99*Reis!J77","v":{"$error":"#DIV/0!"}},{"$f":"calculprv3!$G$56/calculprv3!$G$23*Reis!K99*Reis!K77","v":{"$error":"#DIV/0!"}},{"$f":"calculprv3!$G$56/calculprv3!$G$23*Reis!L99*Reis!L77","v":{"$error":"#DIV/0!"}},{"$f":"calculprv3!$G$56/calculprv3!$G$23*Reis!M99*Reis!M77","v":{"$error":"#DIV/0!"}},{"$f":"calculprv3!$G$56/calculprv3!$G$23*Reis!N99*Reis!N77","v":{"$error":"#DIV/0!"}},{"$f":"calculprv3!$G$56/calculprv3!$G$23*Reis!O99*Reis!O77","v":{"$error":"#DIV/0!"}},{"$f":"calculprv3!$G$56/calculprv3!$G$23*Reis!P99*Reis!P77","v":{"$error":"#DIV/0!"}},{"$f":"calculprv3!$G$56/calculprv3!$G$23*Reis!Q99*Reis!Q77","v":{"$error":"#DIV/0!"}},{"$f":"calculprv3!$G$56/calculprv3!$G$23*Reis!R99*Reis!R77","v":{"$error":"#DIV/0!"}},{"$f":"calculprv3!$G$56/calculprv3!$G$23*Reis!S99*Reis!S77","v":{"$error":"#DIV/0!"}},{"$f":"calculprv3!$G$56/calculprv3!$G$23*Reis!T99*Reis!T77","v":{"$error":"#DIV/0!"}},{"$f":"SUM(H89:V89)","v":{"$error":"#DIV/0!"}}]
[null,null,null,"Andere vaste kosten voertuig",null,null,null,{"$f":"calculprv3!$G$61/calculprv3!$G$23*Reis!F99*Reis!F77","v":{"$error":"#DIV/0!"}},{"$f":"calculprv3!$G$61/calculprv3!$G$23*Reis!G99*Reis!G77","v":{"$error":"#DIV/0!"}},{"$f":"calculprv3!$G$61/calculprv3!$G$23*Reis!H99*Reis!H77","v":{"$error":"#DIV/0!"}},{"$f":"calculprv3!$G$61/calculprv3!$G$23*Reis!I99*Reis!I77","v":{"$error":"#DIV/0!"}},{"$f":"calculprv3!$G$61/calculprv3!$G$23*Reis!J99*Reis!J77","v":{"$error":"#DIV/0!"}},{"$f":"calculprv3!$G$61/calculprv3!$G$23*Reis!K99*Reis!K77","v":{"$error":"#DIV/0!"}},{"$f":"calculprv3!$G$61/calculprv3!$G$23*Reis!L99*Reis!L77","v":{"$error":"#DIV/0!"}},{"$f":"calculprv3!$G$61/calculprv3!$G$23*Reis!M99*Reis!M77","v":{"$error":"#DIV/0!"}},{"$f":"calculprv3!$G$61/calculprv3!$G$23*Reis!N99*Reis!N77","v":{"$error":"#DIV/0!"}},{"$f":"calculprv3!$G$61/calculprv3!$G$23*Reis!O99*Reis!O77","v":{"$error":"#DIV/0!"}},{"$f":"calculprv3!$G$61/calculprv3!$G$23*Reis!P99*Reis!P77","v":{"$error":"#DIV/0!"}},{"$f":"calculprv3!$G$61/calculprv3!$G$23*Reis!Q99*Reis!Q77","v":{"$error":"#DIV/0!"}},{"$f":"calculprv3!$G$61/calculprv3!$G$23*Reis!R99*Reis!R77","v":{"$error":"#DIV/0!"}},{"$f":"calculprv3!$G$61/calculprv3!$G$23*Reis!S99*Reis!S77","v":{"$error":"#DIV/0!"}},{"$f":"calculprv3!$G$61/calculprv3!$G$23*Reis!T99*Reis!T77","v":{"$error":"#DIV/0!"}},{"$f":"SUM(H90:V90)","v":{"$error":"#DIV/0!"}}]
[null,null,null,"Andere vaste kosten bedrijf",null,null,null,{"$f":"Bedrijf!$G$32/Bedrijf!$G$9/calculprv3!$G$23*Reis!F99*Reis!F77","v":{"$error":"#DIV/0!"}},{"$f":"Bedrijf!$G$32/Bedrijf!$G$9/calculprv3!$G$23*Reis!G99*Reis!G77","v":{"$error":"#DIV/0!"}},{"$f":"Bedrijf!$G$32/Bedrijf!$G$9/calculprv3!$G$23*Reis!H99*Reis!H77","v":{"$error":"#DIV/0!"}},{"$f":"Bedrijf!$G$32/Bedrijf!$G$9/calculprv3!$G$23*Reis!I99*Reis!I77","v":{"$error":"#DIV/0!"}},{"$f":"Bedrijf!$G$32/Bedrijf!$G$9/calculprv3!$G$23*Reis!J99*Reis!J77","v":{"$error":"#DIV/0!"}},{"$f":"Bedrijf!$G$32/Bedrijf!$G$9/calculprv3!$G$23*Reis!K99*Reis!K77","v":{"$error":"#DIV/0!"}},{"$f":"Bedrijf!$G$32/Bedrijf!$G$9/calculprv3!$G$23*Reis!L99*Reis!L77","v":{"$error":"#DIV/0!"}},{"$f":"Bedrijf!$G$32/Bedrijf!$G$9/calculprv3!$G$23*Reis!M99*Reis!M77","v":{"$error":"#DIV/0!"}},{"$f":"Bedrijf!$G$32/Bedrijf!$G$9/calculprv3!$G$23*Reis!N99*Reis!N77","v":{"$error":"#DIV/0!"}},{"$f":"Bedrijf!$G$32/Bedrijf!$G$9/calculprv3!$G$23*Reis!O99*Reis!O77","v":{"$error":"#DIV/0!"}},{"$f":"Bedrijf!$G$32/Bedrijf!$G$9/calculprv3!$G$23*Reis!P99*Reis!P77","v":{"$error":"#DIV/0!"}},{"$f":"Bedrijf!$G$32/Bedrijf!$G$9/calculprv3!$G$23*Reis!Q99*Reis!Q77","v":{"$error":"#DIV/0!"}},{"$f":"Bedrijf!$G$32/Bedrijf!$G$9/calculprv3!$G$23*Reis!R99*Reis!R77","v":{"$error":"#DIV/0!"}},{"$f":"Bedrijf!$G$32/Bedrijf!$G$9/calculprv3!$G$23*Reis!S99*Reis!S77","v":{"$error":"#DIV/0!"}},{"$f":"Bedrijf!$G$32/Bedrijf!$G$9/calculprv3!$G$23*Reis!T99*Reis!T77","v":{"$error":"#DIV/0!"}},{"$f":"SUM(H91:V91)","v":{"$error":"#DIV/0!"}}]
[]
[null,null,"LOONKOST CHAUFFEURS",null,null,null,null,{"$f":"Personneelskost!E86","v":{"$error":"#DIV/0!"}},{"$f":"Personneelskost!F86","v":0},{"$f":"Personneelskost!G86","v":0},{"$f":"Personneelskost!H86","v":0},{"$f":"Personneelskost!I86","v":0},{"$f":"Personneelskost!J86","v":0},{"$f":"Personneelskost!K86","v":0},{"$f":"Personneelskost!L86","v":0},{"$f":"Personneelskost!M86","v":0},{"$f":"Personneelskost!N86","v":0},{"$f":"Personneelskost!O86","v":0},{"$f":"Personneelskost!P86","v":0},{"$f":"Personneelskost!Q86","v":0},{"$f":"Personneelskost!R86","v":0},{"$f":"Personneelskost!S86","v":0},{"$f":"SUM(H93:V93)","v":{"$error":"#DIV/0!"}}]
[]
[null,null,"VARIABEL","Brandstof",null,null,null,{"$f":"((calculprv3!$G$35/100)*Bedrijf!$G$23*Reis!F82*(1-Reis!F90))+((calculprv3!$G$35/100)*Reis!F91*Reis!F82*Reis!F90)","v":0},{"$f":"((calculprv3!$G$35/100)*Bedrijf!$G$23*Reis!G82*(1-Reis!G90))+((calculprv3!$G$35/100)*Reis!G91*Reis!G82*Reis!G90)","v":0},{"$f":"((calculprv3!$G$35/100)*Bedrijf!$G$23*Reis!H82*(1-Reis!H90))+((calculprv3!$G$35/100)*Reis!H91*Reis!H82*Reis!H90)","v":0},{"$f":"((calculprv3!$G$35/100)*Bedrijf!$G$23*Reis!I82*(1-Reis!I90))+((calculprv3!$G$35/100)*Reis!I91*Reis!I82*Reis!I90)","v":0},{"$f":"((calculprv3!$G$35/100)*Bedrijf!$G$23*Reis!J82*(1-Reis!J90))+((calculprv3!$G$35/100)*Reis!J91*Reis!J82*Reis!J90)","v":0},{"$f":"((calculprv3!$G$35/100)*Bedrijf!$G$23*Reis!K82*(1-Reis!K90))+((calculprv3!$G$35/100)*Reis!K91*Reis!K82*Reis!K90)","v":0},{"$f":"((calculprv3!$G$35/100)*Bedrijf!$G$23*Reis!L82*(1-Reis!L90))+((calculprv3!$G$35/100)*Reis!L91*Reis!L82*Reis!L90)","v":0},{"$f":"((calculprv3!$G$35/100)*Bedrijf!$G$23*Reis!M82*(1-Reis!M90))+((calculprv3!$G$35/100)*Reis!M91*Reis!M82*Reis!M90)","v":0},{"$f":"((calculprv3!$G$35/100)*Bedrijf!$G$23*Reis!N82*(1-Reis!N90))+((calculprv3!$G$35/100)*Reis!N91*Reis!N82*Reis!N90)","v":0},{"$f":"((calculprv3!$G$35/100)*Bedrijf!$G$23*Reis!O82*(1-Reis!O90))+((calculprv3!$G$35/100)*Reis!O91*Reis!O82*Reis!O90)","v":0},{"$f":"((calculprv3!$G$35/100)*Bedrijf!$G$23*Reis!P82*(1-Reis!P90))+((calculprv3!$G$35/100)*Reis!P91*Reis!P82*Reis!P90)","v":0},{"$f":"((calculprv3!$G$35/100)*Bedrijf!$G$23*Reis!Q82*(1-Reis!Q90))+((calculprv3!$G$35/100)*Reis!Q91*Reis!Q82*Reis!Q90)","v":0},{"$f":"((calculprv3!$G$35/100)*Bedrijf!$G$23*Reis!R82*(1-Reis!R90))+((calculprv3!$G$35/100)*Reis!R91*Reis!R82*Reis!R90)","v":0},{"$f":"((calculprv3!$G$35/100)*Bedrijf!$G$23*Reis!S82*(1-Reis!S90))+((calculprv3!$G$35/100)*Reis!S91*Reis!S82*Reis!S90)","v":0},{"$f":"((calculprv3!$G$35/100)*Bedrijf!$G$23*Reis!T82*(1-Reis!T90))+((calculprv3!$G$35/100)*Reis!T91*Reis!T82*Reis!T90)","v":0},{"$f":"SUM(H95:V95)","v":0}]
[null,null,null,"Olie",null,null,null,{"$f":"((calculprv3!$G$37/100)*Bedrijf!$G$25*Reis!F82)","v":0},{"$f":"((calculprv3!$G$37/100)*Bedrijf!$G$25*Reis!G82)","v":0},{"$f":"((calculprv3!$G$37/100)*Bedrijf!$G$25*Reis!H82)","v":0},{"$f":"((calculprv3!$G$37/100)*Bedrijf!$G$25*Reis!I82)","v":0},{"$f":"((calculprv3!$G$37/100)*Bedrijf!$G$25*Reis!J82)","v":0},{"$f":"((calculprv3!$G$37/100)*Bedrijf!$G$25*Reis!K82)","v":0},{"$f":"((calculprv3!$G$37/100)*Bedrijf!$G$25*Reis!L82)","v":0},{"$f":"((calculprv3!$G$37/100)*Bedrijf!$G$25*Reis!M82)","v":0},{"$f":"((calculprv3!$G$37/100)*Bedrijf!$G$25*Reis!N82)","v":0},{"$f":"((calculprv3!$G$37/100)*Bedrijf!$G$25*Reis!O82)","v":0},{"$f":"((calculprv3!$G$37/100)*Bedrijf!$G$25*Reis!P82)","v":0},{"$f":"((calculprv3!$G$37/100)*Bedrijf!$G$25*Reis!Q82)","v":0},{"$f":"((calculprv3!$G$37/100)*Bedrijf!$G$25*Reis!R82)","v":0},{"$f":"((calculprv3!$G$37/100)*Bedrijf!$G$25*Reis!S82)","v":0},{"$f":"((calculprv3!$G$37/100)*Bedrijf!$G$25*Reis!T82)","v":0},0]
[null,null,null,"Adblue",null,null,null,{"$f":"(calculprv3!$G$39/100)*Bedrijf!$G$27*Reis!F82","v":0},{"$f":"(calculprv3!$G$39/100)*Bedrijf!$G$27*Reis!G82","v":0},{"$f":"(calculprv3!$G$39/100)*Bedrijf!$G$27*Reis!H82","v":0},{"$f":"(calculprv3!$G$39/100)*Bedrijf!$G$27*Reis!I82","v":0},{"$f":"(calculprv3!$G$39/100)*Bedrijf!$G$27*Reis!J82","v":0},{"$f":"(calculprv3!$G$39/100)*Bedrijf!$G$27*Reis!K82","v":0},{"$f":"(calculprv3!$G$39/100)*Bedrijf!$G$27*Reis!L82","v":0},{"$f":"(calculprv3!$G$39/100)*Bedrijf!$G$27*Reis!M82","v":0},{"$f":"(calculprv3!$G$39/100)*Bedrijf!$G$27*Reis!N82","v":0},{"$f":"(calculprv3!$G$39/100)*Bedrijf!$G$27*Reis!O82","v":0},{"$f":"(calculprv3!$G$39/100)*Bedrijf!$G$27*Reis!P82","v":0},{"$f":"(calculprv3!$G$39/100)*Bedrijf!$G$27*Reis!Q82","v":0},{"$f":"(calculprv3!$G$39/100)*Bedrijf!$G$27*Reis!R82","v":0},{"$f":"(calculprv3!$G$39/100)*Bedrijf!$G$27*Reis!S82","v":0},{"$f":"(calculprv3!$G$39/100)*Bedrijf!$G$27*Reis!T82","v":0},0]
[null,null,null,"Banden",null,null,null,{"$f":"((calculprv3!$G$51/calculprv3!$G$47)*calculprv3!$G$43*Reis!F82)+((calculprv3!$G$51/calculprv3!$G$49)*calculprv3!$G$45*Reis!F82)","v":{"$error":"#DIV/0!"}},{"$f":"((calculprv3!$G$51/calculprv3!$G$47)*calculprv3!$G$43*Reis!G82)+((calculprv3!$G$51/calculprv3!$G$49)*calculprv3!$G$45*Reis!G82)","v":{"$error":"#DIV/0!"}},{"$f":"((calculprv3!$G$51/calculprv3!$G$47)*calculprv3!$G$43*Reis!H82)+((calculprv3!$G$51/calculprv3!$G$49)*calculprv3!$G$45*Reis!H82)","v":{"$error":"#DIV/0!"}},{"$f":"((calculprv3!$G$51/calculprv3!$G$47)*calculprv3!$G$43*Reis!I82)+((calculprv3!$G$51/calculprv3!$G$49)*calculprv3!$G$45*Reis!I82)","v":{"$error":"#DIV/0!"}},{"$f":"((calculprv3!$G$51/calculprv3!$G$47)*calculprv3!$G$43*Reis!J82)+((calculprv3!$G$51/calculprv3!$G$49)*calculprv3!$G$45*Reis!J82)","v":{"$error":"#DIV/0!"}},{"$f":"((calculprv3!$G$51/calculprv3!$G$47)*calculprv3!$G$43*Reis!K82)+((calculprv3!$G$51/calculprv3!$G$49)*calculprv3!$G$45*Reis!K82)","v":{"$error":"#DIV/0!"}},{"$f":"((calculprv3!$G$51/calculprv3!$G$47)*calculprv3!$G$43*Reis!L82)+((calculprv3!$G$51/calculprv3!$G$49)*calculprv3!$G$45*Reis!L82)","v":{"$error":"#DIV/0!"}},{"$f":"((calculprv3!$G$51/calculprv3!$G$47)*calculprv3!$G$43*Reis!M82)+((calculprv3!$G$51/calculprv3!$G$49)*calculprv3!$G$45*Reis!M82)","v":{"$error":"#DIV/0!"}},{"$f":"((calculprv3!$G$51/calculprv3!$G$47)*calculprv3!$G$43*Reis!N82)+((calculprv3!$G$51/calculprv3!$G$49)*calculprv3!$G$45*Reis!N82)","v":{"$error":"#DIV/0!"}},{"$f":"((calculprv3!$G$51/calculprv3!$G$47)*calculprv3!$G$43*Reis!O82)+((calculprv3!$G$51/calculprv3!$G$49)*calculprv3!$G$45*Reis!O82)","v":{"$error":"#DIV/0!"}},{"$f":"((calculprv3!$G$51/calculprv3!$G$47)*calculprv3!$G$43*Reis!P82)+((calculprv3!$G$51/calculprv3!$G$49)*calculprv3!$G$45*Reis!P82)","v":{"$error":"#DIV/0!"}},{"$f":"((calculprv3!$G$51/calculprv3!$G$47)*calculprv3!$G$43*Reis!Q82)+((calculprv3!$G$51/calculprv3!$G$49)*calculprv3!$G$45*Reis!Q82)","v":{"$error":"#DIV/0!"}},{"$f":"((calculprv3!$G$51/calculprv3!$G$47)*calculprv3!$G$43*Reis!R82)+((calculprv3!$G$51/calculprv3!$G$49)*calculprv3!$G$45*Reis!R82)","v":{"$error":"#DIV/0!"}},{"$f":"((calculprv3!$G$51/calculprv3!$G$47)*calculprv3!$G$43*Reis!S82)+((calculprv3!$G$51/calculprv3!$G$49)*calculprv3!$G$45*Reis!S82)","v":{"$error":"#DIV/0!"}},{"$f":"((calculprv3!$G$51/calculprv3!$G$47)*calculprv3!$G$43*Reis!T82)+((calculprv3!$G$51/calculprv3!$G$49)*calculprv3!$G$45*Reis!T82)","v":{"$error":"#DIV/0!"}},{"$error":"#DIV/0!"}]
[null,null,null,"Onderhoud",null,null,null,{"$f":"(Bedrijf!$G$15+Bedrijf!$G$17+Bedrijf!$G$19)/Bedrijf!$G$11*Reis!F82","v":{"$error":"#DIV/0!"}},{"$f":"(Bedrijf!$G$15+Bedrijf!$G$17+Bedrijf!$G$19)/Bedrijf!$G$11*Reis!G82","v":{"$error":"#DIV/0!"}},{"$f":"(Bedrijf!$G$15+Bedrijf!$G$17+Bedrijf!$G$19)/Bedrijf!$G$11*Reis!H82","v":{"$error":"#DIV/0!"}},{"$f":"(Bedrijf!$G$15+Bedrijf!$G$17+Bedrijf!$G$19)/Bedrijf!$G$11*Reis!I82","v":{"$error":"#DIV/0!"}},{"$f":"(Bedrijf!$G$15+Bedrijf!$G$17+Bedrijf!$G$19)/Bedrijf!$G$11*Reis!J82","v":{"$error":"#DIV/0!"}},{"$f":"(Bedrijf!$G$15+Bedrijf!$G$17+Bedrijf!$G$19)/Bedrijf!$G$11*Reis!K82","v":{"$error":"#DIV/0!"}},{"$f":"(Bedrijf!$G$15+Bedrijf!$G$17+Bedrijf!$G$19)/Bedrijf!$G$11*Reis!L82","v":{"$error":"#DIV/0!"}},{"$f":"(Bedrijf!$G$15+Bedrijf!$G$17+Bedrijf!$G$19)/Bedrijf!$G$11*Reis!M82","v":{"$error":"#DIV/0!"}},{"$f":"(Bedrijf!$G$15+Bedrijf!$G$17+Bedrijf!$G$19)/Bedrijf!$G$11*Reis!N82","v":{"$error":"#DIV/0!"}},{"$f":"(Bedrijf!$G$15+Bedrijf!$G$17+Bedrijf!$G$19)/Bedrijf!$G$11*Reis!O82","v":{"$error":"#DIV/0!"}},{"$f":"(Bedrijf!$G$15+Bedrijf!$G$17+Bedrijf!$G$19)/Bedrijf!$G$11*Reis!P82","v":{"$error":"#DIV/0!"}},{"$f":"(Bedrijf!$G$15+Bedrijf!$G$17+Bedrijf!$G$19)/Bedrijf!$G$11*Reis!Q82","v":{"$error":"#DIV/0!"}},{"$f":"(Bedrijf!$G$15+Bedrijf!$G$17+Bedrijf!$G$19)/Bedrijf!$G$11*Reis!R82","v":{"$error":"#DIV/0!"}},{"$f":"(Bedrijf!$G$15+Bedrijf!$G$17+Bedrijf!$G$19)/Bedrijf!$G$11*Reis!S82","v":{"$error":"#DIV/0!"}},{"$f":"(Bedrijf!$G$15+Bedrijf!$G$17+Bedrijf!$G$19)/Bedrijf!$G$11*Reis!T82","v":{"$error":"#DIV/0!"}},{"$error":"#DIV/0!"}]
[null,null,null,"Voertuig (technische afschr.)",null,null,null,{"$f":"IF(calculprv3!$G$15=\"technisch\",((calculprv3!$G$11*(1-calculprv3!$G$13))/calculprv3!$G$21)*Reis!F82,0)","v":0},{"$f":"IF(calculprv3!$G$15=\"technisch\",((calculprv3!$G$11*(1-calculprv3!$G$13))/calculprv3!$G$21)*Reis!G82,0)","v":0},{"$f":"IF(calculprv3!$G$15=\"technisch\",((calculprv3!$G$11*(1-calculprv3!$G$13))/calculprv3!$G$21)*Reis!H82,0)","v":0},{"$f":"IF(calculprv3!$G$15=\"technisch\",((calculprv3!$G$11*(1-calculprv3!$G$13))/calculprv3!$G$21)*Reis!I82,0)","v":0},{"$f":"IF(calculprv3!$G$15=\"technisch\",((calculprv3!$G$11*(1-calculprv3!$G$13))/calculprv3!$G$21)*Reis!J82,0)","v":0},{"$f":"IF(calculprv3!$G$15=\"technisch\",((calculprv3!$G$11*(1-calculprv3!$G$13))/calculprv3!$G$21)*Reis!K82,0)","v":0},{"$f":"IF(calculprv3!$G$15=\"technisch\",((calculprv3!$G$11*(1-calculprv3!$G$13))/calculprv3!$G$21)*Reis!L82,0)","v":0},{"$f":"IF(calculprv3!$G$15=\"technisch\",((calculprv3!$G$11*(1-calculprv3!$G$13))/calculprv3!$G$21)*Reis!M82,0)","v":0},{"$f":"IF(calculprv3!$G$15=\"technisch\",((calculprv3!$G$11*(1-calculprv3!$G$13))/calculprv3!$G$21)*Reis!N82,0)","v":0},{"$f":"IF(calculprv3!$G$15=\"technisch\",((calculprv3!$G$11*(1-calculprv3!$G$13))/calculprv3!$G$21)*Reis!O82,0)","v":0},{"$f":"IF(calculprv3!$G$15=\"technisch\",((calculprv3!$G$11*(1-calculprv3!$G$13))/calculprv3!$G$21)*Reis!P82,0)","v":0},{"$f":"IF(calculprv3!$G$15=\"technisch\",((calculprv3!$G$11*(1-calculprv3!$G$13))/calculprv3!$G$21)*Reis!Q82,0)","v":0},{"$f":"IF(calculprv3!$G$15=\"technisch\",((calculprv3!$G$11*(1-calculprv3!$G$13))/calculprv3!$G$21)*Reis!R82,0)","v":0},{"$f":"IF(calculprv3!$G$15=\"technisch\",((calculprv3!$G$11*(1-calculprv3!$G$13))/calculprv3!$G$21)*Reis!S82,0)","v":0},{"$f":"IF(calculprv3!$G$15=\"technisch\",((calculprv3!$G$11*(1-calculprv3!$G$13))/calculprv3!$G$21)*Reis!T82,0)","v":0},0]
[]
[null,null,"SPECIFIEK","Specifieke ritkosten",null,null,null,{"$f":"Reis!F94","v":0},{"$f":"Reis!G94","v":0},{"$f":"Reis!H94","v":0},{"$f":"Reis!I94","v":0},{"$f":"Reis!J94","v":0},{"$f":"Reis!K94","v":0},{"$f":"Reis!L94","v":0},{"$f":"Reis!M94","v":0},{"$f":"Reis!N94","v":0},{"$f":"Reis!O94","v":0},{"$f":"Reis!P94","v":0},{"$f":"Reis!Q94","v":0},{"$f":"Reis!R94","v":0},{"$f":"Reis!S94","v":0},{"$f":"Reis!T94","v":0},{"$f":"SUM(H102:V102)","v":0}]
[null,null,null,"aanhangwagens",null,false,{"$f":"IF(F103=TRUE,1,0)","v":0},{"$f":"IF($G$103<1,0,IF($G$103>=1,((\n((calculprv3!$G$81/calculprv3!$G$83)\n+calculprv3!$G$85\n+calculprv3!$G$87\n+calculprv3!$G$89\n+calculprv3!$G$91)\n/calculprv3!$G$79)\n+((H95+H96+H97)*calculprv3!$G$94))\n*Reis!F77*$G$103))","v":0},{"$f":"IF($G$103<1,0,IF($G$103>=1,((\n((calculprv3!$G$81/calculprv3!$G$83)\n+calculprv3!$G$85\n+calculprv3!$G$87\n+calculprv3!$G$89\n+calculprv3!$G$91)\n/calculprv3!$G$79)\n+((I95+I96+I97)*calculprv3!$G$94))\n*Reis!G77*$G$103))","v":0},{"$f":"IF($G$103<1,0,IF($G$103>=1,((\n((calculprv3!$G$81/calculprv3!$G$83)\n+calculprv3!$G$85\n+calculprv3!$G$87\n+calculprv3!$G$89\n+calculprv3!$G$91)\n/calculprv3!$G$79)\n+((J95+J96+J97)*calculprv3!$G$94))\n*Reis!H77*$G$103))","v":0},{"$f":"IF($G$103<1,0,IF($G$103>=1,((\n((calculprv3!$G$81/calculprv3!$G$83)\n+calculprv3!$G$85\n+calculprv3!$G$87\n+calculprv3!$G$89\n+calculprv3!$G$91)\n/calculprv3!$G$79)\n+((K95+K96+K97)*calculprv3!$G$94))\n*Reis!I77*$G$103))","v":0},{"$f":"IF($G$103<1,0,IF($G$103>=1,((\n((calculprv3!$G$81/calculprv3!$G$83)\n+calculprv3!$G$85\n+calculprv3!$G$87\n+calculprv3!$G$89\n+calculprv3!$G$91)\n/calculprv3!$G$79)\n+((L95+L96+L97)*calculprv3!$G$94))\n*Reis!J77*$G$103))","v":0},{"$f":"IF($G$103<1,0,IF($G$103>=1,((\n((calculprv3!$G$81/calculprv3!$G$83)\n+calculprv3!$G$85\n+calculprv3!$G$87\n+calculprv3!$G$89\n+calculprv3!$G$91)\n/calculprv3!$G$79)\n+((M95+M96+M97)*calculprv3!$G$94))\n*Reis!K77*$G$103))","v":0},{"$f":"IF($G$103<1,0,IF($G$103>=1,((\n((calculprv3!$G$81/calculprv3!$G$83)\n+calculprv3!$G$85\n+calculprv3!$G$87\n+calculprv3!$G$89\n+calculprv3!$G$91)\n/calculprv3!$G$79)\n+((N95+N96+N97)*calculprv3!$G$94))\n*Reis!L77*$G$103))","v":0},{"$f":"IF($G$103<1,0,IF($G$103>=1,((\n((calculprv3!$G$81/calculprv3!$G$83)\n+calculprv3!$G$85\n+calculprv3!$G$87\n+calculprv3!$G$89\n+calculprv3!$G$91)\n/calculprv3!$G$79)\n+((O95+O96+O97)*calculprv3!$G$94))\n*Reis!M77*$G$103))","v":0},{"$f":"IF($G$103<1,0,IF($G$103>=1,((\n((calculprv3!$G$81/calculprv3!$G$83)\n+calculprv3!$G$85\n+calculprv3!$G$87\n+calculprv3!$G$89\n+calculprv3!$G$91)\n/calculprv3!$G$79)\n+((P95+P96+P97)*calculprv3!$G$94))\n*Reis!N77*$G$103))","v":0},{"$f":"IF($G$103<1,0,IF($G$103>=1,((\n((calculprv3!$G$81/calculprv3!$G$83)\n+calculprv3!$G$85\n+calculprv3!$G$87\n+calculprv3!$G$89\n+calculprv3!$G$91)\n/calculprv3!$G$79)\n+((Q95+Q96+Q97)*calculprv3!$G$94))\n*Reis!O77*$G$103))","v":0},{"$f":"IF($G$103<1,0,IF($G$103>=1,((\n((calculprv3!$G$81/calculprv3!$G$83)\n+calculprv3!$G$85\n+calculprv3!$G$87\n+calculprv3!$G$89\n+calculprv3!$G$91)\n/calculprv3!$G$79)\n+((R95+R96+R97)*calculprv3!$G$94))\n*Reis!P77*$G$103))","v":0},{"$f":"IF($G$103<1,0,IF($G$103>=1,((\n((calculprv3!$G$81/calculprv3!$G$83)\n+calculprv3!$G$85\n+calculprv3!$G$87\n+calculprv3!$G$89\n+calculprv3!$G$91)\n/calculprv3!$G$79)\n+((S95+S96+S97)*calculprv3!$G$94))\n*Reis!Q77*$G$103))","v":0},{"$f":"IF($G$103<1,0,IF($G$103>=1,((\n((calculprv3!$G$81/calculprv3!$G$83)\n+calculprv3!$G$85\n+calculprv3!$G$87\n+calculprv3!$G$89\n+calculprv3!$G$91)\n/calculprv3!$G$79)\n+((T95+T96+T97)*calculprv3!$G$94))\n*Reis!R77*$G$103))","v":0},{"$f":"IF($G$103<1,0,IF($G$103>=1,((\n((calculprv3!$G$81/calculprv3!$G$83)\n+calculprv3!$G$85\n+calculprv3!$G$87\n+calculprv3!$G$89\n+calculprv3!$G$91)\n/calculprv3!$G$79)\n+((U95+U96+U97)*calculprv3!$G$94))\n*Reis!S77*$G$103))","v":0},{"$f":"IF($G$103<1,0,IF($G$103>=1,((\n((calculprv3!$G$81/calculprv3!$G$83)\n+calculprv3!$G$85\n+calculprv3!$G$87\n+calculprv3!$G$89\n+calculprv3!$G$91)\n/calculprv3!$G$79)\n+((V95+V96+V97)*calculprv3!$G$94))\n*Reis!T77*$G$103))","v":0},{"$f":"SUM(H103:V103)","v":0}]
[null,null,null,"skiboxen",null,false,{"$f":"IF(F104=TRUE,1,0)","v":0},{"$f":"IF($G$104<1,0,IF($G$104>=1,((calculprv3!$G$99/calculprv3!$G$101/calculprv3!$G$97)+calculprv3!$G$103)*Reis!F77*'Kostprijs en Verkoopprijs'!$G$104))","v":0},{"$f":"IF($G$104<1,0,IF($G$104>=1,((calculprv3!$G$99/calculprv3!$G$101/calculprv3!$G$97)+calculprv3!$G$103)*Reis!G77*'Kostprijs en Verkoopprijs'!$G$104))","v":0},{"$f":"IF($G$104<1,0,IF($G$104>=1,((calculprv3!$G$99/calculprv3!$G$101/calculprv3!$G$97)+calculprv3!$G$103)*Reis!H77*'Kostprijs en Verkoopprijs'!$G$104))","v":0},{"$f":"IF($G$104<1,0,IF($G$104>=1,((calculprv3!$G$99/calculprv3!$G$101/calculprv3!$G$97)+calculprv3!$G$103)*Reis!I77*'Kostprijs en Verkoopprijs'!$G$104))","v":0},{"$f":"IF($G$104<1,0,IF($G$104>=1,((calculprv3!$G$99/calculprv3!$G$101/calculprv3!$G$97)+calculprv3!$G$103)*Reis!J77*'Kostprijs en Verkoopprijs'!$G$104))","v":0},{"$f":"IF($G$104<1,0,IF($G$104>=1,((calculprv3!$G$99/calculprv3!$G$101/calculprv3!$G$97)+calculprv3!$G$103)*Reis!K77*'Kostprijs en Verkoopprijs'!$G$104))","v":0},{"$f":"IF($G$104<1,0,IF($G$104>=1,((calculprv3!$G$99/calculprv3!$G$101/calculprv3!$G$97)+calculprv3!$G$103)*Reis!L77*'Kostprijs en Verkoopprijs'!$G$104))","v":0},{"$f":"IF($G$104<1,0,IF($G$104>=1,((calculprv3!$G$99/calculprv3!$G$101/calculprv3!$G$97)+calculprv3!$G$103)*Reis!M77*'Kostprijs en Verkoopprijs'!$G$104))","v":0},{"$f":"IF($G$104<1,0,IF($G$104>=1,((calculprv3!$G$99/calculprv3!$G$101/calculprv3!$G$97)+calculprv3!$G$103)*Reis!N77*'Kostprijs en Verkoopprijs'!$G$104))","v":0},{"$f":"IF($G$104<1,0,IF($G$104>=1,((calculprv3!$G$99/calculprv3!$G$101/calculprv3!$G$97)+calculprv3!$G$103)*Reis!O77*'Kostprijs en Verkoopprijs'!$G$104))","v":0},{"$f":"IF($G$104<1,0,IF($G$104>=1,((calculprv3!$G$99/calculprv3!$G$101/calculprv3!$G$97)+calculprv3!$G$103)*Reis!P77*'Kostprijs en Verkoopprijs'!$G$104))","v":0},{"$f":"IF($G$104<1,0,IF($G$104>=1,((calculprv3!$G$99/calculprv3!$G$101/calculprv3!$G$97)+calculprv3!$G$103)*Reis!Q77*'Kostprijs en Verkoopprijs'!$G$104))","v":0},{"$f":"IF($G$104<1,0,IF($G$104>=1,((calculprv3!$G$99/calculprv3!$G$101/calculprv3!$G$97)+calculprv3!$G$103)*Reis!R77*'Kostprijs en Verkoopprijs'!$G$104))","v":0},{"$f":"IF($G$104<1,0,IF($G$104>=1,((calculprv3!$G$99/calculprv3!$G$101/calculprv3!$G$97)+calculprv3!$G$103)*Reis!S77*'Kostprijs en Verkoopprijs'!$G$104))","v":0},{"$f":"IF($G$104<1,0,IF($G$104>=1,((calculprv3!$G$99/calculprv3!$G$101/calculprv3!$G$97)+calculprv3!$G$103)*Reis!T77*'Kostprijs en Verkoopprijs'!$G$104))","v":0},{"$f":"SUM(H104:V104)","v":0}]
[null,null,null,"Lift",null,false,{"$f":"IF(F105=TRUE,1,0)","v":0},{"$f":"IF($G$105<1,0,IF($G$105>=1,((calculprv3!$G$110/calculprv3!$G$112/calculprv3!$G$114)+calculprv3!$G$114)*Reis!F77*'Kostprijs en Verkoopprijs'!$G$105))","v":0},{"$f":"IF($G$105<1,0,IF($G$105>=1,((calculprv3!$G$110/calculprv3!$G$112/calculprv3!$G$114)+calculprv3!$G$114)*Reis!G77*'Kostprijs en Verkoopprijs'!$G$105))","v":0},{"$f":"IF($G$105<1,0,IF($G$105>=1,((calculprv3!$G$110/calculprv3!$G$112/calculprv3!$G$114)+calculprv3!$G$114)*Reis!H77*'Kostprijs en Verkoopprijs'!$G$105))","v":0},{"$f":"IF($G$105<1,0,IF($G$105>=1,((calculprv3!$G$110/calculprv3!$G$112/calculprv3!$G$114)+calculprv3!$G$114)*Reis!I77*'Kostprijs en Verkoopprijs'!$G$105))","v":0},{"$f":"IF($G$105<1,0,IF($G$105>=1,((calculprv3!$G$110/calculprv3!$G$112/calculprv3!$G$114)+calculprv3!$G$114)*Reis!J77*'Kostprijs en Verkoopprijs'!$G$105))","v":0},{"$f":"IF($G$105<1,0,IF($G$105>=1,((calculprv3!$G$110/calculprv3!$G$112/calculprv3!$G$114)+calculprv3!$G$114)*Reis!K77*'Kostprijs en Verkoopprijs'!$G$105))","v":0},{"$f":"IF($G$105<1,0,IF($G$105>=1,((calculprv3!$G$110/calculprv3!$G$112/calculprv3!$G$114)+calculprv3!$G$114)*Reis!L77*'Kostprijs en Verkoopprijs'!$G$105))","v":0},{"$f":"IF($G$105<1,0,IF($G$105>=1,((calculprv3!$G$110/calculprv3!$G$112/calculprv3!$G$114)+calculprv3!$G$114)*Reis!M77*'Kostprijs en Verkoopprijs'!$G$105))","v":0},{"$f":"IF($G$105<1,0,IF($G$105>=1,((calculprv3!$G$110/calculprv3!$G$112/calculprv3!$G$114)+calculprv3!$G$114)*Reis!N77*'Kostprijs en Verkoopprijs'!$G$105))","v":0},{"$f":"IF($G$105<1,0,IF($G$105>=1,((calculprv3!$G$110/calculprv3!$G$112/calculprv3!$G$114)+calculprv3!$G$114)*Reis!O77*'Kostprijs en Verkoopprijs'!$G$105))","v":0},{"$f":"IF($G$105<1,0,IF($G$105>=1,((calculprv3!$G$110/calculprv3!$G$112/calculprv3!$G$114)+calculprv3!$G$114)*Reis!P77*'Kostprijs en Verkoopprijs'!$G$105))","v":0},{"$f":"IF($G$105<1,0,IF($G$105>=1,((calculprv3!$G$110/calculprv3!$G$112/calculprv3!$G$114)+calculprv3!$G$114)*Reis!Q77*'Kostprijs en Verkoopprijs'!$G$105))","v":0},{"$f":"IF($G$105<1,0,IF($G$105>=1,((calculprv3!$G$110/calculprv3!$G$112/calculprv3!$G$114)+calculprv3!$G$114)*Reis!R77*'Kostprijs en Verkoopprijs'!$G$105))","v":0},{"$f":"IF($G$105<1,0,IF($G$105>=1,((calculprv3!$G$110/calculprv3!$G$112/calculprv3!$G$114)+calculprv3!$G$114)*Reis!S77*'Kostprijs en Verkoopprijs'!$G$105))","v":0},{"$f":"IF($G$105<1,0,IF($G$105>=1,((calculprv3!$G$110/calculprv3!$G$112/calculprv3!$G$114)+calculprv3!$G$114)*Reis!T77*'Kostprijs en Verkoopprijs'!$G$105))","v":0},{"$f":"SUM(H105:V105)","v":0}]
[null,null,null,null,null,null,null,null,null,null,null,null,null,null,null,null,null,null,null,null,null,null,{"$f":"SUM(W103:W105)","v":0}]
[null,null,null,"Totale kostprijs",null,null,null,{"$f":"SUM(H95:H101,H87:H91,H102:H105,H93)","v":{"$error":"#DIV/0!"}},{"$f":"SUM(I95:I101,I87:I91,I102:I105,I93)","v":{"$error":"#DIV/0!"}},{"$error":"#DIV/0!"},{"$error":"#DIV/0!"},{"$error":"#DIV/0!"},{"$error":"#DIV/0!"},{"$error":"#DIV/0!"},{"$error":"#DIV/0!"},{"$error":"#DIV/0!"},{"$error":"#DIV/0!"},{"$error":"#DIV/0!"},{"$error":"#DIV/0!"},{"$error":"#DIV/0!"},{"$error":"#DIV/0!"},{"$error":"#DIV/0!"},{"$f":"SUM(H107:V107)","v":{"$error":"#DIV/0!"}}]
[null,null,null,"per kilometer1",null,null,null,{"$f":"IF(AND(Reis!F77>0,Reis!F820),\"\",IF(AND(Reis!F77>0,Reis!F82<>0),SUM(H95:H100)/Reis!F82,\"\"))","v":""},{"$f":"IF(AND(Reis!G77>0,Reis!G820),\"\",IF(AND(Reis!G77>0,Reis!G82<>0),SUM(I95:I100)/Reis!G82,\"\"))","v":""},{"$f":"IF(AND(Reis!H77>0,Reis!H820),\"\",IF(AND(Reis!H77>0,Reis!H82<>0),SUM(J95:J100)/Reis!H82,\"\"))","v":""},{"$f":"IF(AND(Reis!I77>0,Reis!I820),\"\",IF(AND(Reis!I77>0,Reis!I82<>0),SUM(K95:K100)/Reis!I82,\"\"))","v":""},{"$f":"IF(AND(Reis!J77>0,Reis!J820),\"\",IF(AND(Reis!J77>0,Reis!J82<>0),SUM(L95:L100)/Reis!J82,\"\"))","v":""},{"$f":"IF(AND(Reis!K77>0,Reis!K820),\"\",IF(AND(Reis!K77>0,Reis!K82<>0),SUM(M95:M100)/Reis!K82,\"\"))","v":""},{"$f":"IF(AND(Reis!L77>0,Reis!L820),\"\",IF(AND(Reis!L77>0,Reis!L82<>0),SUM(N95:N100)/Reis!L82,\"\"))","v":""},{"$f":"IF(AND(Reis!M77>0,Reis!M820),\"\",IF(AND(Reis!M77>0,Reis!M82<>0),SUM(O95:O100)/Reis!M82,\"\"))","v":""},{"$f":"IF(AND(Reis!N77>0,Reis!N820),\"\",IF(AND(Reis!N77>0,Reis!N82<>0),SUM(P95:P100)/Reis!N82,\"\"))","v":""},{"$f":"IF(AND(Reis!O77>0,Reis!O820),\"\",IF(AND(Reis!O77>0,Reis!O82<>0),SUM(Q95:Q100)/Reis!O82,\"\"))","v":""},{"$f":"IF(AND(Reis!P77>0,Reis!P820),\"\",IF(AND(Reis!P77>0,Reis!P82<>0),SUM(R95:R100)/Reis!P82,\"\"))","v":""},{"$f":"IF(AND(Reis!Q77>0,Reis!Q820),\"\",IF(AND(Reis!Q77>0,Reis!Q82<>0),SUM(S95:S100)/Reis!Q82,\"\"))","v":""},{"$f":"IF(AND(Reis!R77>0,Reis!R820),\"\",IF(AND(Reis!R77>0,Reis!R82<>0),SUM(T95:T100)/Reis!R82,\"\"))","v":""},{"$f":"IF(AND(Reis!S77>0,Reis!S820),\"\",IF(AND(Reis!S77>0,Reis!S82<>0),SUM(U95:U100)/Reis!S82,\"\"))","v":""},{"$f":"IF(AND(Reis!T77>0,Reis!T820),\"\",IF(AND(Reis!T77>0,Reis!T82<>0),SUM(V95:V100)/Reis!T82,\"\"))","v":""},{"$f":"IF(SUM(Reis!F82:T82)>0,SUM(W95:W100)/SUM(Reis!F82:T82),0)","v":0}]
[null,null,null,"per dag2",null,null,null,{"$f":"SUM(H87:H91,H93)","v":{"$error":"#DIV/0!"}},{"$f":"SUM(I87:I91,I93)","v":{"$error":"#DIV/0!"}},{"$error":"#DIV/0!"},{"$error":"#DIV/0!"},{"$error":"#DIV/0!"},{"$error":"#DIV/0!"},{"$error":"#DIV/0!"},{"$error":"#DIV/0!"},{"$error":"#DIV/0!"},{"$error":"#DIV/0!"},{"$error":"#DIV/0!"},{"$error":"#DIV/0!"},{"$error":"#DIV/0!"},{"$error":"#DIV/0!"},{"$error":"#DIV/0!"},{"$f":"SUM(W87:W91,W93)","v":{"$error":"#DIV/0!"}}]
[]
[null,null,null,"Marge bénéficiaire désirée",null,null,null,0.1]
[]
[null,null,null,"Totale verkoopprijs",null,null,null,{"$f":"H107*(1+$H$111)","v":{"$error":"#DIV/0!"}},{"$f":"I107*(1+$H$111)","v":{"$error":"#DIV/0!"}},{"$error":"#DIV/0!"},{"$error":"#DIV/0!"},{"$error":"#DIV/0!"},{"$error":"#DIV/0!"},{"$error":"#DIV/0!"},{"$error":"#DIV/0!"},{"$error":"#DIV/0!"},{"$error":"#DIV/0!"},{"$error":"#DIV/0!"},{"$error":"#DIV/0!"},{"$error":"#DIV/0!"},{"$error":"#DIV/0!"},{"$error":"#DIV/0!"},{"$f":"W107*(1+$H$111)","v":{"$error":"#DIV/0!"}}]
[null,null,null,"per kilometer1",null,null,null,{"$f":"IF(H108=\"\",\"\",H108*(1+$H$111))","v":""},{"$f":"IF(I108=\"\",\"\",I108*(1+$H$111))","v":""},"","","","","","","","","","","","","",{"$f":"IF(W108=\"\",\"\",W108*(1+$H$111))","v":0}]
[null,null,null,"per dag2",null,null,null,{"$f":"H109*(1+$H$111)","v":{"$error":"#DIV/0!"}},{"$f":"I109*(1+$H$111)","v":{"$error":"#DIV/0!"}},{"$error":"#DIV/0!"},{"$error":"#DIV/0!"},{"$error":"#DIV/0!"},{"$error":"#DIV/0!"},{"$error":"#DIV/0!"},{"$error":"#DIV/0!"},{"$error":"#DIV/0!"},{"$error":"#DIV/0!"},{"$error":"#DIV/0!"},{"$error":"#DIV/0!"},{"$error":"#DIV/0!"},{"$error":"#DIV/0!"},{"$error":"#DIV/0!"},{"$f":"W109*(1+$H$111)","v":{"$error":"#DIV/0!"}}]
[]
[null,null,"1 enkel rekening houdend met variabele kosten"]
[null,null,"2 enkel rekening houdend met vaste kost en loonkost"]
[]
[null,null,null,null,null,null,null,null,null,{"$f":"Bestemmingen!I14","v":0},null,{"$f":"Bestemmingen!S14","v":"vehicule1"},null,null,null,null,null,null,null,null,null,null,null,null,"J120&L120"]
[null,null,null,null,{"$f":"Bestemmingen!$Q$14","v":1}]
[null,null,null,null,7,null,null,null,null,null,null,null,null,null,null,null,null,null,null,null,null,null,{"$f":"J120&L120","v":"0vehicule1"}]
[null,null,null,null,null,null,null,"dag","dag","dag","dag","dag","dag","dag","dag","dag","dag","dag","dag","dag","dag","dag","Total"]
[null,null,null,null,null,null,null,1,2,3,4,5,6,7,8,9,10,11,12,13,14,15]
[]
[null,null,"VAST","Voertuig (economische afschr.)",null,null,null,{"$f":"(IF(calculprv4!$G$15=\"economisch\",\n(calculprv4!$G$11*(1-calculprv4!$G$13))/(calculprv4!$G$19*calculprv4!$G$23)*Reis!F130*Reis!F108))","v":false},{"$f":"(IF(calculprv4!$G$15=\"economisch\",\n(calculprv4!$G$11*(1-calculprv4!$G$13))/(calculprv4!$G$19*calculprv4!$G$23)*Reis!G130*Reis!G108))","v":false},{"$f":"(IF(calculprv4!$G$15=\"economisch\",\n(calculprv4!$G$11*(1-calculprv4!$G$13))/(calculprv4!$G$19*calculprv4!$G$23)*Reis!H130*Reis!H108))","v":false},{"$f":"(IF(calculprv4!$G$15=\"economisch\",\n(calculprv4!$G$11*(1-calculprv4!$G$13))/(calculprv4!$G$19*calculprv4!$G$23)*Reis!I130*Reis!I108))","v":false},{"$f":"(IF(calculprv4!$G$15=\"economisch\",\n(calculprv4!$G$11*(1-calculprv4!$G$13))/(calculprv4!$G$19*calculprv4!$G$23)*Reis!J130*Reis!J108))","v":false},{"$f":"(IF(calculprv4!$G$15=\"economisch\",\n(calculprv4!$G$11*(1-calculprv4!$G$13))/(calculprv4!$G$19*calculprv4!$G$23)*Reis!K130*Reis!K108))","v":false},{"$f":"(IF(calculprv4!$G$15=\"economisch\",\n(calculprv4!$G$11*(1-calculprv4!$G$13))/(calculprv4!$G$19*calculprv4!$G$23)*Reis!L130*Reis!L108))","v":false},{"$f":"(IF(calculprv4!$G$15=\"economisch\",\n(calculprv4!$G$11*(1-calculprv4!$G$13))/(calculprv4!$G$19*calculprv4!$G$23)*Reis!M130*Reis!M108))","v":false},{"$f":"(IF(calculprv4!$G$15=\"economisch\",\n(calculprv4!$G$11*(1-calculprv4!$G$13))/(calculprv4!$G$19*calculprv4!$G$23)*Reis!N130*Reis!N108))","v":false},{"$f":"(IF(calculprv4!$G$15=\"economisch\",\n(calculprv4!$G$11*(1-calculprv4!$G$13))/(calculprv4!$G$19*calculprv4!$G$23)*Reis!O130*Reis!O108))","v":false},{"$f":"(IF(calculprv4!$G$15=\"economisch\",\n(calculprv4!$G$11*(1-calculprv4!$G$13))/(calculprv4!$G$19*calculprv4!$G$23)*Reis!P130*Reis!P108))","v":false},{"$f":"(IF(calculprv4!$G$15=\"economisch\",\n(calculprv4!$G$11*(1-calculprv4!$G$13))/(calculprv4!$G$19*calculprv4!$G$23)*Reis!Q130*Reis!Q108))","v":false},{"$f":"(IF(calculprv4!$G$15=\"economisch\",\n(calculprv4!$G$11*(1-calculprv4!$G$13))/(calculprv4!$G$19*calculprv4!$G$23)*Reis!R130*Reis!R108))","v":false},{"$f":"(IF(calculprv4!$G$15=\"economisch\",\n(calculprv4!$G$11*(1-calculprv4!$G$13))/(calculprv4!$G$19*calculprv4!$G$23)*Reis!S130*Reis!S108))","v":false},{"$f":"(IF(calculprv4!$G$15=\"economisch\",\n(calculprv4!$G$11*(1-calculprv4!$G$13))/(calculprv4!$G$19*calculprv4!$G$23)*Reis!T130*Reis!T108))","v":false},{"$f":"SUM(H126:V126)","v":0}]
[null,null,null,"Financiering voertuig",null,null,null,{"$f":"(calculprv4!$G$11*(1-calculprv4!$G$13)/2+calculprv4!$G$11*calculprv4!$G$13)\n*(calculprv4!$G$27*(1-calculprv4!$G$29)+calculprv4!$G$31*calculprv4!$G$29)\n/calculprv4!$G$23\n*Reis!F130*Reis!F108","v":{"$error":"#DIV/0!"}},{"$f":"(calculprv4!$G$11*(1-calculprv4!$G$13)/2+calculprv4!$G$11*calculprv4!$G$13)\n*(calculprv4!$G$27*(1-calculprv4!$G$29)+calculprv4!$G$31*calculprv4!$G$29)\n/calculprv4!$G$23\n*Reis!G130*Reis!G108","v":{"$error":"#DIV/0!"}},{"$f":"(calculprv4!$G$11*(1-calculprv4!$G$13)/2+calculprv4!$G$11*calculprv4!$G$13)\n*(calculprv4!$G$27*(1-calculprv4!$G$29)+calculprv4!$G$31*calculprv4!$G$29)\n/calculprv4!$G$23\n*Reis!H130*Reis!H108","v":{"$error":"#DIV/0!"}},{"$f":"(calculprv4!$G$11*(1-calculprv4!$G$13)/2+calculprv4!$G$11*calculprv4!$G$13)\n*(calculprv4!$G$27*(1-calculprv4!$G$29)+calculprv4!$G$31*calculprv4!$G$29)\n/calculprv4!$G$23\n*Reis!I130*Reis!I108","v":{"$error":"#DIV/0!"}},{"$f":"(calculprv4!$G$11*(1-calculprv4!$G$13)/2+calculprv4!$G$11*calculprv4!$G$13)\n*(calculprv4!$G$27*(1-calculprv4!$G$29)+calculprv4!$G$31*calculprv4!$G$29)\n/calculprv4!$G$23\n*Reis!J130*Reis!J108","v":{"$error":"#DIV/0!"}},{"$f":"(calculprv4!$G$11*(1-calculprv4!$G$13)/2+calculprv4!$G$11*calculprv4!$G$13)\n*(calculprv4!$G$27*(1-calculprv4!$G$29)+calculprv4!$G$31*calculprv4!$G$29)\n/calculprv4!$G$23\n*Reis!K130*Reis!K108","v":{"$error":"#DIV/0!"}},{"$f":"(calculprv4!$G$11*(1-calculprv4!$G$13)/2+calculprv4!$G$11*calculprv4!$G$13)\n*(calculprv4!$G$27*(1-calculprv4!$G$29)+calculprv4!$G$31*calculprv4!$G$29)\n/calculprv4!$G$23\n*Reis!L130*Reis!L108","v":{"$error":"#DIV/0!"}},{"$f":"(calculprv4!$G$11*(1-calculprv4!$G$13)/2+calculprv4!$G$11*calculprv4!$G$13)\n*(calculprv4!$G$27*(1-calculprv4!$G$29)+calculprv4!$G$31*calculprv4!$G$29)\n/calculprv4!$G$23\n*Reis!M130*Reis!M108","v":{"$error":"#DIV/0!"}},{"$f":"(calculprv4!$G$11*(1-calculprv4!$G$13)/2+calculprv4!$G$11*calculprv4!$G$13)\n*(calculprv4!$G$27*(1-calculprv4!$G$29)+calculprv4!$G$31*calculprv4!$G$29)\n/calculprv4!$G$23\n*Reis!N130*Reis!N108","v":{"$error":"#DIV/0!"}},{"$f":"(calculprv4!$G$11*(1-calculprv4!$G$13)/2+calculprv4!$G$11*calculprv4!$G$13)\n*(calculprv4!$G$27*(1-calculprv4!$G$29)+calculprv4!$G$31*calculprv4!$G$29)\n/calculprv4!$G$23\n*Reis!O130*Reis!O108","v":{"$error":"#DIV/0!"}},{"$f":"(calculprv4!$G$11*(1-calculprv4!$G$13)/2+calculprv4!$G$11*calculprv4!$G$13)\n*(calculprv4!$G$27*(1-calculprv4!$G$29)+calculprv4!$G$31*calculprv4!$G$29)\n/calculprv4!$G$23\n*Reis!P130*Reis!P108","v":{"$error":"#DIV/0!"}},{"$f":"(calculprv4!$G$11*(1-calculprv4!$G$13)/2+calculprv4!$G$11*calculprv4!$G$13)\n*(calculprv4!$G$27*(1-calculprv4!$G$29)+calculprv4!$G$31*calculprv4!$G$29)\n/calculprv4!$G$23\n*Reis!Q130*Reis!Q108","v":{"$error":"#DIV/0!"}},{"$f":"(calculprv4!$G$11*(1-calculprv4!$G$13)/2+calculprv4!$G$11*calculprv4!$G$13)\n*(calculprv4!$G$27*(1-calculprv4!$G$29)+calculprv4!$G$31*calculprv4!$G$29)\n/calculprv4!$G$23\n*Reis!R130*Reis!R108","v":{"$error":"#DIV/0!"}},{"$f":"(calculprv4!$G$11*(1-calculprv4!$G$13)/2+calculprv4!$G$11*calculprv4!$G$13)\n*(calculprv4!$G$27*(1-calculprv4!$G$29)+calculprv4!$G$31*calculprv4!$G$29)\n/calculprv4!$G$23\n*Reis!S130*Reis!S108","v":{"$error":"#DIV/0!"}},{"$f":"(calculprv4!$G$11*(1-calculprv4!$G$13)/2+calculprv4!$G$11*calculprv4!$G$13)\n*(calculprv4!$G$27*(1-calculprv4!$G$29)+calculprv4!$G$31*calculprv4!$G$29)\n/calculprv4!$G$23\n*Reis!T130*Reis!T108","v":{"$error":"#DIV/0!"}},{"$f":"SUM(H127:V127)","v":{"$error":"#DIV/0!"}}]
[null,null,null,"Verzekeringen voertuig",null,null,null,{"$f":"calculprv4!$G$56/calculprv4!$G$23*Reis!F130*Reis!F108","v":{"$error":"#DIV/0!"}},{"$f":"calculprv4!$G$56/calculprv4!$G$23*Reis!G130*Reis!G108","v":{"$error":"#DIV/0!"}},{"$f":"calculprv4!$G$56/calculprv4!$G$23*Reis!H130*Reis!H108","v":{"$error":"#DIV/0!"}},{"$f":"calculprv4!$G$56/calculprv4!$G$23*Reis!I130*Reis!I108","v":{"$error":"#DIV/0!"}},{"$f":"calculprv4!$G$56/calculprv4!$G$23*Reis!J130*Reis!J108","v":{"$error":"#DIV/0!"}},{"$f":"calculprv4!$G$56/calculprv4!$G$23*Reis!K130*Reis!K108","v":{"$error":"#DIV/0!"}},{"$f":"calculprv4!$G$56/calculprv4!$G$23*Reis!L130*Reis!L108","v":{"$error":"#DIV/0!"}},{"$f":"calculprv4!$G$56/calculprv4!$G$23*Reis!M130*Reis!M108","v":{"$error":"#DIV/0!"}},{"$f":"calculprv4!$G$56/calculprv4!$G$23*Reis!N130*Reis!N108","v":{"$error":"#DIV/0!"}},{"$f":"calculprv4!$G$56/calculprv4!$G$23*Reis!O130*Reis!O108","v":{"$error":"#DIV/0!"}},{"$f":"calculprv4!$G$56/calculprv4!$G$23*Reis!P130*Reis!P108","v":{"$error":"#DIV/0!"}},{"$f":"calculprv4!$G$56/calculprv4!$G$23*Reis!Q130*Reis!Q108","v":{"$error":"#DIV/0!"}},{"$f":"calculprv4!$G$56/calculprv4!$G$23*Reis!R130*Reis!R108","v":{"$error":"#DIV/0!"}},{"$f":"calculprv4!$G$56/calculprv4!$G$23*Reis!S130*Reis!S108","v":{"$error":"#DIV/0!"}},{"$f":"calculprv4!$G$56/calculprv4!$G$23*Reis!T130*Reis!T108","v":{"$error":"#DIV/0!"}},{"$f":"SUM(H128:V128)","v":{"$error":"#DIV/0!"}}]
[null,null,null,"Andere vaste kosten voertuig",null,null,null,{"$f":"calculprv4!$G$61/calculprv4!$G$23*Reis!F130*Reis!F108","v":{"$error":"#DIV/0!"}},{"$f":"calculprv4!$G$61/calculprv4!$G$23*Reis!G130*Reis!G108","v":{"$error":"#DIV/0!"}},{"$f":"calculprv4!$G$61/calculprv4!$G$23*Reis!H130*Reis!H108","v":{"$error":"#DIV/0!"}},{"$f":"calculprv4!$G$61/calculprv4!$G$23*Reis!I130*Reis!I108","v":{"$error":"#DIV/0!"}},{"$f":"calculprv4!$G$61/calculprv4!$G$23*Reis!J130*Reis!J108","v":{"$error":"#DIV/0!"}},{"$f":"calculprv4!$G$61/calculprv4!$G$23*Reis!K130*Reis!K108","v":{"$error":"#DIV/0!"}},{"$f":"calculprv4!$G$61/calculprv4!$G$23*Reis!L130*Reis!L108","v":{"$error":"#DIV/0!"}},{"$f":"calculprv4!$G$61/calculprv4!$G$23*Reis!M130*Reis!M108","v":{"$error":"#DIV/0!"}},{"$f":"calculprv4!$G$61/calculprv4!$G$23*Reis!N130*Reis!N108","v":{"$error":"#DIV/0!"}},{"$f":"calculprv4!$G$61/calculprv4!$G$23*Reis!O130*Reis!O108","v":{"$error":"#DIV/0!"}},{"$f":"calculprv4!$G$61/calculprv4!$G$23*Reis!P130*Reis!P108","v":{"$error":"#DIV/0!"}},{"$f":"calculprv4!$G$61/calculprv4!$G$23*Reis!Q130*Reis!Q108","v":{"$error":"#DIV/0!"}},{"$f":"calculprv4!$G$61/calculprv4!$G$23*Reis!R130*Reis!R108","v":{"$error":"#DIV/0!"}},{"$f":"calculprv4!$G$61/calculprv4!$G$23*Reis!S130*Reis!S108","v":{"$error":"#DIV/0!"}},{"$f":"calculprv4!$G$61/calculprv4!$G$23*Reis!T130*Reis!T108","v":{"$error":"#DIV/0!"}},{"$f":"SUM(H129:V129)","v":{"$error":"#DIV/0!"}}]
[null,null,null,"Andere vaste kosten bedrijf",null,null,null,{"$f":"Bedrijf!$G$32/Bedrijf!$G$9/calculprv4!$G$23*Reis!F130*Reis!F108","v":{"$error":"#DIV/0!"}},{"$f":"Bedrijf!$G$32/Bedrijf!$G$9/calculprv4!$G$23*Reis!G130*Reis!G108","v":{"$error":"#DIV/0!"}},{"$f":"Bedrijf!$G$32/Bedrijf!$G$9/calculprv4!$G$23*Reis!H130*Reis!H108","v":{"$error":"#DIV/0!"}},{"$f":"Bedrijf!$G$32/Bedrijf!$G$9/calculprv4!$G$23*Reis!I130*Reis!I108","v":{"$error":"#DIV/0!"}},{"$f":"Bedrijf!$G$32/Bedrijf!$G$9/calculprv4!$G$23*Reis!J130*Reis!J108","v":{"$error":"#DIV/0!"}},{"$f":"Bedrijf!$G$32/Bedrijf!$G$9/calculprv4!$G$23*Reis!K130*Reis!K108","v":{"$error":"#DIV/0!"}},{"$f":"Bedrijf!$G$32/Bedrijf!$G$9/calculprv4!$G$23*Reis!L130*Reis!L108","v":{"$error":"#DIV/0!"}},{"$f":"Bedrijf!$G$32/Bedrijf!$G$9/calculprv4!$G$23*Reis!M130*Reis!M108","v":{"$error":"#DIV/0!"}},{"$f":"Bedrijf!$G$32/Bedrijf!$G$9/calculprv4!$G$23*Reis!N130*Reis!N108","v":{"$error":"#DIV/0!"}},{"$f":"Bedrijf!$G$32/Bedrijf!$G$9/calculprv4!$G$23*Reis!O130*Reis!O108","v":{"$error":"#DIV/0!"}},{"$f":"Bedrijf!$G$32/Bedrijf!$G$9/calculprv4!$G$23*Reis!P130*Reis!P108","v":{"$error":"#DIV/0!"}},{"$f":"Bedrijf!$G$32/Bedrijf!$G$9/calculprv4!$G$23*Reis!Q130*Reis!Q108","v":{"$error":"#DIV/0!"}},{"$f":"Bedrijf!$G$32/Bedrijf!$G$9/calculprv4!$G$23*Reis!R130*Reis!R108","v":{"$error":"#DIV/0!"}},{"$f":"Bedrijf!$G$32/Bedrijf!$G$9/calculprv4!$G$23*Reis!S130*Reis!S108","v":{"$error":"#DIV/0!"}},{"$f":"Bedrijf!$G$32/Bedrijf!$G$9/calculprv4!$G$23*Reis!T130*Reis!T108","v":{"$error":"#DIV/0!"}},{"$f":"SUM(H130:V130)","v":{"$error":"#DIV/0!"}}]
[]
[null,null,"LOONKOST CHAUFFEURS",null,null,null,null,{"$f":"Personneelskost!E114","v":{"$error":"#DIV/0!"}},{"$f":"Personneelskost!F114","v":0},{"$f":"Personneelskost!G114","v":0},{"$f":"Personneelskost!H114","v":0},{"$f":"Personneelskost!I114","v":0},{"$f":"Personneelskost!J114","v":0},{"$f":"Personneelskost!K114","v":0},{"$f":"Personneelskost!L114","v":0},{"$f":"Personneelskost!M114","v":0},{"$f":"Personneelskost!N114","v":0},{"$f":"Personneelskost!O114","v":0},{"$f":"Personneelskost!P114","v":0},{"$f":"Personneelskost!Q114","v":0},{"$f":"Personneelskost!R114","v":0},{"$f":"Personneelskost!S114","v":0},{"$f":"SUM(H132:V132)","v":{"$error":"#DIV/0!"}}]
[]
[null,null,"VARIABEL","Brandstof",null,null,null,{"$f":"((calculprv4!$G$35/100)*Bedrijf!$G$23*Reis!F113*(1-Reis!F121))+((calculprv4!$G$35/100)*Reis!F122*Reis!F113*Reis!F121)","v":0},{"$f":"((calculprv4!$G$35/100)*Bedrijf!$G$23*Reis!G113*(1-Reis!G121))+((calculprv4!$G$35/100)*Reis!G122*Reis!G113*Reis!G121)","v":0},{"$f":"((calculprv4!$G$35/100)*Bedrijf!$G$23*Reis!H113*(1-Reis!H121))+((calculprv4!$G$35/100)*Reis!H122*Reis!H113*Reis!H121)","v":0},{"$f":"((calculprv4!$G$35/100)*Bedrijf!$G$23*Reis!I113*(1-Reis!I121))+((calculprv4!$G$35/100)*Reis!I122*Reis!I113*Reis!I121)","v":0},{"$f":"((calculprv4!$G$35/100)*Bedrijf!$G$23*Reis!J113*(1-Reis!J121))+((calculprv4!$G$35/100)*Reis!J122*Reis!J113*Reis!J121)","v":0},{"$f":"((calculprv4!$G$35/100)*Bedrijf!$G$23*Reis!K113*(1-Reis!K121))+((calculprv4!$G$35/100)*Reis!K122*Reis!K113*Reis!K121)","v":0},{"$f":"((calculprv4!$G$35/100)*Bedrijf!$G$23*Reis!L113*(1-Reis!L121))+((calculprv4!$G$35/100)*Reis!L122*Reis!L113*Reis!L121)","v":0},{"$f":"((calculprv4!$G$35/100)*Bedrijf!$G$23*Reis!M113*(1-Reis!M121))+((calculprv4!$G$35/100)*Reis!M122*Reis!M113*Reis!M121)","v":0},{"$f":"((calculprv4!$G$35/100)*Bedrijf!$G$23*Reis!N113*(1-Reis!N121))+((calculprv4!$G$35/100)*Reis!N122*Reis!N113*Reis!N121)","v":0},{"$f":"((calculprv4!$G$35/100)*Bedrijf!$G$23*Reis!O113*(1-Reis!O121))+((calculprv4!$G$35/100)*Reis!O122*Reis!O113*Reis!O121)","v":0},{"$f":"((calculprv4!$G$35/100)*Bedrijf!$G$23*Reis!P113*(1-Reis!P121))+((calculprv4!$G$35/100)*Reis!P122*Reis!P113*Reis!P121)","v":0},{"$f":"((calculprv4!$G$35/100)*Bedrijf!$G$23*Reis!Q113*(1-Reis!Q121))+((calculprv4!$G$35/100)*Reis!Q122*Reis!Q113*Reis!Q121)","v":0},{"$f":"((calculprv4!$G$35/100)*Bedrijf!$G$23*Reis!R113*(1-Reis!R121))+((calculprv4!$G$35/100)*Reis!R122*Reis!R113*Reis!R121)","v":0},{"$f":"((calculprv4!$G$35/100)*Bedrijf!$G$23*Reis!S113*(1-Reis!S121))+((calculprv4!$G$35/100)*Reis!S122*Reis!S113*Reis!S121)","v":0},{"$f":"((calculprv4!$G$35/100)*Bedrijf!$G$23*Reis!T113*(1-Reis!T121))+((calculprv4!$G$35/100)*Reis!T122*Reis!T113*Reis!T121)","v":0},{"$f":"SUM(H134:V134)","v":0}]
[null,null,null,"Olie",null,null,null,{"$f":"((calculprv4!$G$37/100)*Bedrijf!$G$25*Reis!F113)","v":0},{"$f":"((calculprv4!$G$37/100)*Bedrijf!$G$25*Reis!G113)","v":0},{"$f":"((calculprv4!$G$37/100)*Bedrijf!$G$25*Reis!H113)","v":0},{"$f":"((calculprv4!$G$37/100)*Bedrijf!$G$25*Reis!I113)","v":0},{"$f":"((calculprv4!$G$37/100)*Bedrijf!$G$25*Reis!J113)","v":0},{"$f":"((calculprv4!$G$37/100)*Bedrijf!$G$25*Reis!K113)","v":0},{"$f":"((calculprv4!$G$37/100)*Bedrijf!$G$25*Reis!L113)","v":0},{"$f":"((calculprv4!$G$37/100)*Bedrijf!$G$25*Reis!M113)","v":0},{"$f":"((calculprv4!$G$37/100)*Bedrijf!$G$25*Reis!N113)","v":0},{"$f":"((calculprv4!$G$37/100)*Bedrijf!$G$25*Reis!O113)","v":0},{"$f":"((calculprv4!$G$37/100)*Bedrijf!$G$25*Reis!P113)","v":0},{"$f":"((calculprv4!$G$37/100)*Bedrijf!$G$25*Reis!Q113)","v":0},{"$f":"((calculprv4!$G$37/100)*Bedrijf!$G$25*Reis!R113)","v":0},{"$f":"((calculprv4!$G$37/100)*Bedrijf!$G$25*Reis!S113)","v":0},{"$f":"((calculprv4!$G$37/100)*Bedrijf!$G$25*Reis!T113)","v":0},0]
[null,null,null,"Adblue",null,null,null,{"$f":"((calculprv4!$G$39/100)*Bedrijf!$G$27*Reis!F113)","v":0},{"$f":"((calculprv4!$G$39/100)*Bedrijf!$G$27*Reis!G113)","v":0},{"$f":"((calculprv4!$G$39/100)*Bedrijf!$G$27*Reis!H113)","v":0},{"$f":"((calculprv4!$G$39/100)*Bedrijf!$G$27*Reis!I113)","v":0},{"$f":"((calculprv4!$G$39/100)*Bedrijf!$G$27*Reis!J113)","v":0},{"$f":"((calculprv4!$G$39/100)*Bedrijf!$G$27*Reis!K113)","v":0},{"$f":"((calculprv4!$G$39/100)*Bedrijf!$G$27*Reis!L113)","v":0},{"$f":"((calculprv4!$G$39/100)*Bedrijf!$G$27*Reis!M113)","v":0},{"$f":"((calculprv4!$G$39/100)*Bedrijf!$G$27*Reis!N113)","v":0},{"$f":"((calculprv4!$G$39/100)*Bedrijf!$G$27*Reis!O113)","v":0},{"$f":"((calculprv4!$G$39/100)*Bedrijf!$G$27*Reis!P113)","v":0},{"$f":"((calculprv4!$G$39/100)*Bedrijf!$G$27*Reis!Q113)","v":0},{"$f":"((calculprv4!$G$39/100)*Bedrijf!$G$27*Reis!R113)","v":0},{"$f":"((calculprv4!$G$39/100)*Bedrijf!$G$27*Reis!S113)","v":0},{"$f":"((calculprv4!$G$39/100)*Bedrijf!$G$27*Reis!T113)","v":0},0]
[null,null,null,"Banden",null,null,null,{"$f":"((calculprv4!$G$51/calculprv4!$G$47)*calculprv4!$G$43*Reis!F113)+((calculprv4!$G$51/calculprv4!$G$49)*calculprv4!$G$45*Reis!F113)","v":{"$error":"#DIV/0!"}},{"$f":"((calculprv4!$G$51/calculprv4!$G$47)*calculprv4!$G$43*Reis!G113)+((calculprv4!$G$51/calculprv4!$G$49)*calculprv4!$G$45*Reis!G113)","v":{"$error":"#DIV/0!"}},{"$f":"((calculprv4!$G$51/calculprv4!$G$47)*calculprv4!$G$43*Reis!H113)+((calculprv4!$G$51/calculprv4!$G$49)*calculprv4!$G$45*Reis!H113)","v":{"$error":"#DIV/0!"}},{"$f":"((calculprv4!$G$51/calculprv4!$G$47)*calculprv4!$G$43*Reis!I113)+((calculprv4!$G$51/calculprv4!$G$49)*calculprv4!$G$45*Reis!I113)","v":{"$error":"#DIV/0!"}},{"$f":"((calculprv4!$G$51/calculprv4!$G$47)*calculprv4!$G$43*Reis!J113)+((calculprv4!$G$51/calculprv4!$G$49)*calculprv4!$G$45*Reis!J113)","v":{"$error":"#DIV/0!"}},{"$f":"((calculprv4!$G$51/calculprv4!$G$47)*calculprv4!$G$43*Reis!K113)+((calculprv4!$G$51/calculprv4!$G$49)*calculprv4!$G$45*Reis!K113)","v":{"$error":"#DIV/0!"}},{"$f":"((calculprv4!$G$51/calculprv4!$G$47)*calculprv4!$G$43*Reis!L113)+((calculprv4!$G$51/calculprv4!$G$49)*calculprv4!$G$45*Reis!L113)","v":{"$error":"#DIV/0!"}},{"$f":"((calculprv4!$G$51/calculprv4!$G$47)*calculprv4!$G$43*Reis!M113)+((calculprv4!$G$51/calculprv4!$G$49)*calculprv4!$G$45*Reis!M113)","v":{"$error":"#DIV/0!"}},{"$f":"((calculprv4!$G$51/calculprv4!$G$47)*calculprv4!$G$43*Reis!N113)+((calculprv4!$G$51/calculprv4!$G$49)*calculprv4!$G$45*Reis!N113)","v":{"$error":"#DIV/0!"}},{"$f":"((calculprv4!$G$51/calculprv4!$G$47)*calculprv4!$G$43*Reis!O113)+((calculprv4!$G$51/calculprv4!$G$49)*calculprv4!$G$45*Reis!O113)","v":{"$error":"#DIV/0!"}},{"$f":"((calculprv4!$G$51/calculprv4!$G$47)*calculprv4!$G$43*Reis!P113)+((calculprv4!$G$51/calculprv4!$G$49)*calculprv4!$G$45*Reis!P113)","v":{"$error":"#DIV/0!"}},{"$f":"((calculprv4!$G$51/calculprv4!$G$47)*calculprv4!$G$43*Reis!Q113)+((calculprv4!$G$51/calculprv4!$G$49)*calculprv4!$G$45*Reis!Q113)","v":{"$error":"#DIV/0!"}},{"$f":"((calculprv4!$G$51/calculprv4!$G$47)*calculprv4!$G$43*Reis!R113)+((calculprv4!$G$51/calculprv4!$G$49)*calculprv4!$G$45*Reis!R113)","v":{"$error":"#DIV/0!"}},{"$f":"((calculprv4!$G$51/calculprv4!$G$47)*calculprv4!$G$43*Reis!S113)+((calculprv4!$G$51/calculprv4!$G$49)*calculprv4!$G$45*Reis!S113)","v":{"$error":"#DIV/0!"}},{"$f":"((calculprv4!$G$51/calculprv4!$G$47)*calculprv4!$G$43*Reis!T113)+((calculprv4!$G$51/calculprv4!$G$49)*calculprv4!$G$45*Reis!T113)","v":{"$error":"#DIV/0!"}},{"$error":"#DIV/0!"}]
[null,null,null,"Onderhoud",null,null,null,{"$f":"(Bedrijf!$G$15+Bedrijf!$G$17+Bedrijf!$G$19)/Bedrijf!$G$11*Reis!F113","v":{"$error":"#DIV/0!"}},{"$f":"(Bedrijf!$G$15+Bedrijf!$G$17+Bedrijf!$G$19)/Bedrijf!$G$11*Reis!G113","v":{"$error":"#DIV/0!"}},{"$f":"(Bedrijf!$G$15+Bedrijf!$G$17+Bedrijf!$G$19)/Bedrijf!$G$11*Reis!H113","v":{"$error":"#DIV/0!"}},{"$f":"(Bedrijf!$G$15+Bedrijf!$G$17+Bedrijf!$G$19)/Bedrijf!$G$11*Reis!I113","v":{"$error":"#DIV/0!"}},{"$f":"(Bedrijf!$G$15+Bedrijf!$G$17+Bedrijf!$G$19)/Bedrijf!$G$11*Reis!J113","v":{"$error":"#DIV/0!"}},{"$f":"(Bedrijf!$G$15+Bedrijf!$G$17+Bedrijf!$G$19)/Bedrijf!$G$11*Reis!K113","v":{"$error":"#DIV/0!"}},{"$f":"(Bedrijf!$G$15+Bedrijf!$G$17+Bedrijf!$G$19)/Bedrijf!$G$11*Reis!L113","v":{"$error":"#DIV/0!"}},{"$f":"(Bedrijf!$G$15+Bedrijf!$G$17+Bedrijf!$G$19)/Bedrijf!$G$11*Reis!M113","v":{"$error":"#DIV/0!"}},{"$f":"(Bedrijf!$G$15+Bedrijf!$G$17+Bedrijf!$G$19)/Bedrijf!$G$11*Reis!N113","v":{"$error":"#DIV/0!"}},{"$f":"(Bedrijf!$G$15+Bedrijf!$G$17+Bedrijf!$G$19)/Bedrijf!$G$11*Reis!O113","v":{"$error":"#DIV/0!"}},{"$f":"(Bedrijf!$G$15+Bedrijf!$G$17+Bedrijf!$G$19)/Bedrijf!$G$11*Reis!P113","v":{"$error":"#DIV/0!"}},{"$f":"(Bedrijf!$G$15+Bedrijf!$G$17+Bedrijf!$G$19)/Bedrijf!$G$11*Reis!Q113","v":{"$error":"#DIV/0!"}},{"$f":"(Bedrijf!$G$15+Bedrijf!$G$17+Bedrijf!$G$19)/Bedrijf!$G$11*Reis!R113","v":{"$error":"#DIV/0!"}},{"$f":"(Bedrijf!$G$15+Bedrijf!$G$17+Bedrijf!$G$19)/Bedrijf!$G$11*Reis!S113","v":{"$error":"#DIV/0!"}},{"$f":"(Bedrijf!$G$15+Bedrijf!$G$17+Bedrijf!$G$19)/Bedrijf!$G$11*Reis!T113","v":{"$error":"#DIV/0!"}},{"$error":"#DIV/0!"}]
[null,null,null,"Voertuig (technische afschr.)",null,null,null,{"$f":"IF(calculprv4!$G$15=\"technisch\",((calculprv4!$G$11*(1-calculprv4!$G$13))/calculprv4!$G$21)*Reis!F113,)","v":0},{"$f":"IF(calculprv4!$G$15=\"technisch\",((calculprv4!$G$11*(1-calculprv4!$G$13))/calculprv4!$G$21)*Reis!G113,)","v":0},{"$f":"IF(calculprv4!$G$15=\"technisch\",((calculprv4!$G$11*(1-calculprv4!$G$13))/calculprv4!$G$21)*Reis!H113,)","v":0},{"$f":"IF(calculprv4!$G$15=\"technisch\",((calculprv4!$G$11*(1-calculprv4!$G$13))/calculprv4!$G$21)*Reis!I113,)","v":0},{"$f":"IF(calculprv4!$G$15=\"technisch\",((calculprv4!$G$11*(1-calculprv4!$G$13))/calculprv4!$G$21)*Reis!J113,)","v":0},{"$f":"IF(calculprv4!$G$15=\"technisch\",((calculprv4!$G$11*(1-calculprv4!$G$13))/calculprv4!$G$21)*Reis!K113,)","v":0},{"$f":"IF(calculprv4!$G$15=\"technisch\",((calculprv4!$G$11*(1-calculprv4!$G$13))/calculprv4!$G$21)*Reis!L113,)","v":0},{"$f":"IF(calculprv4!$G$15=\"technisch\",((calculprv4!$G$11*(1-calculprv4!$G$13))/calculprv4!$G$21)*Reis!M113,)","v":0},{"$f":"IF(calculprv4!$G$15=\"technisch\",((calculprv4!$G$11*(1-calculprv4!$G$13))/calculprv4!$G$21)*Reis!N113,)","v":0},{"$f":"IF(calculprv4!$G$15=\"technisch\",((calculprv4!$G$11*(1-calculprv4!$G$13))/calculprv4!$G$21)*Reis!O113,)","v":0},{"$f":"IF(calculprv4!$G$15=\"technisch\",((calculprv4!$G$11*(1-calculprv4!$G$13))/calculprv4!$G$21)*Reis!P113,)","v":0},{"$f":"IF(calculprv4!$G$15=\"technisch\",((calculprv4!$G$11*(1-calculprv4!$G$13))/calculprv4!$G$21)*Reis!Q113,)","v":0},{"$f":"IF(calculprv4!$G$15=\"technisch\",((calculprv4!$G$11*(1-calculprv4!$G$13))/calculprv4!$G$21)*Reis!R113,)","v":0},{"$f":"IF(calculprv4!$G$15=\"technisch\",((calculprv4!$G$11*(1-calculprv4!$G$13))/calculprv4!$G$21)*Reis!S113,)","v":0},{"$f":"IF(calculprv4!$G$15=\"technisch\",((calculprv4!$G$11*(1-calculprv4!$G$13))/calculprv4!$G$21)*Reis!T113,)","v":0},0]
[]
[null,null,"SPECIFIEK","Specifieke ritkosten",null,null,null,{"$f":"Reis!F125","v":0},{"$f":"Reis!G125","v":0},{"$f":"Reis!H125","v":0},{"$f":"Reis!I125","v":0},{"$f":"Reis!J125","v":0},{"$f":"Reis!K125","v":0},{"$f":"Reis!L125","v":0},{"$f":"Reis!M125","v":0},{"$f":"Reis!N125","v":0},{"$f":"Reis!O125","v":0},{"$f":"Reis!P125","v":0},{"$f":"Reis!Q125","v":0},{"$f":"Reis!R125","v":0},{"$f":"Reis!S125","v":0},{"$f":"Reis!T125","v":0},{"$f":"SUM(H141:V141)","v":0}]
[null,null,null,"            aanhangwagens",null,false,{"$f":"IF(F142=TRUE,1,0)","v":0},{"$f":"IF($G$142<1,0,IF($G$142>=1,((\n((calculprv4!$G$81/calculprv4!$G$83)\n+calculprv4!$G$85\n+calculprv4!$G$87\n+calculprv4!$G$89\n+calculprv4!$G$91)\n/calculprv4!$G$79)\n+((H134+H135+H136)*calculprv4!$G$94))\n*Reis!F108*$G$142))","v":0},{"$f":"IF($G$142<1,0,IF($G$142>=1,((\n((calculprv4!$G$81/calculprv4!$G$83)\n+calculprv4!$G$85\n+calculprv4!$G$87\n+calculprv4!$G$89\n+calculprv4!$G$91)\n/calculprv4!$G$79)\n+((I134+I135+I136)*calculprv4!$G$94))\n*Reis!G108*$G$142))","v":0},{"$f":"IF($G$142<1,0,IF($G$142>=1,((\n((calculprv4!$G$81/calculprv4!$G$83)\n+calculprv4!$G$85\n+calculprv4!$G$87\n+calculprv4!$G$89\n+calculprv4!$G$91)\n/calculprv4!$G$79)\n+((J134+J135+J136)*calculprv4!$G$94))\n*Reis!H108*$G$142))","v":0},{"$f":"IF($G$142<1,0,IF($G$142>=1,((\n((calculprv4!$G$81/calculprv4!$G$83)\n+calculprv4!$G$85\n+calculprv4!$G$87\n+calculprv4!$G$89\n+calculprv4!$G$91)\n/calculprv4!$G$79)\n+((K134+K135+K136)*calculprv4!$G$94))\n*Reis!I108*$G$142))","v":0},{"$f":"IF($G$142<1,0,IF($G$142>=1,((\n((calculprv4!$G$81/calculprv4!$G$83)\n+calculprv4!$G$85\n+calculprv4!$G$87\n+calculprv4!$G$89\n+calculprv4!$G$91)\n/calculprv4!$G$79)\n+((L134+L135+L136)*calculprv4!$G$94))\n*Reis!J108*$G$142))","v":0},{"$f":"IF($G$142<1,0,IF($G$142>=1,((\n((calculprv4!$G$81/calculprv4!$G$83)\n+calculprv4!$G$85\n+calculprv4!$G$87\n+calculprv4!$G$89\n+calculprv4!$G$91)\n/calculprv4!$G$79)\n+((M134+M135+M136)*calculprv4!$G$94))\n*Reis!K108*$G$142))","v":0},{"$f":"IF($G$142<1,0,IF($G$142>=1,((\n((calculprv4!$G$81/calculprv4!$G$83)\n+calculprv4!$G$85\n+calculprv4!$G$87\n+calculprv4!$G$89\n+calculprv4!$G$91)\n/calculprv4!$G$79)\n+((N134+N135+N136)*calculprv4!$G$94))\n*Reis!L108*$G$142))","v":0},{"$f":"IF($G$142<1,0,IF($G$142>=1,((\n((calculprv4!$G$81/calculprv4!$G$83)\n+calculprv4!$G$85\n+calculprv4!$G$87\n+calculprv4!$G$89\n+calculprv4!$G$91)\n/calculprv4!$G$79)\n+((O134+O135+O136)*calculprv4!$G$94))\n*Reis!M108*$G$142))","v":0},{"$f":"IF($G$142<1,0,IF($G$142>=1,((\n((calculprv4!$G$81/calculprv4!$G$83)\n+calculprv4!$G$85\n+calculprv4!$G$87\n+calculprv4!$G$89\n+calculprv4!$G$91)\n/calculprv4!$G$79)\n+((P134+P135+P136)*calculprv4!$G$94))\n*Reis!N108*$G$142))","v":0},{"$f":"IF($G$142<1,0,IF($G$142>=1,((\n((calculprv4!$G$81/calculprv4!$G$83)\n+calculprv4!$G$85\n+calculprv4!$G$87\n+calculprv4!$G$89\n+calculprv4!$G$91)\n/calculprv4!$G$79)\n+((Q134+Q135+Q136)*calculprv4!$G$94))\n*Reis!O108*$G$142))","v":0},{"$f":"IF($G$142<1,0,IF($G$142>=1,((\n((calculprv4!$G$81/calculprv4!$G$83)\n+calculprv4!$G$85\n+calculprv4!$G$87\n+calculprv4!$G$89\n+calculprv4!$G$91)\n/calculprv4!$G$79)\n+((R134+R135+R136)*calculprv4!$G$94))\n*Reis!P108*$G$142))","v":0},{"$f":"IF($G$142<1,0,IF($G$142>=1,((\n((calculprv4!$G$81/calculprv4!$G$83)\n+calculprv4!$G$85\n+calculprv4!$G$87\n+calculprv4!$G$89\n+calculprv4!$G$91)\n/calculprv4!$G$79)\n+((S134+S135+S136)*calculprv4!$G$94))\n*Reis!Q108*$G$142))","v":0},{"$f":"IF($G$142<1,0,IF($G$142>=1,((\n((calculprv4!$G$81/calculprv4!$G$83)\n+calculprv4!$G$85\n+calculprv4!$G$87\n+calculprv4!$G$89\n+calculprv4!$G$91)\n/calculprv4!$G$79)\n+((T134+T135+T136)*calculprv4!$G$94))\n*Reis!R108*$G$142))","v":0},{"$f":"IF($G$142<1,0,IF($G$142>=1,((\n((calculprv4!$G$81/calculprv4!$G$83)\n+calculprv4!$G$85\n+calculprv4!$G$87\n+calculprv4!$G$89\n+calculprv4!$G$91)\n/calculprv4!$G$79)\n+((U134+U135+U136)*calculprv4!$G$94))\n*Reis!S108*$G$142))","v":0},{"$f":"IF($G$142<1,0,IF($G$142>=1,((\n((calculprv4!$G$81/calculprv4!$G$83)\n+calculprv4!$G$85\n+calculprv4!$G$87\n+calculprv4!$G$89\n+calculprv4!$G$91)\n/calculprv4!$G$79)\n+((V134+V135+V136)*calculprv4!$G$94))\n*Reis!T108*$G$142))","v":0},{"$f":"SUM(H142:V142)","v":0}]
[null,null,null,"skiboxen",null,false,{"$f":"IF(F143=TRUE,1,0)","v":0},{"$f":"IF($G$143<1,0,IF($G$143>=1,((calculprv4!$G$99/calculprv4!$G$101/calculprv4!$G$97)+calculprv4!$G$103)*Reis!F108*'Kostprijs en Verkoopprijs'!$G$143))","v":0},{"$f":"IF($G$143<1,0,IF($G$143>=1,((calculprv4!$G$99/calculprv4!$G$101/calculprv4!$G$97)+calculprv4!$G$103)*Reis!G108*'Kostprijs en Verkoopprijs'!$G$143))","v":0},{"$f":"IF($G$143<1,0,IF($G$143>=1,((calculprv4!$G$99/calculprv4!$G$101/calculprv4!$G$97)+calculprv4!$G$103)*Reis!H108*'Kostprijs en Verkoopprijs'!$G$143))","v":0},{"$f":"IF($G$143<1,0,IF($G$143>=1,((calculprv4!$G$99/calculprv4!$G$101/calculprv4!$G$97)+calculprv4!$G$103)*Reis!I108*'Kostprijs en Verkoopprijs'!$G$143))","v":0},{"$f":"IF($G$143<1,0,IF($G$143>=1,((calculprv4!$G$99/calculprv4!$G$101/calculprv4!$G$97)+calculprv4!$G$103)*Reis!J108*'Kostprijs en Verkoopprijs'!$G$143))","v":0},{"$f":"IF($G$143<1,0,IF($G$143>=1,((calculprv4!$G$99/calculprv4!$G$101/calculprv4!$G$97)+calculprv4!$G$103)*Reis!K108*'Kostprijs en Verkoopprijs'!$G$143))","v":0},{"$f":"IF($G$143<1,0,IF($G$143>=1,((calculprv4!$G$99/calculprv4!$G$101/calculprv4!$G$97)+calculprv4!$G$103)*Reis!L108*'Kostprijs en Verkoopprijs'!$G$143))","v":0},{"$f":"IF($G$143<1,0,IF($G$143>=1,((calculprv4!$G$99/calculprv4!$G$101/calculprv4!$G$97)+calculprv4!$G$103)*Reis!M108*'Kostprijs en Verkoopprijs'!$G$143))","v":0},{"$f":"IF($G$143<1,0,IF($G$143>=1,((calculprv4!$G$99/calculprv4!$G$101/calculprv4!$G$97)+calculprv4!$G$103)*Reis!N108*'Kostprijs en Verkoopprijs'!$G$143))","v":0},{"$f":"IF($G$143<1,0,IF($G$143>=1,((calculprv4!$G$99/calculprv4!$G$101/calculprv4!$G$97)+calculprv4!$G$103)*Reis!O108*'Kostprijs en Verkoopprijs'!$G$143))","v":0},{"$f":"IF($G$143<1,0,IF($G$143>=1,((calculprv4!$G$99/calculprv4!$G$101/calculprv4!$G$97)+calculprv4!$G$103)*Reis!P108*'Kostprijs en Verkoopprijs'!$G$143))","v":0},{"$f":"IF($G$143<1,0,IF($G$143>=1,((calculprv4!$G$99/calculprv4!$G$101/calculprv4!$G$97)+calculprv4!$G$103)*Reis!Q108*'Kostprijs en Verkoopprijs'!$G$143))","v":0},{"$f":"IF($G$143<1,0,IF($G$143>=1,((calculprv4!$G$99/calculprv4!$G$101/calculprv4!$G$97)+calculprv4!$G$103)*Reis!R108*'Kostprijs en Verkoopprijs'!$G$143))","v":0},{"$f":"IF($G$143<1,0,IF($G$143>=1,((calculprv4!$G$99/calculprv4!$G$101/calculprv4!$G$97)+calculprv4!$G$103)*Reis!S108*'Kostprijs en Verkoopprijs'!$G$143))","v":0},{"$f":"IF($G$143<1,0,IF($G$143>=1,((calculprv4!$G$99/calculprv4!$G$101/calculprv4!$G$97)+calculprv4!$G$103)*Reis!T108*'Kostprijs en Verkoopprijs'!$G$143))","v":0},{"$f":"SUM(H143:V143)","v":0}]
[null,null,null,"Lift",null,false,{"$f":"IF(F144=TRUE,1,0)","v":0},{"$f":"IF($G$144<1,0,IF($G$144>=1,((calculprv4!$G$110/calculprv4!$G$112/calculprv4!$G$108)+calculprv4!$G$114)*Reis!F108*'Kostprijs en Verkoopprijs'!$G$144))","v":0},{"$f":"IF($G$144<1,0,IF($G$144>=1,((calculprv4!$G$110/calculprv4!$G$112/calculprv4!$G$108)+calculprv4!$G$114)*Reis!G108*'Kostprijs en Verkoopprijs'!$G$144))","v":0},{"$f":"IF($G$144<1,0,IF($G$144>=1,((calculprv4!$G$110/calculprv4!$G$112/calculprv4!$G$108)+calculprv4!$G$114)*Reis!H108*'Kostprijs en Verkoopprijs'!$G$144))","v":0},{"$f":"IF($G$144<1,0,IF($G$144>=1,((calculprv4!$G$110/calculprv4!$G$112/calculprv4!$G$108)+calculprv4!$G$114)*Reis!I108*'Kostprijs en Verkoopprijs'!$G$144))","v":0},{"$f":"IF($G$144<1,0,IF($G$144>=1,((calculprv4!$G$110/calculprv4!$G$112/calculprv4!$G$108)+calculprv4!$G$114)*Reis!J108*'Kostprijs en Verkoopprijs'!$G$144))","v":0},{"$f":"IF($G$144<1,0,IF($G$144>=1,((calculprv4!$G$110/calculprv4!$G$112/calculprv4!$G$108)+calculprv4!$G$114)*Reis!K108*'Kostprijs en Verkoopprijs'!$G$144))","v":0},{"$f":"IF($G$144<1,0,IF($G$144>=1,((calculprv4!$G$110/calculprv4!$G$112/calculprv4!$G$108)+calculprv4!$G$114)*Reis!L108*'Kostprijs en Verkoopprijs'!$G$144))","v":0},{"$f":"IF($G$144<1,0,IF($G$144>=1,((calculprv4!$G$110/calculprv4!$G$112/calculprv4!$G$108)+calculprv4!$G$114)*Reis!M108*'Kostprijs en Verkoopprijs'!$G$144))","v":0},{"$f":"IF($G$144<1,0,IF($G$144>=1,((calculprv4!$G$110/calculprv4!$G$112/calculprv4!$G$108)+calculprv4!$G$114)*Reis!N108*'Kostprijs en Verkoopprijs'!$G$144))","v":0},{"$f":"IF($G$144<1,0,IF($G$144>=1,((calculprv4!$G$110/calculprv4!$G$112/calculprv4!$G$108)+calculprv4!$G$114)*Reis!O108*'Kostprijs en Verkoopprijs'!$G$144))","v":0},{"$f":"IF($G$144<1,0,IF($G$144>=1,((calculprv4!$G$110/calculprv4!$G$112/calculprv4!$G$108)+calculprv4!$G$114)*Reis!P108*'Kostprijs en Verkoopprijs'!$G$144))","v":0},{"$f":"IF($G$144<1,0,IF($G$144>=1,((calculprv4!$G$110/calculprv4!$G$112/calculprv4!$G$108)+calculprv4!$G$114)*Reis!Q108*'Kostprijs en Verkoopprijs'!$G$144))","v":0},{"$f":"IF($G$144<1,0,IF($G$144>=1,((calculprv4!$G$110/calculprv4!$G$112/calculprv4!$G$108)+calculprv4!$G$114)*Reis!R108*'Kostprijs en Verkoopprijs'!$G$144))","v":0},{"$f":"IF($G$144<1,0,IF($G$144>=1,((calculprv4!$G$110/calculprv4!$G$112/calculprv4!$G$108)+calculprv4!$G$114)*Reis!S108*'Kostprijs en Verkoopprijs'!$G$144))","v":0},{"$f":"IF($G$144<1,0,IF($G$144>=1,((calculprv4!$G$110/calculprv4!$G$112/calculprv4!$G$108)+calculprv4!$G$114)*Reis!T108*'Kostprijs en Verkoopprijs'!$G$144))","v":0},{"$f":"SUM(H144:V144)","v":0}]
[null,null,null,null,null,null,null,null,null,null,null,null,null,null,null,null,null,null,null,null,null,null,{"$f":"SUM(W142:W144)","v":0}]
[null,null,null,"Totale kostprijs",null,null,null,{"$f":"SUM(H134:H140,H126:H130,H141:H144,H132)","v":{"$error":"#DIV/0!"}},{"$f":"SUM(I134:I140,I126:I130,I141:I144,I132)","v":{"$error":"#DIV/0!"}},{"$error":"#DIV/0!"},{"$error":"#DIV/0!"},{"$error":"#DIV/0!"},{"$error":"#DIV/0!"},{"$error":"#DIV/0!"},{"$error":"#DIV/0!"},{"$error":"#DIV/0!"},{"$error":"#DIV/0!"},{"$error":"#DIV/0!"},{"$error":"#DIV/0!"},{"$error":"#DIV/0!"},{"$error":"#DIV/0!"},{"$error":"#DIV/0!"},{"$f":"SUM(H146:V146)","v":{"$error":"#DIV/0!"}}]
[null,null,null,"per kilometer1",null,null,null,{"$f":"IF(AND(Reis!F108>0,Reis!F1130),\"\",IF(AND(Reis!F108>0,Reis!F113<>0),SUM(H134:H139)/Reis!F113,\"\"))","v":""},{"$f":"IF(AND(Reis!G108>0,Reis!G1130),\"\",IF(AND(Reis!G108>0,Reis!G113<>0),SUM(I134:I139)/Reis!G113,\"\"))","v":""},{"$f":"IF(AND(Reis!H108>0,Reis!H1130),\"\",IF(AND(Reis!H108>0,Reis!H113<>0),SUM(J134:J139)/Reis!H113,\"\"))","v":""},{"$f":"IF(AND(Reis!I108>0,Reis!I1130),\"\",IF(AND(Reis!I108>0,Reis!I113<>0),SUM(K134:K139)/Reis!I113,\"\"))","v":""},{"$f":"IF(AND(Reis!J108>0,Reis!J1130),\"\",IF(AND(Reis!J108>0,Reis!J113<>0),SUM(L134:L139)/Reis!J113,\"\"))","v":""},{"$f":"IF(AND(Reis!K108>0,Reis!K1130),\"\",IF(AND(Reis!K108>0,Reis!K113<>0),SUM(M134:M139)/Reis!K113,\"\"))","v":""},{"$f":"IF(AND(Reis!L108>0,Reis!L1130),\"\",IF(AND(Reis!L108>0,Reis!L113<>0),SUM(N134:N139)/Reis!L113,\"\"))","v":""},{"$f":"IF(AND(Reis!M108>0,Reis!M1130),\"\",IF(AND(Reis!M108>0,Reis!M113<>0),SUM(O134:O139)/Reis!M113,\"\"))","v":""},{"$f":"IF(AND(Reis!N108>0,Reis!N1130),\"\",IF(AND(Reis!N108>0,Reis!N113<>0),SUM(P134:P139)/Reis!N113,\"\"))","v":""},{"$f":"IF(AND(Reis!O108>0,Reis!O1130),\"\",IF(AND(Reis!O108>0,Reis!O113<>0),SUM(Q134:Q139)/Reis!O113,\"\"))","v":""},{"$f":"IF(AND(Reis!P108>0,Reis!P1130),\"\",IF(AND(Reis!P108>0,Reis!P113<>0),SUM(R134:R139)/Reis!P113,\"\"))","v":""},{"$f":"IF(AND(Reis!Q108>0,Reis!Q1130),\"\",IF(AND(Reis!Q108>0,Reis!Q113<>0),SUM(S134:S139)/Reis!Q113,\"\"))","v":""},{"$f":"IF(AND(Reis!R108>0,Reis!R1130),\"\",IF(AND(Reis!R108>0,Reis!R113<>0),SUM(T134:T139)/Reis!R113,\"\"))","v":""},{"$f":"IF(AND(Reis!S108>0,Reis!S1130),\"\",IF(AND(Reis!S108>0,Reis!S113<>0),SUM(U134:U139)/Reis!S113,\"\"))","v":""},{"$f":"IF(AND(Reis!T108>0,Reis!T1130),\"\",IF(AND(Reis!T108>0,Reis!T113<>0),SUM(V134:V139)/Reis!T113,\"\"))","v":""},{"$f":"IF(SUM(Reis!F113:T113)>0,SUM(W134:W139)/SUM(Reis!F113:T113),0)","v":0}]
[null,null,null,"per dag2",null,null,null,{"$f":"SUM(H126:H130,H132)","v":{"$error":"#DIV/0!"}},{"$f":"SUM(I126:I130,I132)","v":{"$error":"#DIV/0!"}},{"$error":"#DIV/0!"},{"$error":"#DIV/0!"},{"$error":"#DIV/0!"},{"$error":"#DIV/0!"},{"$error":"#DIV/0!"},{"$error":"#DIV/0!"},{"$error":"#DIV/0!"},{"$error":"#DIV/0!"},{"$error":"#DIV/0!"},{"$error":"#DIV/0!"},{"$error":"#DIV/0!"},{"$error":"#DIV/0!"},{"$error":"#DIV/0!"},{"$f":"SUM(W126:W130,W132)","v":{"$error":"#DIV/0!"}}]
[]
[null,null,null,"Marge bénéficiaire désirée",null,null,null,0.1]
[]
[null,null,null,"Totale verkoopprijs",null,null,null,{"$f":"H146*(1+$H$150)","v":{"$error":"#DIV/0!"}},{"$f":"I146*(1+$H$150)","v":{"$error":"#DIV/0!"}},{"$error":"#DIV/0!"},{"$error":"#DIV/0!"},{"$error":"#DIV/0!"},{"$error":"#DIV/0!"},{"$error":"#DIV/0!"},{"$error":"#DIV/0!"},{"$error":"#DIV/0!"},{"$error":"#DIV/0!"},{"$error":"#DIV/0!"},{"$error":"#DIV/0!"},{"$error":"#DIV/0!"},{"$error":"#DIV/0!"},{"$error":"#DIV/0!"},{"$f":"W146*(1+$H$150)","v":{"$error":"#DIV/0!"}}]
[null,null,null,"per kilometer1",null,null,null,{"$f":"IF(H147=\"\",\"\",H147*(1+$H$150))","v":""},{"$f":"IF(I147=\"\",\"\",I147*(1+$H$150))","v":""},"","","","","","","","","","","","","",{"$f":"IF(W147=\"\",\"\",W147*(1+$H$150))","v":0}]
[null,null,null,"per dag2",null,null,null,{"$f":"H148*(1+$H$150)","v":{"$error":"#DIV/0!"}},{"$f":"I148*(1+$H$150)","v":{"$error":"#DIV/0!"}},{"$error":"#DIV/0!"},{"$error":"#DIV/0!"},{"$error":"#DIV/0!"},{"$error":"#DIV/0!"},{"$error":"#DIV/0!"},{"$error":"#DIV/0!"},{"$error":"#DIV/0!"},{"$error":"#DIV/0!"},{"$error":"#DIV/0!"},{"$error":"#DIV/0!"},{"$error":"#DIV/0!"},{"$error":"#DIV/0!"},{"$error":"#DIV/0!"},{"$f":"W148*(1+$H$150)","v":{"$error":"#DIV/0!"}}]
[]
[null,null,"1 enkel rekening houdend met variabele kosten"]
[null,null,"2 enkel rekening houdend met vaste kost en loonkost"]
[]
[null,null,null,null,null,null,null,null,null,{"$f":"Bestemmingen!I16","v":0},null,{"$f":"Bestemmingen!S16","v":"vehicule1"},null,null,null,null,null,null,null,null,null,null,null,null,"J159&L159"]
[null,null,null,null,{"$f":"Bestemmingen!$Q$16","v":1}]
[null,null,null,null,7,null,null,null,null,null,null,null,null,null,null,null,null,null,null,null,null,null,{"$f":"J159&L159","v":"0vehicule1"}]
[null,null,null,null,null,null,null,"dag","dag","dag","dag","dag","dag","dag","dag","dag","dag","dag","dag","dag","dag","dag","Total"]
[null,null,null,null,null,null,null,1,2,3,4,5,6,7,8,9,10,11,12,13,14,15]
[]
[null,null,"VAST","Voertuig (economische afschr.)",null,null,null,{"$f":"IF(calculprv5!$G$15=\"economisch\",\n(calculprv5!$G$11*(1-calculprv5!$G$13))/(calculprv5!$G$19*calculprv5!$G$23)*Reis!F161*Reis!F139)","v":false},{"$f":"IF(calculprv5!$G$15=\"economisch\",\n(calculprv5!$G$11*(1-calculprv5!$G$13))/(calculprv5!$G$19*calculprv5!$G$23)*Reis!G161*Reis!G139)","v":false},{"$f":"IF(calculprv5!$G$15=\"economisch\",\n(calculprv5!$G$11*(1-calculprv5!$G$13))/(calculprv5!$G$19*calculprv5!$G$23)*Reis!H161*Reis!H139)","v":false},{"$f":"IF(calculprv5!$G$15=\"economisch\",\n(calculprv5!$G$11*(1-calculprv5!$G$13))/(calculprv5!$G$19*calculprv5!$G$23)*Reis!I161*Reis!I139)","v":false},{"$f":"IF(calculprv5!$G$15=\"economisch\",\n(calculprv5!$G$11*(1-calculprv5!$G$13))/(calculprv5!$G$19*calculprv5!$G$23)*Reis!J161*Reis!J139)","v":false},{"$f":"IF(calculprv5!$G$15=\"economisch\",\n(calculprv5!$G$11*(1-calculprv5!$G$13))/(calculprv5!$G$19*calculprv5!$G$23)*Reis!K161*Reis!K139)","v":false},{"$f":"IF(calculprv5!$G$15=\"economisch\",\n(calculprv5!$G$11*(1-calculprv5!$G$13))/(calculprv5!$G$19*calculprv5!$G$23)*Reis!L161*Reis!L139)","v":false},{"$f":"IF(calculprv5!$G$15=\"economisch\",\n(calculprv5!$G$11*(1-calculprv5!$G$13))/(calculprv5!$G$19*calculprv5!$G$23)*Reis!M161*Reis!M139)","v":false},{"$f":"IF(calculprv5!$G$15=\"economisch\",\n(calculprv5!$G$11*(1-calculprv5!$G$13))/(calculprv5!$G$19*calculprv5!$G$23)*Reis!N161*Reis!N139)","v":false},{"$f":"IF(calculprv5!$G$15=\"economisch\",\n(calculprv5!$G$11*(1-calculprv5!$G$13))/(calculprv5!$G$19*calculprv5!$G$23)*Reis!O161*Reis!O139)","v":false},{"$f":"IF(calculprv5!$G$15=\"economisch\",\n(calculprv5!$G$11*(1-calculprv5!$G$13))/(calculprv5!$G$19*calculprv5!$G$23)*Reis!P161*Reis!P139)","v":false},{"$f":"IF(calculprv5!$G$15=\"economisch\",\n(calculprv5!$G$11*(1-calculprv5!$G$13))/(calculprv5!$G$19*calculprv5!$G$23)*Reis!Q161*Reis!Q139)","v":false},{"$f":"IF(calculprv5!$G$15=\"economisch\",\n(calculprv5!$G$11*(1-calculprv5!$G$13))/(calculprv5!$G$19*calculprv5!$G$23)*Reis!R161*Reis!R139)","v":false},{"$f":"IF(calculprv5!$G$15=\"economisch\",\n(calculprv5!$G$11*(1-calculprv5!$G$13))/(calculprv5!$G$19*calculprv5!$G$23)*Reis!S161*Reis!S139)","v":false},{"$f":"IF(calculprv5!$G$15=\"economisch\",\n(calculprv5!$G$11*(1-calculprv5!$G$13))/(calculprv5!$G$19*calculprv5!$G$23)*Reis!T161*Reis!T139)","v":false},{"$f":"SUM(H165:V165)","v":0}]
[null,null,null,"Financiering voertuig",null,null,null,{"$f":"(calculprv5!$G$11*(1-calculprv5!$G$13)/2+calculprv5!$G$11*calculprv5!$G$13)\n*(calculprv5!$G$27*(1-calculprv5!$G$29)+calculprv5!$G$31*calculprv5!$G$29)\n/calculprv5!$G$23\n*Reis!F161*Reis!F139","v":{"$error":"#DIV/0!"}},{"$f":"(calculprv5!$G$11*(1-calculprv5!$G$13)/2+calculprv5!$G$11*calculprv5!$G$13)\n*(calculprv5!$G$27*(1-calculprv5!$G$29)+calculprv5!$G$31*calculprv5!$G$29)\n/calculprv5!$G$23\n*Reis!G161*Reis!G139","v":{"$error":"#DIV/0!"}},{"$f":"(calculprv5!$G$11*(1-calculprv5!$G$13)/2+calculprv5!$G$11*calculprv5!$G$13)\n*(calculprv5!$G$27*(1-calculprv5!$G$29)+calculprv5!$G$31*calculprv5!$G$29)\n/calculprv5!$G$23\n*Reis!H161*Reis!H139","v":{"$error":"#DIV/0!"}},{"$f":"(calculprv5!$G$11*(1-calculprv5!$G$13)/2+calculprv5!$G$11*calculprv5!$G$13)\n*(calculprv5!$G$27*(1-calculprv5!$G$29)+calculprv5!$G$31*calculprv5!$G$29)\n/calculprv5!$G$23\n*Reis!I161*Reis!I139","v":{"$error":"#DIV/0!"}},{"$f":"(calculprv5!$G$11*(1-calculprv5!$G$13)/2+calculprv5!$G$11*calculprv5!$G$13)\n*(calculprv5!$G$27*(1-calculprv5!$G$29)+calculprv5!$G$31*calculprv5!$G$29)\n/calculprv5!$G$23\n*Reis!J161*Reis!J139","v":{"$error":"#DIV/0!"}},{"$f":"(calculprv5!$G$11*(1-calculprv5!$G$13)/2+calculprv5!$G$11*calculprv5!$G$13)\n*(calculprv5!$G$27*(1-calculprv5!$G$29)+calculprv5!$G$31*calculprv5!$G$29)\n/calculprv5!$G$23\n*Reis!K161*Reis!K139","v":{"$error":"#DIV/0!"}},{"$f":"(calculprv5!$G$11*(1-calculprv5!$G$13)/2+calculprv5!$G$11*calculprv5!$G$13)\n*(calculprv5!$G$27*(1-calculprv5!$G$29)+calculprv5!$G$31*calculprv5!$G$29)\n/calculprv5!$G$23\n*Reis!L161*Reis!L139","v":{"$error":"#DIV/0!"}},{"$f":"(calculprv5!$G$11*(1-calculprv5!$G$13)/2+calculprv5!$G$11*calculprv5!$G$13)\n*(calculprv5!$G$27*(1-calculprv5!$G$29)+calculprv5!$G$31*calculprv5!$G$29)\n/calculprv5!$G$23\n*Reis!M161*Reis!M139","v":{"$error":"#DIV/0!"}},{"$f":"(calculprv5!$G$11*(1-calculprv5!$G$13)/2+calculprv5!$G$11*calculprv5!$G$13)\n*(calculprv5!$G$27*(1-calculprv5!$G$29)+calculprv5!$G$31*calculprv5!$G$29)\n/calculprv5!$G$23\n*Reis!N161*Reis!N139","v":{"$error":"#DIV/0!"}},{"$f":"(calculprv5!$G$11*(1-calculprv5!$G$13)/2+calculprv5!$G$11*calculprv5!$G$13)\n*(calculprv5!$G$27*(1-calculprv5!$G$29)+calculprv5!$G$31*calculprv5!$G$29)\n/calculprv5!$G$23\n*Reis!O161*Reis!O139","v":{"$error":"#DIV/0!"}},{"$f":"(calculprv5!$G$11*(1-calculprv5!$G$13)/2+calculprv5!$G$11*calculprv5!$G$13)\n*(calculprv5!$G$27*(1-calculprv5!$G$29)+calculprv5!$G$31*calculprv5!$G$29)\n/calculprv5!$G$23\n*Reis!P161*Reis!P139","v":{"$error":"#DIV/0!"}},{"$f":"(calculprv5!$G$11*(1-calculprv5!$G$13)/2+calculprv5!$G$11*calculprv5!$G$13)\n*(calculprv5!$G$27*(1-calculprv5!$G$29)+calculprv5!$G$31*calculprv5!$G$29)\n/calculprv5!$G$23\n*Reis!Q161*Reis!Q139","v":{"$error":"#DIV/0!"}},{"$f":"(calculprv5!$G$11*(1-calculprv5!$G$13)/2+calculprv5!$G$11*calculprv5!$G$13)\n*(calculprv5!$G$27*(1-calculprv5!$G$29)+calculprv5!$G$31*calculprv5!$G$29)\n/calculprv5!$G$23\n*Reis!R161*Reis!R139","v":{"$error":"#DIV/0!"}},{"$f":"(calculprv5!$G$11*(1-calculprv5!$G$13)/2+calculprv5!$G$11*calculprv5!$G$13)\n*(calculprv5!$G$27*(1-calculprv5!$G$29)+calculprv5!$G$31*calculprv5!$G$29)\n/calculprv5!$G$23\n*Reis!S161*Reis!S139","v":{"$error":"#DIV/0!"}},{"$f":"(calculprv5!$G$11*(1-calculprv5!$G$13)/2+calculprv5!$G$11*calculprv5!$G$13)\n*(calculprv5!$G$27*(1-calculprv5!$G$29)+calculprv5!$G$31*calculprv5!$G$29)\n/calculprv5!$G$23\n*Reis!T161*Reis!T139","v":{"$error":"#DIV/0!"}},{"$f":"SUM(H166:V166)","v":{"$error":"#DIV/0!"}}]
[null,null,null,"Verzekeringen voertuig",null,null,null,{"$f":"calculprv5!$G$56/calculprv5!$G$23*Reis!F161*Reis!F139","v":{"$error":"#DIV/0!"}},{"$f":"calculprv5!$G$56/calculprv5!$G$23*Reis!G161*Reis!G139","v":{"$error":"#DIV/0!"}},{"$f":"calculprv5!$G$56/calculprv5!$G$23*Reis!H161*Reis!H139","v":{"$error":"#DIV/0!"}},{"$f":"calculprv5!$G$56/calculprv5!$G$23*Reis!I161*Reis!I139","v":{"$error":"#DIV/0!"}},{"$f":"calculprv5!$G$56/calculprv5!$G$23*Reis!J161*Reis!J139","v":{"$error":"#DIV/0!"}},{"$f":"calculprv5!$G$56/calculprv5!$G$23*Reis!K161*Reis!K139","v":{"$error":"#DIV/0!"}},{"$f":"calculprv5!$G$56/calculprv5!$G$23*Reis!L161*Reis!L139","v":{"$error":"#DIV/0!"}},{"$f":"calculprv5!$G$56/calculprv5!$G$23*Reis!M161*Reis!M139","v":{"$error":"#DIV/0!"}},{"$f":"calculprv5!$G$56/calculprv5!$G$23*Reis!N161*Reis!N139","v":{"$error":"#DIV/0!"}},{"$f":"calculprv5!$G$56/calculprv5!$G$23*Reis!O161*Reis!O139","v":{"$error":"#DIV/0!"}},{"$f":"calculprv5!$G$56/calculprv5!$G$23*Reis!P161*Reis!P139","v":{"$error":"#DIV/0!"}},{"$f":"calculprv5!$G$56/calculprv5!$G$23*Reis!Q161*Reis!Q139","v":{"$error":"#DIV/0!"}},{"$f":"calculprv5!$G$56/calculprv5!$G$23*Reis!R161*Reis!R139","v":{"$error":"#DIV/0!"}},{"$f":"calculprv5!$G$56/calculprv5!$G$23*Reis!S161*Reis!S139","v":{"$error":"#DIV/0!"}},{"$f":"calculprv5!$G$56/calculprv5!$G$23*Reis!T161*Reis!T139","v":{"$error":"#DIV/0!"}},{"$f":"SUM(H167:V167)","v":{"$error":"#DIV/0!"}}]
[null,null,null,"Andere vaste kosten voertuig",null,null,null,{"$f":"calculprv5!$G$61/calculprv5!$G$23*Reis!F161*Reis!F139","v":{"$error":"#DIV/0!"}},{"$f":"calculprv5!$G$61/calculprv5!$G$23*Reis!G161*Reis!G139","v":{"$error":"#DIV/0!"}},{"$f":"calculprv5!$G$61/calculprv5!$G$23*Reis!H161*Reis!H139","v":{"$error":"#DIV/0!"}},{"$f":"calculprv5!$G$61/calculprv5!$G$23*Reis!I161*Reis!I139","v":{"$error":"#DIV/0!"}},{"$f":"calculprv5!$G$61/calculprv5!$G$23*Reis!J161*Reis!J139","v":{"$error":"#DIV/0!"}},{"$f":"calculprv5!$G$61/calculprv5!$G$23*Reis!K161*Reis!K139","v":{"$error":"#DIV/0!"}},{"$f":"calculprv5!$G$61/calculprv5!$G$23*Reis!L161*Reis!L139","v":{"$error":"#DIV/0!"}},{"$f":"calculprv5!$G$61/calculprv5!$G$23*Reis!M161*Reis!M139","v":{"$error":"#DIV/0!"}},{"$f":"calculprv5!$G$61/calculprv5!$G$23*Reis!N161*Reis!N139","v":{"$error":"#DIV/0!"}},{"$f":"calculprv5!$G$61/calculprv5!$G$23*Reis!O161*Reis!O139","v":{"$error":"#DIV/0!"}},{"$f":"calculprv5!$G$61/calculprv5!$G$23*Reis!P161*Reis!P139","v":{"$error":"#DIV/0!"}},{"$f":"calculprv5!$G$61/calculprv5!$G$23*Reis!Q161*Reis!Q139","v":{"$error":"#DIV/0!"}},{"$f":"calculprv5!$G$61/calculprv5!$G$23*Reis!R161*Reis!R139","v":{"$error":"#DIV/0!"}},{"$f":"calculprv5!$G$61/calculprv5!$G$23*Reis!S161*Reis!S139","v":{"$error":"#DIV/0!"}},{"$f":"calculprv5!$G$61/calculprv5!$G$23*Reis!T161*Reis!T139","v":{"$error":"#DIV/0!"}},{"$f":"SUM(H168:V168)","v":{"$error":"#DIV/0!"}}]
[null,null,null,"Andere vaste kosten bedrijf",null,null,null,{"$f":"Bedrijf!$G$32/Bedrijf!$G$9/calculprv5!$G$23*Reis!F161*Reis!F139","v":{"$error":"#DIV/0!"}},{"$f":"Bedrijf!$G$32/Bedrijf!$G$9/calculprv5!$G$23*Reis!G161*Reis!G139","v":{"$error":"#DIV/0!"}},{"$f":"Bedrijf!$G$32/Bedrijf!$G$9/calculprv5!$G$23*Reis!H161*Reis!H139","v":{"$error":"#DIV/0!"}},{"$f":"Bedrijf!$G$32/Bedrijf!$G$9/calculprv5!$G$23*Reis!I161*Reis!I139","v":{"$error":"#DIV/0!"}},{"$f":"Bedrijf!$G$32/Bedrijf!$G$9/calculprv5!$G$23*Reis!J161*Reis!J139","v":{"$error":"#DIV/0!"}},{"$f":"Bedrijf!$G$32/Bedrijf!$G$9/calculprv5!$G$23*Reis!K161*Reis!K139","v":{"$error":"#DIV/0!"}},{"$f":"Bedrijf!$G$32/Bedrijf!$G$9/calculprv5!$G$23*Reis!L161*Reis!L139","v":{"$error":"#DIV/0!"}},{"$f":"Bedrijf!$G$32/Bedrijf!$G$9/calculprv5!$G$23*Reis!M161*Reis!M139","v":{"$error":"#DIV/0!"}},{"$f":"Bedrijf!$G$32/Bedrijf!$G$9/calculprv5!$G$23*Reis!N161*Reis!N139","v":{"$error":"#DIV/0!"}},{"$f":"Bedrijf!$G$32/Bedrijf!$G$9/calculprv5!$G$23*Reis!O161*Reis!O139","v":{"$error":"#DIV/0!"}},{"$f":"Bedrijf!$G$32/Bedrijf!$G$9/calculprv5!$G$23*Reis!P161*Reis!P139","v":{"$error":"#DIV/0!"}},{"$f":"Bedrijf!$G$32/Bedrijf!$G$9/calculprv5!$G$23*Reis!Q161*Reis!Q139","v":{"$error":"#DIV/0!"}},{"$f":"Bedrijf!$G$32/Bedrijf!$G$9/calculprv5!$G$23*Reis!R161*Reis!R139","v":{"$error":"#DIV/0!"}},{"$f":"Bedrijf!$G$32/Bedrijf!$G$9/calculprv5!$G$23*Reis!S161*Reis!S139","v":{"$error":"#DIV/0!"}},{"$f":"Bedrijf!$G$32/Bedrijf!$G$9/calculprv5!$G$23*Reis!T161*Reis!T139","v":{"$error":"#DIV/0!"}},{"$f":"SUM(H169:V169)","v":{"$error":"#DIV/0!"}}]
[]
[null,null,"LOONKOST CHAUFFEURS",null,null,null,null,{"$f":"Personneelskost!E143","v":{"$error":"#DIV/0!"}},{"$f":"Personneelskost!F143","v":0},{"$f":"Personneelskost!G143","v":0},{"$f":"Personneelskost!H143","v":0},{"$f":"Personneelskost!I143","v":0},{"$f":"Personneelskost!J143","v":0},{"$f":"Personneelskost!K143","v":0},{"$f":"Personneelskost!L143","v":0},{"$f":"Personneelskost!M143","v":0},{"$f":"Personneelskost!N143","v":0},{"$f":"Personneelskost!O143","v":0},{"$f":"Personneelskost!P143","v":0},{"$f":"Personneelskost!Q143","v":0},{"$f":"Personneelskost!R143","v":0},{"$f":"Personneelskost!S143","v":0},{"$f":"SUM(H171:V171)","v":{"$error":"#DIV/0!"}}]
[]
[null,null,"VARIABEL","Brandstof",null,null,null,{"$f":"((calculprv5!$G$35/100)*Bedrijf!$G$23*Reis!F144*(1-Reis!F152))+((calculprv5!$G$35/100)*Reis!F153*Reis!F144*Reis!F152)","v":0},{"$f":"((calculprv5!$G$35/100)*Bedrijf!$G$23*Reis!G144*(1-Reis!G152))+((calculprv5!$G$35/100)*Reis!G153*Reis!G144*Reis!G152)","v":0},{"$f":"((calculprv5!$G$35/100)*Bedrijf!$G$23*Reis!H144*(1-Reis!H152))+((calculprv5!$G$35/100)*Reis!H153*Reis!H144*Reis!H152)","v":0},{"$f":"((calculprv5!$G$35/100)*Bedrijf!$G$23*Reis!I144*(1-Reis!I152))+((calculprv5!$G$35/100)*Reis!I153*Reis!I144*Reis!I152)","v":0},{"$f":"((calculprv5!$G$35/100)*Bedrijf!$G$23*Reis!J144*(1-Reis!J152))+((calculprv5!$G$35/100)*Reis!J153*Reis!J144*Reis!J152)","v":0},{"$f":"((calculprv5!$G$35/100)*Bedrijf!$G$23*Reis!K144*(1-Reis!K152))+((calculprv5!$G$35/100)*Reis!K153*Reis!K144*Reis!K152)","v":0},{"$f":"((calculprv5!$G$35/100)*Bedrijf!$G$23*Reis!L144*(1-Reis!L152))+((calculprv5!$G$35/100)*Reis!L153*Reis!L144*Reis!L152)","v":0},{"$f":"((calculprv5!$G$35/100)*Bedrijf!$G$23*Reis!M144*(1-Reis!M152))+((calculprv5!$G$35/100)*Reis!M153*Reis!M144*Reis!M152)","v":0},{"$f":"((calculprv5!$G$35/100)*Bedrijf!$G$23*Reis!N144*(1-Reis!N152))+((calculprv5!$G$35/100)*Reis!N153*Reis!N144*Reis!N152)","v":0},{"$f":"((calculprv5!$G$35/100)*Bedrijf!$G$23*Reis!O144*(1-Reis!O152))+((calculprv5!$G$35/100)*Reis!O153*Reis!O144*Reis!O152)","v":0},{"$f":"((calculprv5!$G$35/100)*Bedrijf!$G$23*Reis!P144*(1-Reis!P152))+((calculprv5!$G$35/100)*Reis!P153*Reis!P144*Reis!P152)","v":0},{"$f":"((calculprv5!$G$35/100)*Bedrijf!$G$23*Reis!Q144*(1-Reis!Q152))+((calculprv5!$G$35/100)*Reis!Q153*Reis!Q144*Reis!Q152)","v":0},{"$f":"((calculprv5!$G$35/100)*Bedrijf!$G$23*Reis!R144*(1-Reis!R152))+((calculprv5!$G$35/100)*Reis!R153*Reis!R144*Reis!R152)","v":0},{"$f":"((calculprv5!$G$35/100)*Bedrijf!$G$23*Reis!S144*(1-Reis!S152))+((calculprv5!$G$35/100)*Reis!S153*Reis!S144*Reis!S152)","v":0},{"$f":"((calculprv5!$G$35/100)*Bedrijf!$G$23*Reis!T144*(1-Reis!T152))+((calculprv5!$G$35/100)*Reis!T153*Reis!T144*Reis!T152)","v":0},{"$f":"SUM(H173:V173)","v":0}]
[null,null,null,"Olie",null,null,null,{"$f":"((calculprv5!$G$37/100)*Bedrijf!$G$25*Reis!F144)","v":0},{"$f":"((calculprv5!$G$37/100)*Bedrijf!$G$25*Reis!G144)","v":0},{"$f":"((calculprv5!$G$37/100)*Bedrijf!$G$25*Reis!H144)","v":0},{"$f":"((calculprv5!$G$37/100)*Bedrijf!$G$25*Reis!I144)","v":0},{"$f":"((calculprv5!$G$37/100)*Bedrijf!$G$25*Reis!J144)","v":0},{"$f":"((calculprv5!$G$37/100)*Bedrijf!$G$25*Reis!K144)","v":0},{"$f":"((calculprv5!$G$37/100)*Bedrijf!$G$25*Reis!L144)","v":0},{"$f":"((calculprv5!$G$37/100)*Bedrijf!$G$25*Reis!M144)","v":0},{"$f":"((calculprv5!$G$37/100)*Bedrijf!$G$25*Reis!N144)","v":0},{"$f":"((calculprv5!$G$37/100)*Bedrijf!$G$25*Reis!O144)","v":0},{"$f":"((calculprv5!$G$37/100)*Bedrijf!$G$25*Reis!P144)","v":0},{"$f":"((calculprv5!$G$37/100)*Bedrijf!$G$25*Reis!Q144)","v":0},{"$f":"((calculprv5!$G$37/100)*Bedrijf!$G$25*Reis!R144)","v":0},{"$f":"((calculprv5!$G$37/100)*Bedrijf!$G$25*Reis!S144)","v":0},{"$f":"((calculprv5!$G$37/100)*Bedrijf!$G$25*Reis!T144)","v":0},0]
[null,null,null,"Adblue",null,null,null,{"$f":"((calculprv5!$G$39/100)*Bedrijf!$G$27*Reis!F144)","v":0},{"$f":"((calculprv5!$G$39/100)*Bedrijf!$G$27*Reis!G144)","v":0},{"$f":"((calculprv5!$G$39/100)*Bedrijf!$G$27*Reis!H144)","v":0},{"$f":"((calculprv5!$G$39/100)*Bedrijf!$G$27*Reis!I144)","v":0},{"$f":"((calculprv5!$G$39/100)*Bedrijf!$G$27*Reis!J144)","v":0},{"$f":"((calculprv5!$G$39/100)*Bedrijf!$G$27*Reis!K144)","v":0},{"$f":"((calculprv5!$G$39/100)*Bedrijf!$G$27*Reis!L144)","v":0},{"$f":"((calculprv5!$G$39/100)*Bedrijf!$G$27*Reis!M144)","v":0},{"$f":"((calculprv5!$G$39/100)*Bedrijf!$G$27*Reis!N144)","v":0},{"$f":"((calculprv5!$G$39/100)*Bedrijf!$G$27*Reis!O144)","v":0},{"$f":"((calculprv5!$G$39/100)*Bedrijf!$G$27*Reis!P144)","v":0},{"$f":"((calculprv5!$G$39/100)*Bedrijf!$G$27*Reis!Q144)","v":0},{"$f":"((calculprv5!$G$39/100)*Bedrijf!$G$27*Reis!R144)","v":0},{"$f":"((calculprv5!$G$39/100)*Bedrijf!$G$27*Reis!S144)","v":0},{"$f":"((calculprv5!$G$39/100)*Bedrijf!$G$27*Reis!T144)","v":0},0]
[null,null,null,"Banden",null,null,null,{"$f":"((calculprv5!$G$51/calculprv5!$G$47)*calculprv5!$G$43*Reis!F144)+((calculprv5!$G$51/calculprv5!$G$49)*calculprv5!$G$45*Reis!F144)","v":{"$error":"#DIV/0!"}},{"$f":"((calculprv5!$G$51/calculprv5!$G$47)*calculprv5!$G$43*Reis!G144)+((calculprv5!$G$51/calculprv5!$G$49)*calculprv5!$G$45*Reis!G144)","v":{"$error":"#DIV/0!"}},{"$f":"((calculprv5!$G$51/calculprv5!$G$47)*calculprv5!$G$43*Reis!H144)+((calculprv5!$G$51/calculprv5!$G$49)*calculprv5!$G$45*Reis!H144)","v":{"$error":"#DIV/0!"}},{"$f":"((calculprv5!$G$51/calculprv5!$G$47)*calculprv5!$G$43*Reis!I144)+((calculprv5!$G$51/calculprv5!$G$49)*calculprv5!$G$45*Reis!I144)","v":{"$error":"#DIV/0!"}},{"$f":"((calculprv5!$G$51/calculprv5!$G$47)*calculprv5!$G$43*Reis!J144)+((calculprv5!$G$51/calculprv5!$G$49)*calculprv5!$G$45*Reis!J144)","v":{"$error":"#DIV/0!"}},{"$f":"((calculprv5!$G$51/calculprv5!$G$47)*calculprv5!$G$43*Reis!K144)+((calculprv5!$G$51/calculprv5!$G$49)*calculprv5!$G$45*Reis!K144)","v":{"$error":"#DIV/0!"}},{"$f":"((calculprv5!$G$51/calculprv5!$G$47)*calculprv5!$G$43*Reis!L144)+((calculprv5!$G$51/calculprv5!$G$49)*calculprv5!$G$45*Reis!L144)","v":{"$error":"#DIV/0!"}},{"$f":"((calculprv5!$G$51/calculprv5!$G$47)*calculprv5!$G$43*Reis!M144)+((calculprv5!$G$51/calculprv5!$G$49)*calculprv5!$G$45*Reis!M144)","v":{"$error":"#DIV/0!"}},{"$f":"((calculprv5!$G$51/calculprv5!$G$47)*calculprv5!$G$43*Reis!N144)+((calculprv5!$G$51/calculprv5!$G$49)*calculprv5!$G$45*Reis!N144)","v":{"$error":"#DIV/0!"}},{"$f":"((calculprv5!$G$51/calculprv5!$G$47)*calculprv5!$G$43*Reis!O144)+((calculprv5!$G$51/calculprv5!$G$49)*calculprv5!$G$45*Reis!O144)","v":{"$error":"#DIV/0!"}},{"$f":"((calculprv5!$G$51/calculprv5!$G$47)*calculprv5!$G$43*Reis!P144)+((calculprv5!$G$51/calculprv5!$G$49)*calculprv5!$G$45*Reis!P144)","v":{"$error":"#DIV/0!"}},{"$f":"((calculprv5!$G$51/calculprv5!$G$47)*calculprv5!$G$43*Reis!Q144)+((calculprv5!$G$51/calculprv5!$G$49)*calculprv5!$G$45*Reis!Q144)","v":{"$error":"#DIV/0!"}},{"$f":"((calculprv5!$G$51/calculprv5!$G$47)*calculprv5!$G$43*Reis!R144)+((calculprv5!$G$51/calculprv5!$G$49)*calculprv5!$G$45*Reis!R144)","v":{"$error":"#DIV/0!"}},{"$f":"((calculprv5!$G$51/calculprv5!$G$47)*calculprv5!$G$43*Reis!S144)+((calculprv5!$G$51/calculprv5!$G$49)*calculprv5!$G$45*Reis!S144)","v":{"$error":"#DIV/0!"}},{"$f":"((calculprv5!$G$51/calculprv5!$G$47)*calculprv5!$G$43*Reis!T144)+((calculprv5!$G$51/calculprv5!$G$49)*calculprv5!$G$45*Reis!T144)","v":{"$error":"#DIV/0!"}},{"$error":"#DIV/0!"}]
[null,null,null,"Onderhoud",null,null,null,{"$f":"(Bedrijf!$G$15+Bedrijf!$G$17+Bedrijf!$G$19)/Bedrijf!$G$11*Reis!F144","v":{"$error":"#DIV/0!"}},{"$f":"(Bedrijf!$G$15+Bedrijf!$G$17+Bedrijf!$G$19)/Bedrijf!$G$11*Reis!G144","v":{"$error":"#DIV/0!"}},{"$f":"(Bedrijf!$G$15+Bedrijf!$G$17+Bedrijf!$G$19)/Bedrijf!$G$11*Reis!H144","v":{"$error":"#DIV/0!"}},{"$f":"(Bedrijf!$G$15+Bedrijf!$G$17+Bedrijf!$G$19)/Bedrijf!$G$11*Reis!I144","v":{"$error":"#DIV/0!"}},{"$f":"(Bedrijf!$G$15+Bedrijf!$G$17+Bedrijf!$G$19)/Bedrijf!$G$11*Reis!J144","v":{"$error":"#DIV/0!"}},{"$f":"(Bedrijf!$G$15+Bedrijf!$G$17+Bedrijf!$G$19)/Bedrijf!$G$11*Reis!K144","v":{"$error":"#DIV/0!"}},{"$f":"(Bedrijf!$G$15+Bedrijf!$G$17+Bedrijf!$G$19)/Bedrijf!$G$11*Reis!L144","v":{"$error":"#DIV/0!"}},{"$f":"(Bedrijf!$G$15+Bedrijf!$G$17+Bedrijf!$G$19)/Bedrijf!$G$11*Reis!M144","v":{"$error":"#DIV/0!"}},{"$f":"(Bedrijf!$G$15+Bedrijf!$G$17+Bedrijf!$G$19)/Bedrijf!$G$11*Reis!N144","v":{"$error":"#DIV/0!"}},{"$f":"(Bedrijf!$G$15+Bedrijf!$G$17+Bedrijf!$G$19)/Bedrijf!$G$11*Reis!O144","v":{"$error":"#DIV/0!"}},{"$f":"(Bedrijf!$G$15+Bedrijf!$G$17+Bedrijf!$G$19)/Bedrijf!$G$11*Reis!P144","v":{"$error":"#DIV/0!"}},{"$f":"(Bedrijf!$G$15+Bedrijf!$G$17+Bedrijf!$G$19)/Bedrijf!$G$11*Reis!Q144","v":{"$error":"#DIV/0!"}},{"$f":"(Bedrijf!$G$15+Bedrijf!$G$17+Bedrijf!$G$19)/Bedrijf!$G$11*Reis!R144","v":{"$error":"#DIV/0!"}},{"$f":"(Bedrijf!$G$15+Bedrijf!$G$17+Bedrijf!$G$19)/Bedrijf!$G$11*Reis!S144","v":{"$error":"#DIV/0!"}},{"$f":"(Bedrijf!$G$15+Bedrijf!$G$17+Bedrijf!$G$19)/Bedrijf!$G$11*Reis!T144","v":{"$error":"#DIV/0!"}},{"$error":"#DIV/0!"}]
[null,null,null,"Voertuig (technische afschr.)",null,null,null,{"$f":"IF(calculprv5!$G$15=\"technisch\",((calculprv5!$G$11*(1-calculprv5!$G$13))/calculprv5!$G$21)*Reis!F144,0)","v":0},{"$f":"IF(calculprv5!$G$15=\"technisch\",((calculprv5!$G$11*(1-calculprv5!$G$13))/calculprv5!$G$21)*Reis!G144,0)","v":0},{"$f":"IF(calculprv5!$G$15=\"technisch\",((calculprv5!$G$11*(1-calculprv5!$G$13))/calculprv5!$G$21)*Reis!H144,0)","v":0},{"$f":"IF(calculprv5!$G$15=\"technisch\",((calculprv5!$G$11*(1-calculprv5!$G$13))/calculprv5!$G$21)*Reis!I144,0)","v":0},{"$f":"IF(calculprv5!$G$15=\"technisch\",((calculprv5!$G$11*(1-calculprv5!$G$13))/calculprv5!$G$21)*Reis!J144,0)","v":0},{"$f":"IF(calculprv5!$G$15=\"technisch\",((calculprv5!$G$11*(1-calculprv5!$G$13))/calculprv5!$G$21)*Reis!K144,0)","v":0},{"$f":"IF(calculprv5!$G$15=\"technisch\",((calculprv5!$G$11*(1-calculprv5!$G$13))/calculprv5!$G$21)*Reis!L144,0)","v":0},{"$f":"IF(calculprv5!$G$15=\"technisch\",((calculprv5!$G$11*(1-calculprv5!$G$13))/calculprv5!$G$21)*Reis!M144,0)","v":0},{"$f":"IF(calculprv5!$G$15=\"technisch\",((calculprv5!$G$11*(1-calculprv5!$G$13))/calculprv5!$G$21)*Reis!N144,0)","v":0},{"$f":"IF(calculprv5!$G$15=\"technisch\",((calculprv5!$G$11*(1-calculprv5!$G$13))/calculprv5!$G$21)*Reis!O144,0)","v":0},{"$f":"IF(calculprv5!$G$15=\"technisch\",((calculprv5!$G$11*(1-calculprv5!$G$13))/calculprv5!$G$21)*Reis!P144,0)","v":0},{"$f":"IF(calculprv5!$G$15=\"technisch\",((calculprv5!$G$11*(1-calculprv5!$G$13))/calculprv5!$G$21)*Reis!Q144,0)","v":0},{"$f":"IF(calculprv5!$G$15=\"technisch\",((calculprv5!$G$11*(1-calculprv5!$G$13))/calculprv5!$G$21)*Reis!R144,0)","v":0},{"$f":"IF(calculprv5!$G$15=\"technisch\",((calculprv5!$G$11*(1-calculprv5!$G$13))/calculprv5!$G$21)*Reis!S144,0)","v":0},{"$f":"IF(calculprv5!$G$15=\"technisch\",((calculprv5!$G$11*(1-calculprv5!$G$13))/calculprv5!$G$21)*Reis!T144,0)","v":0},0]
[]
[null,null,"SPECIFIEK","Specifieke ritkosten",null,null,null,{"$f":"Reis!F156","v":0},{"$f":"Reis!G156","v":0},{"$f":"Reis!H156","v":0},{"$f":"Reis!I156","v":0},{"$f":"Reis!J156","v":0},{"$f":"Reis!K156","v":0},{"$f":"Reis!L156","v":0},{"$f":"Reis!M156","v":0},{"$f":"Reis!N156","v":0},{"$f":"Reis!O156","v":0},{"$f":"Reis!P156","v":0},{"$f":"Reis!Q156","v":0},{"$f":"Reis!R156","v":0},{"$f":"Reis!S156","v":0},{"$f":"Reis!T156","v":0},{"$f":"SUM(H180:V180)","v":0}]
[null,null,null,"aanhangwagens",null,false,{"$f":"IF(F181=TRUE,1,0)","v":0},{"$f":"IF($G$181<1,0,IF($G$181>=1,((\n((calculprv5!$G$81/calculprv5!$G$83)\n+calculprv5!$G$85\n+calculprv5!$G$87\n+calculprv5!$G$89\n+calculprv5!$G$91)\n/calculprv5!$G$79)\n+((H173+H174+H175)*calculprv5!$G$94))\n*Reis!F139*$G$181))","v":0},{"$f":"IF($G$181<1,0,IF($G$181>=1,((\n((calculprv5!$G$81/calculprv5!$G$83)\n+calculprv5!$G$85\n+calculprv5!$G$87\n+calculprv5!$G$89\n+calculprv5!$G$91)\n/calculprv5!$G$79)\n+((I173+I174+I175)*calculprv5!$G$94))\n*Reis!G139*$G$181))","v":0},{"$f":"IF($G$181<1,0,IF($G$181>=1,((\n((calculprv5!$G$81/calculprv5!$G$83)\n+calculprv5!$G$85\n+calculprv5!$G$87\n+calculprv5!$G$89\n+calculprv5!$G$91)\n/calculprv5!$G$79)\n+((J173+J174+J175)*calculprv5!$G$94))\n*Reis!H139*$G$181))","v":0},{"$f":"IF($G$181<1,0,IF($G$181>=1,((\n((calculprv5!$G$81/calculprv5!$G$83)\n+calculprv5!$G$85\n+calculprv5!$G$87\n+calculprv5!$G$89\n+calculprv5!$G$91)\n/calculprv5!$G$79)\n+((K173+K174+K175)*calculprv5!$G$94))\n*Reis!I139*$G$181))","v":0},{"$f":"IF($G$181<1,0,IF($G$181>=1,((\n((calculprv5!$G$81/calculprv5!$G$83)\n+calculprv5!$G$85\n+calculprv5!$G$87\n+calculprv5!$G$89\n+calculprv5!$G$91)\n/calculprv5!$G$79)\n+((L173+L174+L175)*calculprv5!$G$94))\n*Reis!J139*$G$181))","v":0},{"$f":"IF($G$181<1,0,IF($G$181>=1,((\n((calculprv5!$G$81/calculprv5!$G$83)\n+calculprv5!$G$85\n+calculprv5!$G$87\n+calculprv5!$G$89\n+calculprv5!$G$91)\n/calculprv5!$G$79)\n+((M173+M174+M175)*calculprv5!$G$94))\n*Reis!K139*$G$181))","v":0},{"$f":"IF($G$181<1,0,IF($G$181>=1,((\n((calculprv5!$G$81/calculprv5!$G$83)\n+calculprv5!$G$85\n+calculprv5!$G$87\n+calculprv5!$G$89\n+calculprv5!$G$91)\n/calculprv5!$G$79)\n+((N173+N174+N175)*calculprv5!$G$94))\n*Reis!L139*$G$181))","v":0},{"$f":"IF($G$181<1,0,IF($G$181>=1,((\n((calculprv5!$G$81/calculprv5!$G$83)\n+calculprv5!$G$85\n+calculprv5!$G$87\n+calculprv5!$G$89\n+calculprv5!$G$91)\n/calculprv5!$G$79)\n+((O173+O174+O175)*calculprv5!$G$94))\n*Reis!M139*$G$181))","v":0},{"$f":"IF($G$181<1,0,IF($G$181>=1,((\n((calculprv5!$G$81/calculprv5!$G$83)\n+calculprv5!$G$85\n+calculprv5!$G$87\n+calculprv5!$G$89\n+calculprv5!$G$91)\n/calculprv5!$G$79)\n+((P173+P174+P175)*calculprv5!$G$94))\n*Reis!N139*$G$181))","v":0},{"$f":"IF($G$181<1,0,IF($G$181>=1,((\n((calculprv5!$G$81/calculprv5!$G$83)\n+calculprv5!$G$85\n+calculprv5!$G$87\n+calculprv5!$G$89\n+calculprv5!$G$91)\n/calculprv5!$G$79)\n+((Q173+Q174+Q175)*calculprv5!$G$94))\n*Reis!O139*$G$181))","v":0},{"$f":"IF($G$181<1,0,IF($G$181>=1,((\n((calculprv5!$G$81/calculprv5!$G$83)\n+calculprv5!$G$85\n+calculprv5!$G$87\n+calculprv5!$G$89\n+calculprv5!$G$91)\n/calculprv5!$G$79)\n+((R173+R174+R175)*calculprv5!$G$94))\n*Reis!P139*$G$181))","v":0},{"$f":"IF($G$181<1,0,IF($G$181>=1,((\n((calculprv5!$G$81/calculprv5!$G$83)\n+calculprv5!$G$85\n+calculprv5!$G$87\n+calculprv5!$G$89\n+calculprv5!$G$91)\n/calculprv5!$G$79)\n+((S173+S174+S175)*calculprv5!$G$94))\n*Reis!Q139*$G$181))","v":0},{"$f":"IF($G$181<1,0,IF($G$181>=1,((\n((calculprv5!$G$81/calculprv5!$G$83)\n+calculprv5!$G$85\n+calculprv5!$G$87\n+calculprv5!$G$89\n+calculprv5!$G$91)\n/calculprv5!$G$79)\n+((T173+T174+T175)*calculprv5!$G$94))\n*Reis!R139*$G$181))","v":0},{"$f":"IF($G$181<1,0,IF($G$181>=1,((\n((calculprv5!$G$81/calculprv5!$G$83)\n+calculprv5!$G$85\n+calculprv5!$G$87\n+calculprv5!$G$89\n+calculprv5!$G$91)\n/calculprv5!$G$79)\n+((U173+U174+U175)*calculprv5!$G$94))\n*Reis!S139*$G$181))","v":0},{"$f":"IF($G$181<1,0,IF($G$181>=1,((\n((calculprv5!$G$81/calculprv5!$G$83)\n+calculprv5!$G$85\n+calculprv5!$G$87\n+calculprv5!$G$89\n+calculprv5!$G$91)\n/calculprv5!$G$79)\n+((V173+V174+V175)*calculprv5!$G$94))\n*Reis!T139*$G$181))","v":0},{"$f":"SUM(H181:V181)","v":0}]
[null,null,null,"skiboxen",null,false,{"$f":"IF(F182=TRUE,1,0)","v":0},{"$f":"IF($G$182<1,0,IF($G$182>=1,((calculprv5!$G$99/calculprv5!$G$101/calculprv5!$G$97)+calculprv5!$G$103)*Reis!F139*'Kostprijs en Verkoopprijs'!$G$182))","v":0},{"$f":"IF($G$182<1,0,IF($G$182>=1,((calculprv5!$G$99/calculprv5!$G$101/calculprv5!$G$97)+calculprv5!$G$103)*Reis!G139*'Kostprijs en Verkoopprijs'!$G$182))","v":0},{"$f":"IF($G$182<1,0,IF($G$182>=1,((calculprv5!$G$99/calculprv5!$G$101/calculprv5!$G$97)+calculprv5!$G$103)*Reis!H139*'Kostprijs en Verkoopprijs'!$G$182))","v":0},{"$f":"IF($G$182<1,0,IF($G$182>=1,((calculprv5!$G$99/calculprv5!$G$101/calculprv5!$G$97)+calculprv5!$G$103)*Reis!I139*'Kostprijs en Verkoopprijs'!$G$182))","v":0},{"$f":"IF($G$182<1,0,IF($G$182>=1,((calculprv5!$G$99/calculprv5!$G$101/calculprv5!$G$97)+calculprv5!$G$103)*Reis!J139*'Kostprijs en Verkoopprijs'!$G$182))","v":0},{"$f":"IF($G$182<1,0,IF($G$182>=1,((calculprv5!$G$99/calculprv5!$G$101/calculprv5!$G$97)+calculprv5!$G$103)*Reis!K139*'Kostprijs en Verkoopprijs'!$G$182))","v":0},{"$f":"IF($G$182<1,0,IF($G$182>=1,((calculprv5!$G$99/calculprv5!$G$101/calculprv5!$G$97)+calculprv5!$G$103)*Reis!L139*'Kostprijs en Verkoopprijs'!$G$182))","v":0},{"$f":"IF($G$182<1,0,IF($G$182>=1,((calculprv5!$G$99/calculprv5!$G$101/calculprv5!$G$97)+calculprv5!$G$103)*Reis!M139*'Kostprijs en Verkoopprijs'!$G$182))","v":0},{"$f":"IF($G$182<1,0,IF($G$182>=1,((calculprv5!$G$99/calculprv5!$G$101/calculprv5!$G$97)+calculprv5!$G$103)*Reis!N139*'Kostprijs en Verkoopprijs'!$G$182))","v":0},{"$f":"IF($G$182<1,0,IF($G$182>=1,((calculprv5!$G$99/calculprv5!$G$101/calculprv5!$G$97)+calculprv5!$G$103)*Reis!O139*'Kostprijs en Verkoopprijs'!$G$182))","v":0},{"$f":"IF($G$182<1,0,IF($G$182>=1,((calculprv5!$G$99/calculprv5!$G$101/calculprv5!$G$97)+calculprv5!$G$103)*Reis!P139*'Kostprijs en Verkoopprijs'!$G$182))","v":0},{"$f":"IF($G$182<1,0,IF($G$182>=1,((calculprv5!$G$99/calculprv5!$G$101/calculprv5!$G$97)+calculprv5!$G$103)*Reis!Q139*'Kostprijs en Verkoopprijs'!$G$182))","v":0},{"$f":"IF($G$182<1,0,IF($G$182>=1,((calculprv5!$G$99/calculprv5!$G$101/calculprv5!$G$97)+calculprv5!$G$103)*Reis!R139*'Kostprijs en Verkoopprijs'!$G$182))","v":0},{"$f":"IF($G$182<1,0,IF($G$182>=1,((calculprv5!$G$99/calculprv5!$G$101/calculprv5!$G$97)+calculprv5!$G$103)*Reis!S139*'Kostprijs en Verkoopprijs'!$G$182))","v":0},{"$f":"IF($G$182<1,0,IF($G$182>=1,((calculprv5!$G$99/calculprv5!$G$101/calculprv5!$G$97)+calculprv5!$G$103)*Reis!T139*'Kostprijs en Verkoopprijs'!$G$182))","v":0},{"$f":"SUM(H182:V182)","v":0}]
[null,null,null,"Lift",null,false,{"$f":"IF(F183=TRUE,1,0)","v":0},{"$f":"IF($G$183<1,0,IF($G$183>=1,((calculprv5!$G$110/calculprv5!$G$112/calculprv5!$G$108)+calculprv5!$G$114)*Reis!F139*'Kostprijs en Verkoopprijs'!$G$183))","v":0},{"$f":"IF($G$183<1,0,IF($G$183>=1,((calculprv5!$G$110/calculprv5!$G$112/calculprv5!$G$108)+calculprv5!$G$114)*Reis!G139*'Kostprijs en Verkoopprijs'!$G$183))","v":0},{"$f":"IF($G$183<1,0,IF($G$183>=1,((calculprv5!$G$110/calculprv5!$G$112/calculprv5!$G$108)+calculprv5!$G$114)*Reis!H139*'Kostprijs en Verkoopprijs'!$G$183))","v":0},{"$f":"IF($G$183<1,0,IF($G$183>=1,((calculprv5!$G$110/calculprv5!$G$112/calculprv5!$G$108)+calculprv5!$G$114)*Reis!I139*'Kostprijs en Verkoopprijs'!$G$183))","v":0},{"$f":"IF($G$183<1,0,IF($G$183>=1,((calculprv5!$G$110/calculprv5!$G$112/calculprv5!$G$108)+calculprv5!$G$114)*Reis!J139*'Kostprijs en Verkoopprijs'!$G$183))","v":0},{"$f":"IF($G$183<1,0,IF($G$183>=1,((calculprv5!$G$110/calculprv5!$G$112/calculprv5!$G$108)+calculprv5!$G$114)*Reis!K139*'Kostprijs en Verkoopprijs'!$G$183))","v":0},{"$f":"IF($G$183<1,0,IF($G$183>=1,((calculprv5!$G$110/calculprv5!$G$112/calculprv5!$G$108)+calculprv5!$G$114)*Reis!L139*'Kostprijs en Verkoopprijs'!$G$183))","v":0},{"$f":"IF($G$183<1,0,IF($G$183>=1,((calculprv5!$G$110/calculprv5!$G$112/calculprv5!$G$108)+calculprv5!$G$114)*Reis!M139*'Kostprijs en Verkoopprijs'!$G$183))","v":0},{"$f":"IF($G$183<1,0,IF($G$183>=1,((calculprv5!$G$110/calculprv5!$G$112/calculprv5!$G$108)+calculprv5!$G$114)*Reis!N139*'Kostprijs en Verkoopprijs'!$G$183))","v":0},{"$f":"IF($G$183<1,0,IF($G$183>=1,((calculprv5!$G$110/calculprv5!$G$112/calculprv5!$G$108)+calculprv5!$G$114)*Reis!O139*'Kostprijs en Verkoopprijs'!$G$183))","v":0},{"$f":"IF($G$183<1,0,IF($G$183>=1,((calculprv5!$G$110/calculprv5!$G$112/calculprv5!$G$108)+calculprv5!$G$114)*Reis!P139*'Kostprijs en Verkoopprijs'!$G$183))","v":0},{"$f":"IF($G$183<1,0,IF($G$183>=1,((calculprv5!$G$110/calculprv5!$G$112/calculprv5!$G$108)+calculprv5!$G$114)*Reis!Q139*'Kostprijs en Verkoopprijs'!$G$183))","v":0},{"$f":"IF($G$183<1,0,IF($G$183>=1,((calculprv5!$G$110/calculprv5!$G$112/calculprv5!$G$108)+calculprv5!$G$114)*Reis!R139*'Kostprijs en Verkoopprijs'!$G$183))","v":0},{"$f":"IF($G$183<1,0,IF($G$183>=1,((calculprv5!$G$110/calculprv5!$G$112/calculprv5!$G$108)+calculprv5!$G$114)*Reis!S139*'Kostprijs en Verkoopprijs'!$G$183))","v":0},{"$f":"IF($G$183<1,0,IF($G$183>=1,((calculprv5!$G$110/calculprv5!$G$112/calculprv5!$G$108)+calculprv5!$G$114)*Reis!T139*'Kostprijs en Verkoopprijs'!$G$183))","v":0},{"$f":"SUM(H183:V183)","v":0}]
[null,null,null,null,null,null,null,null,null,null,null,null,null,null,null,null,null,null,null,null,null,null,{"$f":"SUM(W181:W183)","v":0}]
[null,null,null,"Totale kostprijs",null,null,null,{"$f":"SUM(H173:H179,H165:H169,H180:H183,H171)","v":{"$error":"#DIV/0!"}},{"$f":"SUM(I173:I179,I165:I169,I180:I183,I171)","v":{"$error":"#DIV/0!"}},{"$error":"#DIV/0!"},{"$error":"#DIV/0!"},{"$error":"#DIV/0!"},{"$error":"#DIV/0!"},{"$error":"#DIV/0!"},{"$error":"#DIV/0!"},{"$error":"#DIV/0!"},{"$error":"#DIV/0!"},{"$error":"#DIV/0!"},{"$error":"#DIV/0!"},{"$error":"#DIV/0!"},{"$error":"#DIV/0!"},{"$error":"#DIV/0!"},{"$f":"SUM(H185:V185)","v":{"$error":"#DIV/0!"}}]
[null,null,null,"per kilometer1",null,null,null,{"$f":"IF(AND(Reis!F139>0,Reis!F1440),\"\",IF(AND(Reis!F139>0,Reis!F144<>0),SUM(H173:H178)/Reis!F144,\"\"))","v":""},{"$f":"IF(AND(Reis!G139>0,Reis!G1440),\"\",IF(AND(Reis!G139>0,Reis!G144<>0),SUM(I173:I178)/Reis!G144,\"\"))","v":""},{"$f":"IF(AND(Reis!H139>0,Reis!H1440),\"\",IF(AND(Reis!H139>0,Reis!H144<>0),SUM(J173:J178)/Reis!H144,\"\"))","v":""},{"$f":"IF(AND(Reis!I139>0,Reis!I1440),\"\",IF(AND(Reis!I139>0,Reis!I144<>0),SUM(K173:K178)/Reis!I144,\"\"))","v":""},{"$f":"IF(AND(Reis!J139>0,Reis!J1440),\"\",IF(AND(Reis!J139>0,Reis!J144<>0),SUM(L173:L178)/Reis!J144,\"\"))","v":""},{"$f":"IF(AND(Reis!K139>0,Reis!K1440),\"\",IF(AND(Reis!K139>0,Reis!K144<>0),SUM(M173:M178)/Reis!K144,\"\"))","v":""},{"$f":"IF(AND(Reis!L139>0,Reis!L1440),\"\",IF(AND(Reis!L139>0,Reis!L144<>0),SUM(N173:N178)/Reis!L144,\"\"))","v":""},{"$f":"IF(AND(Reis!M139>0,Reis!M1440),\"\",IF(AND(Reis!M139>0,Reis!M144<>0),SUM(O173:O178)/Reis!M144,\"\"))","v":""},{"$f":"IF(AND(Reis!N139>0,Reis!N1440),\"\",IF(AND(Reis!N139>0,Reis!N144<>0),SUM(P173:P178)/Reis!N144,\"\"))","v":""},{"$f":"IF(AND(Reis!O139>0,Reis!O1440),\"\",IF(AND(Reis!O139>0,Reis!O144<>0),SUM(Q173:Q178)/Reis!O144,\"\"))","v":""},{"$f":"IF(AND(Reis!P139>0,Reis!P1440),\"\",IF(AND(Reis!P139>0,Reis!P144<>0),SUM(R173:R178)/Reis!P144,\"\"))","v":""},{"$f":"IF(AND(Reis!Q139>0,Reis!Q1440),\"\",IF(AND(Reis!Q139>0,Reis!Q144<>0),SUM(S173:S178)/Reis!Q144,\"\"))","v":""},{"$f":"IF(AND(Reis!R139>0,Reis!R1440),\"\",IF(AND(Reis!R139>0,Reis!R144<>0),SUM(T173:T178)/Reis!R144,\"\"))","v":""},{"$f":"IF(AND(Reis!S139>0,Reis!S1440),\"\",IF(AND(Reis!S139>0,Reis!S144<>0),SUM(U173:U178)/Reis!S144,\"\"))","v":""},{"$f":"IF(AND(Reis!T139>0,Reis!T1440),\"\",IF(AND(Reis!T139>0,Reis!T144<>0),SUM(V173:V178)/Reis!T144,\"\"))","v":""},{"$f":"IF(SUM(Reis!F144:T144)>0,SUM(W173:W178)/SUM(Reis!F144:T144),0)","v":0}]
[null,null,null,"per dag2",null,null,null,{"$f":"SUM(H165:H169,H171)","v":{"$error":"#DIV/0!"}},{"$f":"SUM(I165:I169,I171)","v":{"$error":"#DIV/0!"}},{"$error":"#DIV/0!"},{"$error":"#DIV/0!"},{"$error":"#DIV/0!"},{"$error":"#DIV/0!"},{"$error":"#DIV/0!"},{"$error":"#DIV/0!"},{"$error":"#DIV/0!"},{"$error":"#DIV/0!"},{"$error":"#DIV/0!"},{"$error":"#DIV/0!"},{"$error":"#DIV/0!"},{"$error":"#DIV/0!"},{"$error":"#DIV/0!"},{"$f":"SUM(W165:W169,W171)","v":{"$error":"#DIV/0!"}}]
[]
[null,null,null,"Marge bénéficiaire désirée",null,null,null,0.1]
[]
[null,null,null,"Totale verkoopprijs",null,null,null,{"$f":"H185*(1+$H$150)","v":{"$error":"#DIV/0!"}},{"$f":"I185*(1+$H$150)","v":{"$error":"#DIV/0!"}},{"$error":"#DIV/0!"},{"$error":"#DIV/0!"},{"$error":"#DIV/0!"},{"$error":"#DIV/0!"},{"$error":"#DIV/0!"},{"$error":"#DIV/0!"},{"$error":"#DIV/0!"},{"$error":"#DIV/0!"},{"$error":"#DIV/0!"},{"$error":"#DIV/0!"},{"$error":"#DIV/0!"},{"$error":"#DIV/0!"},{"$error":"#DIV/0!"},{"$f":"W185*(1+H189)","v":{"$error":"#DIV/0!"}}]
[null,null,null,"per kilometer1",null,null,null,{"$f":"IF(H186=\"\",\"\",H186*(1+$H$150))","v":""},{"$f":"IF(I186=\"\",\"\",I186*(1+$H$150))","v":""},"","","","","","","","","","","","","",{"$f":"IF(W186=\"\",\"\",W186*(1+H189))","v":0}]
[null,null,null,"per dag2",null,null,null,{"$f":"H187*(1+$H$150)","v":{"$error":"#DIV/0!"}},{"$f":"I187*(1+$H$150)","v":{"$error":"#DIV/0!"}},{"$error":"#DIV/0!"},{"$error":"#DIV/0!"},{"$error":"#DIV/0!"},{"$error":"#DIV/0!"},{"$error":"#DIV/0!"},{"$error":"#DIV/0!"},{"$error":"#DIV/0!"},{"$error":"#DIV/0!"},{"$error":"#DIV/0!"},{"$error":"#DIV/0!"},{"$error":"#DIV/0!"},{"$error":"#DIV/0!"},{"$error":"#DIV/0!"},{"$f":"W187*(1+H189)","v":{"$error":"#DIV/0!"}}]
[]
[null,null,"1 enkel rekening houdend met variabele kosten"]
[null,null,"2 enkel rekening houdend met vaste kost en loonkost"]

{"sheet":"Feuil1","index":12,"n_rows":24,"n_cols":10,"rows_kept":24,"cut":false,"hidden":true,"merged":[]}
[]
[]
[]
[]
[]
[]
[]
[]
[null,null,null,null,null,"f13",45,75,104,134]
[null,null,null,null,null,"f34",66,96,125,155]
[]
[]
[]
[]
[null,null,null,null,null,17,49,79,108,138]
[null,null,null,null,null,25,57,87,116,146]
[null,null,null,null,null,26,{"$f":"G16+1","v":58},{"$f":"H16+1","v":88},{"$f":"I16+1","v":117},{"$f":"J16+1","v":147}]
[]
[]
[]
[]
[]
[null,null,null,null,null,49,57,58,49,57]
[null,null,null,null,null,79,87,88,79,87]

{"sheet":"Samenvatting kostprijzen","index":13,"n_rows":172,"n_cols":36,"rows_kept":172,"cut":false,"hidden":false,"merged":[[119,3,124,3],[1,1,1,23],[8,3,12,3],[17,3,22,3],[25,3,27,3],[42,3,46,3],[51,3,56,3],[59,3,61,3],[76,3,80,3],[85,3,90,3],[93,3,95,3],[110,3,114,3],[127,3,129,3],[144,3,148,3],[153,3,158,3],[161,3,163,3],[173,1,173,22]]}
[]
[null,"Samenvatting van de kostprijzen"]
[null,null,null,null,null,null,null,null,null,null,null,null,null,null,null,null,null,null,null,null,null,null,null,null,null,{"$f":"D4","v":""},{"$f":"IF(COUNTIF($Z$3:Z3,Z3)>1,\"\",Z3)","v":""},null,null,null,{"$f":"'Kostprijs en Verkoopprijs'!J4:K4","v":0},0,{"$f":"'Kostprijs en Verkoopprijs'!L4:O4","v":"vehicule1"},0,0,0]
[null,null,null,{"$f":"Bestemmingen!W8","v":""},null,null,null,null,null,null,null,null,null,null,null,null,null,null,null,null,null,null,null,null,null,{"$f":"D38","v":""},{"$f":"IF(COUNTIF($Z$3:Z4,Z4)>1,\"\",Z4)","v":""},null,null,null,{"$f":"'Kostprijs en Verkoopprijs'!J42:K42","v":0},0,{"$f":"'Kostprijs en Verkoopprijs'!L42:O42","v":0},0,0,0]
[null,null,null,null,null,null,null,null,null,null,null,null,null,null,null,null,null,null,null,null,null,null,null,null,null,{"$f":"D72","v":""},{"$f":"IF(COUNTIF($Z$3:Z5,Z5)>1,\"\",Z5)","v":""},null,null,null,{"$f":"'Kostprijs en Verkoopprijs'!J81:K81","v":0},0,{"$f":"'Kostprijs en Verkoopprijs'!L81:O81","v":"vehicule1"},0,0,0]
[null,null,null,null,null,null,{"$f":"IF(D4=$AE$3,$AG$3,\"\")","v":""},{"$f":"IF($D$4=$AE$3,$AG$3,IF($D$4=$AE$4,$AG$4,IF($D$4=$AE$5,$AG$5,IF($D$4=$AE$6,$AG$6,IF($D$4=$AE$7,$AG$7,\"\")))))","v":""},{"$f":"IF(D4=$AE$4,$AG$4,\"\")","v":""},"",{"$f":"IF(D4=$AE$5,$AG$5,\"\")","v":""},"",{"$f":"IF(D4=$AE$6,$AG$6,\"\")","v":""},"",{"$f":"IF(D4=$AE$7,$AG$7,\"\")","v":""},null,null,null,null,null,null,null,null,null,null,{"$f":"D106","v":""},{"$f":"IF(COUNTIF($Z$3:Z6,Z6)>1,\"\",Z6)","v":""},null,null,null,{"$f":"'Kostprijs en Verkoopprijs'!J120:K120","v":0},0,{"$f":"'Kostprijs en Verkoopprijs'!L120:O120","v":"vehicule1"},0,0,0]
[null,null,null,null,null,null,{"$f":"IF(G6<>\"\",$D$4&G6,\"\")","v":""},{"$f":"IF(H6<>\"\",$D$4&H6,\"\")","v":""},"","","","","","","",null,null,null,null,null,null,null,null,null,null,{"$f":"D140","v":""},{"$f":"IF(COUNTIF($Z$3:Z7,Z7)>1,\"\",Z7)","v":""},null,null,null,{"$f":"'Kostprijs en Verkoopprijs'!J159:K159","v":0},0,{"$f":"'Kostprijs en Verkoopprijs'!L159:O159","v":"vehicule1"},0,0,0]
[]
[null,null,null,"VAST","Voertuig (economische afschr.)",null,{"$f":"IFERROR(HLOOKUP($G$7,'Kostprijs en Verkoopprijs'!$W$6:$W$38,5,FALSE),IFERROR(HLOOKUP($G$7,'Kostprijs en Verkoopprijs'!$W$44:$W$76,5,FALSE),IFERROR(HLOOKUP($G$7,'Kostprijs en Verkoopprijs'!$W$83:$W$115,5,FALSE),IFERROR(HLOOKUP($G$7,'Kostprijs en Verkoopprijs'!$W$122:$W$154,5,FALSE),IFERROR(HLOOKUP($G$7,'Kostprijs en Verkoopprijs'!$W$161:$W$193,5,FALSE),\"\")))))","v":""},{"$f":"IFERROR(HLOOKUP(H7,'Kostprijs en Verkoopprijs'!$W$6:$W$38,5,FALSE),IFERROR(HLOOKUP(H7,'Kostprijs en Verkoopprijs'!$W$44:$W$76,5,FALSE),IFERROR(HLOOKUP(H7,'Kostprijs en Verkoopprijs'!$W$83:$W$115,5,FALSE),IFERROR(HLOOKUP(H7,'Kostprijs en Verkoopprijs'!$W$122:$W$154,5,FALSE),IFERROR(HLOOKUP(H7,'Kostprijs en Verkoopprijs'!$W$161:$W$193,5,FALSE),\"\")))))","v":""},{"$f":"IFERROR(HLOOKUP($I$7,'Kostprijs en Verkoopprijs'!$W$6:$W$38,5,FALSE),IFERROR(HLOOKUP($I$7,'Kostprijs en Verkoopprijs'!$W$44:$W$76,5,FALSE),IFERROR(HLOOKUP($I$7,'Kostprijs en Verkoopprijs'!$W$83:$W$115,5,FALSE),IFERROR(HLOOKUP($I$7,'Kostprijs en Verkoopprijs'!$W$122:$W$154,5,FALSE),IFERROR(HLOOKUP($I$7,'Kostprijs en Verkoopprijs'!$W$161:$W$193,5,FALSE),\"\")))))","v":""},{"$f":"IFERROR(HLOOKUP(J7,'Kostprijs en Verkoopprijs'!$W$6:$W$38,5,FALSE),IFERROR(HLOOKUP(J7,'Kostprijs en Verkoopprijs'!$W$44:$W$76,5,FALSE),IFERROR(HLOOKUP(J7,'Kostprijs en Verkoopprijs'!$W$83:$W$115,5,FALSE),IFERROR(HLOOKUP(J7,'Kostprijs en Verkoopprijs'!$W$122:$W$154,5,FALSE),IFERROR(HLOOKUP(J7,'Kostprijs en Verkoopprijs'!$W$161:$W$193,5,FALSE),\"\")))))","v":""},{"$f":"IFERROR(HLOOKUP($K$7,'Kostprijs en Verkoopprijs'!$W$6:$W$38,5,FALSE),IFERROR(HLOOKUP($K$7,'Kostprijs en Verkoopprijs'!$W$44:$W$76,5,FALSE),IFERROR(HLOOKUP($K$7,'Kostprijs en Verkoopprijs'!$W$83:$W$115,5,FALSE),IFERROR(HLOOKUP($K$7,'Kostprijs en Verkoopprijs'!$W$122:$W$154,5,FALSE),IFERROR(HLOOKUP($K$7,'Kostprijs en Verkoopprijs'!$W$161:$W$193,5,FALSE),\"\")))))","v":""},{"$f":"IFERROR(HLOOKUP(L7,'Kostprijs en Verkoopprijs'!$W$6:$W$38,5,FALSE),IFERROR(HLOOKUP(L7,'Kostprijs en Verkoopprijs'!$W$44:$W$76,5,FALSE),IFERROR(HLOOKUP(L7,'Kostprijs en Verkoopprijs'!$W$83:$W$115,5,FALSE),IFERROR(HLOOKUP(L7,'Kostprijs en Verkoopprijs'!$W$122:$W$154,5,FALSE),IFERROR(HLOOKUP(L7,'Kostprijs en Verkoopprijs'!$W$161:$W$193,5,FALSE),\"\")))))","v":""},{"$f":"IFERROR(HLOOKUP($M$7,'Kostprijs en Verkoopprijs'!$W$6:$W$38,5,FALSE),IFERROR(HLOOKUP($M$7,'Kostprijs en Verkoopprijs'!$W$44:$W$76,5,FALSE),IFERROR(HLOOKUP($M$7,'Kostprijs en Verkoopprijs'!$W$83:$W$115,5,FALSE),IFERROR(HLOOKUP($M$7,'Kostprijs en Verkoopprijs'!$W$122:$W$154,5,FALSE),IFERROR(HLOOKUP($M$7,'Kostprijs en Verkoopprijs'!$W$161:$W$193,5,FALSE),\"\")))))","v":""},{"$f":"IFERROR(HLOOKUP(N7,'Kostprijs en Verkoopprijs'!$W$6:$W$38,5,FALSE),IFERROR(HLOOKUP(N7,'Kostprijs en Verkoopprijs'!$W$44:$W$76,5,FALSE),IFERROR(HLOOKUP(N7,'Kostprijs en Verkoopprijs'!$W$83:$W$115,5,FALSE),IFERROR(HLOOKUP(N7,'Kostprijs en Verkoopprijs'!$W$122:$W$154,5,FALSE),IFERROR(HLOOKUP(N7,'Kostprijs en Verkoopprijs'!$W$161:$W$193,5,FALSE),\"\")))))","v":""},{"$f":"IFERROR(HLOOKUP($O$7,'Kostprijs en Verkoopprijs'!$W$6:$W$38,5,FALSE),IFERROR(HLOOKUP($O$7,'Kostprijs en Verkoopprijs'!$W$44:$W$76,5,FALSE),IFERROR(HLOOKUP($O$7,'Kostprijs en Verkoopprijs'!$W$83:$W$115,5,FALSE),IFERROR(HLOOKUP($O$7,'Kostprijs en Verkoopprijs'!$W$122:$W$154,5,FALSE),IFERROR(HLOOKUP($O$7,'Kostprijs en Verkoopprijs'!$W$161:$W$193,5,FALSE),\"\")))))","v":""}]
[null,null,null,null,"Financiering voertuig",null,{"$f":"IFERROR(HLOOKUP($G$7,'Kostprijs en Verkoopprijs'!$W$6:$W$38,6,FALSE),IFERROR(HLOOKUP($G$7,'Kostprijs en Verkoopprijs'!$W$44:$W$76,6,FALSE),IFERROR(HLOOKUP($G$7,'Kostprijs en Verkoopprijs'!$W$83:$W$115,6,FALSE),IFERROR(HLOOKUP($G$7,'Kostprijs en Verkoopprijs'!$W$122:$W$154,6,FALSE),IFERROR(HLOOKUP($G$7,'Kostprijs en Verkoopprijs'!$W$161:$W$193,6,FALSE),\"\")))))","v":""},{"$f":"IF($G$7=#REF!,#REF!,IF($G$7=#REF!,#REF!,IF($G$7=#REF!,#REF!,IF($G$7=#REF!,#REF!,IF($G$7=#REF!,#REF!,\"\")))))","v":{"$error":"#REF!"}},{"$f":"IFERROR(HLOOKUP($I$7,'Kostprijs en Verkoopprijs'!$W$6:$W$38,6,FALSE),IFERROR(HLOOKUP($I$7,'Kostprijs en Verkoopprijs'!$W$44:$W$76,6,FALSE),IFERROR(HLOOKUP($I$7,'Kostprijs en Verkoopprijs'!$W$83:$W$115,6,FALSE),IFERROR(HLOOKUP($I$7,'Kostprijs en Verkoopprijs'!$W$122:$W$154,6,FALSE),IFERROR(HLOOKUP($I$7,'Kostprijs en Verkoopprijs'!$W$161:$W$193,6,FALSE),\"\")))))","v":""},{"$f":"IF($G$7=#REF!,#REF!,IF($G$7=#REF!,#REF!,IF($G$7=#REF!,#REF!,IF($G$7=#REF!,#REF!,IF($G$7=#REF!,#REF!,\"\")))))","v":{"$error":"#REF!"}},{"$f":"IFERROR(HLOOKUP($K$7,'Kostprijs en Verkoopprijs'!$W$6:$W$38,6,FALSE),IFERROR(HLOOKUP($K$7,'Kostprijs en Verkoopprijs'!$W$44:$W$76,6,FALSE),IFERROR(HLOOKUP($K$7,'Kostprijs en Verkoopprijs'!$W$83:$W$115,6,FALSE),IFERROR(HLOOKUP($K$7,'Kostprijs en Verkoopprijs'!$W$122:$W$154,6,FALSE),IFERROR(HLOOKUP($K$7,'Kostprijs en Verkoopprijs'!$W$161:$W$193,6,FALSE),\"\")))))","v":""},{"$f":"IF($G$7=#REF!,#REF!,IF($G$7=#REF!,#REF!,IF($G$7=#REF!,#REF!,IF($G$7=#REF!,#REF!,IF($G$7=#REF!,#REF!,\"\")))))","v":{"$error":"#REF!"}},{"$f":"IFERROR(HLOOKUP($M$7,'Kostprijs en Verkoopprijs'!$W$6:$W$38,6,FALSE),IFERROR(HLOOKUP($M$7,'Kostprijs en Verkoopprijs'!$W$44:$W$76,6,FALSE),IFERROR(HLOOKUP($M$7,'Kostprijs en Verkoopprijs'!$W$83:$W$115,6,FALSE),IFERROR(HLOOKUP($M$7,'Kostprijs en Verkoopprijs'!$W$122:$W$154,6,FALSE),IFERROR(HLOOKUP($M$7,'Kostprijs en Verkoopprijs'!$W$161:$W$193,6,FALSE),\"\")))))","v":""},{"$f":"IF($G$7=#REF!,#REF!,IF($G$7=#REF!,#REF!,IF($G$7=#REF!,#REF!,IF($G$7=#REF!,#REF!,IF($G$7=#REF!,#REF!,\"\")))))","v":{"$error":"#REF!"}},{"$f":"IFERROR(HLOOKUP($O$7,'Kostprijs en Verkoopprijs'!$W$6:$W$38,6,FALSE),IFERROR(HLOOKUP($O$7,'Kostprijs en Verkoopprijs'!$W$44:$W$76,6,FALSE),IFERROR(HLOOKUP($O$7,'Kostprijs en Verkoopprijs'!$W$83:$W$115,6,FALSE),IFERROR(HLOOKUP($O$7,'Kostprijs en Verkoopprijs'!$W$122:$W$154,6,FALSE),IFERROR(HLOOKUP($O$7,'Kostprijs en Verkoopprijs'!$W$161:$W$193,6,FALSE),\"\")))))","v":""}]
[null,null,null,null,"Verzekeringen voertuig",null,{"$f":"IFERROR(HLOOKUP($G$7,'Kostprijs en Verkoopprijs'!$W$6:$W$38,7,FALSE),IFERROR(HLOOKUP($G$7,'Kostprijs en Verkoopprijs'!$W$44:$W$76,7,FALSE),IFERROR(HLOOKUP($G$7,'Kostprijs en Verkoopprijs'!$W$83:$W$115,7,FALSE),IFERROR(HLOOKUP($G$7,'Kostprijs en Verkoopprijs'!$W$122:$W$154,7,FALSE),IFERROR(HLOOKUP($G$7,'Kostprijs en Verkoopprijs'!$W$161:$W$193,7,FALSE),\"\")))))","v":""},{"$f":"IF($G$7=#REF!,#REF!,IF($G$7=#REF!,#REF!,IF($G$7=#REF!,#REF!,IF($G$7=#REF!,#REF!,IF($G$7=#REF!,#REF!,\"\")))))","v":{"$error":"#REF!"}},{"$f":"IFERROR(HLOOKUP($I$7,'Kostprijs en Verkoopprijs'!$W$6:$W$38,7,FALSE),IFERROR(HLOOKUP($I$7,'Kostprijs en Verkoopprijs'!$W$44:$W$76,7,FALSE),IFERROR(HLOOKUP($I$7,'Kostprijs en Verkoopprijs'!$W$83:$W$115,7,FALSE),IFERROR(HLOOKUP($I$7,'Kostprijs en Verkoopprijs'!$W$122:$W$154,7,FALSE),IFERROR(HLOOKUP($I$7,'Kostprijs en Verkoopprijs'!$W$161:$W$193,7,FALSE),\"\")))))","v":""},{"$f":"IF($G$7=#REF!,#REF!,IF($G$7=#REF!,#REF!,IF($G$7=#REF!,#REF!,IF($G$7=#REF!,#REF!,IF($G$7=#REF!,#REF!,\"\")))))","v":{"$error":"#REF!"}},{"$f":"IFERROR(HLOOKUP($K$7,'Kostprijs en Verkoopprijs'!$W$6:$W$38,7,FALSE),IFERROR(HLOOKUP($K$7,'Kostprijs en Verkoopprijs'!$W$44:$W$76,7,FALSE),IFERROR(HLOOKUP($K$7,'Kostprijs en Verkoopprijs'!$W$83:$W$115,7,FALSE),IFERROR(HLOOKUP($K$7,'Kostprijs en Verkoopprijs'!$W$122:$W$154,7,FALSE),IFERROR(HLOOKUP($K$7,'Kostprijs en Verkoopprijs'!$W$161:$W$193,7,FALSE),\"\")))))","v":""},{"$f":"IF($G$7=#REF!,#REF!,IF($G$7=#REF!,#REF!,IF($G$7=#REF!,#REF!,IF($G$7=#REF!,#REF!,IF($G$7=#REF!,#REF!,\"\")))))","v":{"$error":"#REF!"}},{"$f":"IFERROR(HLOOKUP($M$7,'Kostprijs en Verkoopprijs'!$W$6:$W$38,7,FALSE),IFERROR(HLOOKUP($M$7,'Kostprijs en Verkoopprijs'!$W$44:$W$76,7,FALSE),IFERROR(HLOOKUP($M$7,'Kostprijs en Verkoopprijs'!$W$83:$W$115,7,FALSE),IFERROR(HLOOKUP($M$7,'Kostprijs en Verkoopprijs'!$W$122:$W$154,7,FALSE),IFERROR(HLOOKUP($M$7,'Kostprijs en Verkoopprijs'!$W$161:$W$193,7,FALSE),\"\")))))","v":""},{"$f":"IF($G$7=#REF!,#REF!,IF($G$7=#REF!,#REF!,IF($G$7=#REF!,#REF!,IF($G$7=#REF!,#REF!,IF($G$7=#REF!,#REF!,\"\")))))","v":{"$error":"#REF!"}},{"$f":"IFERROR(HLOOKUP($O$7,'Kostprijs en Verkoopprijs'!$W$6:$W$38,7,FALSE),IFERROR(HLOOKUP($O$7,'Kostprijs en Verkoopprijs'!$W$44:$W$76,7,FALSE),IFERROR(HLOOKUP($O$7,'Kostprijs en Verkoopprijs'!$W$83:$W$115,7,FALSE),IFERROR(HLOOKUP($O$7,'Kostprijs en Verkoopprijs'!$W$122:$W$154,7,FALSE),IFERROR(HLOOKUP($O$7,'Kostprijs en Verkoopprijs'!$W$161:$W$193,7,FALSE),\"\")))))","v":""}]
[null,null,null,null,"Andere vaste kosten voertuig",null,{"$f":"IFERROR(HLOOKUP($G$7,'Kostprijs en Verkoopprijs'!$W$6:$W$38,8,FALSE),IFERROR(HLOOKUP($G$7,'Kostprijs en Verkoopprijs'!$W$44:$W$76,8,FALSE),IFERROR(HLOOKUP($G$7,'Kostprijs en Verkoopprijs'!$W$83:$W$115,8,FALSE),IFERROR(HLOOKUP($G$7,'Kostprijs en Verkoopprijs'!$W$122:$W$154,8,FALSE),IFERROR(HLOOKUP($G$7,'Kostprijs en Verkoopprijs'!$W$161:$W$193,8,FALSE),\"\")))))","v":""},{"$f":"IF($G$7=#REF!,#REF!,IF($G$7=#REF!,#REF!,IF($G$7=#REF!,#REF!,IF($G$7=#REF!,#REF!,IF($G$7=#REF!,#REF!,\"\")))))","v":{"$error":"#REF!"}},{"$f":"IFERROR(HLOOKUP($I$7,'Kostprijs en Verkoopprijs'!$W$6:$W$38,8,FALSE),IFERROR(HLOOKUP($I$7,'Kostprijs en Verkoopprijs'!$W$44:$W$76,8,FALSE),IFERROR(HLOOKUP($I$7,'Kostprijs en Verkoopprijs'!$W$83:$W$115,8,FALSE),IFERROR(HLOOKUP($I$7,'Kostprijs en Verkoopprijs'!$W$122:$W$154,8,FALSE),IFERROR(HLOOKUP($I$7,'Kostprijs en Verkoopprijs'!$W$161:$W$193,8,FALSE),\"\")))))","v":""},{"$f":"IF($G$7=#REF!,#REF!,IF($G$7=#REF!,#REF!,IF($G$7=#REF!,#REF!,IF($G$7=#REF!,#REF!,IF($G$7=#REF!,#REF!,\"\")))))","v":{"$error":"#REF!"}},{"$f":"IFERROR(HLOOKUP($K$7,'Kostprijs en Verkoopprijs'!$W$6:$W$38,8,FALSE),IFERROR(HLOOKUP($K$7,'Kostprijs en Verkoopprijs'!$W$44:$W$76,8,FALSE),IFERROR(HLOOKUP($K$7,'Kostprijs en Verkoopprijs'!$W$83:$W$115,8,FALSE),IFERROR(HLOOKUP($K$7,'Kostprijs en Verkoopprijs'!$W$122:$W$154,8,FALSE),IFERROR(HLOOKUP($K$7,'Kostprijs en Verkoopprijs'!$W$161:$W$193,8,FALSE),\"\")))))","v":""},{"$f":"IF($G$7=#REF!,#REF!,IF($G$7=#REF!,#REF!,IF($G$7=#REF!,#REF!,IF($G$7=#REF!,#REF!,IF($G$7=#REF!,#REF!,\"\")))))","v":{"$error":"#REF!"}},{"$f":"IFERROR(HLOOKUP($M$7,'Kostprijs en Verkoopprijs'!$W$6:$W$38,8,FALSE),IFERROR(HLOOKUP($M$7,'Kostprijs en Verkoopprijs'!$W$44:$W$76,8,FALSE),IFERROR(HLOOKUP($M$7,'Kostprijs en Verkoopprijs'!$W$83:$W$115,8,FALSE),IFERROR(HLOOKUP($M$7,'Kostprijs en Verkoopprijs'!$W$122:$W$154,8,FALSE),IFERROR(HLOOKUP($M$7,'Kostprijs en Verkoopprijs'!$W$161:$W$193,8,FALSE),\"\")))))","v":""},{"$f":"IF($G$7=#REF!,#REF!,IF($G$7=#REF!,#REF!,IF($G$7=#REF!,#REF!,IF($G$7=#REF!,#REF!,IF($G$7=#REF!,#REF!,\"\")))))","v":{"$error":"#REF!"}},{"$f":"IFERROR(HLOOKUP($O$7,'Kostprijs en Verkoopprijs'!$W$6:$W$38,8,FALSE),IFERROR(HLOOKUP($O$7,'Kostprijs en Verkoopprijs'!$W$44:$W$76,8,FALSE),IFERROR(HLOOKUP($O$7,'Kostprijs en Verkoopprijs'!$W$83:$W$115,8,FALSE),IFERROR(HLOOKUP($O$7,'Kostprijs en Verkoopprijs'!$W$122:$W$154,8,FALSE),IFERROR(HLOOKUP($O$7,'Kostprijs en Verkoopprijs'!$W$161:$W$193,8,FALSE),\"\")))))","v":""}]
[null,null,null,null,"Andere vaste kosten bedrijf",null,{"$f":"IFERROR(HLOOKUP($G$7,'Kostprijs en Verkoopprijs'!$W$6:$W$38,9,FALSE),IFERROR(HLOOKUP($G$7,'Kostprijs en Verkoopprijs'!$W$44:$W$76,9,FALSE),IFERROR(HLOOKUP($G$7,'Kostprijs en Verkoopprijs'!$W$83:$W$115,9,FALSE),IFERROR(HLOOKUP($G$7,'Kostprijs en Verkoopprijs'!$W$122:$W$154,9,FALSE),IFERROR(HLOOKUP($G$7,'Kostprijs en Verkoopprijs'!$W$161:$W$193,9,FALSE),\"\")))))","v":""},{"$f":"IF($G$7=#REF!,#REF!,IF($G$7=#REF!,#REF!,IF($G$7=#REF!,#REF!,IF($G$7=#REF!,#REF!,IF($G$7=#REF!,#REF!,\"\")))))","v":{"$error":"#REF!"}},{"$f":"IFERROR(HLOOKUP($I$7,'Kostprijs en Verkoopprijs'!$W$6:$W$38,9,FALSE),IFERROR(HLOOKUP($I$7,'Kostprijs en Verkoopprijs'!$W$44:$W$76,9,FALSE),IFERROR(HLOOKUP($I$7,'Kostprijs en Verkoopprijs'!$W$83:$W$115,9,FALSE),IFERROR(HLOOKUP($I$7,'Kostprijs en Verkoopprijs'!$W$122:$W$154,9,FALSE),IFERROR(HLOOKUP($I$7,'Kostprijs en Verkoopprijs'!$W$161:$W$193,9,FALSE),\"\")))))","v":""},{"$f":"IF($G$7=#REF!,#REF!,IF($G$7=#REF!,#REF!,IF($G$7=#REF!,#REF!,IF($G$7=#REF!,#REF!,IF($G$7=#REF!,#REF!,\"\")))))","v":{"$error":"#REF!"}},{"$f":"IFERROR(HLOOKUP($K$7,'Kostprijs en Verkoopprijs'!$W$6:$W$38,9,FALSE),IFERROR(HLOOKUP($K$7,'Kostprijs en Verkoopprijs'!$W$44:$W$76,9,FALSE),IFERROR(HLOOKUP($K$7,'Kostprijs en Verkoopprijs'!$W$83:$W$115,9,FALSE),IFERROR(HLOOKUP($K$7,'Kostprijs en Verkoopprijs'!$W$122:$W$154,9,FALSE),IFERROR(HLOOKUP($K$7,'Kostprijs en Verkoopprijs'!$W$161:$W$193,9,FALSE),\"\")))))","v":""},{"$f":"IF($G$7=#REF!,#REF!,IF($G$7=#REF!,#REF!,IF($G$7=#REF!,#REF!,IF($G$7=#REF!,#REF!,IF($G$7=#REF!,#REF!,\"\")))))","v":{"$error":"#REF!"}},{"$f":"IFERROR(HLOOKUP($M$7,'Kostprijs en Verkoopprijs'!$W$6:$W$38,9,FALSE),IFERROR(HLOOKUP($M$7,'Kostprijs en Verkoopprijs'!$W$44:$W$76,9,FALSE),IFERROR(HLOOKUP($M$7,'Kostprijs en Verkoopprijs'!$W$83:$W$115,9,FALSE),IFERROR(HLOOKUP($M$7,'Kostprijs en Verkoopprijs'!$W$122:$W$154,9,FALSE),IFERROR(HLOOKUP($M$7,'Kostprijs en Verkoopprijs'!$W$161:$W$193,9,FALSE),\"\")))))","v":""},{"$f":"IF($G$7=#REF!,#REF!,IF($G$7=#REF!,#REF!,IF($G$7=#REF!,#REF!,IF($G$7=#REF!,#REF!,IF($G$7=#REF!,#REF!,\"\")))))","v":{"$error":"#REF!"}},{"$f":"IFERROR(HLOOKUP($O$7,'Kostprijs en Verkoopprijs'!$W$6:$W$38,9,FALSE),IFERROR(HLOOKUP($O$7,'Kostprijs en Verkoopprijs'!$W$44:$W$76,9,FALSE),IFERROR(HLOOKUP($O$7,'Kostprijs en Verkoopprijs'!$W$83:$W$115,9,FALSE),IFERROR(HLOOKUP($O$7,'Kostprijs en Verkoopprijs'!$W$122:$W$154,9,FALSE),IFERROR(HLOOKUP($O$7,'Kostprijs en Verkoopprijs'!$W$161:$W$193,9,FALSE),\"\")))))","v":""}]
[null,null,null,null,"Totaal vaste kosten",null,{"$f":"IFERROR(SUM(G9:G13),\"\")","v":0},{"$f":"IFERROR(SUM(H9:H13),\"\")","v":""},0,"",0,"",0,"",0]
[]
[null,null,null,"LOONKOST CHAUFFEURS",null,null,{"$f":"IFERROR(HLOOKUP($G$7,'Kostprijs en Verkoopprijs'!$W$6:$W$38,11,FALSE),IFERROR(HLOOKUP($G$7,'Kostprijs en Verkoopprijs'!$W$44:$W$76,11,FALSE),IFERROR(HLOOKUP($G$7,'Kostprijs en Verkoopprijs'!$W$83:$W$115,11,FALSE),IFERROR(HLOOKUP($G$7,'Kostprijs en Verkoopprijs'!$W$122:$W$154,11,FALSE),IFERROR(HLOOKUP($G$7,'Kostprijs en Verkoopprijs'!$W$161:$W$193,11,FALSE),\"\")))))","v":""},{"$f":"IF($G$7=#REF!,#REF!,IF($G$7=#REF!,#REF!,IF($G$7=#REF!,#REF!,IF($G$7=#REF!,#REF!,IF($G$7=#REF!,#REF!,\"\")))))","v":{"$error":"#REF!"}},{"$f":"IFERROR(HLOOKUP($I$7,'Kostprijs en Verkoopprijs'!$W$6:$W$38,11,FALSE),IFERROR(HLOOKUP($I$7,'Kostprijs en Verkoopprijs'!$W$44:$W$76,11,FALSE),IFERROR(HLOOKUP($I$7,'Kostprijs en Verkoopprijs'!$W$83:$W$115,11,FALSE),IFERROR(HLOOKUP($I$7,'Kostprijs en Verkoopprijs'!$W$122:$W$154,11,FALSE),IFERROR(HLOOKUP($I$7,'Kostprijs en Verkoopprijs'!$W$161:$W$193,11,FALSE),\"\")))))","v":""},{"$f":"IF($G$7=#REF!,#REF!,IF($G$7=#REF!,#REF!,IF($G$7=#REF!,#REF!,IF($G$7=#REF!,#REF!,IF($G$7=#REF!,#REF!,\"\")))))","v":{"$error":"#REF!"}},{"$f":"IFERROR(HLOOKUP($K$7,'Kostprijs en Verkoopprijs'!$W$6:$W$38,11,FALSE),IFERROR(HLOOKUP($K$7,'Kostprijs en Verkoopprijs'!$W$44:$W$76,11,FALSE),IFERROR(HLOOKUP($K$7,'Kostprijs en Verkoopprijs'!$W$83:$W$115,11,FALSE),IFERROR(HLOOKUP($K$7,'Kostprijs en Verkoopprijs'!$W$122:$W$154,11,FALSE),IFERROR(HLOOKUP($K$7,'Kostprijs en Verkoopprijs'!$W$161:$W$193,11,FALSE),\"\")))))","v":""},{"$f":"IF($G$7=#REF!,#REF!,IF($G$7=#REF!,#REF!,IF($G$7=#REF!,#REF!,IF($G$7=#REF!,#REF!,IF($G$7=#REF!,#REF!,\"\")))))","v":{"$error":"#REF!"}},{"$f":"IFERROR(HLOOKUP($M$7,'Kostprijs en Verkoopprijs'!$W$6:$W$38,11,FALSE),IFERROR(HLOOKUP($M$7,'Kostprijs en Verkoopprijs'!$W$44:$W$76,11,FALSE),IFERROR(HLOOKUP($M$7,'Kostprijs en Verkoopprijs'!$W$83:$W$115,11,FALSE),IFERROR(HLOOKUP($M$7,'Kostprijs en Verkoopprijs'!$W$122:$W$154,11,FALSE),IFERROR(HLOOKUP($M$7,'Kostprijs en Verkoopprijs'!$W$161:$W$193,11,FALSE),\"\")))))","v":""},{"$f":"IF($G$7=#REF!,#REF!,IF($G$7=#REF!,#REF!,IF($G$7=#REF!,#REF!,IF($G$7=#REF!,#REF!,IF($G$7=#REF!,#REF!,\"\")))))","v":{"$error":"#REF!"}},{"$f":"IFERROR(HLOOKUP($O$7,'Kostprijs en Verkoopprijs'!$W$6:$W$38,11,FALSE),IFERROR(HLOOKUP($O$7,'Kostprijs en Verkoopprijs'!$W$44:$W$76,11,FALSE),IFERROR(HLOOKUP($O$7,'Kostprijs en Verkoopprijs'!$W$83:$W$115,11,FALSE),IFERROR(HLOOKUP($O$7,'Kostprijs en Verkoopprijs'!$W$122:$W$154,11,FALSE),IFERROR(HLOOKUP($O$7,'Kostprijs en Verkoopprijs'!$W$161:$W$193,11,FALSE),\"\")))))","v":""}]
[]
[null,null,null,"VARIABEL","Brandstof",null,{"$f":"IFERROR(HLOOKUP($G$7,'Kostprijs en Verkoopprijs'!$W$6:$W$38,13,FALSE),IFERROR(HLOOKUP($G$7,'Kostprijs en Verkoopprijs'!$W$44:$W$76,13,FALSE),IFERROR(HLOOKUP($G$7,'Kostprijs en Verkoopprijs'!$W$83:$W$115,13,FALSE),IFERROR(HLOOKUP($G$7,'Kostprijs en Verkoopprijs'!$W$122:$W$154,13,FALSE),IFERROR(HLOOKUP($G$7,'Kostprijs en Verkoopprijs'!$W$161:$W$193,13,FALSE),\"\")))))","v":""},{"$f":"IF($G$7=#REF!,#REF!,IF($G$7=#REF!,#REF!,IF($G$7=#REF!,#REF!,IF($G$7=#REF!,#REF!,IF($G$7=#REF!,#REF!,\"\")))))","v":{"$error":"#REF!"}},{"$f":"IFERROR(HLOOKUP($I$7,'Kostprijs en Verkoopprijs'!$W$6:$W$38,13,FALSE),IFERROR(HLOOKUP($I$7,'Kostprijs en Verkoopprijs'!$W$44:$W$76,13,FALSE),IFERROR(HLOOKUP($I$7,'Kostprijs en Verkoopprijs'!$W$83:$W$115,13,FALSE),IFERROR(HLOOKUP($I$7,'Kostprijs en Verkoopprijs'!$W$122:$W$154,13,FALSE),IFERROR(HLOOKUP($I$7,'Kostprijs en Verkoopprijs'!$W$161:$W$193,13,FALSE),\"\")))))","v":""},{"$f":"IF($G$7=#REF!,#REF!,IF($G$7=#REF!,#REF!,IF($G$7=#REF!,#REF!,IF($G$7=#REF!,#REF!,IF($G$7=#REF!,#REF!,\"\")))))","v":{"$error":"#REF!"}},{"$f":"IFERROR(HLOOKUP($K$7,'Kostprijs en Verkoopprijs'!$W$6:$W$38,13,FALSE),IFERROR(HLOOKUP($K$7,'Kostprijs en Verkoopprijs'!$W$44:$W$76,13,FALSE),IFERROR(HLOOKUP($K$7,'Kostprijs en Verkoopprijs'!$W$83:$W$115,13,FALSE),IFERROR(HLOOKUP($K$7,'Kostprijs en Verkoopprijs'!$W$122:$W$154,13,FALSE),IFERROR(HLOOKUP($K$7,'Kostprijs en Verkoopprijs'!$W$161:$W$193,13,FALSE),\"\")))))","v":""},{"$f":"IF($G$7=#REF!,#REF!,IF($G$7=#REF!,#REF!,IF($G$7=#REF!,#REF!,IF($G$7=#REF!,#REF!,IF($G$7=#REF!,#REF!,\"\")))))","v":{"$error":"#REF!"}},{"$f":"IFERROR(HLOOKUP($M$7,'Kostprijs en Verkoopprijs'!$W$6:$W$38,13,FALSE),IFERROR(HLOOKUP($M$7,'Kostprijs en Verkoopprijs'!$W$44:$W$76,13,FALSE),IFERROR(HLOOKUP($M$7,'Kostprijs en Verkoopprijs'!$W$83:$W$115,13,FALSE),IFERROR(HLOOKUP($M$7,'Kostprijs en Verkoopprijs'!$W$122:$W$154,13,FALSE),IFERROR(HLOOKUP($M$7,'Kostprijs en Verkoopprijs'!$W$161:$W$193,13,FALSE),\"\")))))","v":""},{"$f":"IF($G$7=#REF!,#REF!,IF($G$7=#REF!,#REF!,IF($G$7=#REF!,#REF!,IF($G$7=#REF!,#REF!,IF($G$7=#REF!,#REF!,\"\")))))","v":{"$error":"#REF!"}},{"$f":"IFERROR(HLOOKUP($O$7,'Kostprijs en Verkoopprijs'!$W$6:$W$38,13,FALSE),IFERROR(HLOOKUP($O$7,'Kostprijs en Verkoopprijs'!$W$44:$W$76,13,FALSE),IFERROR(HLOOKUP($O$7,'Kostprijs en Verkoopprijs'!$W$83:$W$115,13,FALSE),IFERROR(HLOOKUP($O$7,'Kostprijs en Verkoopprijs'!$W$122:$W$154,13,FALSE),IFERROR(HLOOKUP($O$7,'Kostprijs en Verkoopprijs'!$W$161:$W$193,13,FALSE),\"\")))))","v":""}]
[null,null,null,null,"Olie",null,{"$f":"IFERROR(HLOOKUP($G$7,'Kostprijs en Verkoopprijs'!$W$6:$W$38,14,FALSE),IFERROR(HLOOKUP($G$7,'Kostprijs en Verkoopprijs'!$W$44:$W$76,14,FALSE),IFERROR(HLOOKUP($G$7,'Kostprijs en Verkoopprijs'!$W$83:$W$115,14,FALSE),IFERROR(HLOOKUP($G$7,'Kostprijs en Verkoopprijs'!$W$122:$W$154,14,FALSE),IFERROR(HLOOKUP($G$7,'Kostprijs en Verkoopprijs'!$W$161:$W$193,14,FALSE),\"\")))))","v":""},{"$f":"IF($G$7=#REF!,#REF!,IF($G$7=#REF!,#REF!,IF($G$7=#REF!,#REF!,IF($G$7=#REF!,#REF!,IF($G$7=#REF!,#REF!,\"\")))))","v":{"$error":"#REF!"}},{"$f":"IFERROR(HLOOKUP($I$7,'Kostprijs en Verkoopprijs'!$W$6:$W$38,14,FALSE),IFERROR(HLOOKUP($I$7,'Kostprijs en Verkoopprijs'!$W$44:$W$76,14,FALSE),IFERROR(HLOOKUP($I$7,'Kostprijs en Verkoopprijs'!$W$83:$W$115,14,FALSE),IFERROR(HLOOKUP($I$7,'Kostprijs en Verkoopprijs'!$W$122:$W$154,14,FALSE),IFERROR(HLOOKUP($I$7,'Kostprijs en Verkoopprijs'!$W$161:$W$193,14,FALSE),\"\")))))","v":""},{"$f":"IF($G$7=#REF!,#REF!,IF($G$7=#REF!,#REF!,IF($G$7=#REF!,#REF!,IF($G$7=#REF!,#REF!,IF($G$7=#REF!,#REF!,\"\")))))","v":{"$error":"#REF!"}},{"$f":"IFERROR(HLOOKUP($K$7,'Kostprijs en Verkoopprijs'!$W$6:$W$38,14,FALSE),IFERROR(HLOOKUP($K$7,'Kostprijs en Verkoopprijs'!$W$44:$W$76,14,FALSE),IFERROR(HLOOKUP($K$7,'Kostprijs en Verkoopprijs'!$W$83:$W$115,14,FALSE),IFERROR(HLOOKUP($K$7,'Kostprijs en Verkoopprijs'!$W$122:$W$154,14,FALSE),IFERROR(HLOOKUP($K$7,'Kostprijs en Verkoopprijs'!$W$161:$W$193,14,FALSE),\"\")))))","v":""},{"$f":"IF($G$7=#REF!,#REF!,IF($G$7=#REF!,#REF!,IF($G$7=#REF!,#REF!,IF($G$7=#REF!,#REF!,IF($G$7=#REF!,#REF!,\"\")))))","v":{"$error":"#REF!"}},{"$f":"IFERROR(HLOOKUP($M$7,'Kostprijs en Verkoopprijs'!$W$6:$W$38,14,FALSE),IFERROR(HLOOKUP($M$7,'Kostprijs en Verkoopprijs'!$W$44:$W$76,14,FALSE),IFERROR(HLOOKUP($M$7,'Kostprijs en Verkoopprijs'!$W$83:$W$115,14,FALSE),IFERROR(HLOOKUP($M$7,'Kostprijs en Verkoopprijs'!$W$122:$W$154,14,FALSE),IFERROR(HLOOKUP($M$7,'Kostprijs en Verkoopprijs'!$W$161:$W$193,14,FALSE),\"\")))))","v":""},{"$f":"IF($G$7=#REF!,#REF!,IF($G$7=#REF!,#REF!,IF($G$7=#REF!,#REF!,IF($G$7=#REF!,#REF!,IF($G$7=#REF!,#REF!,\"\")))))","v":{"$error":"#REF!"}},{"$f":"IFERROR(HLOOKUP($O$7,'Kostprijs en Verkoopprijs'!$W$6:$W$38,14,FALSE),IFERROR(HLOOKUP($O$7,'Kostprijs en Verkoopprijs'!$W$44:$W$76,14,FALSE),IFERROR(HLOOKUP($O$7,'Kostprijs en Verkoopprijs'!$W$83:$W$115,14,FALSE),IFERROR(HLOOKUP($O$7,'Kostprijs en Verkoopprijs'!$W$122:$W$154,14,FALSE),IFERROR(HLOOKUP($O$7,'Kostprijs en Verkoopprijs'!$W$161:$W$193,14,FALSE),\"\")))))","v":""}]
[null,null,null,null,"Adblue",null,{"$f":"IFERROR(HLOOKUP($G$7,'Kostprijs en Verkoopprijs'!$W$6:$W$38,15,FALSE),IFERROR(HLOOKUP($G$7,'Kostprijs en Verkoopprijs'!$W$44:$W$76,15,FALSE),IFERROR(HLOOKUP($G$7,'Kostprijs en Verkoopprijs'!$W$83:$W$115,15,FALSE),IFERROR(HLOOKUP($G$7,'Kostprijs en Verkoopprijs'!$W$122:$W$154,15,FALSE),IFERROR(HLOOKUP($G$7,'Kostprijs en Verkoopprijs'!$W$161:$W$193,15,FALSE),\"\")))))","v":""},{"$f":"IF($G$7=#REF!,#REF!,IF($G$7=#REF!,#REF!,IF($G$7=#REF!,#REF!,IF($G$7=#REF!,#REF!,IF($G$7=#REF!,#REF!,\"\")))))","v":{"$error":"#REF!"}},{"$f":"IFERROR(HLOOKUP($I$7,'Kostprijs en Verkoopprijs'!$W$6:$W$38,15,FALSE),IFERROR(HLOOKUP($I$7,'Kostprijs en Verkoopprijs'!$W$44:$W$76,15,FALSE),IFERROR(HLOOKUP($I$7,'Kostprijs en Verkoopprijs'!$W$83:$W$115,15,FALSE),IFERROR(HLOOKUP($I$7,'Kostprijs en Verkoopprijs'!$W$122:$W$154,15,FALSE),IFERROR(HLOOKUP($I$7,'Kostprijs en Verkoopprijs'!$W$161:$W$193,15,FALSE),\"\")))))","v":""},{"$f":"IF($G$7=#REF!,#REF!,IF($G$7=#REF!,#REF!,IF($G$7=#REF!,#REF!,IF($G$7=#REF!,#REF!,IF($G$7=#REF!,#REF!,\"\")))))","v":{"$error":"#REF!"}},{"$f":"IFERROR(HLOOKUP($K$7,'Kostprijs en Verkoopprijs'!$W$6:$W$38,15,FALSE),IFERROR(HLOOKUP($K$7,'Kostprijs en Verkoopprijs'!$W$44:$W$76,15,FALSE),IFERROR(HLOOKUP($K$7,'Kostprijs en Verkoopprijs'!$W$83:$W$115,15,FALSE),IFERROR(HLOOKUP($K$7,'Kostprijs en Verkoopprijs'!$W$122:$W$154,15,FALSE),IFERROR(HLOOKUP($K$7,'Kostprijs en Verkoopprijs'!$W$161:$W$193,15,FALSE),\"\")))))","v":""},{"$f":"IF($G$7=#REF!,#REF!,IF($G$7=#REF!,#REF!,IF($G$7=#REF!,#REF!,IF($G$7=#REF!,#REF!,IF($G$7=#REF!,#REF!,\"\")))))","v":{"$error":"#REF!"}},{"$f":"IFERROR(HLOOKUP($M$7,'Kostprijs en Verkoopprijs'!$W$6:$W$38,15,FALSE),IFERROR(HLOOKUP($M$7,'Kostprijs en Verkoopprijs'!$W$44:$W$76,15,FALSE),IFERROR(HLOOKUP($M$7,'Kostprijs en Verkoopprijs'!$W$83:$W$115,15,FALSE),IFERROR(HLOOKUP($M$7,'Kostprijs en Verkoopprijs'!$W$122:$W$154,15,FALSE),IFERROR(HLOOKUP($M$7,'Kostprijs en Verkoopprijs'!$W$161:$W$193,15,FALSE),\"\")))))","v":""},{"$f":"IF($G$7=#REF!,#REF!,IF($G$7=#REF!,#REF!,IF($G$7=#REF!,#REF!,IF($G$7=#REF!,#REF!,IF($G$7=#REF!,#REF!,\"\")))))","v":{"$error":"#REF!"}},{"$f":"IFERROR(HLOOKUP($O$7,'Kostprijs en Verkoopprijs'!$W$6:$W$38,15,FALSE),IFERROR(HLOOKUP($O$7,'Kostprijs en Verkoopprijs'!$W$44:$W$76,15,FALSE),IFERROR(HLOOKUP($O$7,'Kostprijs en Verkoopprijs'!$W$83:$W$115,15,FALSE),IFERROR(HLOOKUP($O$7,'Kostprijs en Verkoopprijs'!$W$122:$W$154,15,FALSE),IFERROR(HLOOKUP($O$7,'Kostprijs en Verkoopprijs'!$W$161:$W$193,15,FALSE),\"\")))))","v":""}]
[null,null,null,null,"Banden",null,{"$f":"IFERROR(HLOOKUP($G$7,'Kostprijs en Verkoopprijs'!$W$6:$W$38,16,FALSE),IFERROR(HLOOKUP($G$7,'Kostprijs en Verkoopprijs'!$W$44:$W$76,16,FALSE),IFERROR(HLOOKUP($G$7,'Kostprijs en Verkoopprijs'!$W$83:$W$115,16,FALSE),IFERROR(HLOOKUP($G$7,'Kostprijs en Verkoopprijs'!$W$122:$W$154,16,FALSE),IFERROR(HLOOKUP($G$7,'Kostprijs en Verkoopprijs'!$W$161:$W$193,16,FALSE),\"\")))))","v":""},{"$f":"IF($G$7=#REF!,#REF!,IF($G$7=#REF!,#REF!,IF($G$7=#REF!,#REF!,IF($G$7=#REF!,#REF!,IF($G$7=#REF!,#REF!,\"\")))))","v":{"$error":"#REF!"}},{"$f":"IFERROR(HLOOKUP($I$7,'Kostprijs en Verkoopprijs'!$W$6:$W$38,16,FALSE),IFERROR(HLOOKUP($I$7,'Kostprijs en Verkoopprijs'!$W$44:$W$76,16,FALSE),IFERROR(HLOOKUP($I$7,'Kostprijs en Verkoopprijs'!$W$83:$W$115,16,FALSE),IFERROR(HLOOKUP($I$7,'Kostprijs en Verkoopprijs'!$W$122:$W$154,16,FALSE),IFERROR(HLOOKUP($I$7,'Kostprijs en Verkoopprijs'!$W$161:$W$193,16,FALSE),\"\")))))","v":""},{"$f":"IF($G$7=#REF!,#REF!,IF($G$7=#REF!,#REF!,IF($G$7=#REF!,#REF!,IF($G$7=#REF!,#REF!,IF($G$7=#REF!,#REF!,\"\")))))","v":{"$error":"#REF!"}},{"$f":"IFERROR(HLOOKUP($K$7,'Kostprijs en Verkoopprijs'!$W$6:$W$38,16,FALSE),IFERROR(HLOOKUP($K$7,'Kostprijs en Verkoopprijs'!$W$44:$W$76,16,FALSE),IFERROR(HLOOKUP($K$7,'Kostprijs en Verkoopprijs'!$W$83:$W$115,16,FALSE),IFERROR(HLOOKUP($K$7,'Kostprijs en Verkoopprijs'!$W$122:$W$154,16,FALSE),IFERROR(HLOOKUP($K$7,'Kostprijs en Verkoopprijs'!$W$161:$W$193,16,FALSE),\"\")))))","v":""},{"$f":"IF($G$7=#REF!,#REF!,IF($G$7=#REF!,#REF!,IF($G$7=#REF!,#REF!,IF($G$7=#REF!,#REF!,IF($G$7=#REF!,#REF!,\"\")))))","v":{"$error":"#REF!"}},{"$f":"IFERROR(HLOOKUP($M$7,'Kostprijs en Verkoopprijs'!$W$6:$W$38,16,FALSE),IFERROR(HLOOKUP($M$7,'Kostprijs en Verkoopprijs'!$W$44:$W$76,16,FALSE),IFERROR(HLOOKUP($M$7,'Kostprijs en Verkoopprijs'!$W$83:$W$115,16,FALSE),IFERROR(HLOOKUP($M$7,'Kostprijs en Verkoopprijs'!$W$122:$W$154,16,FALSE),IFERROR(HLOOKUP($M$7,'Kostprijs en Verkoopprijs'!$W$161:$W$193,16,FALSE),\"\")))))","v":""},{"$f":"IF($G$7=#REF!,#REF!,IF($G$7=#REF!,#REF!,IF($G$7=#REF!,#REF!,IF($G$7=#REF!,#REF!,IF($G$7=#REF!,#REF!,\"\")))))","v":{"$error":"#REF!"}},{"$f":"IFERROR(HLOOKUP($O$7,'Kostprijs en Verkoopprijs'!$W$6:$W$38,16,FALSE),IFERROR(HLOOKUP($O$7,'Kostprijs en Verkoopprijs'!$W$44:$W$76,16,FALSE),IFERROR(HLOOKUP($O$7,'Kostprijs en Verkoopprijs'!$W$83:$W$115,16,FALSE),IFERROR(HLOOKUP($O$7,'Kostprijs en Verkoopprijs'!$W$122:$W$154,16,FALSE),IFERROR(HLOOKUP($O$7,'Kostprijs en Verkoopprijs'!$W$161:$W$193,16,FALSE),\"\")))))","v":""}]
[null,null,null,null,"Onderhoud",null,{"$f":"IFERROR(HLOOKUP($G$7,'Kostprijs en Verkoopprijs'!$W$6:$W$38,17,FALSE),IFERROR(HLOOKUP($G$7,'Kostprijs en Verkoopprijs'!$W$44:$W$76,17,FALSE),IFERROR(HLOOKUP($G$7,'Kostprijs en Verkoopprijs'!$W$83:$W$115,17,FALSE),IFERROR(HLOOKUP($G$7,'Kostprijs en Verkoopprijs'!$W$122:$W$154,17,FALSE),IFERROR(HLOOKUP($G$7,'Kostprijs en Verkoopprijs'!$W$161:$W$193,17,FALSE),\"\")))))","v":""},{"$f":"IF($G$7=#REF!,#REF!,IF($G$7=#REF!,#REF!,IF($G$7=#REF!,#REF!,IF($G$7=#REF!,#REF!,IF($G$7=#REF!,#REF!,\"\")))))","v":{"$error":"#REF!"}},{"$f":"IFERROR(HLOOKUP($I$7,'Kostprijs en Verkoopprijs'!$W$6:$W$38,17,FALSE),IFERROR(HLOOKUP($I$7,'Kostprijs en Verkoopprijs'!$W$44:$W$76,17,FALSE),IFERROR(HLOOKUP($I$7,'Kostprijs en Verkoopprijs'!$W$83:$W$115,17,FALSE),IFERROR(HLOOKUP($I$7,'Kostprijs en Verkoopprijs'!$W$122:$W$154,17,FALSE),IFERROR(HLOOKUP($I$7,'Kostprijs en Verkoopprijs'!$W$161:$W$193,17,FALSE),\"\")))))","v":""},{"$f":"IF($G$7=#REF!,#REF!,IF($G$7=#REF!,#REF!,IF($G$7=#REF!,#REF!,IF($G$7=#REF!,#REF!,IF($G$7=#REF!,#REF!,\"\")))))","v":{"$error":"#REF!"}},{"$f":"IFERROR(HLOOKUP($K$7,'Kostprijs en Verkoopprijs'!$W$6:$W$38,17,FALSE),IFERROR(HLOOKUP($K$7,'Kostprijs en Verkoopprijs'!$W$44:$W$76,17,FALSE),IFERROR(HLOOKUP($K$7,'Kostprijs en Verkoopprijs'!$W$83:$W$115,17,FALSE),IFERROR(HLOOKUP($K$7,'Kostprijs en Verkoopprijs'!$W$122:$W$154,17,FALSE),IFERROR(HLOOKUP($K$7,'Kostprijs en Verkoopprijs'!$W$161:$W$193,17,FALSE),\"\")))))","v":""},{"$f":"IF($G$7=#REF!,#REF!,IF($G$7=#REF!,#REF!,IF($G$7=#REF!,#REF!,IF($G$7=#REF!,#REF!,IF($G$7=#REF!,#REF!,\"\")))))","v":{"$error":"#REF!"}},{"$f":"IFERROR(HLOOKUP($M$7,'Kostprijs en Verkoopprijs'!$W$6:$W$38,17,FALSE),IFERROR(HLOOKUP($M$7,'Kostprijs en Verkoopprijs'!$W$44:$W$76,17,FALSE),IFERROR(HLOOKUP($M$7,'Kostprijs en Verkoopprijs'!$W$83:$W$115,17,FALSE),IFERROR(HLOOKUP($M$7,'Kostprijs en Verkoopprijs'!$W$122:$W$154,17,FALSE),IFERROR(HLOOKUP($M$7,'Kostprijs en Verkoopprijs'!$W$161:$W$193,17,FALSE),\"\")))))","v":""},{"$f":"IF($G$7=#REF!,#REF!,IF($G$7=#REF!,#REF!,IF($G$7=#REF!,#REF!,IF($G$7=#REF!,#REF!,IF($G$7=#REF!,#REF!,\"\")))))","v":{"$error":"#REF!"}},{"$f":"IFERROR(HLOOKUP($O$7,'Kostprijs en Verkoopprijs'!$W$6:$W$38,17,FALSE),IFERROR(HLOOKUP($O$7,'Kostprijs en Verkoopprijs'!$W$44:$W$76,17,FALSE),IFERROR(HLOOKUP($O$7,'Kostprijs en Verkoopprijs'!$W$83:$W$115,17,FALSE),IFERROR(HLOOKUP($O$7,'Kostprijs en Verkoopprijs'!$W$122:$W$154,17,FALSE),IFERROR(HLOOKUP($O$7,'Kostprijs en Verkoopprijs'!$W$161:$W$193,17,FALSE),\"\")))))","v":""}]
[null,null,null,null,"Voertuig (technische afschr.)",null,{"$f":"IFERROR(HLOOKUP($G$7,'Kostprijs en Verkoopprijs'!$W$6:$W$38,18,FALSE),IFERROR(HLOOKUP($G$7,'Kostprijs en Verkoopprijs'!$W$44:$W$76,18,FALSE),IFERROR(HLOOKUP($G$7,'Kostprijs en Verkoopprijs'!$W$83:$W$115,18,FALSE),IFERROR(HLOOKUP($G$7,'Kostprijs en Verkoopprijs'!$W$122:$W$154,18,FALSE),IFERROR(HLOOKUP($G$7,'Kostprijs en Verkoopprijs'!$W$161:$W$193,18,FALSE),\"\")))))","v":""},{"$f":"IF($G$7=#REF!,#REF!,IF($G$7=#REF!,#REF!,IF($G$7=#REF!,#REF!,IF($G$7=#REF!,#REF!,IF($G$7=#REF!,#REF!,\"\")))))","v":{"$error":"#REF!"}},{"$f":"IFERROR(HLOOKUP($I$7,'Kostprijs en Verkoopprijs'!$W$6:$W$38,18,FALSE),IFERROR(HLOOKUP($I$7,'Kostprijs en Verkoopprijs'!$W$44:$W$76,18,FALSE),IFERROR(HLOOKUP($I$7,'Kostprijs en Verkoopprijs'!$W$83:$W$115,18,FALSE),IFERROR(HLOOKUP($I$7,'Kostprijs en Verkoopprijs'!$W$122:$W$154,18,FALSE),IFERROR(HLOOKUP($I$7,'Kostprijs en Verkoopprijs'!$W$161:$W$193,18,FALSE),\"\")))))","v":""},{"$f":"IF($G$7=#REF!,#REF!,IF($G$7=#REF!,#REF!,IF($G$7=#REF!,#REF!,IF($G$7=#REF!,#REF!,IF($G$7=#REF!,#REF!,\"\")))))","v":{"$error":"#REF!"}},{"$f":"IFERROR(HLOOKUP($K$7,'Kostprijs en Verkoopprijs'!$W$6:$W$38,18,FALSE),IFERROR(HLOOKUP($K$7,'Kostprijs en Verkoopprijs'!$W$44:$W$76,18,FALSE),IFERROR(HLOOKUP($K$7,'Kostprijs en Verkoopprijs'!$W$83:$W$115,18,FALSE),IFERROR(HLOOKUP($K$7,'Kostprijs en Verkoopprijs'!$W$122:$W$154,18,FALSE),IFERROR(HLOOKUP($K$7,'Kostprijs en Verkoopprijs'!$W$161:$W$193,18,FALSE),\"\")))))","v":""},{"$f":"IF($G$7=#REF!,#REF!,IF($G$7=#REF!,#REF!,IF($G$7=#REF!,#REF!,IF($G$7=#REF!,#REF!,IF($G$7=#REF!,#REF!,\"\")))))","v":{"$error":"#REF!"}},{"$f":"IFERROR(HLOOKUP($M$7,'Kostprijs en Verkoopprijs'!$W$6:$W$38,18,FALSE),IFERROR(HLOOKUP($M$7,'Kostprijs en Verkoopprijs'!$W$44:$W$76,18,FALSE),IFERROR(HLOOKUP($M$7,'Kostprijs en Verkoopprijs'!$W$83:$W$115,18,FALSE),IFERROR(HLOOKUP($M$7,'Kostprijs en Verkoopprijs'!$W$122:$W$154,18,FALSE),IFERROR(HLOOKUP($M$7,'Kostprijs en Verkoopprijs'!$W$161:$W$193,18,FALSE),\"\")))))","v":""},{"$f":"IF($G$7=#REF!,#REF!,IF($G$7=#REF!,#REF!,IF($G$7=#REF!,#REF!,IF($G$7=#REF!,#REF!,IF($G$7=#REF!,#REF!,\"\")))))","v":{"$error":"#REF!"}},{"$f":"IFERROR(HLOOKUP($O$7,'Kostprijs en Verkoopprijs'!$W$6:$W$38,18,FALSE),IFERROR(HLOOKUP($O$7,'Kostprijs en Verkoopprijs'!$W$44:$W$76,18,FALSE),IFERROR(HLOOKUP($O$7,'Kostprijs en Verkoopprijs'!$W$83:$W$115,18,FALSE),IFERROR(HLOOKUP($O$7,'Kostprijs en Verkoopprijs'!$W$122:$W$154,18,FALSE),IFERROR(HLOOKUP($O$7,'Kostprijs en Verkoopprijs'!$W$161:$W$193,18,FALSE),\"\")))))","v":""}]
[null,null,null,null,"Totaal variabel kosten",null,{"$f":"IFERROR(SUM(G18:G23),\"\")","v":0},{"$f":"IFERROR(SUM(H18:H23),\"\")","v":""},0,"",0,"",0,"",0]
[]
[null,null,null,"SPECIFIEK","Specifieke ritkosten",null,{"$f":"IFERROR(HLOOKUP($G$7,'Kostprijs en Verkoopprijs'!$W$6:$W$38,20,FALSE),IFERROR(HLOOKUP($G$7,'Kostprijs en Verkoopprijs'!$W$44:$W$76,20,FALSE),IFERROR(HLOOKUP($G$7,'Kostprijs en Verkoopprijs'!$W$83:$W$115,20,FALSE),IFERROR(HLOOKUP($G$7,'Kostprijs en Verkoopprijs'!$W$122:$W$154,20,FALSE),IFERROR(HLOOKUP($G$7,'Kostprijs en Verkoopprijs'!$W$161:$W$193,20,FALSE),\"\")))))","v":""},{"$f":"IF($G$7=#REF!,#REF!,IF($G$7=#REF!,#REF!,IF($G$7=#REF!,#REF!,IF($G$7=#REF!,#REF!,IF($G$7=#REF!,#REF!,\"\")))))","v":{"$error":"#REF!"}},{"$f":"IFERROR(HLOOKUP($I$7,'Kostprijs en Verkoopprijs'!$W$6:$W$38,20,FALSE),IFERROR(HLOOKUP($I$7,'Kostprijs en Verkoopprijs'!$W$44:$W$76,20,FALSE),IFERROR(HLOOKUP($I$7,'Kostprijs en Verkoopprijs'!$W$83:$W$115,20,FALSE),IFERROR(HLOOKUP($I$7,'Kostprijs en Verkoopprijs'!$W$122:$W$154,20,FALSE),IFERROR(HLOOKUP($I$7,'Kostprijs en Verkoopprijs'!$W$161:$W$193,20,FALSE),\"\")))))","v":""},{"$f":"IF($G$7=#REF!,#REF!,IF($G$7=#REF!,#REF!,IF($G$7=#REF!,#REF!,IF($G$7=#REF!,#REF!,IF($G$7=#REF!,#REF!,\"\")))))","v":{"$error":"#REF!"}},{"$f":"IFERROR(HLOOKUP($K$7,'Kostprijs en Verkoopprijs'!$W$6:$W$38,20,FALSE),IFERROR(HLOOKUP($K$7,'Kostprijs en Verkoopprijs'!$W$44:$W$76,20,FALSE),IFERROR(HLOOKUP($K$7,'Kostprijs en Verkoopprijs'!$W$83:$W$115,20,FALSE),IFERROR(HLOOKUP($K$7,'Kostprijs en Verkoopprijs'!$W$122:$W$154,20,FALSE),IFERROR(HLOOKUP($K$7,'Kostprijs en Verkoopprijs'!$W$161:$W$193,20,FALSE),\"\")))))","v":""},{"$f":"IF($G$7=#REF!,#REF!,IF($G$7=#REF!,#REF!,IF($G$7=#REF!,#REF!,IF($G$7=#REF!,#REF!,IF($G$7=#REF!,#REF!,\"\")))))","v":{"$error":"#REF!"}},{"$f":"IFERROR(HLOOKUP($M$7,'Kostprijs en Verkoopprijs'!$W$6:$W$38,20,FALSE),IFERROR(HLOOKUP($M$7,'Kostprijs en Verkoopprijs'!$W$44:$W$76,20,FALSE),IFERROR(HLOOKUP($M$7,'Kostprijs en Verkoopprijs'!$W$83:$W$115,20,FALSE),IFERROR(HLOOKUP($M$7,'Kostprijs en Verkoopprijs'!$W$122:$W$154,20,FALSE),IFERROR(HLOOKUP($M$7,'Kostprijs en Verkoopprijs'!$W$161:$W$193,20,FALSE),\"\")))))","v":""},{"$f":"IF($G$7=#REF!,#REF!,IF($G$7=#REF!,#REF!,IF($G$7=#REF!,#REF!,IF($G$7=#REF!,#REF!,IF($G$7=#REF!,#REF!,\"\")))))","v":{"$error":"#REF!"}},{"$f":"IFERROR(HLOOKUP($O$7,'Kostprijs en Verkoopprijs'!$W$6:$W$38,20,FALSE),IFERROR(HLOOKUP($O$7,'Kostprijs en Verkoopprijs'!$W$44:$W$76,20,FALSE),IFERROR(HLOOKUP($O$7,'Kostprijs en Verkoopprijs'!$W$83:$W$115,20,FALSE),IFERROR(HLOOKUP($O$7,'Kostprijs en Verkoopprijs'!$W$122:$W$154,20,FALSE),IFERROR(HLOOKUP($O$7,'Kostprijs en Verkoopprijs'!$W$161:$W$193,20,FALSE),\"\")))))","v":""}]
[null,null,null,null,"Totaal opties: aanhangwagens, skiboxen, …",null,{"$f":"IFERROR(HLOOKUP($G$7,'Kostprijs en Verkoopprijs'!$W$6:$W$38,24,FALSE),IFERROR(HLOOKUP($G$7,'Kostprijs en Verkoopprijs'!$W$44:$W$76,24,FALSE),IFERROR(HLOOKUP($G$7,'Kostprijs en Verkoopprijs'!$W$83:$W$115,24,FALSE),IFERROR(HLOOKUP($G$7,'Kostprijs en Verkoopprijs'!$W$122:$W$154,24,FALSE),IFERROR(HLOOKUP($G$7,'Kostprijs en Verkoopprijs'!$W$161:$W$193,24,FALSE),\"\")))))","v":""},{"$f":"IF($G$7=#REF!,SUM(#REF!),IF($G$7=#REF!,SUM(#REF!),IF($G$7=#REF!,SUM(#REF!),IF($G$7=#REF!,SUM(#REF!),IF($G$7=#REF!,SUM(#REF!),\"\")))))","v":{"$error":"#REF!"}},{"$f":"IFERROR(HLOOKUP($I$7,'Kostprijs en Verkoopprijs'!$W$6:$W$38,24,FALSE),IFERROR(HLOOKUP($I$7,'Kostprijs en Verkoopprijs'!$W$44:$W$76,24,FALSE),IFERROR(HLOOKUP($I$7,'Kostprijs en Verkoopprijs'!$W$83:$W$115,24,FALSE),IFERROR(HLOOKUP($I$7,'Kostprijs en Verkoopprijs'!$W$122:$W$154,24,FALSE),IFERROR(HLOOKUP($I$7,'Kostprijs en Verkoopprijs'!$W$161:$W$193,24,FALSE),\"\")))))","v":""},{"$f":"IF($G$7=#REF!,SUM(#REF!),IF($G$7=#REF!,SUM(#REF!),IF($G$7=#REF!,SUM(#REF!),IF($G$7=#REF!,SUM(#REF!),IF($G$7=#REF!,SUM(#REF!),\"\")))))","v":{"$error":"#REF!"}},{"$f":"IFERROR(HLOOKUP($K$7,'Kostprijs en Verkoopprijs'!$W$6:$W$38,24,FALSE),IFERROR(HLOOKUP($K$7,'Kostprijs en Verkoopprijs'!$W$44:$W$76,24,FALSE),IFERROR(HLOOKUP($K$7,'Kostprijs en Verkoopprijs'!$W$83:$W$115,24,FALSE),IFERROR(HLOOKUP($K$7,'Kostprijs en Verkoopprijs'!$W$122:$W$154,24,FALSE),IFERROR(HLOOKUP($K$7,'Kostprijs en Verkoopprijs'!$W$161:$W$193,24,FALSE),\"\")))))","v":""},{"$f":"IF($G$7=#REF!,SUM(#REF!),IF($G$7=#REF!,SUM(#REF!),IF($G$7=#REF!,SUM(#REF!),IF($G$7=#REF!,SUM(#REF!),IF($G$7=#REF!,SUM(#REF!),\"\")))))","v":{"$error":"#REF!"}},{"$f":"IFERROR(HLOOKUP($M$7,'Kostprijs en Verkoopprijs'!$W$6:$W$38,24,FALSE),IFERROR(HLOOKUP($M$7,'Kostprijs en Verkoopprijs'!$W$44:$W$76,24,FALSE),IFERROR(HLOOKUP($M$7,'Kostprijs en Verkoopprijs'!$W$83:$W$115,24,FALSE),IFERROR(HLOOKUP($M$7,'Kostprijs en Verkoopprijs'!$W$122:$W$154,24,FALSE),IFERROR(HLOOKUP($M$7,'Kostprijs en Verkoopprijs'!$W$161:$W$193,24,FALSE),\"\")))))","v":""},{"$f":"IF($G$7=#REF!,SUM(#REF!),IF($G$7=#REF!,SUM(#REF!),IF($G$7=#REF!,SUM(#REF!),IF($G$7=#REF!,SUM(#REF!),IF($G$7=#REF!,SUM(#REF!),\"\")))))","v":{"$error":"#REF!"}},{"$f":"IFERROR(HLOOKUP($O$7,'Kostprijs en Verkoopprijs'!$W$6:$W$38,24,FALSE),IFERROR(HLOOKUP($O$7,'Kostprijs en Verkoopprijs'!$W$44:$W$76,24,FALSE),IFERROR(HLOOKUP($O$7,'Kostprijs en Verkoopprijs'!$W$83:$W$115,24,FALSE),IFERROR(HLOOKUP($O$7,'Kostprijs en Verkoopprijs'!$W$122:$W$154,24,FALSE),IFERROR(HLOOKUP($O$7,'Kostprijs en Verkoopprijs'!$W$161:$W$193,24,FALSE),\"\")))))","v":""}]
[]
[]
[null,null,null,null,"Totale kostprijs",null,{"$f":"IFERROR(HLOOKUP($G$7,'Kostprijs en Verkoopprijs'!$W$6:$W$38,25,FALSE),IFERROR(HLOOKUP($G$7,'Kostprijs en Verkoopprijs'!$W$44:$W$76,25,FALSE),IFERROR(HLOOKUP($G$7,'Kostprijs en Verkoopprijs'!$W$83:$W$115,25,FALSE),IFERROR(HLOOKUP($G$7,'Kostprijs en Verkoopprijs'!$W$122:$W$154,25,FALSE),IFERROR(HLOOKUP($G$7,'Kostprijs en Verkoopprijs'!$W$161:$W$193,25,FALSE),\"\")))))","v":""},{"$f":"IF($G$7=#REF!,#REF!,IF($G$7=#REF!,#REF!,IF($G$7=#REF!,#REF!,IF($G$7=#REF!,#REF!,IF($G$7=#REF!,#REF!,\"\")))))","v":{"$error":"#REF!"}},{"$f":"IFERROR(HLOOKUP($I$7,'Kostprijs en Verkoopprijs'!$W$6:$W$38,25,FALSE),IFERROR(HLOOKUP($I$7,'Kostprijs en Verkoopprijs'!$W$44:$W$76,25,FALSE),IFERROR(HLOOKUP($I$7,'Kostprijs en Verkoopprijs'!$W$83:$W$115,25,FALSE),IFERROR(HLOOKUP($I$7,'Kostprijs en Verkoopprijs'!$W$122:$W$154,25,FALSE),IFERROR(HLOOKUP($I$7,'Kostprijs en Verkoopprijs'!$W$161:$W$193,25,FALSE),\"\")))))","v":""},{"$f":"IF($G$7=#REF!,#REF!,IF($G$7=#REF!,#REF!,IF($G$7=#REF!,#REF!,IF($G$7=#REF!,#REF!,IF($G$7=#REF!,#REF!,\"\")))))","v":{"$error":"#REF!"}},{"$f":"IFERROR(HLOOKUP($K$7,'Kostprijs en Verkoopprijs'!$W$6:$W$38,25,FALSE),IFERROR(HLOOKUP($K$7,'Kostprijs en Verkoopprijs'!$W$44:$W$76,25,FALSE),IFERROR(HLOOKUP($K$7,'Kostprijs en Verkoopprijs'!$W$83:$W$115,25,FALSE),IFERROR(HLOOKUP($K$7,'Kostprijs en Verkoopprijs'!$W$122:$W$154,25,FALSE),IFERROR(HLOOKUP($K$7,'Kostprijs en Verkoopprijs'!$W$161:$W$193,25,FALSE),\"\")))))","v":""},{"$f":"IF($G$7=#REF!,#REF!,IF($G$7=#REF!,#REF!,IF($G$7=#REF!,#REF!,IF($G$7=#REF!,#REF!,IF($G$7=#REF!,#REF!,\"\")))))","v":{"$error":"#REF!"}},{"$f":"IFERROR(HLOOKUP($M$7,'Kostprijs en Verkoopprijs'!$W$6:$W$38,25,FALSE),IFERROR(HLOOKUP($M$7,'Kostprijs en Verkoopprijs'!$W$44:$W$76,25,FALSE),IFERROR(HLOOKUP($M$7,'Kostprijs en Verkoopprijs'!$W$83:$W$115,25,FALSE),IFERROR(HLOOKUP($M$7,'Kostprijs en Verkoopprijs'!$W$122:$W$154,25,FALSE),IFERROR(HLOOKUP($M$7,'Kostprijs en Verkoopprijs'!$W$161:$W$193,25,FALSE),\"\")))))","v":""},{"$f":"IF($G$7=#REF!,#REF!,IF($G$7=#REF!,#REF!,IF($G$7=#REF!,#REF!,IF($G$7=#REF!,#REF!,IF($G$7=#REF!,#REF!,\"\")))))","v":{"$error":"#REF!"}},{"$f":"IFERROR(HLOOKUP($O$7,'Kostprijs en Verkoopprijs'!$W$6:$W$38,25,FALSE),IFERROR(HLOOKUP($O$7,'Kostprijs en Verkoopprijs'!$W$44:$W$76,25,FALSE),IFERROR(HLOOKUP($O$7,'Kostprijs en Verkoopprijs'!$W$83:$W$115,25,FALSE),IFERROR(HLOOKUP($O$7,'Kostprijs en Verkoopprijs'!$W$122:$W$154,25,FALSE),IFERROR(HLOOKUP($O$7,'Kostprijs en Verkoopprijs'!$W$161:$W$193,25,FALSE),\"\")))))","v":""}]
[null,null,null,null,"Totaal per km",null,{"$f":"IFERROR(HLOOKUP($G$7,'Kostprijs en Verkoopprijs'!$W$6:$W$38,26,FALSE),IFERROR(HLOOKUP($G$7,'Kostprijs en Verkoopprijs'!$W$44:$W$76,26,FALSE),IFERROR(HLOOKUP($G$7,'Kostprijs en Verkoopprijs'!$W$83:$W$115,26,FALSE),IFERROR(HLOOKUP($G$7,'Kostprijs en Verkoopprijs'!$W$122:$W$154,26,FALSE),IFERROR(HLOOKUP($G$7,'Kostprijs en Verkoopprijs'!$W$161:$W$193,26,FALSE),\"\")))))","v":""},{"$f":"IF($G$7=#REF!,#REF!,IF($G$7=#REF!,#REF!,IF($G$7=#REF!,#REF!,IF($G$7=#REF!,#REF!,IF($G$7=#REF!,#REF!,\"\")))))","v":{"$error":"#REF!"}},{"$f":"IFERROR(HLOOKUP($I$7,'Kostprijs en Verkoopprijs'!$W$6:$W$38,26,FALSE),IFERROR(HLOOKUP($I$7,'Kostprijs en Verkoopprijs'!$W$44:$W$76,26,FALSE),IFERROR(HLOOKUP($I$7,'Kostprijs en Verkoopprijs'!$W$83:$W$115,26,FALSE),IFERROR(HLOOKUP($I$7,'Kostprijs en Verkoopprijs'!$W$122:$W$154,26,FALSE),IFERROR(HLOOKUP($I$7,'Kostprijs en Verkoopprijs'!$W$161:$W$193,26,FALSE),\"\")))))","v":""},{"$f":"IF($G$7=#REF!,#REF!,IF($G$7=#REF!,#REF!,IF($G$7=#REF!,#REF!,IF($G$7=#REF!,#REF!,IF($G$7=#REF!,#REF!,\"\")))))","v":{"$error":"#REF!"}},{"$f":"IFERROR(HLOOKUP($K$7,'Kostprijs en Verkoopprijs'!$W$6:$W$38,26,FALSE),IFERROR(HLOOKUP($K$7,'Kostprijs en Verkoopprijs'!$W$44:$W$76,26,FALSE),IFERROR(HLOOKUP($K$7,'Kostprijs en Verkoopprijs'!$W$83:$W$115,26,FALSE),IFERROR(HLOOKUP($K$7,'Kostprijs en Verkoopprijs'!$W$122:$W$154,26,FALSE),IFERROR(HLOOKUP($K$7,'Kostprijs en Verkoopprijs'!$W$161:$W$193,26,FALSE),\"\")))))","v":""},{"$f":"IF($G$7=#REF!,#REF!,IF($G$7=#REF!,#REF!,IF($G$7=#REF!,#REF!,IF($G$7=#REF!,#REF!,IF($G$7=#REF!,#REF!,\"\")))))","v":{"$error":"#REF!"}},{"$f":"IFERROR(HLOOKUP($M$7,'Kostprijs en Verkoopprijs'!$W$6:$W$38,26,FALSE),IFERROR(HLOOKUP($M$7,'Kostprijs en Verkoopprijs'!$W$44:$W$76,26,FALSE),IFERROR(HLOOKUP($M$7,'Kostprijs en Verkoopprijs'!$W$83:$W$115,26,FALSE),IFERROR(HLOOKUP($M$7,'Kostprijs en Verkoopprijs'!$W$122:$W$154,26,FALSE),IFERROR(HLOOKUP($M$7,'Kostprijs en Verkoopprijs'!$W$161:$W$193,26,FALSE),\"\")))))","v":""},{"$f":"IF($G$7=#REF!,#REF!,IF($G$7=#REF!,#REF!,IF($G$7=#REF!,#REF!,IF($G$7=#REF!,#REF!,IF($G$7=#REF!,#REF!,\"\")))))","v":{"$error":"#REF!"}},{"$f":"IFERROR(HLOOKUP($O$7,'Kostprijs en Verkoopprijs'!$W$6:$W$38,26,FALSE),IFERROR(HLOOKUP($O$7,'Kostprijs en Verkoopprijs'!$W$44:$W$76,26,FALSE),IFERROR(HLOOKUP($O$7,'Kostprijs en Verkoopprijs'!$W$83:$W$115,26,FALSE),IFERROR(HLOOKUP($O$7,'Kostprijs en Verkoopprijs'!$W$122:$W$154,26,FALSE),IFERROR(HLOOKUP($O$7,'Kostprijs en Verkoopprijs'!$W$161:$W$193,26,FALSE),\"\")))))","v":""}]
[null,null,null,null,"Total per dag",null,{"$f":"IFERROR(HLOOKUP($G$7,'Kostprijs en Verkoopprijs'!$W$6:$W$38,27,FALSE),IFERROR(HLOOKUP($G$7,'Kostprijs en Verkoopprijs'!$W$44:$W$76,27,FALSE),IFERROR(HLOOKUP($G$7,'Kostprijs en Verkoopprijs'!$W$83:$W$115,27,FALSE),IFERROR(HLOOKUP($G$7,'Kostprijs en Verkoopprijs'!$W$122:$W$154,27,FALSE),IFERROR(HLOOKUP($G$7,'Kostprijs en Verkoopprijs'!$W$161:$W$193,27,FALSE),\"\")))))","v":""},{"$f":"IF($G$7=#REF!,#REF!,IF($G$7=#REF!,#REF!,IF($G$7=#REF!,#REF!,IF($G$7=#REF!,#REF!,IF($G$7=#REF!,#REF!,\"\")))))","v":{"$error":"#REF!"}},{"$f":"IFERROR(HLOOKUP($I$7,'Kostprijs en Verkoopprijs'!$W$6:$W$38,27,FALSE),IFERROR(HLOOKUP($I$7,'Kostprijs en Verkoopprijs'!$W$44:$W$76,27,FALSE),IFERROR(HLOOKUP($I$7,'Kostprijs en Verkoopprijs'!$W$83:$W$115,27,FALSE),IFERROR(HLOOKUP($I$7,'Kostprijs en Verkoopprijs'!$W$122:$W$154,27,FALSE),IFERROR(HLOOKUP($I$7,'Kostprijs en Verkoopprijs'!$W$161:$W$193,27,FALSE),\"\")))))","v":""},{"$f":"IF($G$7=#REF!,#REF!,IF($G$7=#REF!,#REF!,IF($G$7=#REF!,#REF!,IF($G$7=#REF!,#REF!,IF($G$7=#REF!,#REF!,\"\")))))","v":{"$error":"#REF!"}},{"$f":"IFERROR(HLOOKUP($K$7,'Kostprijs en Verkoopprijs'!$W$6:$W$38,27,FALSE),IFERROR(HLOOKUP($K$7,'Kostprijs en Verkoopprijs'!$W$44:$W$76,27,FALSE),IFERROR(HLOOKUP($K$7,'Kostprijs en Verkoopprijs'!$W$83:$W$115,27,FALSE),IFERROR(HLOOKUP($K$7,'Kostprijs en Verkoopprijs'!$W$122:$W$154,27,FALSE),IFERROR(HLOOKUP($K$7,'Kostprijs en Verkoopprijs'!$W$161:$W$193,27,FALSE),\"\")))))","v":""},{"$f":"IF($G$7=#REF!,#REF!,IF($G$7=#REF!,#REF!,IF($G$7=#REF!,#REF!,IF($G$7=#REF!,#REF!,IF($G$7=#REF!,#REF!,\"\")))))","v":{"$error":"#REF!"}},{"$f":"IFERROR(HLOOKUP($M$7,'Kostprijs en Verkoopprijs'!$W$6:$W$38,27,FALSE),IFERROR(HLOOKUP($M$7,'Kostprijs en Verkoopprijs'!$W$44:$W$76,27,FALSE),IFERROR(HLOOKUP($M$7,'Kostprijs en Verkoopprijs'!$W$83:$W$115,27,FALSE),IFERROR(HLOOKUP($M$7,'Kostprijs en Verkoopprijs'!$W$122:$W$154,27,FALSE),IFERROR(HLOOKUP($M$7,'Kostprijs en Verkoopprijs'!$W$161:$W$193,27,FALSE),\"\")))))","v":""},{"$f":"IF($G$7=#REF!,#REF!,IF($G$7=#REF!,#REF!,IF($G$7=#REF!,#REF!,IF($G$7=#REF!,#REF!,IF($G$7=#REF!,#REF!,\"\")))))","v":{"$error":"#REF!"}},{"$f":"IFERROR(HLOOKUP($O$7,'Kostprijs en Verkoopprijs'!$W$6:$W$38,27,FALSE),IFERROR(HLOOKUP($O$7,'Kostprijs en Verkoopprijs'!$W$44:$W$76,27,FALSE),IFERROR(HLOOKUP($O$7,'Kostprijs en Verkoopprijs'!$W$83:$W$115,27,FALSE),IFERROR(HLOOKUP($O$7,'Kostprijs en Verkoopprijs'!$W$122:$W$154,27,FALSE),IFERROR(HLOOKUP($O$7,'Kostprijs en Verkoopprijs'!$W$161:$W$193,27,FALSE),\"\")))))","v":""}]
[]
[null,null,null,null,"Totale verkoopprijs",null,{"$f":"IFERROR(HLOOKUP($G$7,'Kostprijs en Verkoopprijs'!$W$6:$W$38,31,FALSE),IFERROR(HLOOKUP($G$7,'Kostprijs en Verkoopprijs'!$W$44:$W$76,31,FALSE),IFERROR(HLOOKUP($G$7,'Kostprijs en Verkoopprijs'!$W$83:$W$115,31,FALSE),IFERROR(HLOOKUP($G$7,'Kostprijs en Verkoopprijs'!$W$122:$W$154,31,FALSE),IFERROR(HLOOKUP($G$7,'Kostprijs en Verkoopprijs'!$W$161:$W$193,31,FALSE),\"\")))))","v":""},{"$f":"IF($G$7=#REF!,#REF!,IF($G$7=#REF!,#REF!,IF($G$7=#REF!,#REF!,IF($G$7=#REF!,#REF!,IF($G$7=#REF!,#REF!,\"\")))))","v":{"$error":"#REF!"}},{"$f":"IFERROR(HLOOKUP($I$7,'Kostprijs en Verkoopprijs'!$W$6:$W$38,31,FALSE),IFERROR(HLOOKUP($I$7,'Kostprijs en Verkoopprijs'!$W$44:$W$76,31,FALSE),IFERROR(HLOOKUP($I$7,'Kostprijs en Verkoopprijs'!$W$83:$W$115,31,FALSE),IFERROR(HLOOKUP($I$7,'Kostprijs en Verkoopprijs'!$W$122:$W$154,31,FALSE),IFERROR(HLOOKUP($I$7,'Kostprijs en Verkoopprijs'!$W$161:$W$193,31,FALSE),\"\")))))","v":""},{"$f":"IF($G$7=#REF!,#REF!,IF($G$7=#REF!,#REF!,IF($G$7=#REF!,#REF!,IF($G$7=#REF!,#REF!,IF($G$7=#REF!,#REF!,\"\")))))","v":{"$error":"#REF!"}},{"$f":"IFERROR(HLOOKUP($K$7,'Kostprijs en Verkoopprijs'!$W$6:$W$38,31,FALSE),IFERROR(HLOOKUP($K$7,'Kostprijs en Verkoopprijs'!$W$44:$W$76,31,FALSE),IFERROR(HLOOKUP($K$7,'Kostprijs en Verkoopprijs'!$W$83:$W$115,31,FALSE),IFERROR(HLOOKUP($K$7,'Kostprijs en Verkoopprijs'!$W$122:$W$154,31,FALSE),IFERROR(HLOOKUP($K$7,'Kostprijs en Verkoopprijs'!$W$161:$W$193,31,FALSE),\"\")))))","v":""},{"$f":"IF($G$7=#REF!,#REF!,IF($G$7=#REF!,#REF!,IF($G$7=#REF!,#REF!,IF($G$7=#REF!,#REF!,IF($G$7=#REF!,#REF!,\"\")))))","v":{"$error":"#REF!"}},{"$f":"IFERROR(HLOOKUP($M$7,'Kostprijs en Verkoopprijs'!$W$6:$W$38,31,FALSE),IFERROR(HLOOKUP($M$7,'Kostprijs en Verkoopprijs'!$W$44:$W$76,31,FALSE),IFERROR(HLOOKUP($M$7,'Kostprijs en Verkoopprijs'!$W$83:$W$115,31,FALSE),IFERROR(HLOOKUP($M$7,'Kostprijs en Verkoopprijs'!$W$122:$W$154,31,FALSE),IFERROR(HLOOKUP($M$7,'Kostprijs en Verkoopprijs'!$W$161:$W$193,31,FALSE),\"\")))))","v":""},{"$f":"IF($G$7=#REF!,#REF!,IF($G$7=#REF!,#REF!,IF($G$7=#REF!,#REF!,IF($G$7=#REF!,#REF!,IF($G$7=#REF!,#REF!,\"\")))))","v":{"$error":"#REF!"}},{"$f":"IFERROR(HLOOKUP($O$7,'Kostprijs en Verkoopprijs'!$W$6:$W$38,31,FALSE),IFERROR(HLOOKUP($O$7,'Kostprijs en Verkoopprijs'!$W$44:$W$76,31,FALSE),IFERROR(HLOOKUP($O$7,'Kostprijs en Verkoopprijs'!$W$83:$W$115,31,FALSE),IFERROR(HLOOKUP($O$7,'Kostprijs en Verkoopprijs'!$W$122:$W$154,31,FALSE),IFERROR(HLOOKUP($O$7,'Kostprijs en Verkoopprijs'!$W$161:$W$193,31,FALSE),\"\")))))","v":""}]
[null,null,null,null,"Totaal per km",null,{"$f":"IFERROR(HLOOKUP($G$7,'Kostprijs en Verkoopprijs'!$W$6:$W$38,32,FALSE),IFERROR(HLOOKUP($G$7,'Kostprijs en Verkoopprijs'!$W$44:$W$76,32,FALSE),IFERROR(HLOOKUP($G$7,'Kostprijs en Verkoopprijs'!$W$83:$W$115,32,FALSE),IFERROR(HLOOKUP($G$7,'Kostprijs en Verkoopprijs'!$W$122:$W$154,32,FALSE),IFERROR(HLOOKUP($G$7,'Kostprijs en Verkoopprijs'!$W$161:$W$193,32,FALSE),\"\")))))","v":""},{"$f":"IF($G$7=#REF!,#REF!,IF($G$7=#REF!,#REF!,IF($G$7=#REF!,#REF!,IF($G$7=#REF!,#REF!,IF($G$7=#REF!,#REF!,\"\")))))","v":{"$error":"#REF!"}},{"$f":"IFERROR(HLOOKUP($I$7,'Kostprijs en Verkoopprijs'!$W$6:$W$38,32,FALSE),IFERROR(HLOOKUP($I$7,'Kostprijs en Verkoopprijs'!$W$44:$W$76,32,FALSE),IFERROR(HLOOKUP($I$7,'Kostprijs en Verkoopprijs'!$W$83:$W$115,32,FALSE),IFERROR(HLOOKUP($I$7,'Kostprijs en Verkoopprijs'!$W$122:$W$154,32,FALSE),IFERROR(HLOOKUP($I$7,'Kostprijs en Verkoopprijs'!$W$161:$W$193,32,FALSE),\"\")))))","v":""},{"$f":"IF($G$7=#REF!,#REF!,IF($G$7=#REF!,#REF!,IF($G$7=#REF!,#REF!,IF($G$7=#REF!,#REF!,IF($G$7=#REF!,#REF!,\"\")))))","v":{"$error":"#REF!"}},{"$f":"IFERROR(HLOOKUP($K$7,'Kostprijs en Verkoopprijs'!$W$6:$W$38,32,FALSE),IFERROR(HLOOKUP($K$7,'Kostprijs en Verkoopprijs'!$W$44:$W$76,32,FALSE),IFERROR(HLOOKUP($K$7,'Kostprijs en Verkoopprijs'!$W$83:$W$115,32,FALSE),IFERROR(HLOOKUP($K$7,'Kostprijs en Verkoopprijs'!$W$122:$W$154,32,FALSE),IFERROR(HLOOKUP($K$7,'Kostprijs en Verkoopprijs'!$W$161:$W$193,32,FALSE),\"\")))))","v":""},{"$f":"IF($G$7=#REF!,#REF!,IF($G$7=#REF!,#REF!,IF($G$7=#REF!,#REF!,IF($G$7=#REF!,#REF!,IF($G$7=#REF!,#REF!,\"\")))))","v":{"$error":"#REF!"}},{"$f":"IFERROR(HLOOKUP($M$7,'Kostprijs en Verkoopprijs'!$W$6:$W$38,32,FALSE),IFERROR(HLOOKUP($M$7,'Kostprijs en Verkoopprijs'!$W$44:$W$76,32,FALSE),IFERROR(HLOOKUP($M$7,'Kostprijs en Verkoopprijs'!$W$83:$W$115,32,FALSE),IFERROR(HLOOKUP($M$7,'Kostprijs en Verkoopprijs'!$W$122:$W$154,32,FALSE),IFERROR(HLOOKUP($M$7,'Kostprijs en Verkoopprijs'!$W$161:$W$193,32,FALSE),\"\")))))","v":""},{"$f":"IF($G$7=#REF!,#REF!,IF($G$7=#REF!,#REF!,IF($G$7=#REF!,#REF!,IF($G$7=#REF!,#REF!,IF($G$7=#REF!,#REF!,\"\")))))","v":{"$error":"#REF!"}},{"$f":"IFERROR(HLOOKUP($O$7,'Kostprijs en Verkoopprijs'!$W$6:$W$38,32,FALSE),IFERROR(HLOOKUP($O$7,'Kostprijs en Verkoopprijs'!$W$44:$W$76,32,FALSE),IFERROR(HLOOKUP($O$7,'Kostprijs en Verkoopprijs'!$W$83:$W$115,32,FALSE),IFERROR(HLOOKUP($O$7,'Kostprijs en Verkoopprijs'!$W$122:$W$154,32,FALSE),IFERROR(HLOOKUP($O$7,'Kostprijs en Verkoopprijs'!$W$161:$W$193,32,FALSE),\"\")))))","v":""}]
[null,null,null,null,"Totaal per dag",null,{"$f":"IFERROR(HLOOKUP($G$7,'Kostprijs en Verkoopprijs'!$W$6:$W$38,33,FALSE),IFERROR(HLOOKUP($G$7,'Kostprijs en Verkoopprijs'!$W$44:$W$76,33,FALSE),IFERROR(HLOOKUP($G$7,'Kostprijs en Verkoopprijs'!$W$83:$W$115,33,FALSE),IFERROR(HLOOKUP($G$7,'Kostprijs en Verkoopprijs'!$W$122:$W$154,33,FALSE),IFERROR(HLOOKUP($G$7,'Kostprijs en Verkoopprijs'!$W$161:$W$193,33,FALSE),\"\")))))","v":""},{"$f":"IF($G$7=#REF!,#REF!,IF($G$7=#REF!,#REF!,IF($G$7=#REF!,#REF!,IF($G$7=#REF!,#REF!,IF($G$7=#REF!,#REF!,\"\")))))","v":{"$error":"#REF!"}},{"$f":"IFERROR(HLOOKUP($I$7,'Kostprijs en Verkoopprijs'!$W$6:$W$38,33,FALSE),IFERROR(HLOOKUP($I$7,'Kostprijs en Verkoopprijs'!$W$44:$W$76,33,FALSE),IFERROR(HLOOKUP($I$7,'Kostprijs en Verkoopprijs'!$W$83:$W$115,33,FALSE),IFERROR(HLOOKUP($I$7,'Kostprijs en Verkoopprijs'!$W$122:$W$154,33,FALSE),IFERROR(HLOOKUP($I$7,'Kostprijs en Verkoopprijs'!$W$161:$W$193,33,FALSE),\"\")))))","v":""},{"$f":"IF($G$7=#REF!,#REF!,IF($G$7=#REF!,#REF!,IF($G$7=#REF!,#REF!,IF($G$7=#REF!,#REF!,IF($G$7=#REF!,#REF!,\"\")))))","v":{"$error":"#REF!"}},{"$f":"IFERROR(HLOOKUP($K$7,'Kostprijs en Verkoopprijs'!$W$6:$W$38,33,FALSE),IFERROR(HLOOKUP($K$7,'Kostprijs en Verkoopprijs'!$W$44:$W$76,33,FALSE),IFERROR(HLOOKUP($K$7,'Kostprijs en Verkoopprijs'!$W$83:$W$115,33,FALSE),IFERROR(HLOOKUP($K$7,'Kostprijs en Verkoopprijs'!$W$122:$W$154,33,FALSE),IFERROR(HLOOKUP($K$7,'Kostprijs en Verkoopprijs'!$W$161:$W$193,33,FALSE),\"\")))))","v":""},{"$f":"IF($G$7=#REF!,#REF!,IF($G$7=#REF!,#REF!,IF($G$7=#REF!,#REF!,IF($G$7=#REF!,#REF!,IF($G$7=#REF!,#REF!,\"\")))))","v":{"$error":"#REF!"}},{"$f":"IFERROR(HLOOKUP($M$7,'Kostprijs en Verkoopprijs'!$W$6:$W$38,33,FALSE),IFERROR(HLOOKUP($M$7,'Kostprijs en Verkoopprijs'!$W$44:$W$76,33,FALSE),IFERROR(HLOOKUP($M$7,'Kostprijs en Verkoopprijs'!$W$83:$W$115,33,FALSE),IFERROR(HLOOKUP($M$7,'Kostprijs en Verkoopprijs'!$W$122:$W$154,33,FALSE),IFERROR(HLOOKUP($M$7,'Kostprijs en Verkoopprijs'!$W$161:$W$193,33,FALSE),\"\")))))","v":""},{"$f":"IF($G$7=#REF!,#REF!,IF($G$7=#REF!,#REF!,IF($G$7=#REF!,#REF!,IF($G$7=#REF!,#REF!,IF($G$7=#REF!,#REF!,\"\")))))","v":{"$error":"#REF!"}},{"$f":"IFERROR(HLOOKUP($O$7,'Kostprijs en Verkoopprijs'!$W$6:$W$38,33,FALSE),IFERROR(HLOOKUP($O$7,'Kostprijs en Verkoopprijs'!$W$44:$W$76,33,FALSE),IFERROR(HLOOKUP($O$7,'Kostprijs en Verkoopprijs'!$W$83:$W$115,33,FALSE),IFERROR(HLOOKUP($O$7,'Kostprijs en Verkoopprijs'!$W$122:$W$154,33,FALSE),IFERROR(HLOOKUP($O$7,'Kostprijs en Verkoopprijs'!$W$161:$W$193,33,FALSE),\"\")))))","v":""}]
[]
[null,null,null,{"$f":"Bestemmingen!W10","v":""}]
[]
[null,null,null,null,null,null,{"$f":"IF(D38=$AE$3,$AG$3,\"\")","v":""},{"$f":"IF($D$4=$AE$3,$AG$3,IF($D$4=$AE$4,$AG$4,IF($D$4=$AE$5,$AG$5,IF($D$4=$AE$6,$AG$6,IF($D$4=$AE$7,$AG$7,\"\")))))","v":""},{"$f":"IF(D38=$AE$4,$AG$4,\"\")","v":""},"",{"$f":"IF(D38=$AE$5,$AG$5,\"\")","v":""},"",{"$f":"IF(D38=$AE$6,$AG$6,\"\")","v":""},"",{"$f":"IF(D38=$AE$7,$AG$7,\"\")","v":""}]
[null,null,null,null,null,null,{"$f":"IF(G40<>\"\",$D$38&G40,\"\")","v":""},{"$f":"IF(H40<>\"\",$D$4&H40,\"\")","v":""},{"$f":"IF(I40<>\"\",$D$38&I40,\"\")","v":""},{"$f":"IF(J40<>\"\",$D$4&J40,\"\")","v":""},{"$f":"IF(K40<>\"\",$D$38&K40,\"\")","v":""},{"$f":"IF(L40<>\"\",$D$4&L40,\"\")","v":""},{"$f":"IF(M40<>\"\",$D$38&M40,\"\")","v":""},{"$f":"IF(N40<>\"\",$D$4&N40,\"\")","v":""},{"$f":"IF(O40<>\"\",$D$38&O40,\"\")","v":""}]
[]
[null,null,null,"VAST","Voertuig (economische afschr.)",null,{"$f":"IFERROR(HLOOKUP($G$41,'Kostprijs en Verkoopprijs'!$W$6:$W$38,5,FALSE),IFERROR(HLOOKUP($G$41,'Kostprijs en Verkoopprijs'!$W$44:$W$76,5,FALSE),IFERROR(HLOOKUP($G$41,'Kostprijs en Verkoopprijs'!$W$83:$W$115,5,FALSE),IFERROR(HLOOKUP($G$41,'Kostprijs en Verkoopprijs'!$W$122:$W$154,5,FALSE),IFERROR(HLOOKUP($G$41,'Kostprijs en Verkoopprijs'!$W$161:$W$193,5,FALSE),\"\")))))","v":""},{"$f":"IFERROR(HLOOKUP(H41,'Kostprijs en Verkoopprijs'!$W$6:$W$38,5,FALSE),IFERROR(HLOOKUP(H41,'Kostprijs en Verkoopprijs'!$W$44:$W$76,5,FALSE),IFERROR(HLOOKUP(H41,'Kostprijs en Verkoopprijs'!$W$83:$W$115,5,FALSE),IFERROR(HLOOKUP(H41,'Kostprijs en Verkoopprijs'!$W$122:$W$154,5,FALSE),IFERROR(HLOOKUP(H41,'Kostprijs en Verkoopprijs'!$W$161:$W$193,5,FALSE),\"\")))))","v":""},{"$f":"IFERROR(HLOOKUP($I$41,'Kostprijs en Verkoopprijs'!$W$6:$W$38,5,FALSE),IFERROR(HLOOKUP($I$41,'Kostprijs en Verkoopprijs'!$W$44:$W$76,5,FALSE),IFERROR(HLOOKUP($I$41,'Kostprijs en Verkoopprijs'!$W$83:$W$115,5,FALSE),IFERROR(HLOOKUP($I$41,'Kostprijs en Verkoopprijs'!$W$122:$W$154,5,FALSE),IFERROR(HLOOKUP($I$41,'Kostprijs en Verkoopprijs'!$W$161:$W$193,5,FALSE),\"\")))))","v":""},{"$f":"IFERROR(HLOOKUP(J41,'Kostprijs en Verkoopprijs'!$W$6:$W$38,5,FALSE),IFERROR(HLOOKUP(J41,'Kostprijs en Verkoopprijs'!$W$44:$W$76,5,FALSE),IFERROR(HLOOKUP(J41,'Kostprijs en Verkoopprijs'!$W$83:$W$115,5,FALSE),IFERROR(HLOOKUP(J41,'Kostprijs en Verkoopprijs'!$W$122:$W$154,5,FALSE),IFERROR(HLOOKUP(J41,'Kostprijs en Verkoopprijs'!$W$161:$W$193,5,FALSE),\"\")))))","v":""},{"$f":"IFERROR(HLOOKUP($K$41,'Kostprijs en Verkoopprijs'!$W$6:$W$38,5,FALSE),IFERROR(HLOOKUP($K$41,'Kostprijs en Verkoopprijs'!$W$44:$W$76,5,FALSE),IFERROR(HLOOKUP($K$41,'Kostprijs en Verkoopprijs'!$W$83:$W$115,5,FALSE),IFERROR(HLOOKUP($K$41,'Kostprijs en Verkoopprijs'!$W$122:$W$154,5,FALSE),IFERROR(HLOOKUP($K$41,'Kostprijs en Verkoopprijs'!$W$161:$W$193,5,FALSE),\"\")))))","v":""},{"$f":"IFERROR(HLOOKUP(L41,'Kostprijs en Verkoopprijs'!$W$6:$W$38,5,FALSE),IFERROR(HLOOKUP(L41,'Kostprijs en Verkoopprijs'!$W$44:$W$76,5,FALSE),IFERROR(HLOOKUP(L41,'Kostprijs en Verkoopprijs'!$W$83:$W$115,5,FALSE),IFERROR(HLOOKUP(L41,'Kostprijs en Verkoopprijs'!$W$122:$W$154,5,FALSE),IFERROR(HLOOKUP(L41,'Kostprijs en Verkoopprijs'!$W$161:$W$193,5,FALSE),\"\")))))","v":""},{"$f":"IFERROR(HLOOKUP($M$41,'Kostprijs en Verkoopprijs'!$W$6:$W$38,5,FALSE),IFERROR(HLOOKUP($M$41,'Kostprijs en Verkoopprijs'!$W$44:$W$76,5,FALSE),IFERROR(HLOOKUP($M$41,'Kostprijs en Verkoopprijs'!$W$83:$W$115,5,FALSE),IFERROR(HLOOKUP($M$41,'Kostprijs en Verkoopprijs'!$W$122:$W$154,5,FALSE),IFERROR(HLOOKUP($M$41,'Kostprijs en Verkoopprijs'!$W$161:$W$193,5,FALSE),\"\")))))","v":""},{"$f":"IFERROR(HLOOKUP(N41,'Kostprijs en Verkoopprijs'!$W$6:$W$38,5,FALSE),IFERROR(HLOOKUP(N41,'Kostprijs en Verkoopprijs'!$W$44:$W$76,5,FALSE),IFERROR(HLOOKUP(N41,'Kostprijs en Verkoopprijs'!$W$83:$W$115,5,FALSE),IFERROR(HLOOKUP(N41,'Kostprijs en Verkoopprijs'!$W$122:$W$154,5,FALSE),IFERROR(HLOOKUP(N41,'Kostprijs en Verkoopprijs'!$W$161:$W$193,5,FALSE),\"\")))))","v":""},{"$f":"IFERROR(HLOOKUP($O$41,'Kostprijs en Verkoopprijs'!$W$6:$W$38,5,FALSE),IFERROR(HLOOKUP($O$41,'Kostprijs en Verkoopprijs'!$W$44:$W$76,5,FALSE),IFERROR(HLOOKUP($O$41,'Kostprijs en Verkoopprijs'!$W$83:$W$115,5,FALSE),IFERROR(HLOOKUP($O$41,'Kostprijs en Verkoopprijs'!$W$122:$W$154,5,FALSE),IFERROR(HLOOKUP($O$41,'Kostprijs en Verkoopprijs'!$W$161:$W$193,5,FALSE),\"\")))))","v":""}]
[null,null,null,null,"Financiering voertuig",null,{"$f":"IFERROR(HLOOKUP($G$41,'Kostprijs en Verkoopprijs'!$W$6:$W$38,6,FALSE),IFERROR(HLOOKUP($G$41,'Kostprijs en Verkoopprijs'!$W$44:$W$76,6,FALSE),IFERROR(HLOOKUP($G$41,'Kostprijs en Verkoopprijs'!$W$83:$W$115,6,FALSE),IFERROR(HLOOKUP($G$41,'Kostprijs en Verkoopprijs'!$W$122:$W$154,6,FALSE),IFERROR(HLOOKUP($G$41,'Kostprijs en Verkoopprijs'!$W$161:$W$193,6,FALSE),\"\")))))","v":""},{"$f":"IF($G$7=#REF!,#REF!,IF($G$7=#REF!,#REF!,IF($G$7=#REF!,#REF!,IF($G$7=#REF!,#REF!,IF($G$7=#REF!,#REF!,\"\")))))","v":{"$error":"#REF!"}},{"$f":"IFERROR(HLOOKUP($I$41,'Kostprijs en Verkoopprijs'!$W$6:$W$38,6,FALSE),IFERROR(HLOOKUP($I$41,'Kostprijs en Verkoopprijs'!$W$44:$W$76,6,FALSE),IFERROR(HLOOKUP($I$41,'Kostprijs en Verkoopprijs'!$W$83:$W$115,6,FALSE),IFERROR(HLOOKUP($I$41,'Kostprijs en Verkoopprijs'!$W$122:$W$154,6,FALSE),IFERROR(HLOOKUP($I$41,'Kostprijs en Verkoopprijs'!$W$161:$W$193,6,FALSE),\"\")))))","v":""},{"$f":"IF($G$7=#REF!,#REF!,IF($G$7=#REF!,#REF!,IF($G$7=#REF!,#REF!,IF($G$7=#REF!,#REF!,IF($G$7=#REF!,#REF!,\"\")))))","v":{"$error":"#REF!"}},{"$f":"IFERROR(HLOOKUP($K$41,'Kostprijs en Verkoopprijs'!$W$6:$W$38,6,FALSE),IFERROR(HLOOKUP($K$41,'Kostprijs en Verkoopprijs'!$W$44:$W$76,6,FALSE),IFERROR(HLOOKUP($K$41,'Kostprijs en Verkoopprijs'!$W$83:$W$115,6,FALSE),IFERROR(HLOOKUP($K$41,'Kostprijs en Verkoopprijs'!$W$122:$W$154,6,FALSE),IFERROR(HLOOKUP($K$41,'Kostprijs en Verkoopprijs'!$W$161:$W$193,6,FALSE),\"\")))))","v":""},{"$f":"IF($G$7=#REF!,#REF!,IF($G$7=#REF!,#REF!,IF($G$7=#REF!,#REF!,IF($G$7=#REF!,#REF!,IF($G$7=#REF!,#REF!,\"\")))))","v":{"$error":"#REF!"}},{"$f":"IFERROR(HLOOKUP($M$41,'Kostprijs en Verkoopprijs'!$W$6:$W$38,6,FALSE),IFERROR(HLOOKUP($M$41,'Kostprijs en Verkoopprijs'!$W$44:$W$76,6,FALSE),IFERROR(HLOOKUP($M$41,'Kostprijs en Verkoopprijs'!$W$83:$W$115,6,FALSE),IFERROR(HLOOKUP($M$41,'Kostprijs en Verkoopprijs'!$W$122:$W$154,6,FALSE),IFERROR(HLOOKUP($M$41,'Kostprijs en Verkoopprijs'!$W$161:$W$193,6,FALSE),\"\")))))","v":""},{"$f":"IF($G$7=#REF!,#REF!,IF($G$7=#REF!,#REF!,IF($G$7=#REF!,#REF!,IF($G$7=#REF!,#REF!,IF($G$7=#REF!,#REF!,\"\")))))","v":{"$error":"#REF!"}},{"$f":"IFERROR(HLOOKUP($O$41,'Kostprijs en Verkoopprijs'!$W$6:$W$38,6,FALSE),IFERROR(HLOOKUP($O$41,'Kostprijs en Verkoopprijs'!$W$44:$W$76,6,FALSE),IFERROR(HLOOKUP($O$41,'Kostprijs en Verkoopprijs'!$W$83:$W$115,6,FALSE),IFERROR(HLOOKUP($O$41,'Kostprijs en Verkoopprijs'!$W$122:$W$154,6,FALSE),IFERROR(HLOOKUP($O$41,'Kostprijs en Verkoopprijs'!$W$161:$W$193,6,FALSE),\"\")))))","v":""}]
[null,null,null,null,"Verzekeringen voertuig",null,{"$f":"IFERROR(HLOOKUP($G$41,'Kostprijs en Verkoopprijs'!$W$6:$W$38,7,FALSE),IFERROR(HLOOKUP($G$41,'Kostprijs en Verkoopprijs'!$W$44:$W$76,7,FALSE),IFERROR(HLOOKUP($G$41,'Kostprijs en Verkoopprijs'!$W$83:$W$115,7,FALSE),IFERROR(HLOOKUP($G$41,'Kostprijs en Verkoopprijs'!$W$122:$W$154,7,FALSE),IFERROR(HLOOKUP($G$41,'Kostprijs en Verkoopprijs'!$W$161:$W$193,7,FALSE),\"\")))))","v":""},{"$f":"IF($G$7=#REF!,#REF!,IF($G$7=#REF!,#REF!,IF($G$7=#REF!,#REF!,IF($G$7=#REF!,#REF!,IF($G$7=#REF!,#REF!,\"\")))))","v":{"$error":"#REF!"}},{"$f":"IFERROR(HLOOKUP($I$41,'Kostprijs en Verkoopprijs'!$W$6:$W$38,7,FALSE),IFERROR(HLOOKUP($I$41,'Kostprijs en Verkoopprijs'!$W$44:$W$76,7,FALSE),IFERROR(HLOOKUP($I$41,'Kostprijs en Verkoopprijs'!$W$83:$W$115,7,FALSE),IFERROR(HLOOKUP($I$41,'Kostprijs en Verkoopprijs'!$W$122:$W$154,7,FALSE),IFERROR(HLOOKUP($I$41,'Kostprijs en Verkoopprijs'!$W$161:$W$193,7,FALSE),\"\")))))","v":""},{"$f":"IF($G$7=#REF!,#REF!,IF($G$7=#REF!,#REF!,IF($G$7=#REF!,#REF!,IF($G$7=#REF!,#REF!,IF($G$7=#REF!,#REF!,\"\")))))","v":{"$error":"#REF!"}},{"$f":"IFERROR(HLOOKUP($K$41,'Kostprijs en Verkoopprijs'!$W$6:$W$38,7,FALSE),IFERROR(HLOOKUP($K$41,'Kostprijs en Verkoopprijs'!$W$44:$W$76,7,FALSE),IFERROR(HLOOKUP($K$41,'Kostprijs en Verkoopprijs'!$W$83:$W$115,7,FALSE),IFERROR(HLOOKUP($K$41,'Kostprijs en Verkoopprijs'!$W$122:$W$154,7,FALSE),IFERROR(HLOOKUP($K$41,'Kostprijs en Verkoopprijs'!$W$161:$W$193,7,FALSE),\"\")))))","v":""},{"$f":"IF($G$7=#REF!,#REF!,IF($G$7=#REF!,#REF!,IF($G$7=#REF!,#REF!,IF($G$7=#REF!,#REF!,IF($G$7=#REF!,#REF!,\"\")))))","v":{"$error":"#REF!"}},{"$f":"IFERROR(HLOOKUP($M$41,'Kostprijs en Verkoopprijs'!$W$6:$W$38,7,FALSE),IFERROR(HLOOKUP($M$41,'Kostprijs en Verkoopprijs'!$W$44:$W$76,7,FALSE),IFERROR(HLOOKUP($M$41,'Kostprijs en Verkoopprijs'!$W$83:$W$115,7,FALSE),IFERROR(HLOOKUP($M$41,'Kostprijs en Verkoopprijs'!$W$122:$W$154,7,FALSE),IFERROR(HLOOKUP($M$41,'Kostprijs en Verkoopprijs'!$W$161:$W$193,7,FALSE),\"\")))))","v":""},{"$f":"IF($G$7=#REF!,#REF!,IF($G$7=#REF!,#REF!,IF($G$7=#REF!,#REF!,IF($G$7=#REF!,#REF!,IF($G$7=#REF!,#REF!,\"\")))))","v":{"$error":"#REF!"}},{"$f":"IFERROR(HLOOKUP($O$41,'Kostprijs en Verkoopprijs'!$W$6:$W$38,7,FALSE),IFERROR(HLOOKUP($O$41,'Kostprijs en Verkoopprijs'!$W$44:$W$76,7,FALSE),IFERROR(HLOOKUP($O$41,'Kostprijs en Verkoopprijs'!$W$83:$W$115,7,FALSE),IFERROR(HLOOKUP($O$41,'Kostprijs en Verkoopprijs'!$W$122:$W$154,7,FALSE),IFERROR(HLOOKUP($O$41,'Kostprijs en Verkoopprijs'!$W$161:$W$193,7,FALSE),\"\")))))","v":""}]
[null,null,null,null,"Andere vaste kosten voertuig",null,{"$f":"IFERROR(HLOOKUP($G$41,'Kostprijs en Verkoopprijs'!$W$6:$W$38,8,FALSE),IFERROR(HLOOKUP($G$41,'Kostprijs en Verkoopprijs'!$W$44:$W$76,8,FALSE),IFERROR(HLOOKUP($G$41,'Kostprijs en Verkoopprijs'!$W$83:$W$115,8,FALSE),IFERROR(HLOOKUP($G$41,'Kostprijs en Verkoopprijs'!$W$122:$W$154,8,FALSE),IFERROR(HLOOKUP($G$41,'Kostprijs en Verkoopprijs'!$W$161:$W$193,8,FALSE),\"\")))))","v":""},{"$f":"IF($G$7=#REF!,#REF!,IF($G$7=#REF!,#REF!,IF($G$7=#REF!,#REF!,IF($G$7=#REF!,#REF!,IF($G$7=#REF!,#REF!,\"\")))))","v":{"$error":"#REF!"}},{"$f":"IFERROR(HLOOKUP($I$41,'Kostprijs en Verkoopprijs'!$W$6:$W$38,8,FALSE),IFERROR(HLOOKUP($I$41,'Kostprijs en Verkoopprijs'!$W$44:$W$76,8,FALSE),IFERROR(HLOOKUP($I$41,'Kostprijs en Verkoopprijs'!$W$83:$W$115,8,FALSE),IFERROR(HLOOKUP($I$41,'Kostprijs en Verkoopprijs'!$W$122:$W$154,8,FALSE),IFERROR(HLOOKUP($I$41,'Kostprijs en Verkoopprijs'!$W$161:$W$193,8,FALSE),\"\")))))","v":""},{"$f":"IF($G$7=#REF!,#REF!,IF($G$7=#REF!,#REF!,IF($G$7=#REF!,#REF!,IF($G$7=#REF!,#REF!,IF($G$7=#REF!,#REF!,\"\")))))","v":{"$error":"#REF!"}},{"$f":"IFERROR(HLOOKUP($K$41,'Kostprijs en Verkoopprijs'!$W$6:$W$38,8,FALSE),IFERROR(HLOOKUP($K$41,'Kostprijs en Verkoopprijs'!$W$44:$W$76,8,FALSE),IFERROR(HLOOKUP($K$41,'Kostprijs en Verkoopprijs'!$W$83:$W$115,8,FALSE),IFERROR(HLOOKUP($K$41,'Kostprijs en Verkoopprijs'!$W$122:$W$154,8,FALSE),IFERROR(HLOOKUP($K$41,'Kostprijs en Verkoopprijs'!$W$161:$W$193,8,FALSE),\"\")))))","v":""},{"$f":"IF($G$7=#REF!,#REF!,IF($G$7=#REF!,#REF!,IF($G$7=#REF!,#REF!,IF($G$7=#REF!,#REF!,IF($G$7=#REF!,#REF!,\"\")))))","v":{"$error":"#REF!"}},{"$f":"IFERROR(HLOOKUP($M$41,'Kostprijs en Verkoopprijs'!$W$6:$W$38,8,FALSE),IFERROR(HLOOKUP($M$41,'Kostprijs en Verkoopprijs'!$W$44:$W$76,8,FALSE),IFERROR(HLOOKUP($M$41,'Kostprijs en Verkoopprijs'!$W$83:$W$115,8,FALSE),IFERROR(HLOOKUP($M$41,'Kostprijs en Verkoopprijs'!$W$122:$W$154,8,FALSE),IFERROR(HLOOKUP($M$41,'Kostprijs en Verkoopprijs'!$W$161:$W$193,8,FALSE),\"\")))))","v":""},{"$f":"IF($G$7=#REF!,#REF!,IF($G$7=#REF!,#REF!,IF($G$7=#REF!,#REF!,IF($G$7=#REF!,#REF!,IF($G$7=#REF!,#REF!,\"\")))))","v":{"$error":"#REF!"}},{"$f":"IFERROR(HLOOKUP($O$41,'Kostprijs en Verkoopprijs'!$W$6:$W$38,8,FALSE),IFERROR(HLOOKUP($O$41,'Kostprijs en Verkoopprijs'!$W$44:$W$76,8,FALSE),IFERROR(HLOOKUP($O$41,'Kostprijs en Verkoopprijs'!$W$83:$W$115,8,FALSE),IFERROR(HLOOKUP($O$41,'Kostprijs en Verkoopprijs'!$W$122:$W$154,8,FALSE),IFERROR(HLOOKUP($O$41,'Kostprijs en Verkoopprijs'!$W$161:$W$193,8,FALSE),\"\")))))","v":""}]
[null,null,null,null,"Andere vaste kosten bedrijf",null,{"$f":"IFERROR(HLOOKUP($G$41,'Kostprijs en Verkoopprijs'!$W$6:$W$38,9,FALSE),IFERROR(HLOOKUP($G$41,'Kostprijs en Verkoopprijs'!$W$44:$W$76,9,FALSE),IFERROR(HLOOKUP($G$41,'Kostprijs en Verkoopprijs'!$W$83:$W$115,9,FALSE),IFERROR(HLOOKUP($G$41,'Kostprijs en Verkoopprijs'!$W$122:$W$154,9,FALSE),IFERROR(HLOOKUP($G$41,'Kostprijs en Verkoopprijs'!$W$161:$W$193,9,FALSE),\"\")))))","v":""},{"$f":"IF($G$7=#REF!,#REF!,IF($G$7=#REF!,#REF!,IF($G$7=#REF!,#REF!,IF($G$7=#REF!,#REF!,IF($G$7=#REF!,#REF!,\"\")))))","v":{"$error":"#REF!"}},{"$f":"IFERROR(HLOOKUP($I$41,'Kostprijs en Verkoopprijs'!$W$6:$W$38,9,FALSE),IFERROR(HLOOKUP($I$41,'Kostprijs en Verkoopprijs'!$W$44:$W$76,9,FALSE),IFERROR(HLOOKUP($I$41,'Kostprijs en Verkoopprijs'!$W$83:$W$115,9,FALSE),IFERROR(HLOOKUP($I$41,'Kostprijs en Verkoopprijs'!$W$122:$W$154,9,FALSE),IFERROR(HLOOKUP($I$41,'Kostprijs en Verkoopprijs'!$W$161:$W$193,9,FALSE),\"\")))))","v":""},{"$f":"IF($G$7=#REF!,#REF!,IF($G$7=#REF!,#REF!,IF($G$7=#REF!,#REF!,IF($G$7=#REF!,#REF!,IF($G$7=#REF!,#REF!,\"\")))))","v":{"$error":"#REF!"}},{"$f":"IFERROR(HLOOKUP($K$41,'Kostprijs en Verkoopprijs'!$W$6:$W$38,9,FALSE),IFERROR(HLOOKUP($K$41,'Kostprijs en Verkoopprijs'!$W$44:$W$76,9,FALSE),IFERROR(HLOOKUP($K$41,'Kostprijs en Verkoopprijs'!$W$83:$W$115,9,FALSE),IFERROR(HLOOKUP($K$41,'Kostprijs en Verkoopprijs'!$W$122:$W$154,9,FALSE),IFERROR(HLOOKUP($K$41,'Kostprijs en Verkoopprijs'!$W$161:$W$193,9,FALSE),\"\")))))","v":""},{"$f":"IF($G$7=#REF!,#REF!,IF($G$7=#REF!,#REF!,IF($G$7=#REF!,#REF!,IF($G$7=#REF!,#REF!,IF($G$7=#REF!,#REF!,\"\")))))","v":{"$error":"#REF!"}},{"$f":"IFERROR(HLOOKUP($M$41,'Kostprijs en Verkoopprijs'!$W$6:$W$38,9,FALSE),IFERROR(HLOOKUP($M$41,'Kostprijs en Verkoopprijs'!$W$44:$W$76,9,FALSE),IFERROR(HLOOKUP($M$41,'Kostprijs en Verkoopprijs'!$W$83:$W$115,9,FALSE),IFERROR(HLOOKUP($M$41,'Kostprijs en Verkoopprijs'!$W$122:$W$154,9,FALSE),IFERROR(HLOOKUP($M$41,'Kostprijs en Verkoopprijs'!$W$161:$W$193,9,FALSE),\"\")))))","v":""},{"$f":"IF($G$7=#REF!,#REF!,IF($G$7=#REF!,#REF!,IF($G$7=#REF!,#REF!,IF($G$7=#REF!,#REF!,IF($G$7=#REF!,#REF!,\"\")))))","v":{"$error":"#REF!"}},{"$f":"IFERROR(HLOOKUP($O$41,'Kostprijs en Verkoopprijs'!$W$6:$W$38,9,FALSE),IFERROR(HLOOKUP($O$41,'Kostprijs en Verkoopprijs'!$W$44:$W$76,9,FALSE),IFERROR(HLOOKUP($O$41,'Kostprijs en Verkoopprijs'!$W$83:$W$115,9,FALSE),IFERROR(HLOOKUP($O$41,'Kostprijs en Verkoopprijs'!$W$122:$W$154,9,FALSE),IFERROR(HLOOKUP($O$41,'Kostprijs en Verkoopprijs'!$W$161:$W$193,9,FALSE),\"\")))))","v":""}]
[null,null,null,null,"Totaal vaste kosten",null,{"$f":"IFERROR(SUM(G43:G47),\"\")","v":0},{"$f":"IFERROR(SUM(H43:H47),\"\")","v":""},{"$f":"IFERROR(SUM(I43:I47),\"\")","v":0},{"$f":"IFERROR(SUM(J43:J47),\"\")","v":""},{"$f":"IFERROR(SUM(K43:K47),\"\")","v":0},{"$f":"IFERROR(SUM(L43:L47),\"\")","v":""},{"$f":"IFERROR(SUM(M43:M47),\"\")","v":0},{"$f":"IFERROR(SUM(N43:N47),\"\")","v":""},{"$f":"IFERROR(SUM(O43:O47),\"\")","v":0}]
[]
[null,null,null,"LOONKOST CHAUFFEURS",null,null,{"$f":"IFERROR(HLOOKUP($G$41,'Kostprijs en Verkoopprijs'!$W$6:$W$38,11,FALSE),IFERROR(HLOOKUP($G$41,'Kostprijs en Verkoopprijs'!$W$44:$W$76,11,FALSE),IFERROR(HLOOKUP($G$41,'Kostprijs en Verkoopprijs'!$W$83:$W$115,11,FALSE),IFERROR(HLOOKUP($G$41,'Kostprijs en Verkoopprijs'!$W$122:$W$154,11,FALSE),IFERROR(HLOOKUP($G$41,'Kostprijs en Verkoopprijs'!$W$161:$W$193,11,FALSE),\"\")))))","v":""},{"$f":"IF($G$7=#REF!,#REF!,IF($G$7=#REF!,#REF!,IF($G$7=#REF!,#REF!,IF($G$7=#REF!,#REF!,IF($G$7=#REF!,#REF!,\"\")))))","v":{"$error":"#REF!"}},{"$f":"IFERROR(HLOOKUP($I$41,'Kostprijs en Verkoopprijs'!$W$6:$W$38,11,FALSE),IFERROR(HLOOKUP($I$41,'Kostprijs en Verkoopprijs'!$W$44:$W$76,11,FALSE),IFERROR(HLOOKUP($I$41,'Kostprijs en Verkoopprijs'!$W$83:$W$115,11,FALSE),IFERROR(HLOOKUP($I$41,'Kostprijs en Verkoopprijs'!$W$122:$W$154,11,FALSE),IFERROR(HLOOKUP($I$41,'Kostprijs en Verkoopprijs'!$W$161:$W$193,11,FALSE),\"\")))))","v":""},{"$f":"IF($G$7=#REF!,#REF!,IF($G$7=#REF!,#REF!,IF($G$7=#REF!,#REF!,IF($G$7=#REF!,#REF!,IF($G$7=#REF!,#REF!,\"\")))))","v":{"$error":"#REF!"}},{"$f":"IFERROR(HLOOKUP($K$41,'Kostprijs en Verkoopprijs'!$W$6:$W$38,11,FALSE),IFERROR(HLOOKUP($K$41,'Kostprijs en Verkoopprijs'!$W$44:$W$76,11,FALSE),IFERROR(HLOOKUP($K$41,'Kostprijs en Verkoopprijs'!$W$83:$W$115,11,FALSE),IFERROR(HLOOKUP($K$41,'Kostprijs en Verkoopprijs'!$W$122:$W$154,11,FALSE),IFERROR(HLOOKUP($K$41,'Kostprijs en Verkoopprijs'!$W$161:$W$193,11,FALSE),\"\")))))","v":""},{"$f":"IF($G$7=#REF!,#REF!,IF($G$7=#REF!,#REF!,IF($G$7=#REF!,#REF!,IF($G$7=#REF!,#REF!,IF($G$7=#REF!,#REF!,\"\")))))","v":{"$error":"#REF!"}},{"$f":"IFERROR(HLOOKUP($M$41,'Kostprijs en Verkoopprijs'!$W$6:$W$38,11,FALSE),IFERROR(HLOOKUP($M$41,'Kostprijs en Verkoopprijs'!$W$44:$W$76,11,FALSE),IFERROR(HLOOKUP($M$41,'Kostprijs en Verkoopprijs'!$W$83:$W$115,11,FALSE),IFERROR(HLOOKUP($M$41,'Kostprijs en Verkoopprijs'!$W$122:$W$154,11,FALSE),IFERROR(HLOOKUP($M$41,'Kostprijs en Verkoopprijs'!$W$161:$W$193,11,FALSE),\"\")))))","v":""},{"$f":"IF($G$7=#REF!,#REF!,IF($G$7=#REF!,#REF!,IF($G$7=#REF!,#REF!,IF($G$7=#REF!,#REF!,IF($G$7=#REF!,#REF!,\"\")))))","v":{"$error":"#REF!"}},{"$f":"IFERROR(HLOOKUP($O$41,'Kostprijs en Verkoopprijs'!$W$6:$W$38,11,FALSE),IFERROR(HLOOKUP($O$41,'Kostprijs en Verkoopprijs'!$W$44:$W$76,11,FALSE),IFERROR(HLOOKUP($O$41,'Kostprijs en Verkoopprijs'!$W$83:$W$115,11,FALSE),IFERROR(HLOOKUP($O$41,'Kostprijs en Verkoopprijs'!$W$122:$W$154,11,FALSE),IFERROR(HLOOKUP($O$41,'Kostprijs en Verkoopprijs'!$W$161:$W$193,11,FALSE),\"\")))))","v":""}]
[]
[null,null,null,"VARIABEL","Brandstof",null,{"$f":"IFERROR(HLOOKUP($G$41,'Kostprijs en Verkoopprijs'!$W$6:$W$38,13,FALSE),IFERROR(HLOOKUP($G$41,'Kostprijs en Verkoopprijs'!$W$44:$W$76,13,FALSE),IFERROR(HLOOKUP($G$41,'Kostprijs en Verkoopprijs'!$W$83:$W$115,13,FALSE),IFERROR(HLOOKUP($G$41,'Kostprijs en Verkoopprijs'!$W$122:$W$154,13,FALSE),IFERROR(HLOOKUP($G$41,'Kostprijs en Verkoopprijs'!$W$161:$W$193,13,FALSE),\"\")))))","v":""},{"$f":"IF($G$7=#REF!,#REF!,IF($G$7=#REF!,#REF!,IF($G$7=#REF!,#REF!,IF($G$7=#REF!,#REF!,IF($G$7=#REF!,#REF!,\"\")))))","v":{"$error":"#REF!"}},{"$f":"IFERROR(HLOOKUP($I$41,'Kostprijs en Verkoopprijs'!$W$6:$W$38,13,FALSE),IFERROR(HLOOKUP($I$41,'Kostprijs en Verkoopprijs'!$W$44:$W$76,13,FALSE),IFERROR(HLOOKUP($I$41,'Kostprijs en Verkoopprijs'!$W$83:$W$115,13,FALSE),IFERROR(HLOOKUP($I$41,'Kostprijs en Verkoopprijs'!$W$122:$W$154,13,FALSE),IFERROR(HLOOKUP($I$41,'Kostprijs en Verkoopprijs'!$W$161:$W$193,13,FALSE),\"\")))))","v":""},{"$f":"IF($G$7=#REF!,#REF!,IF($G$7=#REF!,#REF!,IF($G$7=#REF!,#REF!,IF($G$7=#REF!,#REF!,IF($G$7=#REF!,#REF!,\"\")))))","v":{"$error":"#REF!"}},{"$f":"IFERROR(HLOOKUP($K$41,'Kostprijs en Verkoopprijs'!$W$6:$W$38,13,FALSE),IFERROR(HLOOKUP($K$41,'Kostprijs en Verkoopprijs'!$W$44:$W$76,13,FALSE),IFERROR(HLOOKUP($K$41,'Kostprijs en Verkoopprijs'!$W$83:$W$115,13,FALSE),IFERROR(HLOOKUP($K$41,'Kostprijs en Verkoopprijs'!$W$122:$W$154,13,FALSE),IFERROR(HLOOKUP($K$41,'Kostprijs en Verkoopprijs'!$W$161:$W$193,13,FALSE),\"\")))))","v":""},{"$f":"IF($G$7=#REF!,#REF!,IF($G$7=#REF!,#REF!,IF($G$7=#REF!,#REF!,IF($G$7=#REF!,#REF!,IF($G$7=#REF!,#REF!,\"\")))))","v":{"$error":"#REF!"}},{"$f":"IFERROR(HLOOKUP($M$41,'Kostprijs en Verkoopprijs'!$W$6:$W$38,13,FALSE),IFERROR(HLOOKUP($M$41,'Kostprijs en Verkoopprijs'!$W$44:$W$76,13,FALSE),IFERROR(HLOOKUP($M$41,'Kostprijs en Verkoopprijs'!$W$83:$W$115,13,FALSE),IFERROR(HLOOKUP($M$41,'Kostprijs en Verkoopprijs'!$W$122:$W$154,13,FALSE),IFERROR(HLOOKUP($M$41,'Kostprijs en Verkoopprijs'!$W$161:$W$193,13,FALSE),\"\")))))","v":""},{"$f":"IF($G$7=#REF!,#REF!,IF($G$7=#REF!,#REF!,IF($G$7=#REF!,#REF!,IF($G$7=#REF!,#REF!,IF($G$7=#REF!,#REF!,\"\")))))","v":{"$error":"#REF!"}},{"$f":"IFERROR(HLOOKUP($O$41,'Kostprijs en Verkoopprijs'!$W$6:$W$38,13,FALSE),IFERROR(HLOOKUP($O$41,'Kostprijs en Verkoopprijs'!$W$44:$W$76,13,FALSE),IFERROR(HLOOKUP($O$41,'Kostprijs en Verkoopprijs'!$W$83:$W$115,13,FALSE),IFERROR(HLOOKUP($O$41,'Kostprijs en Verkoopprijs'!$W$122:$W$154,13,FALSE),IFERROR(HLOOKUP($O$41,'Kostprijs en Verkoopprijs'!$W$161:$W$193,13,FALSE),\"\")))))","v":""}]
[null,null,null,null,"Olie",null,{"$f":"IFERROR(HLOOKUP($G$41,'Kostprijs en Verkoopprijs'!$W$6:$W$38,14,FALSE),IFERROR(HLOOKUP($G$41,'Kostprijs en Verkoopprijs'!$W$44:$W$76,14,FALSE),IFERROR(HLOOKUP($G$41,'Kostprijs en Verkoopprijs'!$W$83:$W$115,14,FALSE),IFERROR(HLOOKUP($G$41,'Kostprijs en Verkoopprijs'!$W$122:$W$154,14,FALSE),IFERROR(HLOOKUP($G$41,'Kostprijs en Verkoopprijs'!$W$161:$W$193,14,FALSE),\"\")))))","v":""},{"$f":"IF($G$7=#REF!,#REF!,IF($G$7=#REF!,#REF!,IF($G$7=#REF!,#REF!,IF($G$7=#REF!,#REF!,IF($G$7=#REF!,#REF!,\"\")))))","v":{"$error":"#REF!"}},{"$f":"IFERROR(HLOOKUP($I$41,'Kostprijs en Verkoopprijs'!$W$6:$W$38,14,FALSE),IFERROR(HLOOKUP($I$41,'Kostprijs en Verkoopprijs'!$W$44:$W$76,14,FALSE),IFERROR(HLOOKUP($I$41,'Kostprijs en Verkoopprijs'!$W$83:$W$115,14,FALSE),IFERROR(HLOOKUP($I$41,'Kostprijs en Verkoopprijs'!$W$122:$W$154,14,FALSE),IFERROR(HLOOKUP($I$41,'Kostprijs en Verkoopprijs'!$W$161:$W$193,14,FALSE),\"\")))))","v":""},{"$f":"IF($G$7=#REF!,#REF!,IF($G$7=#REF!,#REF!,IF($G$7=#REF!,#REF!,IF($G$7=#REF!,#REF!,IF($G$7=#REF!,#REF!,\"\")))))","v":{"$error":"#REF!"}},{"$f":"IFERROR(HLOOKUP($K$41,'Kostprijs en Verkoopprijs'!$W$6:$W$38,14,FALSE),IFERROR(HLOOKUP($K$41,'Kostprijs en Verkoopprijs'!$W$44:$W$76,14,FALSE),IFERROR(HLOOKUP($K$41,'Kostprijs en Verkoopprijs'!$W$83:$W$115,14,FALSE),IFERROR(HLOOKUP($K$41,'Kostprijs en Verkoopprijs'!$W$122:$W$154,14,FALSE),IFERROR(HLOOKUP($K$41,'Kostprijs en Verkoopprijs'!$W$161:$W$193,14,FALSE),\"\")))))","v":""},{"$f":"IF($G$7=#REF!,#REF!,IF($G$7=#REF!,#REF!,IF($G$7=#REF!,#REF!,IF($G$7=#REF!,#REF!,IF($G$7=#REF!,#REF!,\"\")))))","v":{"$error":"#REF!"}},{"$f":"IFERROR(HLOOKUP($M$41,'Kostprijs en Verkoopprijs'!$W$6:$W$38,14,FALSE),IFERROR(HLOOKUP($M$41,'Kostprijs en Verkoopprijs'!$W$44:$W$76,14,FALSE),IFERROR(HLOOKUP($M$41,'Kostprijs en Verkoopprijs'!$W$83:$W$115,14,FALSE),IFERROR(HLOOKUP($M$41,'Kostprijs en Verkoopprijs'!$W$122:$W$154,14,FALSE),IFERROR(HLOOKUP($M$41,'Kostprijs en Verkoopprijs'!$W$161:$W$193,14,FALSE),\"\")))))","v":""},{"$f":"IF($G$7=#REF!,#REF!,IF($G$7=#REF!,#REF!,IF($G$7=#REF!,#REF!,IF($G$7=#REF!,#REF!,IF($G$7=#REF!,#REF!,\"\")))))","v":{"$error":"#REF!"}},{"$f":"IFERROR(HLOOKUP($O$41,'Kostprijs en Verkoopprijs'!$W$6:$W$38,14,FALSE),IFERROR(HLOOKUP($O$41,'Kostprijs en Verkoopprijs'!$W$44:$W$76,14,FALSE),IFERROR(HLOOKUP($O$41,'Kostprijs en Verkoopprijs'!$W$83:$W$115,14,FALSE),IFERROR(HLOOKUP($O$41,'Kostprijs en Verkoopprijs'!$W$122:$W$154,14,FALSE),IFERROR(HLOOKUP($O$41,'Kostprijs en Verkoopprijs'!$W$161:$W$193,14,FALSE),\"\")))))","v":""}]
[null,null,null,null,"Adblue",null,{"$f":"IFERROR(HLOOKUP($G$41,'Kostprijs en Verkoopprijs'!$W$6:$W$38,15,FALSE),IFERROR(HLOOKUP($G$41,'Kostprijs en Verkoopprijs'!$W$44:$W$76,15,FALSE),IFERROR(HLOOKUP($G$41,'Kostprijs en Verkoopprijs'!$W$83:$W$115,15,FALSE),IFERROR(HLOOKUP($G$41,'Kostprijs en Verkoopprijs'!$W$122:$W$154,15,FALSE),IFERROR(HLOOKUP($G$41,'Kostprijs en Verkoopprijs'!$W$161:$W$193,15,FALSE),\"\")))))","v":""},{"$f":"IF($G$7=#REF!,#REF!,IF($G$7=#REF!,#REF!,IF($G$7=#REF!,#REF!,IF($G$7=#REF!,#REF!,IF($G$7=#REF!,#REF!,\"\")))))","v":{"$error":"#REF!"}},{"$f":"IFERROR(HLOOKUP($I$41,'Kostprijs en Verkoopprijs'!$W$6:$W$38,15,FALSE),IFERROR(HLOOKUP($I$41,'Kostprijs en Verkoopprijs'!$W$44:$W$76,15,FALSE),IFERROR(HLOOKUP($I$41,'Kostprijs en Verkoopprijs'!$W$83:$W$115,15,FALSE),IFERROR(HLOOKUP($I$41,'Kostprijs en Verkoopprijs'!$W$122:$W$154,15,FALSE),IFERROR(HLOOKUP($I$41,'Kostprijs en Verkoopprijs'!$W$161:$W$193,15,FALSE),\"\")))))","v":""},{"$f":"IF($G$7=#REF!,#REF!,IF($G$7=#REF!,#REF!,IF($G$7=#REF!,#REF!,IF($G$7=#REF!,#REF!,IF($G$7=#REF!,#REF!,\"\")))))","v":{"$error":"#REF!"}},{"$f":"IFERROR(HLOOKUP($K$41,'Kostprijs en Verkoopprijs'!$W$6:$W$38,15,FALSE),IFERROR(HLOOKUP($K$41,'Kostprijs en Verkoopprijs'!$W$44:$W$76,15,FALSE),IFERROR(HLOOKUP($K$41,'Kostprijs en Verkoopprijs'!$W$83:$W$115,15,FALSE),IFERROR(HLOOKUP($K$41,'Kostprijs en Verkoopprijs'!$W$122:$W$154,15,FALSE),IFERROR(HLOOKUP($K$41,'Kostprijs en Verkoopprijs'!$W$161:$W$193,15,FALSE),\"\")))))","v":""},{"$f":"IF($G$7=#REF!,#REF!,IF($G$7=#REF!,#REF!,IF($G$7=#REF!,#REF!,IF($G$7=#REF!,#REF!,IF($G$7=#REF!,#REF!,\"\")))))","v":{"$error":"#REF!"}},{"$f":"IFERROR(HLOOKUP($M$41,'Kostprijs en Verkoopprijs'!$W$6:$W$38,15,FALSE),IFERROR(HLOOKUP($M$41,'Kostprijs en Verkoopprijs'!$W$44:$W$76,15,FALSE),IFERROR(HLOOKUP($M$41,'Kostprijs en Verkoopprijs'!$W$83:$W$115,15,FALSE),IFERROR(HLOOKUP($M$41,'Kostprijs en Verkoopprijs'!$W$122:$W$154,15,FALSE),IFERROR(HLOOKUP($M$41,'Kostprijs en Verkoopprijs'!$W$161:$W$193,15,FALSE),\"\")))))","v":""},{"$f":"IF($G$7=#REF!,#REF!,IF($G$7=#REF!,#REF!,IF($G$7=#REF!,#REF!,IF($G$7=#REF!,#REF!,IF($G$7=#REF!,#REF!,\"\")))))","v":{"$error":"#REF!"}},{"$f":"IFERROR(HLOOKUP($O$41,'Kostprijs en Verkoopprijs'!$W$6:$W$38,15,FALSE),IFERROR(HLOOKUP($O$41,'Kostprijs en Verkoopprijs'!$W$44:$W$76,15,FALSE),IFERROR(HLOOKUP($O$41,'Kostprijs en Verkoopprijs'!$W$83:$W$115,15,FALSE),IFERROR(HLOOKUP($O$41,'Kostprijs en Verkoopprijs'!$W$122:$W$154,15,FALSE),IFERROR(HLOOKUP($O$41,'Kostprijs en Verkoopprijs'!$W$161:$W$193,15,FALSE),\"\")))))","v":""}]
[null,null,null,null,"Banden",null,{"$f":"IFERROR(HLOOKUP($G$41,'Kostprijs en Verkoopprijs'!$W$6:$W$38,16,FALSE),IFERROR(HLOOKUP($G$41,'Kostprijs en Verkoopprijs'!$W$44:$W$76,16,FALSE),IFERROR(HLOOKUP($G$41,'Kostprijs en Verkoopprijs'!$W$83:$W$115,16,FALSE),IFERROR(HLOOKUP($G$41,'Kostprijs en Verkoopprijs'!$W$122:$W$154,16,FALSE),IFERROR(HLOOKUP($G$41,'Kostprijs en Verkoopprijs'!$W$161:$W$193,16,FALSE),\"\")))))","v":""},{"$f":"IF($G$7=#REF!,#REF!,IF($G$7=#REF!,#REF!,IF($G$7=#REF!,#REF!,IF($G$7=#REF!,#REF!,IF($G$7=#REF!,#REF!,\"\")))))","v":{"$error":"#REF!"}},{"$f":"IFERROR(HLOOKUP($I$41,'Kostprijs en Verkoopprijs'!$W$6:$W$38,16,FALSE),IFERROR(HLOOKUP($I$41,'Kostprijs en Verkoopprijs'!$W$44:$W$76,16,FALSE),IFERROR(HLOOKUP($I$41,'Kostprijs en Verkoopprijs'!$W$83:$W$115,16,FALSE),IFERROR(HLOOKUP($I$41,'Kostprijs en Verkoopprijs'!$W$122:$W$154,16,FALSE),IFERROR(HLOOKUP($I$41,'Kostprijs en Verkoopprijs'!$W$161:$W$193,16,FALSE),\"\")))))","v":""},{"$f":"IF($G$7=#REF!,#REF!,IF($G$7=#REF!,#REF!,IF($G$7=#REF!,#REF!,IF($G$7=#REF!,#REF!,IF($G$7=#REF!,#REF!,\"\")))))","v":{"$error":"#REF!"}},{"$f":"IFERROR(HLOOKUP($K$41,'Kostprijs en Verkoopprijs'!$W$6:$W$38,16,FALSE),IFERROR(HLOOKUP($K$41,'Kostprijs en Verkoopprijs'!$W$44:$W$76,16,FALSE),IFERROR(HLOOKUP($K$41,'Kostprijs en Verkoopprijs'!$W$83:$W$115,16,FALSE),IFERROR(HLOOKUP($K$41,'Kostprijs en Verkoopprijs'!$W$122:$W$154,16,FALSE),IFERROR(HLOOKUP($K$41,'Kostprijs en Verkoopprijs'!$W$161:$W$193,16,FALSE),\"\")))))","v":""},{"$f":"IF($G$7=#REF!,#REF!,IF($G$7=#REF!,#REF!,IF($G$7=#REF!,#REF!,IF($G$7=#REF!,#REF!,IF($G$7=#REF!,#REF!,\"\")))))","v":{"$error":"#REF!"}},{"$f":"IFERROR(HLOOKUP($M$41,'Kostprijs en Verkoopprijs'!$W$6:$W$38,16,FALSE),IFERROR(HLOOKUP($M$41,'Kostprijs en Verkoopprijs'!$W$44:$W$76,16,FALSE),IFERROR(HLOOKUP($M$41,'Kostprijs en Verkoopprijs'!$W$83:$W$115,16,FALSE),IFERROR(HLOOKUP($M$41,'Kostprijs en Verkoopprijs'!$W$122:$W$154,16,FALSE),IFERROR(HLOOKUP($M$41,'Kostprijs en Verkoopprijs'!$W$161:$W$193,16,FALSE),\"\")))))","v":""},{"$f":"IF($G$7=#REF!,#REF!,IF($G$7=#REF!,#REF!,IF($G$7=#REF!,#REF!,IF($G$7=#REF!,#REF!,IF($G$7=#REF!,#REF!,\"\")))))","v":{"$error":"#REF!"}},{"$f":"IFERROR(HLOOKUP($O$41,'Kostprijs en Verkoopprijs'!$W$6:$W$38,16,FALSE),IFERROR(HLOOKUP($O$41,'Kostprijs en Verkoopprijs'!$W$44:$W$76,16,FALSE),IFERROR(HLOOKUP($O$41,'Kostprijs en Verkoopprijs'!$W$83:$W$115,16,FALSE),IFERROR(HLOOKUP($O$41,'Kostprijs en Verkoopprijs'!$W$122:$W$154,16,FALSE),IFERROR(HLOOKUP($O$41,'Kostprijs en Verkoopprijs'!$W$161:$W$193,16,FALSE),\"\")))))","v":""}]
[null,null,null,null,"Onderhoud",null,{"$f":"IFERROR(HLOOKUP($G$41,'Kostprijs en Verkoopprijs'!$W$6:$W$38,17,FALSE),IFERROR(HLOOKUP($G$41,'Kostprijs en Verkoopprijs'!$W$44:$W$76,17,FALSE),IFERROR(HLOOKUP($G$41,'Kostprijs en Verkoopprijs'!$W$83:$W$115,17,FALSE),IFERROR(HLOOKUP($G$41,'Kostprijs en Verkoopprijs'!$W$122:$W$154,17,FALSE),IFERROR(HLOOKUP($G$41,'Kostprijs en Verkoopprijs'!$W$161:$W$193,17,FALSE),\"\")))))","v":""},{"$f":"IF($G$7=#REF!,#REF!,IF($G$7=#REF!,#REF!,IF($G$7=#REF!,#REF!,IF($G$7=#REF!,#REF!,IF($G$7=#REF!,#REF!,\"\")))))","v":{"$error":"#REF!"}},{"$f":"IFERROR(HLOOKUP($I$41,'Kostprijs en Verkoopprijs'!$W$6:$W$38,17,FALSE),IFERROR(HLOOKUP($I$41,'Kostprijs en Verkoopprijs'!$W$44:$W$76,17,FALSE),IFERROR(HLOOKUP($I$41,'Kostprijs en Verkoopprijs'!$W$83:$W$115,17,FALSE),IFERROR(HLOOKUP($I$41,'Kostprijs en Verkoopprijs'!$W$122:$W$154,17,FALSE),IFERROR(HLOOKUP($I$41,'Kostprijs en Verkoopprijs'!$W$161:$W$193,17,FALSE),\"\")))))","v":""},{"$f":"IF($G$7=#REF!,#REF!,IF($G$7=#REF!,#REF!,IF($G$7=#REF!,#REF!,IF($G$7=#REF!,#REF!,IF($G$7=#REF!,#REF!,\"\")))))","v":{"$error":"#REF!"}},{"$f":"IFERROR(HLOOKUP($K$41,'Kostprijs en Verkoopprijs'!$W$6:$W$38,17,FALSE),IFERROR(HLOOKUP($K$41,'Kostprijs en Verkoopprijs'!$W$44:$W$76,17,FALSE),IFERROR(HLOOKUP($K$41,'Kostprijs en Verkoopprijs'!$W$83:$W$115,17,FALSE),IFERROR(HLOOKUP($K$41,'Kostprijs en Verkoopprijs'!$W$122:$W$154,17,FALSE),IFERROR(HLOOKUP($K$41,'Kostprijs en Verkoopprijs'!$W$161:$W$193,17,FALSE),\"\")))))","v":""},{"$f":"IF($G$7=#REF!,#REF!,IF($G$7=#REF!,#REF!,IF($G$7=#REF!,#REF!,IF($G$7=#REF!,#REF!,IF($G$7=#REF!,#REF!,\"\")))))","v":{"$error":"#REF!"}},{"$f":"IFERROR(HLOOKUP($M$41,'Kostprijs en Verkoopprijs'!$W$6:$W$38,17,FALSE),IFERROR(HLOOKUP($M$41,'Kostprijs en Verkoopprijs'!$W$44:$W$76,17,FALSE),IFERROR(HLOOKUP($M$41,'Kostprijs en Verkoopprijs'!$W$83:$W$115,17,FALSE),IFERROR(HLOOKUP($M$41,'Kostprijs en Verkoopprijs'!$W$122:$W$154,17,FALSE),IFERROR(HLOOKUP($M$41,'Kostprijs en Verkoopprijs'!$W$161:$W$193,17,FALSE),\"\")))))","v":""},{"$f":"IF($G$7=#REF!,#REF!,IF($G$7=#REF!,#REF!,IF($G$7=#REF!,#REF!,IF($G$7=#REF!,#REF!,IF($G$7=#REF!,#REF!,\"\")))))","v":{"$error":"#REF!"}},{"$f":"IFERROR(HLOOKUP($O$41,'Kostprijs en Verkoopprijs'!$W$6:$W$38,17,FALSE),IFERROR(HLOOKUP($O$41,'Kostprijs en Verkoopprijs'!$W$44:$W$76,17,FALSE),IFERROR(HLOOKUP($O$41,'Kostprijs en Verkoopprijs'!$W$83:$W$115,17,FALSE),IFERROR(HLOOKUP($O$41,'Kostprijs en Verkoopprijs'!$W$122:$W$154,17,FALSE),IFERROR(HLOOKUP($O$41,'Kostprijs en Verkoopprijs'!$W$161:$W$193,17,FALSE),\"\")))))","v":""}]
[null,null,null,null,"Voertuig (technische afschr.)",null,{"$f":"IFERROR(HLOOKUP($G$41,'Kostprijs en Verkoopprijs'!$W$6:$W$38,18,FALSE),IFERROR(HLOOKUP($G$41,'Kostprijs en Verkoopprijs'!$W$44:$W$76,18,FALSE),IFERROR(HLOOKUP($G$41,'Kostprijs en Verkoopprijs'!$W$83:$W$115,18,FALSE),IFERROR(HLOOKUP($G$41,'Kostprijs en Verkoopprijs'!$W$122:$W$154,18,FALSE),IFERROR(HLOOKUP($G$41,'Kostprijs en Verkoopprijs'!$W$161:$W$193,18,FALSE),\"\")))))","v":""},{"$f":"IF($G$7=#REF!,#REF!,IF($G$7=#REF!,#REF!,IF($G$7=#REF!,#REF!,IF($G$7=#REF!,#REF!,IF($G$7=#REF!,#REF!,\"\")))))","v":{"$error":"#REF!"}},{"$f":"IFERROR(HLOOKUP($I$41,'Kostprijs en Verkoopprijs'!$W$6:$W$38,18,FALSE),IFERROR(HLOOKUP($I$41,'Kostprijs en Verkoopprijs'!$W$44:$W$76,18,FALSE),IFERROR(HLOOKUP($I$41,'Kostprijs en Verkoopprijs'!$W$83:$W$115,18,FALSE),IFERROR(HLOOKUP($I$41,'Kostprijs en Verkoopprijs'!$W$122:$W$154,18,FALSE),IFERROR(HLOOKUP($I$41,'Kostprijs en Verkoopprijs'!$W$161:$W$193,18,FALSE),\"\")))))","v":""},{"$f":"IF($G$7=#REF!,#REF!,IF($G$7=#REF!,#REF!,IF($G$7=#REF!,#REF!,IF($G$7=#REF!,#REF!,IF($G$7=#REF!,#REF!,\"\")))))","v":{"$error":"#REF!"}},{"$f":"IFERROR(HLOOKUP($K$41,'Kostprijs en Verkoopprijs'!$W$6:$W$38,18,FALSE),IFERROR(HLOOKUP($K$41,'Kostprijs en Verkoopprijs'!$W$44:$W$76,18,FALSE),IFERROR(HLOOKUP($K$41,'Kostprijs en Verkoopprijs'!$W$83:$W$115,18,FALSE),IFERROR(HLOOKUP($K$41,'Kostprijs en Verkoopprijs'!$W$122:$W$154,18,FALSE),IFERROR(HLOOKUP($K$41,'Kostprijs en Verkoopprijs'!$W$161:$W$193,18,FALSE),\"\")))))","v":""},{"$f":"IF($G$7=#REF!,#REF!,IF($G$7=#REF!,#REF!,IF($G$7=#REF!,#REF!,IF($G$7=#REF!,#REF!,IF($G$7=#REF!,#REF!,\"\")))))","v":{"$error":"#REF!"}},{"$f":"IFERROR(HLOOKUP($M$41,'Kostprijs en Verkoopprijs'!$W$6:$W$38,18,FALSE),IFERROR(HLOOKUP($M$41,'Kostprijs en Verkoopprijs'!$W$44:$W$76,18,FALSE),IFERROR(HLOOKUP($M$41,'Kostprijs en Verkoopprijs'!$W$83:$W$115,18,FALSE),IFERROR(HLOOKUP($M$41,'Kostprijs en Verkoopprijs'!$W$122:$W$154,18,FALSE),IFERROR(HLOOKUP($M$41,'Kostprijs en Verkoopprijs'!$W$161:$W$193,18,FALSE),\"\")))))","v":""},{"$f":"IF($G$7=#REF!,#REF!,IF($G$7=#REF!,#REF!,IF($G$7=#REF!,#REF!,IF($G$7=#REF!,#REF!,IF($G$7=#REF!,#REF!,\"\")))))","v":{"$error":"#REF!"}},{"$f":"IFERROR(HLOOKUP($O$41,'Kostprijs en Verkoopprijs'!$W$6:$W$38,18,FALSE),IFERROR(HLOOKUP($O$41,'Kostprijs en Verkoopprijs'!$W$44:$W$76,18,FALSE),IFERROR(HLOOKUP($O$41,'Kostprijs en Verkoopprijs'!$W$83:$W$115,18,FALSE),IFERROR(HLOOKUP($O$41,'Kostprijs en Verkoopprijs'!$W$122:$W$154,18,FALSE),IFERROR(HLOOKUP($O$41,'Kostprijs en Verkoopprijs'!$W$161:$W$193,18,FALSE),\"\")))))","v":""}]
[null,null,null,null,"Totaal variabel kosten",null,{"$f":"IFERROR(SUM(G52:G57),\"\")","v":0},{"$f":"IFERROR(SUM(H52:H57),\"\")","v":""},{"$f":"IFERROR(SUM(I52:I57),\"\")","v":0},{"$f":"IFERROR(SUM(J52:J57),\"\")","v":""},{"$f":"IFERROR(SUM(K52:K57),\"\")","v":0},{"$f":"IFERROR(SUM(L52:L57),\"\")","v":""},{"$f":"IFERROR(SUM(M52:M57),\"\")","v":0},{"$f":"IFERROR(SUM(N52:N57),\"\")","v":""},{"$f":"IFERROR(SUM(O52:O57),\"\")","v":0}]
[]
[null,null,null,"SPECIFIEK","Specifieke ritkosten",null,{"$f":"IFERROR(HLOOKUP($G$41,'Kostprijs en Verkoopprijs'!$W$6:$W$38,20,FALSE),IFERROR(HLOOKUP($G$41,'Kostprijs en Verkoopprijs'!$W$44:$W$76,20,FALSE),IFERROR(HLOOKUP($G$41,'Kostprijs en Verkoopprijs'!$W$83:$W$115,20,FALSE),IFERROR(HLOOKUP($G$41,'Kostprijs en Verkoopprijs'!$W$122:$W$154,20,FALSE),IFERROR(HLOOKUP($G$41,'Kostprijs en Verkoopprijs'!$W$161:$W$193,20,FALSE),\"\")))))","v":""},{"$f":"IF($G$7=#REF!,#REF!,IF($G$7=#REF!,#REF!,IF($G$7=#REF!,#REF!,IF($G$7=#REF!,#REF!,IF($G$7=#REF!,#REF!,\"\")))))","v":{"$error":"#REF!"}},{"$f":"IFERROR(HLOOKUP($I$41,'Kostprijs en Verkoopprijs'!$W$6:$W$38,20,FALSE),IFERROR(HLOOKUP($I$41,'Kostprijs en Verkoopprijs'!$W$44:$W$76,20,FALSE),IFERROR(HLOOKUP($I$41,'Kostprijs en Verkoopprijs'!$W$83:$W$115,20,FALSE),IFERROR(HLOOKUP($I$41,'Kostprijs en Verkoopprijs'!$W$122:$W$154,20,FALSE),IFERROR(HLOOKUP($I$41,'Kostprijs en Verkoopprijs'!$W$161:$W$193,20,FALSE),\"\")))))","v":""},{"$f":"IF($G$7=#REF!,#REF!,IF($G$7=#REF!,#REF!,IF($G$7=#REF!,#REF!,IF($G$7=#REF!,#REF!,IF($G$7=#REF!,#REF!,\"\")))))","v":{"$error":"#REF!"}},{"$f":"IFERROR(HLOOKUP($K$41,'Kostprijs en Verkoopprijs'!$W$6:$W$38,20,FALSE),IFERROR(HLOOKUP($K$41,'Kostprijs en Verkoopprijs'!$W$44:$W$76,20,FALSE),IFERROR(HLOOKUP($K$41,'Kostprijs en Verkoopprijs'!$W$83:$W$115,20,FALSE),IFERROR(HLOOKUP($K$41,'Kostprijs en Verkoopprijs'!$W$122:$W$154,20,FALSE),IFERROR(HLOOKUP($K$41,'Kostprijs en Verkoopprijs'!$W$161:$W$193,20,FALSE),\"\")))))","v":""},{"$f":"IF($G$7=#REF!,#REF!,IF($G$7=#REF!,#REF!,IF($G$7=#REF!,#REF!,IF($G$7=#REF!,#REF!,IF($G$7=#REF!,#REF!,\"\")))))","v":{"$error":"#REF!"}},{"$f":"IFERROR(HLOOKUP($M$41,'Kostprijs en Verkoopprijs'!$W$6:$W$38,20,FALSE),IFERROR(HLOOKUP($M$41,'Kostprijs en Verkoopprijs'!$W$44:$W$76,20,FALSE),IFERROR(HLOOKUP($M$41,'Kostprijs en Verkoopprijs'!$W$83:$W$115,20,FALSE),IFERROR(HLOOKUP($M$41,'Kostprijs en Verkoopprijs'!$W$122:$W$154,20,FALSE),IFERROR(HLOOKUP($M$41,'Kostprijs en Verkoopprijs'!$W$161:$W$193,20,FALSE),\"\")))))","v":""},{"$f":"IF($G$7=#REF!,#REF!,IF($G$7=#REF!,#REF!,IF($G$7=#REF!,#REF!,IF($G$7=#REF!,#REF!,IF($G$7=#REF!,#REF!,\"\")))))","v":{"$error":"#REF!"}},{"$f":"IFERROR(HLOOKUP($O$41,'Kostprijs en Verkoopprijs'!$W$6:$W$38,20,FALSE),IFERROR(HLOOKUP($O$41,'Kostprijs en Verkoopprijs'!$W$44:$W$76,20,FALSE),IFERROR(HLOOKUP($O$41,'Kostprijs en Verkoopprijs'!$W$83:$W$115,20,FALSE),IFERROR(HLOOKUP($O$41,'Kostprijs en Verkoopprijs'!$W$122:$W$154,20,FALSE),IFERROR(HLOOKUP($O$41,'Kostprijs en Verkoopprijs'!$W$161:$W$193,20,FALSE),\"\")))))","v":""}]
[null,null,null,null,"Totaal opties: aanhangwagens, skiboxen, …",null,{"$f":"IFERROR(HLOOKUP($G$41,'Kostprijs en Verkoopprijs'!$W$6:$W$38,24,FALSE),IFERROR(HLOOKUP($G$41,'Kostprijs en Verkoopprijs'!$W$44:$W$76,24,FALSE),IFERROR(HLOOKUP($G$41,'Kostprijs en Verkoopprijs'!$W$83:$W$115,24,FALSE),IFERROR(HLOOKUP($G$41,'Kostprijs en Verkoopprijs'!$W$122:$W$154,24,FALSE),IFERROR(HLOOKUP($G$41,'Kostprijs en Verkoopprijs'!$W$161:$W$193,24,FALSE),\"\")))))","v":""},{"$f":"IF($G$7=#REF!,SUM(#REF!),IF($G$7=#REF!,SUM(#REF!),IF($G$7=#REF!,SUM(#REF!),IF($G$7=#REF!,SUM(#REF!),IF($G$7=#REF!,SUM(#REF!),\"\")))))","v":{"$error":"#REF!"}},{"$f":"IFERROR(HLOOKUP($I$41,'Kostprijs en Verkoopprijs'!$W$6:$W$38,24,FALSE),IFERROR(HLOOKUP($I$41,'Kostprijs en Verkoopprijs'!$W$44:$W$76,24,FALSE),IFERROR(HLOOKUP($I$41,'Kostprijs en Verkoopprijs'!$W$83:$W$115,24,FALSE),IFERROR(HLOOKUP($I$41,'Kostprijs en Verkoopprijs'!$W$122:$W$154,24,FALSE),IFERROR(HLOOKUP($I$41,'Kostprijs en Verkoopprijs'!$W$161:$W$193,24,FALSE),\"\")))))","v":""},{"$f":"IF($G$7=#REF!,SUM(#REF!),IF($G$7=#REF!,SUM(#REF!),IF($G$7=#REF!,SUM(#REF!),IF($G$7=#REF!,SUM(#REF!),IF($G$7=#REF!,SUM(#REF!),\"\")))))","v":{"$error":"#REF!"}},{"$f":"IFERROR(HLOOKUP($K$41,'Kostprijs en Verkoopprijs'!$W$6:$W$38,24,FALSE),IFERROR(HLOOKUP($K$41,'Kostprijs en Verkoopprijs'!$W$44:$W$76,24,FALSE),IFERROR(HLOOKUP($K$41,'Kostprijs en Verkoopprijs'!$W$83:$W$115,24,FALSE),IFERROR(HLOOKUP($K$41,'Kostprijs en Verkoopprijs'!$W$122:$W$154,24,FALSE),IFERROR(HLOOKUP($K$41,'Kostprijs en Verkoopprijs'!$W$161:$W$193,24,FALSE),\"\")))))","v":""},{"$f":"IF($G$7=#REF!,SUM(#REF!),IF($G$7=#REF!,SUM(#REF!),IF($G$7=#REF!,SUM(#REF!),IF($G$7=#REF!,SUM(#REF!),IF($G$7=#REF!,SUM(#REF!),\"\")))))","v":{"$error":"#REF!"}},{"$f":"IFERROR(HLOOKUP($M$41,'Kostprijs en Verkoopprijs'!$W$6:$W$38,24,FALSE),IFERROR(HLOOKUP($M$41,'Kostprijs en Verkoopprijs'!$W$44:$W$76,24,FALSE),IFERROR(HLOOKUP($M$41,'Kostprijs en Verkoopprijs'!$W$83:$W$115,24,FALSE),IFERROR(HLOOKUP($M$41,'Kostprijs en Verkoopprijs'!$W$122:$W$154,24,FALSE),IFERROR(HLOOKUP($M$41,'Kostprijs en Verkoopprijs'!$W$161:$W$193,24,FALSE),\"\")))))","v":""},{"$f":"IF($G$7=#REF!,SUM(#REF!),IF($G$7=#REF!,SUM(#REF!),IF($G$7=#REF!,SUM(#REF!),IF($G$7=#REF!,SUM(#REF!),IF($G$7=#REF!,SUM(#REF!),\"\")))))","v":{"$error":"#REF!"}},{"$f":"IFERROR(HLOOKUP($O$41,'Kostprijs en Verkoopprijs'!$W$6:$W$38,24,FALSE),IFERROR(HLOOKUP($O$41,'Kostprijs en Verkoopprijs'!$W$44:$W$76,24,FALSE),IFERROR(HLOOKUP($O$41,'Kostprijs en Verkoopprijs'!$W$83:$W$115,24,FALSE),IFERROR(HLOOKUP($O$41,'Kostprijs en Verkoopprijs'!$W$122:$W$154,24,FALSE),IFERROR(HLOOKUP($O$41,'Kostprijs en Verkoopprijs'!$W$161:$W$193,24,FALSE),\"\")))))","v":""}]
[]
[]
[null,null,null,null,"Totale kostprijs",null,{"$f":"IFERROR(HLOOKUP($G$41,'Kostprijs en Verkoopprijs'!$W$6:$W$38,25,FALSE),IFERROR(HLOOKUP($G$41,'Kostprijs en Verkoopprijs'!$W$44:$W$76,25,FALSE),IFERROR(HLOOKUP($G$41,'Kostprijs en Verkoopprijs'!$W$83:$W$115,25,FALSE),IFERROR(HLOOKUP($G$41,'Kostprijs en Verkoopprijs'!$W$122:$W$154,25,FALSE),IFERROR(HLOOKUP($G$41,'Kostprijs en Verkoopprijs'!$W$161:$W$193,25,FALSE),\"\")))))","v":""},{"$f":"IF($G$7=#REF!,#REF!,IF($G$7=#REF!,#REF!,IF($G$7=#REF!,#REF!,IF($G$7=#REF!,#REF!,IF($G$7=#REF!,#REF!,\"\")))))","v":{"$error":"#REF!"}},{"$f":"IFERROR(HLOOKUP($I$41,'Kostprijs en Verkoopprijs'!$W$6:$W$38,25,FALSE),IFERROR(HLOOKUP($I$41,'Kostprijs en Verkoopprijs'!$W$44:$W$76,25,FALSE),IFERROR(HLOOKUP($I$41,'Kostprijs en Verkoopprijs'!$W$83:$W$115,25,FALSE),IFERROR(HLOOKUP($I$41,'Kostprijs en Verkoopprijs'!$W$122:$W$154,25,FALSE),IFERROR(HLOOKUP($I$41,'Kostprijs en Verkoopprijs'!$W$161:$W$193,25,FALSE),\"\")))))","v":""},{"$f":"IF($G$7=#REF!,#REF!,IF($G$7=#REF!,#REF!,IF($G$7=#REF!,#REF!,IF($G$7=#REF!,#REF!,IF($G$7=#REF!,#REF!,\"\")))))","v":{"$error":"#REF!"}},{"$f":"IFERROR(HLOOKUP($K$41,'Kostprijs en Verkoopprijs'!$W$6:$W$38,25,FALSE),IFERROR(HLOOKUP($K$41,'Kostprijs en Verkoopprijs'!$W$44:$W$76,25,FALSE),IFERROR(HLOOKUP($K$41,'Kostprijs en Verkoopprijs'!$W$83:$W$115,25,FALSE),IFERROR(HLOOKUP($K$41,'Kostprijs en Verkoopprijs'!$W$122:$W$154,25,FALSE),IFERROR(HLOOKUP($K$41,'Kostprijs en Verkoopprijs'!$W$161:$W$193,25,FALSE),\"\")))))","v":""},{"$f":"IF($G$7=#REF!,#REF!,IF($G$7=#REF!,#REF!,IF($G$7=#REF!,#REF!,IF($G$7=#REF!,#REF!,IF($G$7=#REF!,#REF!,\"\")))))","v":{"$error":"#REF!"}},{"$f":"IFERROR(HLOOKUP($M$41,'Kostprijs en Verkoopprijs'!$W$6:$W$38,25,FALSE),IFERROR(HLOOKUP($M$41,'Kostprijs en Verkoopprijs'!$W$44:$W$76,25,FALSE),IFERROR(HLOOKUP($M$41,'Kostprijs en Verkoopprijs'!$W$83:$W$115,25,FALSE),IFERROR(HLOOKUP($M$41,'Kostprijs en Verkoopprijs'!$W$122:$W$154,25,FALSE),IFERROR(HLOOKUP($M$41,'Kostprijs en Verkoopprijs'!$W$161:$W$193,25,FALSE),\"\")))))","v":""},{"$f":"IF($G$7=#REF!,#REF!,IF($G$7=#REF!,#REF!,IF($G$7=#REF!,#REF!,IF($G$7=#REF!,#REF!,IF($G$7=#REF!,#REF!,\"\")))))","v":{"$error":"#REF!"}},{"$f":"IFERROR(HLOOKUP($O$41,'Kostprijs en Verkoopprijs'!$W$6:$W$38,25,FALSE),IFERROR(HLOOKUP($O$41,'Kostprijs en Verkoopprijs'!$W$44:$W$76,25,FALSE),IFERROR(HLOOKUP($O$41,'Kostprijs en Verkoopprijs'!$W$83:$W$115,25,FALSE),IFERROR(HLOOKUP($O$41,'Kostprijs en Verkoopprijs'!$W$122:$W$154,25,FALSE),IFERROR(HLOOKUP($O$41,'Kostprijs en Verkoopprijs'!$W$161:$W$193,25,FALSE),\"\")))))","v":""}]
[null,null,null,null,"Totaal per km",null,{"$f":"IFERROR(HLOOKUP($G$41,'Kostprijs en Verkoopprijs'!$W$6:$W$38,26,FALSE),IFERROR(HLOOKUP($G$41,'Kostprijs en Verkoopprijs'!$W$44:$W$76,26,FALSE),IFERROR(HLOOKUP($G$41,'Kostprijs en Verkoopprijs'!$W$83:$W$115,26,FALSE),IFERROR(HLOOKUP($G$41,'Kostprijs en Verkoopprijs'!$W$122:$W$154,26,FALSE),IFERROR(HLOOKUP($G$41,'Kostprijs en Verkoopprijs'!$W$161:$W$193,26,FALSE),\"\")))))","v":""},{"$f":"IF($G$7=#REF!,#REF!,IF($G$7=#REF!,#REF!,IF($G$7=#REF!,#REF!,IF($G$7=#REF!,#REF!,IF($G$7=#REF!,#REF!,\"\")))))","v":{"$error":"#REF!"}},{"$f":"IFERROR(HLOOKUP($I$41,'Kostprijs en Verkoopprijs'!$W$6:$W$38,26,FALSE),IFERROR(HLOOKUP($I$41,'Kostprijs en Verkoopprijs'!$W$44:$W$76,26,FALSE),IFERROR(HLOOKUP($I$41,'Kostprijs en Verkoopprijs'!$W$83:$W$115,26,FALSE),IFERROR(HLOOKUP($I$41,'Kostprijs en Verkoopprijs'!$W$122:$W$154,26,FALSE),IFERROR(HLOOKUP($I$41,'Kostprijs en Verkoopprijs'!$W$161:$W$193,26,FALSE),\"\")))))","v":""},{"$f":"IF($G$7=#REF!,#REF!,IF($G$7=#REF!,#REF!,IF($G$7=#REF!,#REF!,IF($G$7=#REF!,#REF!,IF($G$7=#REF!,#REF!,\"\")))))","v":{"$error":"#REF!"}},{"$f":"IFERROR(HLOOKUP($K$41,'Kostprijs en Verkoopprijs'!$W$6:$W$38,26,FALSE),IFERROR(HLOOKUP($K$41,'Kostprijs en Verkoopprijs'!$W$44:$W$76,26,FALSE),IFERROR(HLOOKUP($K$41,'Kostprijs en Verkoopprijs'!$W$83:$W$115,26,FALSE),IFERROR(HLOOKUP($K$41,'Kostprijs en Verkoopprijs'!$W$122:$W$154,26,FALSE),IFERROR(HLOOKUP($K$41,'Kostprijs en Verkoopprijs'!$W$161:$W$193,26,FALSE),\"\")))))","v":""},{"$f":"IF($G$7=#REF!,#REF!,IF($G$7=#REF!,#REF!,IF($G$7=#REF!,#REF!,IF($G$7=#REF!,#REF!,IF($G$7=#REF!,#REF!,\"\")))))","v":{"$error":"#REF!"}},{"$f":"IFERROR(HLOOKUP($M$41,'Kostprijs en Verkoopprijs'!$W$6:$W$38,26,FALSE),IFERROR(HLOOKUP($M$41,'Kostprijs en Verkoopprijs'!$W$44:$W$76,26,FALSE),IFERROR(HLOOKUP($M$41,'Kostprijs en Verkoopprijs'!$W$83:$W$115,26,FALSE),IFERROR(HLOOKUP($M$41,'Kostprijs en Verkoopprijs'!$W$122:$W$154,26,FALSE),IFERROR(HLOOKUP($M$41,'Kostprijs en Verkoopprijs'!$W$161:$W$193,26,FALSE),\"\")))))","v":""},{"$f":"IF($G$7=#REF!,#REF!,IF($G$7=#REF!,#REF!,IF($G$7=#REF!,#REF!,IF($G$7=#REF!,#REF!,IF($G$7=#REF!,#REF!,\"\")))))","v":{"$error":"#REF!"}},{"$f":"IFERROR(HLOOKUP($O$41,'Kostprijs en Verkoopprijs'!$W$6:$W$38,26,FALSE),IFERROR(HLOOKUP($O$41,'Kostprijs en Verkoopprijs'!$W$44:$W$76,26,FALSE),IFERROR(HLOOKUP($O$41,'Kostprijs en Verkoopprijs'!$W$83:$W$115,26,FALSE),IFERROR(HLOOKUP($O$41,'Kostprijs en Verkoopprijs'!$W$122:$W$154,26,FALSE),IFERROR(HLOOKUP($O$41,'Kostprijs en Verkoopprijs'!$W$161:$W$193,26,FALSE),\"\")))))","v":""}]
[null,null,null,null,"Total per dag",null,{"$f":"IFERROR(HLOOKUP($G$41,'Kostprijs en Verkoopprijs'!$W$6:$W$38,27,FALSE),IFERROR(HLOOKUP($G$41,'Kostprijs en Verkoopprijs'!$W$44:$W$76,27,FALSE),IFERROR(HLOOKUP($G$41,'Kostprijs en Verkoopprijs'!$W$83:$W$115,27,FALSE),IFERROR(HLOOKUP($G$41,'Kostprijs en Verkoopprijs'!$W$122:$W$154,27,FALSE),IFERROR(HLOOKUP($G$41,'Kostprijs en Verkoopprijs'!$W$161:$W$193,27,FALSE),\"\")))))","v":""},{"$f":"IF($G$7=#REF!,#REF!,IF($G$7=#REF!,#REF!,IF($G$7=#REF!,#REF!,IF($G$7=#REF!,#REF!,IF($G$7=#REF!,#REF!,\"\")))))","v":{"$error":"#REF!"}},{"$f":"IFERROR(HLOOKUP($I$41,'Kostprijs en Verkoopprijs'!$W$6:$W$38,27,FALSE),IFERROR(HLOOKUP($I$41,'Kostprijs en Verkoopprijs'!$W$44:$W$76,27,FALSE),IFERROR(HLOOKUP($I$41,'Kostprijs en Verkoopprijs'!$W$83:$W$115,27,FALSE),IFERROR(HLOOKUP($I$41,'Kostprijs en Verkoopprijs'!$W$122:$W$154,27,FALSE),IFERROR(HLOOKUP($I$41,'Kostprijs en Verkoopprijs'!$W$161:$W$193,27,FALSE),\"\")))))","v":""},{"$f":"IF($G$7=#REF!,#REF!,IF($G$7=#REF!,#REF!,IF($G$7=#REF!,#REF!,IF($G$7=#REF!,#REF!,IF($G$7=#REF!,#REF!,\"\")))))","v":{"$error":"#REF!"}},{"$f":"IFERROR(HLOOKUP($K$41,'Kostprijs en Verkoopprijs'!$W$6:$W$38,27,FALSE),IFERROR(HLOOKUP($K$41,'Kostprijs en Verkoopprijs'!$W$44:$W$76,27,FALSE),IFERROR(HLOOKUP($K$41,'Kostprijs en Verkoopprijs'!$W$83:$W$115,27,FALSE),IFERROR(HLOOKUP($K$41,'Kostprijs en Verkoopprijs'!$W$122:$W$154,27,FALSE),IFERROR(HLOOKUP($K$41,'Kostprijs en Verkoopprijs'!$W$161:$W$193,27,FALSE),\"\")))))","v":""},{"$f":"IF($G$7=#REF!,#REF!,IF($G$7=#REF!,#REF!,IF($G$7=#REF!,#REF!,IF($G$7=#REF!,#REF!,IF($G$7=#REF!,#REF!,\"\")))))","v":{"$error":"#REF!"}},{"$f":"IFERROR(HLOOKUP($M$41,'Kostprijs en Verkoopprijs'!$W$6:$W$38,27,FALSE),IFERROR(HLOOKUP($M$41,'Kostprijs en Verkoopprijs'!$W$44:$W$76,27,FALSE),IFERROR(HLOOKUP($M$41,'Kostprijs en Verkoopprijs'!$W$83:$W$115,27,FALSE),IFERROR(HLOOKUP($M$41,'Kostprijs en Verkoopprijs'!$W$122:$W$154,27,FALSE),IFERROR(HLOOKUP($M$41,'Kostprijs en Verkoopprijs'!$W$161:$W$193,27,FALSE),\"\")))))","v":""},{"$f":"IF($G$7=#REF!,#REF!,IF($G$7=#REF!,#REF!,IF($G$7=#REF!,#REF!,IF($G$7=#REF!,#REF!,IF($G$7=#REF!,#REF!,\"\")))))","v":{"$error":"#REF!"}},{"$f":"IFERROR(HLOOKUP($O$41,'Kostprijs en Verkoopprijs'!$W$6:$W$38,27,FALSE),IFERROR(HLOOKUP($O$41,'Kostprijs en Verkoopprijs'!$W$44:$W$76,27,FALSE),IFERROR(HLOOKUP($O$41,'Kostprijs en Verkoopprijs'!$W$83:$W$115,27,FALSE),IFERROR(HLOOKUP($O$41,'Kostprijs en Verkoopprijs'!$W$122:$W$154,27,FALSE),IFERROR(HLOOKUP($O$41,'Kostprijs en Verkoopprijs'!$W$161:$W$193,27,FALSE),\"\")))))","v":""}]
[]
[null,null,null,null,"Totale verkoopprijs",null,{"$f":"IFERROR(HLOOKUP($G$41,'Kostprijs en Verkoopprijs'!$W$6:$W$38,31,FALSE),IFERROR(HLOOKUP($G$41,'Kostprijs en Verkoopprijs'!$W$44:$W$76,31,FALSE),IFERROR(HLOOKUP($G$41,'Kostprijs en Verkoopprijs'!$W$83:$W$115,31,FALSE),IFERROR(HLOOKUP($G$41,'Kostprijs en Verkoopprijs'!$W$122:$W$154,31,FALSE),IFERROR(HLOOKUP($G$41,'Kostprijs en Verkoopprijs'!$W$161:$W$193,31,FALSE),\"\")))))","v":""},{"$f":"IF($G$7=#REF!,#REF!,IF($G$7=#REF!,#REF!,IF($G$7=#REF!,#REF!,IF($G$7=#REF!,#REF!,IF($G$7=#REF!,#REF!,\"\")))))","v":{"$error":"#REF!"}},{"$f":"IFERROR(HLOOKUP($I$41,'Kostprijs en Verkoopprijs'!$W$6:$W$38,31,FALSE),IFERROR(HLOOKUP($I$41,'Kostprijs en Verkoopprijs'!$W$44:$W$76,31,FALSE),IFERROR(HLOOKUP($I$41,'Kostprijs en Verkoopprijs'!$W$83:$W$115,31,FALSE),IFERROR(HLOOKUP($I$41,'Kostprijs en Verkoopprijs'!$W$122:$W$154,31,FALSE),IFERROR(HLOOKUP($I$41,'Kostprijs en Verkoopprijs'!$W$161:$W$193,31,FALSE),\"\")))))","v":""},{"$f":"IF($G$7=#REF!,#REF!,IF($G$7=#REF!,#REF!,IF($G$7=#REF!,#REF!,IF($G$7=#REF!,#REF!,IF($G$7=#REF!,#REF!,\"\")))))","v":{"$error":"#REF!"}},{"$f":"IFERROR(HLOOKUP($K$41,'Kostprijs en Verkoopprijs'!$W$6:$W$38,31,FALSE),IFERROR(HLOOKUP($K$41,'Kostprijs en Verkoopprijs'!$W$44:$W$76,31,FALSE),IFERROR(HLOOKUP($K$41,'Kostprijs en Verkoopprijs'!$W$83:$W$115,31,FALSE),IFERROR(HLOOKUP($K$41,'Kostprijs en Verkoopprijs'!$W$122:$W$154,31,FALSE),IFERROR(HLOOKUP($K$41,'Kostprijs en Verkoopprijs'!$W$161:$W$193,31,FALSE),\"\")))))","v":""},{"$f":"IF($G$7=#REF!,#REF!,IF($G$7=#REF!,#REF!,IF($G$7=#REF!,#REF!,IF($G$7=#REF!,#REF!,IF($G$7=#REF!,#REF!,\"\")))))","v":{"$error":"#REF!"}},{"$f":"IFERROR(HLOOKUP($M$41,'Kostprijs en Verkoopprijs'!$W$6:$W$38,31,FALSE),IFERROR(HLOOKUP($M$41,'Kostprijs en Verkoopprijs'!$W$44:$W$76,31,FALSE),IFERROR(HLOOKUP($M$41,'Kostprijs en Verkoopprijs'!$W$83:$W$115,31,FALSE),IFERROR(HLOOKUP($M$41,'Kostprijs en Verkoopprijs'!$W$122:$W$154,31,FALSE),IFERROR(HLOOKUP($M$41,'Kostprijs en Verkoopprijs'!$W$161:$W$193,31,FALSE),\"\")))))","v":""},{"$f":"IF($G$7=#REF!,#REF!,IF($G$7=#REF!,#REF!,IF($G$7=#REF!,#REF!,IF($G$7=#REF!,#REF!,IF($G$7=#REF!,#REF!,\"\")))))","v":{"$error":"#REF!"}},{"$f":"IFERROR(HLOOKUP($O$41,'Kostprijs en Verkoopprijs'!$W$6:$W$38,31,FALSE),IFERROR(HLOOKUP($O$41,'Kostprijs en Verkoopprijs'!$W$44:$W$76,31,FALSE),IFERROR(HLOOKUP($O$41,'Kostprijs en Verkoopprijs'!$W$83:$W$115,31,FALSE),IFERROR(HLOOKUP($O$41,'Kostprijs en Verkoopprijs'!$W$122:$W$154,31,FALSE),IFERROR(HLOOKUP($O$41,'Kostprijs en Verkoopprijs'!$W$161:$W$193,31,FALSE),\"\")))))","v":""}]
[null,null,null,null,"Totaal per km",null,{"$f":"IFERROR(HLOOKUP($G$41,'Kostprijs en Verkoopprijs'!$W$6:$W$38,32,FALSE),IFERROR(HLOOKUP($G$41,'Kostprijs en Verkoopprijs'!$W$44:$W$76,32,FALSE),IFERROR(HLOOKUP($G$41,'Kostprijs en Verkoopprijs'!$W$83:$W$115,32,FALSE),IFERROR(HLOOKUP($G$41,'Kostprijs en Verkoopprijs'!$W$122:$W$154,32,FALSE),IFERROR(HLOOKUP($G$41,'Kostprijs en Verkoopprijs'!$W$161:$W$193,32,FALSE),\"\")))))","v":""},{"$f":"IF($G$7=#REF!,#REF!,IF($G$7=#REF!,#REF!,IF($G$7=#REF!,#REF!,IF($G$7=#REF!,#REF!,IF($G$7=#REF!,#REF!,\"\")))))","v":{"$error":"#REF!"}},{"$f":"IFERROR(HLOOKUP($I$41,'Kostprijs en Verkoopprijs'!$W$6:$W$38,32,FALSE),IFERROR(HLOOKUP($I$41,'Kostprijs en Verkoopprijs'!$W$44:$W$76,32,FALSE),IFERROR(HLOOKUP($I$41,'Kostprijs en Verkoopprijs'!$W$83:$W$115,32,FALSE),IFERROR(HLOOKUP($I$41,'Kostprijs en Verkoopprijs'!$W$122:$W$154,32,FALSE),IFERROR(HLOOKUP($I$41,'Kostprijs en Verkoopprijs'!$W$161:$W$193,32,FALSE),\"\")))))","v":""},{"$f":"IF($G$7=#REF!,#REF!,IF($G$7=#REF!,#REF!,IF($G$7=#REF!,#REF!,IF($G$7=#REF!,#REF!,IF($G$7=#REF!,#REF!,\"\")))))","v":{"$error":"#REF!"}},{"$f":"IFERROR(HLOOKUP($K$41,'Kostprijs en Verkoopprijs'!$W$6:$W$38,32,FALSE),IFERROR(HLOOKUP($K$41,'Kostprijs en Verkoopprijs'!$W$44:$W$76,32,FALSE),IFERROR(HLOOKUP($K$41,'Kostprijs en Verkoopprijs'!$W$83:$W$115,32,FALSE),IFERROR(HLOOKUP($K$41,'Kostprijs en Verkoopprijs'!$W$122:$W$154,32,FALSE),IFERROR(HLOOKUP($K$41,'Kostprijs en Verkoopprijs'!$W$161:$W$193,32,FALSE),\"\")))))","v":""},{"$f":"IF($G$7=#REF!,#REF!,IF($G$7=#REF!,#REF!,IF($G$7=#REF!,#REF!,IF($G$7=#REF!,#REF!,IF($G$7=#REF!,#REF!,\"\")))))","v":{"$error":"#REF!"}},{"$f":"IFERROR(HLOOKUP($M$41,'Kostprijs en Verkoopprijs'!$W$6:$W$38,32,FALSE),IFERROR(HLOOKUP($M$41,'Kostprijs en Verkoopprijs'!$W$44:$W$76,32,FALSE),IFERROR(HLOOKUP($M$41,'Kostprijs en Verkoopprijs'!$W$83:$W$115,32,FALSE),IFERROR(HLOOKUP($M$41,'Kostprijs en Verkoopprijs'!$W$122:$W$154,32,FALSE),IFERROR(HLOOKUP($M$41,'Kostprijs en Verkoopprijs'!$W$161:$W$193,32,FALSE),\"\")))))","v":""},{"$f":"IF($G$7=#REF!,#REF!,IF($G$7=#REF!,#REF!,IF($G$7=#REF!,#REF!,IF($G$7=#REF!,#REF!,IF($G$7=#REF!,#REF!,\"\")))))","v":{"$error":"#REF!"}},{"$f":"IFERROR(HLOOKUP($O$41,'Kostprijs en Verkoopprijs'!$W$6:$W$38,32,FALSE),IFERROR(HLOOKUP($O$41,'Kostprijs en Verkoopprijs'!$W$44:$W$76,32,FALSE),IFERROR(HLOOKUP($O$41,'Kostprijs en Verkoopprijs'!$W$83:$W$115,32,FALSE),IFERROR(HLOOKUP($O$41,'Kostprijs en Verkoopprijs'!$W$122:$W$154,32,FALSE),IFERROR(HLOOKUP($O$41,'Kostprijs en Verkoopprijs'!$W$161:$W$193,32,FALSE),\"\")))))","v":""}]
[null,null,null,null,"Totaal per dag",null,{"$f":"IFERROR(HLOOKUP($G$41,'Kostprijs en Verkoopprijs'!$W$6:$W$38,33,FALSE),IFERROR(HLOOKUP($G$41,'Kostprijs en Verkoopprijs'!$W$44:$W$76,33,FALSE),IFERROR(HLOOKUP($G$41,'Kostprijs en Verkoopprijs'!$W$83:$W$115,33,FALSE),IFERROR(HLOOKUP($G$41,'Kostprijs en Verkoopprijs'!$W$122:$W$154,33,FALSE),IFERROR(HLOOKUP($G$41,'Kostprijs en Verkoopprijs'!$W$161:$W$193,33,FALSE),\"\")))))","v":""},{"$f":"IF($G$7=#REF!,#REF!,IF($G$7=#REF!,#REF!,IF($G$7=#REF!,#REF!,IF($G$7=#REF!,#REF!,IF($G$7=#REF!,#REF!,\"\")))))","v":{"$error":"#REF!"}},{"$f":"IFERROR(HLOOKUP($I$41,'Kostprijs en Verkoopprijs'!$W$6:$W$38,33,FALSE),IFERROR(HLOOKUP($I$41,'Kostprijs en Verkoopprijs'!$W$44:$W$76,33,FALSE),IFERROR(HLOOKUP($I$41,'Kostprijs en Verkoopprijs'!$W$83:$W$115,33,FALSE),IFERROR(HLOOKUP($I$41,'Kostprijs en Verkoopprijs'!$W$122:$W$154,33,FALSE),IFERROR(HLOOKUP($I$41,'Kostprijs en Verkoopprijs'!$W$161:$W$193,33,FALSE),\"\")))))","v":""},{"$f":"IF($G$7=#REF!,#REF!,IF($G$7=#REF!,#REF!,IF($G$7=#REF!,#REF!,IF($G$7=#REF!,#REF!,IF($G$7=#REF!,#REF!,\"\")))))","v":{"$error":"#REF!"}},{"$f":"IFERROR(HLOOKUP($K$41,'Kostprijs en Verkoopprijs'!$W$6:$W$38,33,FALSE),IFERROR(HLOOKUP($K$41,'Kostprijs en Verkoopprijs'!$W$44:$W$76,33,FALSE),IFERROR(HLOOKUP($K$41,'Kostprijs en Verkoopprijs'!$W$83:$W$115,33,FALSE),IFERROR(HLOOKUP($K$41,'Kostprijs en Verkoopprijs'!$W$122:$W$154,33,FALSE),IFERROR(HLOOKUP($K$41,'Kostprijs en Verkoopprijs'!$W$161:$W$193,33,FALSE),\"\")))))","v":""},{"$f":"IF($G$7=#REF!,#REF!,IF($G$7=#REF!,#REF!,IF($G$7=#REF!,#REF!,IF($G$7=#REF!,#REF!,IF($G$7=#REF!,#REF!,\"\")))))","v":{"$error":"#REF!"}},{"$f":"IFERROR(HLOOKUP($M$41,'Kostprijs en Verkoopprijs'!$W$6:$W$38,33,FALSE),IFERROR(HLOOKUP($M$41,'Kostprijs en Verkoopprijs'!$W$44:$W$76,33,FALSE),IFERROR(HLOOKUP($M$41,'Kostprijs en Verkoopprijs'!$W$83:$W$115,33,FALSE),IFERROR(HLOOKUP($M$41,'Kostprijs en Verkoopprijs'!$W$122:$W$154,33,FALSE),IFERROR(HLOOKUP($M$41,'Kostprijs en Verkoopprijs'!$W$161:$W$193,33,FALSE),\"\")))))","v":""},{"$f":"IF($G$7=#REF!,#REF!,IF($G$7=#REF!,#REF!,IF($G$7=#REF!,#REF!,IF($G$7=#REF!,#REF!,IF($G$7=#REF!,#REF!,\"\")))))","v":{"$error":"#REF!"}},{"$f":"IFERROR(HLOOKUP($O$41,'Kostprijs en Verkoopprijs'!$W$6:$W$38,33,FALSE),IFERROR(HLOOKUP($O$41,'Kostprijs en Verkoopprijs'!$W$44:$W$76,33,FALSE),IFERROR(HLOOKUP($O$41,'Kostprijs en Verkoopprijs'!$W$83:$W$115,33,FALSE),IFERROR(HLOOKUP($O$41,'Kostprijs en Verkoopprijs'!$W$122:$W$154,33,FALSE),IFERROR(HLOOKUP($O$41,'Kostprijs en Verkoopprijs'!$W$161:$W$193,33,FALSE),\"\")))))","v":""}]
[]
[null,null,null,{"$f":"Bestemmingen!W12","v":""}]
[]
[null,null,null,null,null,null,{"$f":"IF(D72=$AE$3,$AG$3,\"\")","v":""},{"$f":"IF($D$4=$AE$3,$AG$3,IF($D$4=$AE$4,$AG$4,IF($D$4=$AE$5,$AG$5,IF($D$4=$AE$6,$AG$6,IF($D$4=$AE$7,$AG$7,\"\")))))","v":""},{"$f":"IF(D72=$AE$4,$AG$4,\"\")","v":""},"",{"$f":"IF(D72=$AE$5,$AG$5,\"\")","v":""},"",{"$f":"IF(D72=$AE$6,$AG$6,\"\")","v":""},"",{"$f":"IF(D72=$AE$7,$AG$7,\"\")","v":""}]
[null,null,null,null,null,null,{"$f":"IF(G74<>\"\",$D$72&G74,\"\")","v":""},{"$f":"IF(H74<>\"\",$D$4&H74,\"\")","v":""},{"$f":"IF(I74<>\"\",$D$72&I74,\"\")","v":""},{"$f":"IF(J74<>\"\",$D$4&J74,\"\")","v":""},{"$f":"IF(K74<>\"\",$D$72&K74,\"\")","v":""},{"$f":"IF(L74<>\"\",$D$4&L74,\"\")","v":""},{"$f":"IF(M74<>\"\",$D$72&M74,\"\")","v":""},{"$f":"IF(N74<>\"\",$D$4&N74,\"\")","v":""},{"$f":"IF(O74<>\"\",$D$72&O74,\"\")","v":""}]
[]
[null,null,null,"VAST","Voertuig (economische afschr.)",null,{"$f":"IFERROR(HLOOKUP($G$75,'Kostprijs en Verkoopprijs'!$W$6:$W$38,5,FALSE),IFERROR(HLOOKUP($G$75,'Kostprijs en Verkoopprijs'!$W$44:$W$76,5,FALSE),IFERROR(HLOOKUP($G$75,'Kostprijs en Verkoopprijs'!$W$83:$W$115,5,FALSE),IFERROR(HLOOKUP($G$75,'Kostprijs en Verkoopprijs'!$W$122:$W$154,5,FALSE),IFERROR(HLOOKUP($G$75,'Kostprijs en Verkoopprijs'!$W$161:$W$193,5,FALSE),\"\")))))","v":""},{"$f":"IFERROR(HLOOKUP(H75,'Kostprijs en Verkoopprijs'!$W$6:$W$38,5,FALSE),IFERROR(HLOOKUP(H75,'Kostprijs en Verkoopprijs'!$W$44:$W$76,5,FALSE),IFERROR(HLOOKUP(H75,'Kostprijs en Verkoopprijs'!$W$83:$W$115,5,FALSE),IFERROR(HLOOKUP(H75,'Kostprijs en Verkoopprijs'!$W$122:$W$154,5,FALSE),IFERROR(HLOOKUP(H75,'Kostprijs en Verkoopprijs'!$W$161:$W$193,5,FALSE),\"\")))))","v":""},{"$f":"IFERROR(HLOOKUP($I$75,'Kostprijs en Verkoopprijs'!$W$6:$W$38,5,FALSE),IFERROR(HLOOKUP($I$75,'Kostprijs en Verkoopprijs'!$W$44:$W$76,5,FALSE),IFERROR(HLOOKUP($I$75,'Kostprijs en Verkoopprijs'!$W$83:$W$115,5,FALSE),IFERROR(HLOOKUP($I$75,'Kostprijs en Verkoopprijs'!$W$122:$W$154,5,FALSE),IFERROR(HLOOKUP($I$75,'Kostprijs en Verkoopprijs'!$W$161:$W$193,5,FALSE),\"\")))))","v":""},{"$f":"IFERROR(HLOOKUP(J75,'Kostprijs en Verkoopprijs'!$W$6:$W$38,5,FALSE),IFERROR(HLOOKUP(J75,'Kostprijs en Verkoopprijs'!$W$44:$W$76,5,FALSE),IFERROR(HLOOKUP(J75,'Kostprijs en Verkoopprijs'!$W$83:$W$115,5,FALSE),IFERROR(HLOOKUP(J75,'Kostprijs en Verkoopprijs'!$W$122:$W$154,5,FALSE),IFERROR(HLOOKUP(J75,'Kostprijs en Verkoopprijs'!$W$161:$W$193,5,FALSE),\"\")))))","v":""},{"$f":"IFERROR(HLOOKUP($K$75,'Kostprijs en Verkoopprijs'!$W$6:$W$38,5,FALSE),IFERROR(HLOOKUP($K$75,'Kostprijs en Verkoopprijs'!$W$44:$W$76,5,FALSE),IFERROR(HLOOKUP($K$75,'Kostprijs en Verkoopprijs'!$W$83:$W$115,5,FALSE),IFERROR(HLOOKUP($K$75,'Kostprijs en Verkoopprijs'!$W$122:$W$154,5,FALSE),IFERROR(HLOOKUP($K$75,'Kostprijs en Verkoopprijs'!$W$161:$W$193,5,FALSE),\"\")))))","v":""},{"$f":"IFERROR(HLOOKUP(L75,'Kostprijs en Verkoopprijs'!$W$6:$W$38,5,FALSE),IFERROR(HLOOKUP(L75,'Kostprijs en Verkoopprijs'!$W$44:$W$76,5,FALSE),IFERROR(HLOOKUP(L75,'Kostprijs en Verkoopprijs'!$W$83:$W$115,5,FALSE),IFERROR(HLOOKUP(L75,'Kostprijs en Verkoopprijs'!$W$122:$W$154,5,FALSE),IFERROR(HLOOKUP(L75,'Kostprijs en Verkoopprijs'!$W$161:$W$193,5,FALSE),\"\")))))","v":""},{"$f":"IFERROR(HLOOKUP($M$75,'Kostprijs en Verkoopprijs'!$W$6:$W$38,5,FALSE),IFERROR(HLOOKUP($M$75,'Kostprijs en Verkoopprijs'!$W$44:$W$76,5,FALSE),IFERROR(HLOOKUP($M$75,'Kostprijs en Verkoopprijs'!$W$83:$W$115,5,FALSE),IFERROR(HLOOKUP($M$75,'Kostprijs en Verkoopprijs'!$W$122:$W$154,5,FALSE),IFERROR(HLOOKUP($M$75,'Kostprijs en Verkoopprijs'!$W$161:$W$193,5,FALSE),\"\")))))","v":""},{"$f":"IFERROR(HLOOKUP(N75,'Kostprijs en Verkoopprijs'!$W$6:$W$38,5,FALSE),IFERROR(HLOOKUP(N75,'Kostprijs en Verkoopprijs'!$W$44:$W$76,5,FALSE),IFERROR(HLOOKUP(N75,'Kostprijs en Verkoopprijs'!$W$83:$W$115,5,FALSE),IFERROR(HLOOKUP(N75,'Kostprijs en Verkoopprijs'!$W$122:$W$154,5,FALSE),IFERROR(HLOOKUP(N75,'Kostprijs en Verkoopprijs'!$W$161:$W$193,5,FALSE),\"\")))))","v":""},{"$f":"IFERROR(HLOOKUP($O$75,'Kostprijs en Verkoopprijs'!$W$6:$W$38,5,FALSE),IFERROR(HLOOKUP($O$75,'Kostprijs en Verkoopprijs'!$W$44:$W$76,5,FALSE),IFERROR(HLOOKUP($O$75,'Kostprijs en Verkoopprijs'!$W$83:$W$115,5,FALSE),IFERROR(HLOOKUP($O$75,'Kostprijs en Verkoopprijs'!$W$122:$W$154,5,FALSE),IFERROR(HLOOKUP($O$75,'Kostprijs en Verkoopprijs'!$W$161:$W$193,5,FALSE),\"\")))))","v":""}]
[null,null,null,null,"Financiering voertuig",null,{"$f":"IFERROR(HLOOKUP($G$75,'Kostprijs en Verkoopprijs'!$W$6:$W$38,6,FALSE),IFERROR(HLOOKUP($G$75,'Kostprijs en Verkoopprijs'!$W$44:$W$76,6,FALSE),IFERROR(HLOOKUP($G$75,'Kostprijs en Verkoopprijs'!$W$83:$W$115,6,FALSE),IFERROR(HLOOKUP($G$75,'Kostprijs en Verkoopprijs'!$W$122:$W$154,6,FALSE),IFERROR(HLOOKUP($G$75,'Kostprijs en Verkoopprijs'!$W$161:$W$193,6,FALSE),\"\")))))","v":""},{"$f":"IF($G$7=#REF!,#REF!,IF($G$7=#REF!,#REF!,IF($G$7=#REF!,#REF!,IF($G$7=#REF!,#REF!,IF($G$7=#REF!,#REF!,\"\")))))","v":{"$error":"#REF!"}},{"$f":"IFERROR(HLOOKUP($I$75,'Kostprijs en Verkoopprijs'!$W$6:$W$38,6,FALSE),IFERROR(HLOOKUP($I$75,'Kostprijs en Verkoopprijs'!$W$44:$W$76,6,FALSE),IFERROR(HLOOKUP($I$75,'Kostprijs en Verkoopprijs'!$W$83:$W$115,6,FALSE),IFERROR(HLOOKUP($I$75,'Kostprijs en Verkoopprijs'!$W$122:$W$154,6,FALSE),IFERROR(HLOOKUP($I$75,'Kostprijs en Verkoopprijs'!$W$161:$W$193,6,FALSE),\"\")))))","v":""},{"$f":"IF($G$7=#REF!,#REF!,IF($G$7=#REF!,#REF!,IF($G$7=#REF!,#REF!,IF($G$7=#REF!,#REF!,IF($G$7=#REF!,#REF!,\"\")))))","v":{"$error":"#REF!"}},{"$f":"IFERROR(HLOOKUP($K$75,'Kostprijs en Verkoopprijs'!$W$6:$W$38,6,FALSE),IFERROR(HLOOKUP($K$75,'Kostprijs en Verkoopprijs'!$W$44:$W$76,6,FALSE),IFERROR(HLOOKUP($K$75,'Kostprijs en Verkoopprijs'!$W$83:$W$115,6,FALSE),IFERROR(HLOOKUP($K$75,'Kostprijs en Verkoopprijs'!$W$122:$W$154,6,FALSE),IFERROR(HLOOKUP($K$75,'Kostprijs en Verkoopprijs'!$W$161:$W$193,6,FALSE),\"\")))))","v":""},{"$f":"IF($G$7=#REF!,#REF!,IF($G$7=#REF!,#REF!,IF($G$7=#REF!,#REF!,IF($G$7=#REF!,#REF!,IF($G$7=#REF!,#REF!,\"\")))))","v":{"$error":"#REF!"}},{"$f":"IFERROR(HLOOKUP($M$75,'Kostprijs en Verkoopprijs'!$W$6:$W$38,6,FALSE),IFERROR(HLOOKUP($M$75,'Kostprijs en Verkoopprijs'!$W$44:$W$76,6,FALSE),IFERROR(HLOOKUP($M$75,'Kostprijs en Verkoopprijs'!$W$83:$W$115,6,FALSE),IFERROR(HLOOKUP($M$75,'Kostprijs en Verkoopprijs'!$W$122:$W$154,6,FALSE),IFERROR(HLOOKUP($M$75,'Kostprijs en Verkoopprijs'!$W$161:$W$193,6,FALSE),\"\")))))","v":""},{"$f":"IF($G$7=#REF!,#REF!,IF($G$7=#REF!,#REF!,IF($G$7=#REF!,#REF!,IF($G$7=#REF!,#REF!,IF($G$7=#REF!,#REF!,\"\")))))","v":{"$error":"#REF!"}},{"$f":"IFERROR(HLOOKUP($O$75,'Kostprijs en Verkoopprijs'!$W$6:$W$38,6,FALSE),IFERROR(HLOOKUP($O$75,'Kostprijs en Verkoopprijs'!$W$44:$W$76,6,FALSE),IFERROR(HLOOKUP($O$75,'Kostprijs en Verkoopprijs'!$W$83:$W$115,6,FALSE),IFERROR(HLOOKUP($O$75,'Kostprijs en Verkoopprijs'!$W$122:$W$154,6,FALSE),IFERROR(HLOOKUP($O$75,'Kostprijs en Verkoopprijs'!$W$161:$W$193,6,FALSE),\"\")))))","v":""}]
[null,null,null,null,"Verzekeringen voertuig",null,{"$f":"IFERROR(HLOOKUP($G$75,'Kostprijs en Verkoopprijs'!$W$6:$W$38,7,FALSE),IFERROR(HLOOKUP($G$75,'Kostprijs en Verkoopprijs'!$W$44:$W$76,7,FALSE),IFERROR(HLOOKUP($G$75,'Kostprijs en Verkoopprijs'!$W$83:$W$115,7,FALSE),IFERROR(HLOOKUP($G$75,'Kostprijs en Verkoopprijs'!$W$122:$W$154,7,FALSE),IFERROR(HLOOKUP($G$75,'Kostprijs en Verkoopprijs'!$W$161:$W$193,7,FALSE),\"\")))))","v":""},{"$f":"IF($G$7=#REF!,#REF!,IF($G$7=#REF!,#REF!,IF($G$7=#REF!,#REF!,IF($G$7=#REF!,#REF!,IF($G$7=#REF!,#REF!,\"\")))))","v":{"$error":"#REF!"}},{"$f":"IFERROR(HLOOKUP($I$75,'Kostprijs en Verkoopprijs'!$W$6:$W$38,7,FALSE),IFERROR(HLOOKUP($I$75,'Kostprijs en Verkoopprijs'!$W$44:$W$76,7,FALSE),IFERROR(HLOOKUP($I$75,'Kostprijs en Verkoopprijs'!$W$83:$W$115,7,FALSE),IFERROR(HLOOKUP($I$75,'Kostprijs en Verkoopprijs'!$W$122:$W$154,7,FALSE),IFERROR(HLOOKUP($I$75,'Kostprijs en Verkoopprijs'!$W$161:$W$193,7,FALSE),\"\")))))","v":""},{"$f":"IF($G$7=#REF!,#REF!,IF($G$7=#REF!,#REF!,IF($G$7=#REF!,#REF!,IF($G$7=#REF!,#REF!,IF($G$7=#REF!,#REF!,\"\")))))","v":{"$error":"#REF!"}},{"$f":"IFERROR(HLOOKUP($K$75,'Kostprijs en Verkoopprijs'!$W$6:$W$38,7,FALSE),IFERROR(HLOOKUP($K$75,'Kostprijs en Verkoopprijs'!$W$44:$W$76,7,FALSE),IFERROR(HLOOKUP($K$75,'Kostprijs en Verkoopprijs'!$W$83:$W$115,7,FALSE),IFERROR(HLOOKUP($K$75,'Kostprijs en Verkoopprijs'!$W$122:$W$154,7,FALSE),IFERROR(HLOOKUP($K$75,'Kostprijs en Verkoopprijs'!$W$161:$W$193,7,FALSE),\"\")))))","v":""},{"$f":"IF($G$7=#REF!,#REF!,IF($G$7=#REF!,#REF!,IF($G$7=#REF!,#REF!,IF($G$7=#REF!,#REF!,IF($G$7=#REF!,#REF!,\"\")))))","v":{"$error":"#REF!"}},{"$f":"IFERROR(HLOOKUP($M$75,'Kostprijs en Verkoopprijs'!$W$6:$W$38,7,FALSE),IFERROR(HLOOKUP($M$75,'Kostprijs en Verkoopprijs'!$W$44:$W$76,7,FALSE),IFERROR(HLOOKUP($M$75,'Kostprijs en Verkoopprijs'!$W$83:$W$115,7,FALSE),IFERROR(HLOOKUP($M$75,'Kostprijs en Verkoopprijs'!$W$122:$W$154,7,FALSE),IFERROR(HLOOKUP($M$75,'Kostprijs en Verkoopprijs'!$W$161:$W$193,7,FALSE),\"\")))))","v":""},{"$f":"IF($G$7=#REF!,#REF!,IF($G$7=#REF!,#REF!,IF($G$7=#REF!,#REF!,IF($G$7=#REF!,#REF!,IF($G$7=#REF!,#REF!,\"\")))))","v":{"$error":"#REF!"}},{"$f":"IFERROR(HLOOKUP($O$75,'Kostprijs en Verkoopprijs'!$W$6:$W$38,7,FALSE),IFERROR(HLOOKUP($O$75,'Kostprijs en Verkoopprijs'!$W$44:$W$76,7,FALSE),IFERROR(HLOOKUP($O$75,'Kostprijs en Verkoopprijs'!$W$83:$W$115,7,FALSE),IFERROR(HLOOKUP($O$75,'Kostprijs en Verkoopprijs'!$W$122:$W$154,7,FALSE),IFERROR(HLOOKUP($O$75,'Kostprijs en Verkoopprijs'!$W$161:$W$193,7,FALSE),\"\")))))","v":""}]
[null,null,null,null,"Andere vaste kosten voertuig",null,{"$f":"IFERROR(HLOOKUP($G$75,'Kostprijs en Verkoopprijs'!$W$6:$W$38,8,FALSE),IFERROR(HLOOKUP($G$75,'Kostprijs en Verkoopprijs'!$W$44:$W$76,8,FALSE),IFERROR(HLOOKUP($G$75,'Kostprijs en Verkoopprijs'!$W$83:$W$115,8,FALSE),IFERROR(HLOOKUP($G$75,'Kostprijs en Verkoopprijs'!$W$122:$W$154,8,FALSE),IFERROR(HLOOKUP($G$75,'Kostprijs en Verkoopprijs'!$W$161:$W$193,8,FALSE),\"\")))))","v":""},{"$f":"IF($G$7=#REF!,#REF!,IF($G$7=#REF!,#REF!,IF($G$7=#REF!,#REF!,IF($G$7=#REF!,#REF!,IF($G$7=#REF!,#REF!,\"\")))))","v":{"$error":"#REF!"}},{"$f":"IFERROR(HLOOKUP($I$75,'Kostprijs en Verkoopprijs'!$W$6:$W$38,8,FALSE),IFERROR(HLOOKUP($I$75,'Kostprijs en Verkoopprijs'!$W$44:$W$76,8,FALSE),IFERROR(HLOOKUP($I$75,'Kostprijs en Verkoopprijs'!$W$83:$W$115,8,FALSE),IFERROR(HLOOKUP($I$75,'Kostprijs en Verkoopprijs'!$W$122:$W$154,8,FALSE),IFERROR(HLOOKUP($I$75,'Kostprijs en Verkoopprijs'!$W$161:$W$193,8,FALSE),\"\")))))","v":""},{"$f":"IF($G$7=#REF!,#REF!,IF($G$7=#REF!,#REF!,IF($G$7=#REF!,#REF!,IF($G$7=#REF!,#REF!,IF($G$7=#REF!,#REF!,\"\")))))","v":{"$error":"#REF!"}},{"$f":"IFERROR(HLOOKUP($K$75,'Kostprijs en Verkoopprijs'!$W$6:$W$38,8,FALSE),IFERROR(HLOOKUP($K$75,'Kostprijs en Verkoopprijs'!$W$44:$W$76,8,FALSE),IFERROR(HLOOKUP($K$75,'Kostprijs en Verkoopprijs'!$W$83:$W$115,8,FALSE),IFERROR(HLOOKUP($K$75,'Kostprijs en Verkoopprijs'!$W$122:$W$154,8,FALSE),IFERROR(HLOOKUP($K$75,'Kostprijs en Verkoopprijs'!$W$161:$W$193,8,FALSE),\"\")))))","v":""},{"$f":"IF($G$7=#REF!,#REF!,IF($G$7=#REF!,#REF!,IF($G$7=#REF!,#REF!,IF($G$7=#REF!,#REF!,IF($G$7=#REF!,#REF!,\"\")))))","v":{"$error":"#REF!"}},{"$f":"IFERROR(HLOOKUP($M$75,'Kostprijs en Verkoopprijs'!$W$6:$W$38,8,FALSE),IFERROR(HLOOKUP($M$75,'Kostprijs en Verkoopprijs'!$W$44:$W$76,8,FALSE),IFERROR(HLOOKUP($M$75,'Kostprijs en Verkoopprijs'!$W$83:$W$115,8,FALSE),IFERROR(HLOOKUP($M$75,'Kostprijs en Verkoopprijs'!$W$122:$W$154,8,FALSE),IFERROR(HLOOKUP($M$75,'Kostprijs en Verkoopprijs'!$W$161:$W$193,8,FALSE),\"\")))))","v":""},{"$f":"IF($G$7=#REF!,#REF!,IF($G$7=#REF!,#REF!,IF($G$7=#REF!,#REF!,IF($G$7=#REF!,#REF!,IF($G$7=#REF!,#REF!,\"\")))))","v":{"$error":"#REF!"}},{"$f":"IFERROR(HLOOKUP($O$75,'Kostprijs en Verkoopprijs'!$W$6:$W$38,8,FALSE),IFERROR(HLOOKUP($O$75,'Kostprijs en Verkoopprijs'!$W$44:$W$76,8,FALSE),IFERROR(HLOOKUP($O$75,'Kostprijs en Verkoopprijs'!$W$83:$W$115,8,FALSE),IFERROR(HLOOKUP($O$75,'Kostprijs en Verkoopprijs'!$W$122:$W$154,8,FALSE),IFERROR(HLOOKUP($O$75,'Kostprijs en Verkoopprijs'!$W$161:$W$193,8,FALSE),\"\")))))","v":""}]
[null,null,null,null,"Andere vaste kosten bedrijf",null,{"$f":"IFERROR(HLOOKUP($G$75,'Kostprijs en Verkoopprijs'!$W$6:$W$38,9,FALSE),IFERROR(HLOOKUP($G$75,'Kostprijs en Verkoopprijs'!$W$44:$W$76,9,FALSE),IFERROR(HLOOKUP($G$75,'Kostprijs en Verkoopprijs'!$W$83:$W$115,9,FALSE),IFERROR(HLOOKUP($G$75,'Kostprijs en Verkoopprijs'!$W$122:$W$154,9,FALSE),IFERROR(HLOOKUP($G$75,'Kostprijs en Verkoopprijs'!$W$161:$W$193,9,FALSE),\"\")))))","v":""},{"$f":"IF($G$7=#REF!,#REF!,IF($G$7=#REF!,#REF!,IF($G$7=#REF!,#REF!,IF($G$7=#REF!,#REF!,IF($G$7=#REF!,#REF!,\"\")))))","v":{"$error":"#REF!"}},{"$f":"IFERROR(HLOOKUP($I$75,'Kostprijs en Verkoopprijs'!$W$6:$W$38,9,FALSE),IFERROR(HLOOKUP($I$75,'Kostprijs en Verkoopprijs'!$W$44:$W$76,9,FALSE),IFERROR(HLOOKUP($I$75,'Kostprijs en Verkoopprijs'!$W$83:$W$115,9,FALSE),IFERROR(HLOOKUP($I$75,'Kostprijs en Verkoopprijs'!$W$122:$W$154,9,FALSE),IFERROR(HLOOKUP($I$75,'Kostprijs en Verkoopprijs'!$W$161:$W$193,9,FALSE),\"\")))))","v":""},{"$f":"IF($G$7=#REF!,#REF!,IF($G$7=#REF!,#REF!,IF($G$7=#REF!,#REF!,IF($G$7=#REF!,#REF!,IF($G$7=#REF!,#REF!,\"\")))))","v":{"$error":"#REF!"}},{"$f":"IFERROR(HLOOKUP($K$75,'Kostprijs en Verkoopprijs'!$W$6:$W$38,9,FALSE),IFERROR(HLOOKUP($K$75,'Kostprijs en Verkoopprijs'!$W$44:$W$76,9,FALSE),IFERROR(HLOOKUP($K$75,'Kostprijs en Verkoopprijs'!$W$83:$W$115,9,FALSE),IFERROR(HLOOKUP($K$75,'Kostprijs en Verkoopprijs'!$W$122:$W$154,9,FALSE),IFERROR(HLOOKUP($K$75,'Kostprijs en Verkoopprijs'!$W$161:$W$193,9,FALSE),\"\")))))","v":""},{"$f":"IF($G$7=#REF!,#REF!,IF($G$7=#REF!,#REF!,IF($G$7=#REF!,#REF!,IF($G$7=#REF!,#REF!,IF($G$7=#REF!,#REF!,\"\")))))","v":{"$error":"#REF!"}},{"$f":"IFERROR(HLOOKUP($M$75,'Kostprijs en Verkoopprijs'!$W$6:$W$38,9,FALSE),IFERROR(HLOOKUP($M$75,'Kostprijs en Verkoopprijs'!$W$44:$W$76,9,FALSE),IFERROR(HLOOKUP($M$75,'Kostprijs en Verkoopprijs'!$W$83:$W$115,9,FALSE),IFERROR(HLOOKUP($M$75,'Kostprijs en Verkoopprijs'!$W$122:$W$154,9,FALSE),IFERROR(HLOOKUP($M$75,'Kostprijs en Verkoopprijs'!$W$161:$W$193,9,FALSE),\"\")))))","v":""},{"$f":"IF($G$7=#REF!,#REF!,IF($G$7=#REF!,#REF!,IF($G$7=#REF!,#REF!,IF($G$7=#REF!,#REF!,IF($G$7=#REF!,#REF!,\"\")))))","v":{"$error":"#REF!"}},{"$f":"IFERROR(HLOOKUP($O$75,'Kostprijs en Verkoopprijs'!$W$6:$W$38,9,FALSE),IFERROR(HLOOKUP($O$75,'Kostprijs en Verkoopprijs'!$W$44:$W$76,9,FALSE),IFERROR(HLOOKUP($O$75,'Kostprijs en Verkoopprijs'!$W$83:$W$115,9,FALSE),IFERROR(HLOOKUP($O$75,'Kostprijs en Verkoopprijs'!$W$122:$W$154,9,FALSE),IFERROR(HLOOKUP($O$75,'Kostprijs en Verkoopprijs'!$W$161:$W$193,9,FALSE),\"\")))))","v":""}]
[null,null,null,null,"Totaal vaste kosten",null,{"$f":"IFERROR(SUM(G77:G81),\"\")","v":0},{"$f":"IFERROR(SUM(H77:H81),\"\")","v":""},{"$f":"IFERROR(SUM(I77:I81),\"\")","v":0},{"$f":"IFERROR(SUM(J77:J81),\"\")","v":""},{"$f":"IFERROR(SUM(K77:K81),\"\")","v":0},{"$f":"IFERROR(SUM(L77:L81),\"\")","v":""},{"$f":"IFERROR(SUM(M77:M81),\"\")","v":0},{"$f":"IFERROR(SUM(N77:N81),\"\")","v":""},{"$f":"IFERROR(SUM(O77:O81),\"\")","v":0}]
[]
[null,null,null,"LOONKOST CHAUFFEURS",null,null,{"$f":"IFERROR(HLOOKUP($G$75,'Kostprijs en Verkoopprijs'!$W$6:$W$38,11,FALSE),IFERROR(HLOOKUP($G$75,'Kostprijs en Verkoopprijs'!$W$44:$W$76,11,FALSE),IFERROR(HLOOKUP($G$75,'Kostprijs en Verkoopprijs'!$W$83:$W$115,11,FALSE),IFERROR(HLOOKUP($G$75,'Kostprijs en Verkoopprijs'!$W$122:$W$154,11,FALSE),IFERROR(HLOOKUP($G$75,'Kostprijs en Verkoopprijs'!$W$161:$W$193,11,FALSE),\"\")))))","v":""},{"$f":"IF($G$7=#REF!,#REF!,IF($G$7=#REF!,#REF!,IF($G$7=#REF!,#REF!,IF($G$7=#REF!,#REF!,IF($G$7=#REF!,#REF!,\"\")))))","v":{"$error":"#REF!"}},{"$f":"IFERROR(HLOOKUP($I$75,'Kostprijs en Verkoopprijs'!$W$6:$W$38,11,FALSE),IFERROR(HLOOKUP($I$75,'Kostprijs en Verkoopprijs'!$W$44:$W$76,11,FALSE),IFERROR(HLOOKUP($I$75,'Kostprijs en Verkoopprijs'!$W$83:$W$115,11,FALSE),IFERROR(HLOOKUP($I$75,'Kostprijs en Verkoopprijs'!$W$122:$W$154,11,FALSE),IFERROR(HLOOKUP($I$75,'Kostprijs en Verkoopprijs'!$W$161:$W$193,11,FALSE),\"\")))))","v":""},{"$f":"IF($G$7=#REF!,#REF!,IF($G$7=#REF!,#REF!,IF($G$7=#REF!,#REF!,IF($G$7=#REF!,#REF!,IF($G$7=#REF!,#REF!,\"\")))))","v":{"$error":"#REF!"}},{"$f":"IFERROR(HLOOKUP($K$75,'Kostprijs en Verkoopprijs'!$W$6:$W$38,11,FALSE),IFERROR(HLOOKUP($K$75,'Kostprijs en Verkoopprijs'!$W$44:$W$76,11,FALSE),IFERROR(HLOOKUP($K$75,'Kostprijs en Verkoopprijs'!$W$83:$W$115,11,FALSE),IFERROR(HLOOKUP($K$75,'Kostprijs en Verkoopprijs'!$W$122:$W$154,11,FALSE),IFERROR(HLOOKUP($K$75,'Kostprijs en Verkoopprijs'!$W$161:$W$193,11,FALSE),\"\")))))","v":""},{"$f":"IF($G$7=#REF!,#REF!,IF($G$7=#REF!,#REF!,IF($G$7=#REF!,#REF!,IF($G$7=#REF!,#REF!,IF($G$7=#REF!,#REF!,\"\")))))","v":{"$error":"#REF!"}},{"$f":"IFERROR(HLOOKUP($M$75,'Kostprijs en Verkoopprijs'!$W$6:$W$38,11,FALSE),IFERROR(HLOOKUP($M$75,'Kostprijs en Verkoopprijs'!$W$44:$W$76,11,FALSE),IFERROR(HLOOKUP($M$75,'Kostprijs en Verkoopprijs'!$W$83:$W$115,11,FALSE),IFERROR(HLOOKUP($M$75,'Kostprijs en Verkoopprijs'!$W$122:$W$154,11,FALSE),IFERROR(HLOOKUP($M$75,'Kostprijs en Verkoopprijs'!$W$161:$W$193,11,FALSE),\"\")))))","v":""},{"$f":"IF($G$7=#REF!,#REF!,IF($G$7=#REF!,#REF!,IF($G$7=#REF!,#REF!,IF($G$7=#REF!,#REF!,IF($G$7=#REF!,#REF!,\"\")))))","v":{"$error":"#REF!"}},{"$f":"IFERROR(HLOOKUP($O$75,'Kostprijs en Verkoopprijs'!$W$6:$W$38,11,FALSE),IFERROR(HLOOKUP($O$75,'Kostprijs en Verkoopprijs'!$W$44:$W$76,11,FALSE),IFERROR(HLOOKUP($O$75,'Kostprijs en Verkoopprijs'!$W$83:$W$115,11,FALSE),IFERROR(HLOOKUP($O$75,'Kostprijs en Verkoopprijs'!$W$122:$W$154,11,FALSE),IFERROR(HLOOKUP($O$75,'Kostprijs en Verkoopprijs'!$W$161:$W$193,11,FALSE),\"\")))))","v":""}]
[]
[null,null,null,"VARIABEL","Brandstof",null,{"$f":"IFERROR(HLOOKUP($G$75,'Kostprijs en Verkoopprijs'!$W$6:$W$38,13,FALSE),IFERROR(HLOOKUP($G$75,'Kostprijs en Verkoopprijs'!$W$44:$W$76,13,FALSE),IFERROR(HLOOKUP($G$75,'Kostprijs en Verkoopprijs'!$W$83:$W$115,13,FALSE),IFERROR(HLOOKUP($G$75,'Kostprijs en Verkoopprijs'!$W$122:$W$154,13,FALSE),IFERROR(HLOOKUP($G$75,'Kostprijs en Verkoopprijs'!$W$161:$W$193,13,FALSE),\"\")))))","v":""},{"$f":"IF($G$7=#REF!,#REF!,IF($G$7=#REF!,#REF!,IF($G$7=#REF!,#REF!,IF($G$7=#REF!,#REF!,IF($G$7=#REF!,#REF!,\"\")))))","v":{"$error":"#REF!"}},{"$f":"IFERROR(HLOOKUP($I$75,'Kostprijs en Verkoopprijs'!$W$6:$W$38,13,FALSE),IFERROR(HLOOKUP($I$75,'Kostprijs en Verkoopprijs'!$W$44:$W$76,13,FALSE),IFERROR(HLOOKUP($I$75,'Kostprijs en Verkoopprijs'!$W$83:$W$115,13,FALSE),IFERROR(HLOOKUP($I$75,'Kostprijs en Verkoopprijs'!$W$122:$W$154,13,FALSE),IFERROR(HLOOKUP($I$75,'Kostprijs en Verkoopprijs'!$W$161:$W$193,13,FALSE),\"\")))))","v":""},{"$f":"IF($G$7=#REF!,#REF!,IF($G$7=#REF!,#REF!,IF($G$7=#REF!,#REF!,IF($G$7=#REF!,#REF!,IF($G$7=#REF!,#REF!,\"\")))))","v":{"$error":"#REF!"}},{"$f":"IFERROR(HLOOKUP($K$75,'Kostprijs en Verkoopprijs'!$W$6:$W$38,13,FALSE),IFERROR(HLOOKUP($K$75,'Kostprijs en Verkoopprijs'!$W$44:$W$76,13,FALSE),IFERROR(HLOOKUP($K$75,'Kostprijs en Verkoopprijs'!$W$83:$W$115,13,FALSE),IFERROR(HLOOKUP($K$75,'Kostprijs en Verkoopprijs'!$W$122:$W$154,13,FALSE),IFERROR(HLOOKUP($K$75,'Kostprijs en Verkoopprijs'!$W$161:$W$193,13,FALSE),\"\")))))","v":""},{"$f":"IF($G$7=#REF!,#REF!,IF($G$7=#REF!,#REF!,IF($G$7=#REF!,#REF!,IF($G$7=#REF!,#REF!,IF($G$7=#REF!,#REF!,\"\")))))","v":{"$error":"#REF!"}},{"$f":"IFERROR(HLOOKUP($M$75,'Kostprijs en Verkoopprijs'!$W$6:$W$38,13,FALSE),IFERROR(HLOOKUP($M$75,'Kostprijs en Verkoopprijs'!$W$44:$W$76,13,FALSE),IFERROR(HLOOKUP($M$75,'Kostprijs en Verkoopprijs'!$W$83:$W$115,13,FALSE),IFERROR(HLOOKUP($M$75,'Kostprijs en Verkoopprijs'!$W$122:$W$154,13,FALSE),IFERROR(HLOOKUP($M$75,'Kostprijs en Verkoopprijs'!$W$161:$W$193,13,FALSE),\"\")))))","v":""},{"$f":"IF($G$7=#REF!,#REF!,IF($G$7=#REF!,#REF!,IF($G$7=#REF!,#REF!,IF($G$7=#REF!,#REF!,IF($G$7=#REF!,#REF!,\"\")))))","v":{"$error":"#REF!"}},{"$f":"IFERROR(HLOOKUP($O$75,'Kostprijs en Verkoopprijs'!$W$6:$W$38,13,FALSE),IFERROR(HLOOKUP($O$75,'Kostprijs en Verkoopprijs'!$W$44:$W$76,13,FALSE),IFERROR(HLOOKUP($O$75,'Kostprijs en Verkoopprijs'!$W$83:$W$115,13,FALSE),IFERROR(HLOOKUP($O$75,'Kostprijs en Verkoopprijs'!$W$122:$W$154,13,FALSE),IFERROR(HLOOKUP($O$75,'Kostprijs en Verkoopprijs'!$W$161:$W$193,13,FALSE),\"\")))))","v":""}]
[null,null,null,null,"Olie",null,{"$f":"IFERROR(HLOOKUP($G$75,'Kostprijs en Verkoopprijs'!$W$6:$W$38,14,FALSE),IFERROR(HLOOKUP($G$75,'Kostprijs en Verkoopprijs'!$W$44:$W$76,14,FALSE),IFERROR(HLOOKUP($G$75,'Kostprijs en Verkoopprijs'!$W$83:$W$115,14,FALSE),IFERROR(HLOOKUP($G$75,'Kostprijs en Verkoopprijs'!$W$122:$W$154,14,FALSE),IFERROR(HLOOKUP($G$75,'Kostprijs en Verkoopprijs'!$W$161:$W$193,14,FALSE),\"\")))))","v":""},{"$f":"IF($G$7=#REF!,#REF!,IF($G$7=#REF!,#REF!,IF($G$7=#REF!,#REF!,IF($G$7=#REF!,#REF!,IF($G$7=#REF!,#REF!,\"\")))))","v":{"$error":"#REF!"}},{"$f":"IFERROR(HLOOKUP($I$75,'Kostprijs en Verkoopprijs'!$W$6:$W$38,14,FALSE),IFERROR(HLOOKUP($I$75,'Kostprijs en Verkoopprijs'!$W$44:$W$76,14,FALSE),IFERROR(HLOOKUP($I$75,'Kostprijs en Verkoopprijs'!$W$83:$W$115,14,FALSE),IFERROR(HLOOKUP($I$75,'Kostprijs en Verkoopprijs'!$W$122:$W$154,14,FALSE),IFERROR(HLOOKUP($I$75,'Kostprijs en Verkoopprijs'!$W$161:$W$193,14,FALSE),\"\")))))","v":""},{"$f":"IF($G$7=#REF!,#REF!,IF($G$7=#REF!,#REF!,IF($G$7=#REF!,#REF!,IF($G$7=#REF!,#REF!,IF($G$7=#REF!,#REF!,\"\")))))","v":{"$error":"#REF!"}},{"$f":"IFERROR(HLOOKUP($K$75,'Kostprijs en Verkoopprijs'!$W$6:$W$38,14,FALSE),IFERROR(HLOOKUP($K$75,'Kostprijs en Verkoopprijs'!$W$44:$W$76,14,FALSE),IFERROR(HLOOKUP($K$75,'Kostprijs en Verkoopprijs'!$W$83:$W$115,14,FALSE),IFERROR(HLOOKUP($K$75,'Kostprijs en Verkoopprijs'!$W$122:$W$154,14,FALSE),IFERROR(HLOOKUP($K$75,'Kostprijs en Verkoopprijs'!$W$161:$W$193,14,FALSE),\"\")))))","v":""},{"$f":"IF($G$7=#REF!,#REF!,IF($G$7=#REF!,#REF!,IF($G$7=#REF!,#REF!,IF($G$7=#REF!,#REF!,IF($G$7=#REF!,#REF!,\"\")))))","v":{"$error":"#REF!"}},{"$f":"IFERROR(HLOOKUP($M$75,'Kostprijs en Verkoopprijs'!$W$6:$W$38,14,FALSE),IFERROR(HLOOKUP($M$75,'Kostprijs en Verkoopprijs'!$W$44:$W$76,14,FALSE),IFERROR(HLOOKUP($M$75,'Kostprijs en Verkoopprijs'!$W$83:$W$115,14,FALSE),IFERROR(HLOOKUP($M$75,'Kostprijs en Verkoopprijs'!$W$122:$W$154,14,FALSE),IFERROR(HLOOKUP($M$75,'Kostprijs en Verkoopprijs'!$W$161:$W$193,14,FALSE),\"\")))))","v":""},{"$f":"IF($G$7=#REF!,#REF!,IF($G$7=#REF!,#REF!,IF($G$7=#REF!,#REF!,IF($G$7=#REF!,#REF!,IF($G$7=#REF!,#REF!,\"\")))))","v":{"$error":"#REF!"}},{"$f":"IFERROR(HLOOKUP($O$75,'Kostprijs en Verkoopprijs'!$W$6:$W$38,14,FALSE),IFERROR(HLOOKUP($O$75,'Kostprijs en Verkoopprijs'!$W$44:$W$76,14,FALSE),IFERROR(HLOOKUP($O$75,'Kostprijs en Verkoopprijs'!$W$83:$W$115,14,FALSE),IFERROR(HLOOKUP($O$75,'Kostprijs en Verkoopprijs'!$W$122:$W$154,14,FALSE),IFERROR(HLOOKUP($O$75,'Kostprijs en Verkoopprijs'!$W$161:$W$193,14,FALSE),\"\")))))","v":""}]
[null,null,null,null,"Adblue",null,{"$f":"IFERROR(HLOOKUP($G$75,'Kostprijs en Verkoopprijs'!$W$6:$W$38,15,FALSE),IFERROR(HLOOKUP($G$75,'Kostprijs en Verkoopprijs'!$W$44:$W$76,15,FALSE),IFERROR(HLOOKUP($G$75,'Kostprijs en Verkoopprijs'!$W$83:$W$115,15,FALSE),IFERROR(HLOOKUP($G$75,'Kostprijs en Verkoopprijs'!$W$122:$W$154,15,FALSE),IFERROR(HLOOKUP($G$75,'Kostprijs en Verkoopprijs'!$W$161:$W$193,15,FALSE),\"\")))))","v":""},{"$f":"IF($G$7=#REF!,#REF!,IF($G$7=#REF!,#REF!,IF($G$7=#REF!,#REF!,IF($G$7=#REF!,#REF!,IF($G$7=#REF!,#REF!,\"\")))))","v":{"$error":"#REF!"}},{"$f":"IFERROR(HLOOKUP($I$75,'Kostprijs en Verkoopprijs'!$W$6:$W$38,15,FALSE),IFERROR(HLOOKUP($I$75,'Kostprijs en Verkoopprijs'!$W$44:$W$76,15,FALSE),IFERROR(HLOOKUP($I$75,'Kostprijs en Verkoopprijs'!$W$83:$W$115,15,FALSE),IFERROR(HLOOKUP($I$75,'Kostprijs en Verkoopprijs'!$W$122:$W$154,15,FALSE),IFERROR(HLOOKUP($I$75,'Kostprijs en Verkoopprijs'!$W$161:$W$193,15,FALSE),\"\")))))","v":""},{"$f":"IF($G$7=#REF!,#REF!,IF($G$7=#REF!,#REF!,IF($G$7=#REF!,#REF!,IF($G$7=#REF!,#REF!,IF($G$7=#REF!,#REF!,\"\")))))","v":{"$error":"#REF!"}},{"$f":"IFERROR(HLOOKUP($K$75,'Kostprijs en Verkoopprijs'!$W$6:$W$38,15,FALSE),IFERROR(HLOOKUP($K$75,'Kostprijs en Verkoopprijs'!$W$44:$W$76,15,FALSE),IFERROR(HLOOKUP($K$75,'Kostprijs en Verkoopprijs'!$W$83:$W$115,15,FALSE),IFERROR(HLOOKUP($K$75,'Kostprijs en Verkoopprijs'!$W$122:$W$154,15,FALSE),IFERROR(HLOOKUP($K$75,'Kostprijs en Verkoopprijs'!$W$161:$W$193,15,FALSE),\"\")))))","v":""},{"$f":"IF($G$7=#REF!,#REF!,IF($G$7=#REF!,#REF!,IF($G$7=#REF!,#REF!,IF($G$7=#REF!,#REF!,IF($G$7=#REF!,#REF!,\"\")))))","v":{"$error":"#REF!"}},{"$f":"IFERROR(HLOOKUP($M$75,'Kostprijs en Verkoopprijs'!$W$6:$W$38,15,FALSE),IFERROR(HLOOKUP($M$75,'Kostprijs en Verkoopprijs'!$W$44:$W$76,15,FALSE),IFERROR(HLOOKUP($M$75,'Kostprijs en Verkoopprijs'!$W$83:$W$115,15,FALSE),IFERROR(HLOOKUP($M$75,'Kostprijs en Verkoopprijs'!$W$122:$W$154,15,FALSE),IFERROR(HLOOKUP($M$75,'Kostprijs en Verkoopprijs'!$W$161:$W$193,15,FALSE),\"\")))))","v":""},{"$f":"IF($G$7=#REF!,#REF!,IF($G$7=#REF!,#REF!,IF($G$7=#REF!,#REF!,IF($G$7=#REF!,#REF!,IF($G$7=#REF!,#REF!,\"\")))))","v":{"$error":"#REF!"}},{"$f":"IFERROR(HLOOKUP($O$75,'Kostprijs en Verkoopprijs'!$W$6:$W$38,15,FALSE),IFERROR(HLOOKUP($O$75,'Kostprijs en Verkoopprijs'!$W$44:$W$76,15,FALSE),IFERROR(HLOOKUP($O$75,'Kostprijs en Verkoopprijs'!$W$83:$W$115,15,FALSE),IFERROR(HLOOKUP($O$75,'Kostprijs en Verkoopprijs'!$W$122:$W$154,15,FALSE),IFERROR(HLOOKUP($O$75,'Kostprijs en Verkoopprijs'!$W$161:$W$193,15,FALSE),\"\")))))","v":""}]
[null,null,null,null,"Banden",null,{"$f":"IFERROR(HLOOKUP($G$75,'Kostprijs en Verkoopprijs'!$W$6:$W$38,16,FALSE),IFERROR(HLOOKUP($G$75,'Kostprijs en Verkoopprijs'!$W$44:$W$76,16,FALSE),IFERROR(HLOOKUP($G$75,'Kostprijs en Verkoopprijs'!$W$83:$W$115,16,FALSE),IFERROR(HLOOKUP($G$75,'Kostprijs en Verkoopprijs'!$W$122:$W$154,16,FALSE),IFERROR(HLOOKUP($G$75,'Kostprijs en Verkoopprijs'!$W$161:$W$193,16,FALSE),\"\")))))","v":""},{"$f":"IF($G$7=#REF!,#REF!,IF($G$7=#REF!,#REF!,IF($G$7=#REF!,#REF!,IF($G$7=#REF!,#REF!,IF($G$7=#REF!,#REF!,\"\")))))","v":{"$error":"#REF!"}},{"$f":"IFERROR(HLOOKUP($I$75,'Kostprijs en Verkoopprijs'!$W$6:$W$38,16,FALSE),IFERROR(HLOOKUP($I$75,'Kostprijs en Verkoopprijs'!$W$44:$W$76,16,FALSE),IFERROR(HLOOKUP($I$75,'Kostprijs en Verkoopprijs'!$W$83:$W$115,16,FALSE),IFERROR(HLOOKUP($I$75,'Kostprijs en Verkoopprijs'!$W$122:$W$154,16,FALSE),IFERROR(HLOOKUP($I$75,'Kostprijs en Verkoopprijs'!$W$161:$W$193,16,FALSE),\"\")))))","v":""},{"$f":"IF($G$7=#REF!,#REF!,IF($G$7=#REF!,#REF!,IF($G$7=#REF!,#REF!,IF($G$7=#REF!,#REF!,IF($G$7=#REF!,#REF!,\"\")))))","v":{"$error":"#REF!"}},{"$f":"IFERROR(HLOOKUP($K$75,'Kostprijs en Verkoopprijs'!$W$6:$W$38,16,FALSE),IFERROR(HLOOKUP($K$75,'Kostprijs en Verkoopprijs'!$W$44:$W$76,16,FALSE),IFERROR(HLOOKUP($K$75,'Kostprijs en Verkoopprijs'!$W$83:$W$115,16,FALSE),IFERROR(HLOOKUP($K$75,'Kostprijs en Verkoopprijs'!$W$122:$W$154,16,FALSE),IFERROR(HLOOKUP($K$75,'Kostprijs en Verkoopprijs'!$W$161:$W$193,16,FALSE),\"\")))))","v":""},{"$f":"IF($G$7=#REF!,#REF!,IF($G$7=#REF!,#REF!,IF($G$7=#REF!,#REF!,IF($G$7=#REF!,#REF!,IF($G$7=#REF!,#REF!,\"\")))))","v":{"$error":"#REF!"}},{"$f":"IFERROR(HLOOKUP($M$75,'Kostprijs en Verkoopprijs'!$W$6:$W$38,16,FALSE),IFERROR(HLOOKUP($M$75,'Kostprijs en Verkoopprijs'!$W$44:$W$76,16,FALSE),IFERROR(HLOOKUP($M$75,'Kostprijs en Verkoopprijs'!$W$83:$W$115,16,FALSE),IFERROR(HLOOKUP($M$75,'Kostprijs en Verkoopprijs'!$W$122:$W$154,16,FALSE),IFERROR(HLOOKUP($M$75,'Kostprijs en Verkoopprijs'!$W$161:$W$193,16,FALSE),\"\")))))","v":""},{"$f":"IF($G$7=#REF!,#REF!,IF($G$7=#REF!,#REF!,IF($G$7=#REF!,#REF!,IF($G$7=#REF!,#REF!,IF($G$7=#REF!,#REF!,\"\")))))","v":{"$error":"#REF!"}},{"$f":"IFERROR(HLOOKUP($O$75,'Kostprijs en Verkoopprijs'!$W$6:$W$38,16,FALSE),IFERROR(HLOOKUP($O$75,'Kostprijs en Verkoopprijs'!$W$44:$W$76,16,FALSE),IFERROR(HLOOKUP($O$75,'Kostprijs en Verkoopprijs'!$W$83:$W$115,16,FALSE),IFERROR(HLOOKUP($O$75,'Kostprijs en Verkoopprijs'!$W$122:$W$154,16,FALSE),IFERROR(HLOOKUP($O$75,'Kostprijs en Verkoopprijs'!$W$161:$W$193,16,FALSE),\"\")))))","v":""}]
[null,null,null,null,"Onderhoud",null,{"$f":"IFERROR(HLOOKUP($G$75,'Kostprijs en Verkoopprijs'!$W$6:$W$38,17,FALSE),IFERROR(HLOOKUP($G$75,'Kostprijs en Verkoopprijs'!$W$44:$W$76,17,FALSE),IFERROR(HLOOKUP($G$75,'Kostprijs en Verkoopprijs'!$W$83:$W$115,17,FALSE),IFERROR(HLOOKUP($G$75,'Kostprijs en Verkoopprijs'!$W$122:$W$154,17,FALSE),IFERROR(HLOOKUP($G$75,'Kostprijs en Verkoopprijs'!$W$161:$W$193,17,FALSE),\"\")))))","v":""},{"$f":"IF($G$7=#REF!,#REF!,IF($G$7=#REF!,#REF!,IF($G$7=#REF!,#REF!,IF($G$7=#REF!,#REF!,IF($G$7=#REF!,#REF!,\"\")))))","v":{"$error":"#REF!"}},{"$f":"IFERROR(HLOOKUP($I$75,'Kostprijs en Verkoopprijs'!$W$6:$W$38,17,FALSE),IFERROR(HLOOKUP($I$75,'Kostprijs en Verkoopprijs'!$W$44:$W$76,17,FALSE),IFERROR(HLOOKUP($I$75,'Kostprijs en Verkoopprijs'!$W$83:$W$115,17,FALSE),IFERROR(HLOOKUP($I$75,'Kostprijs en Verkoopprijs'!$W$122:$W$154,17,FALSE),IFERROR(HLOOKUP($I$75,'Kostprijs en Verkoopprijs'!$W$161:$W$193,17,FALSE),\"\")))))","v":""},{"$f":"IF($G$7=#REF!,#REF!,IF($G$7=#REF!,#REF!,IF($G$7=#REF!,#REF!,IF($G$7=#REF!,#REF!,IF($G$7=#REF!,#REF!,\"\")))))","v":{"$error":"#REF!"}},{"$f":"IFERROR(HLOOKUP($K$75,'Kostprijs en Verkoopprijs'!$W$6:$W$38,17,FALSE),IFERROR(HLOOKUP($K$75,'Kostprijs en Verkoopprijs'!$W$44:$W$76,17,FALSE),IFERROR(HLOOKUP($K$75,'Kostprijs en Verkoopprijs'!$W$83:$W$115,17,FALSE),IFERROR(HLOOKUP($K$75,'Kostprijs en Verkoopprijs'!$W$122:$W$154,17,FALSE),IFERROR(HLOOKUP($K$75,'Kostprijs en Verkoopprijs'!$W$161:$W$193,17,FALSE),\"\")))))","v":""},{"$f":"IF($G$7=#REF!,#REF!,IF($G$7=#REF!,#REF!,IF($G$7=#REF!,#REF!,IF($G$7=#REF!,#REF!,IF($G$7=#REF!,#REF!,\"\")))))","v":{"$error":"#REF!"}},{"$f":"IFERROR(HLOOKUP($M$75,'Kostprijs en Verkoopprijs'!$W$6:$W$38,17,FALSE),IFERROR(HLOOKUP($M$75,'Kostprijs en Verkoopprijs'!$W$44:$W$76,17,FALSE),IFERROR(HLOOKUP($M$75,'Kostprijs en Verkoopprijs'!$W$83:$W$115,17,FALSE),IFERROR(HLOOKUP($M$75,'Kostprijs en Verkoopprijs'!$W$122:$W$154,17,FALSE),IFERROR(HLOOKUP($M$75,'Kostprijs en Verkoopprijs'!$W$161:$W$193,17,FALSE),\"\")))))","v":""},{"$f":"IF($G$7=#REF!,#REF!,IF($G$7=#REF!,#REF!,IF($G$7=#REF!,#REF!,IF($G$7=#REF!,#REF!,IF($G$7=#REF!,#REF!,\"\")))))","v":{"$error":"#REF!"}},{"$f":"IFERROR(HLOOKUP($O$75,'Kostprijs en Verkoopprijs'!$W$6:$W$38,17,FALSE),IFERROR(HLOOKUP($O$75,'Kostprijs en Verkoopprijs'!$W$44:$W$76,17,FALSE),IFERROR(HLOOKUP($O$75,'Kostprijs en Verkoopprijs'!$W$83:$W$115,17,FALSE),IFERROR(HLOOKUP($O$75,'Kostprijs en Verkoopprijs'!$W$122:$W$154,17,FALSE),IFERROR(HLOOKUP($O$75,'Kostprijs en Verkoopprijs'!$W$161:$W$193,17,FALSE),\"\")))))","v":""}]
[null,null,null,null,"Voertuig (technische afschr.)",null,{"$f":"IFERROR(HLOOKUP($G$75,'Kostprijs en Verkoopprijs'!$W$6:$W$38,18,FALSE),IFERROR(HLOOKUP($G$75,'Kostprijs en Verkoopprijs'!$W$44:$W$76,18,FALSE),IFERROR(HLOOKUP($G$75,'Kostprijs en Verkoopprijs'!$W$83:$W$115,18,FALSE),IFERROR(HLOOKUP($G$75,'Kostprijs en Verkoopprijs'!$W$122:$W$154,18,FALSE),IFERROR(HLOOKUP($G$75,'Kostprijs en Verkoopprijs'!$W$161:$W$193,18,FALSE),\"\")))))","v":""},{"$f":"IF($G$7=#REF!,#REF!,IF($G$7=#REF!,#REF!,IF($G$7=#REF!,#REF!,IF($G$7=#REF!,#REF!,IF($G$7=#REF!,#REF!,\"\")))))","v":{"$error":"#REF!"}},{"$f":"IFERROR(HLOOKUP($I$75,'Kostprijs en Verkoopprijs'!$W$6:$W$38,18,FALSE),IFERROR(HLOOKUP($I$75,'Kostprijs en Verkoopprijs'!$W$44:$W$76,18,FALSE),IFERROR(HLOOKUP($I$75,'Kostprijs en Verkoopprijs'!$W$83:$W$115,18,FALSE),IFERROR(HLOOKUP($I$75,'Kostprijs en Verkoopprijs'!$W$122:$W$154,18,FALSE),IFERROR(HLOOKUP($I$75,'Kostprijs en Verkoopprijs'!$W$161:$W$193,18,FALSE),\"\")))))","v":""},{"$f":"IF($G$7=#REF!,#REF!,IF($G$7=#REF!,#REF!,IF($G$7=#REF!,#REF!,IF($G$7=#REF!,#REF!,IF($G$7=#REF!,#REF!,\"\")))))","v":{"$error":"#REF!"}},{"$f":"IFERROR(HLOOKUP($K$75,'Kostprijs en Verkoopprijs'!$W$6:$W$38,18,FALSE),IFERROR(HLOOKUP($K$75,'Kostprijs en Verkoopprijs'!$W$44:$W$76,18,FALSE),IFERROR(HLOOKUP($K$75,'Kostprijs en Verkoopprijs'!$W$83:$W$115,18,FALSE),IFERROR(HLOOKUP($K$75,'Kostprijs en Verkoopprijs'!$W$122:$W$154,18,FALSE),IFERROR(HLOOKUP($K$75,'Kostprijs en Verkoopprijs'!$W$161:$W$193,18,FALSE),\"\")))))","v":""},{"$f":"IF($G$7=#REF!,#REF!,IF($G$7=#REF!,#REF!,IF($G$7=#REF!,#REF!,IF($G$7=#REF!,#REF!,IF($G$7=#REF!,#REF!,\"\")))))","v":{"$error":"#REF!"}},{"$f":"IFERROR(HLOOKUP($M$75,'Kostprijs en Verkoopprijs'!$W$6:$W$38,18,FALSE),IFERROR(HLOOKUP($M$75,'Kostprijs en Verkoopprijs'!$W$44:$W$76,18,FALSE),IFERROR(HLOOKUP($M$75,'Kostprijs en Verkoopprijs'!$W$83:$W$115,18,FALSE),IFERROR(HLOOKUP($M$75,'Kostprijs en Verkoopprijs'!$W$122:$W$154,18,FALSE),IFERROR(HLOOKUP($M$75,'Kostprijs en Verkoopprijs'!$W$161:$W$193,18,FALSE),\"\")))))","v":""},{"$f":"IF($G$7=#REF!,#REF!,IF($G$7=#REF!,#REF!,IF($G$7=#REF!,#REF!,IF($G$7=#REF!,#REF!,IF($G$7=#REF!,#REF!,\"\")))))","v":{"$error":"#REF!"}},{"$f":"IFERROR(HLOOKUP($O$75,'Kostprijs en Verkoopprijs'!$W$6:$W$38,18,FALSE),IFERROR(HLOOKUP($O$75,'Kostprijs en Verkoopprijs'!$W$44:$W$76,18,FALSE),IFERROR(HLOOKUP($O$75,'Kostprijs en Verkoopprijs'!$W$83:$W$115,18,FALSE),IFERROR(HLOOKUP($O$75,'Kostprijs en Verkoopprijs'!$W$122:$W$154,18,FALSE),IFERROR(HLOOKUP($O$75,'Kostprijs en Verkoopprijs'!$W$161:$W$193,18,FALSE),\"\")))))","v":""}]
[null,null,null,null,"Totaal variabel kosten",null,{"$f":"IFERROR(SUM(G86:G91),\"\")","v":0},{"$f":"IFERROR(SUM(H86:H91),\"\")","v":""},{"$f":"IFERROR(SUM(I86:I91),\"\")","v":0},{"$f":"IFERROR(SUM(J86:J91),\"\")","v":""},{"$f":"IFERROR(SUM(K86:K91),\"\")","v":0},{"$f":"IFERROR(SUM(L86:L91),\"\")","v":""},{"$f":"IFERROR(SUM(M86:M91),\"\")","v":0},{"$f":"IFERROR(SUM(N86:N91),\"\")","v":""},{"$f":"IFERROR(SUM(O86:O91),\"\")","v":0}]
[]
[null,null,null,"SPECIFIEK","Specifieke ritkosten",null,{"$f":"IFERROR(HLOOKUP($G$75,'Kostprijs en Verkoopprijs'!$W$6:$W$38,20,FALSE),IFERROR(HLOOKUP($G$75,'Kostprijs en Verkoopprijs'!$W$44:$W$76,20,FALSE),IFERROR(HLOOKUP($G$75,'Kostprijs en Verkoopprijs'!$W$83:$W$115,20,FALSE),IFERROR(HLOOKUP($G$75,'Kostprijs en Verkoopprijs'!$W$122:$W$154,20,FALSE),IFERROR(HLOOKUP($G$75,'Kostprijs en Verkoopprijs'!$W$161:$W$193,20,FALSE),\"\")))))","v":""},{"$f":"IF($G$7=#REF!,#REF!,IF($G$7=#REF!,#REF!,IF($G$7=#REF!,#REF!,IF($G$7=#REF!,#REF!,IF($G$7=#REF!,#REF!,\"\")))))","v":{"$error":"#REF!"}},{"$f":"IFERROR(HLOOKUP($I$75,'Kostprijs en Verkoopprijs'!$W$6:$W$38,20,FALSE),IFERROR(HLOOKUP($I$75,'Kostprijs en Verkoopprijs'!$W$44:$W$76,20,FALSE),IFERROR(HLOOKUP($I$75,'Kostprijs en Verkoopprijs'!$W$83:$W$115,20,FALSE),IFERROR(HLOOKUP($I$75,'Kostprijs en Verkoopprijs'!$W$122:$W$154,20,FALSE),IFERROR(HLOOKUP($I$75,'Kostprijs en Verkoopprijs'!$W$161:$W$193,20,FALSE),\"\")))))","v":""},{"$f":"IF($G$7=#REF!,#REF!,IF($G$7=#REF!,#REF!,IF($G$7=#REF!,#REF!,IF($G$7=#REF!,#REF!,IF($G$7=#REF!,#REF!,\"\")))))","v":{"$error":"#REF!"}},{"$f":"IFERROR(HLOOKUP($K$75,'Kostprijs en Verkoopprijs'!$W$6:$W$38,20,FALSE),IFERROR(HLOOKUP($K$75,'Kostprijs en Verkoopprijs'!$W$44:$W$76,20,FALSE),IFERROR(HLOOKUP($K$75,'Kostprijs en Verkoopprijs'!$W$83:$W$115,20,FALSE),IFERROR(HLOOKUP($K$75,'Kostprijs en Verkoopprijs'!$W$122:$W$154,20,FALSE),IFERROR(HLOOKUP($K$75,'Kostprijs en Verkoopprijs'!$W$161:$W$193,20,FALSE),\"\")))))","v":""},{"$f":"IF($G$7=#REF!,#REF!,IF($G$7=#REF!,#REF!,IF($G$7=#REF!,#REF!,IF($G$7=#REF!,#REF!,IF($G$7=#REF!,#REF!,\"\")))))","v":{"$error":"#REF!"}},{"$f":"IFERROR(HLOOKUP($M$75,'Kostprijs en Verkoopprijs'!$W$6:$W$38,20,FALSE),IFERROR(HLOOKUP($M$75,'Kostprijs en Verkoopprijs'!$W$44:$W$76,20,FALSE),IFERROR(HLOOKUP($M$75,'Kostprijs en Verkoopprijs'!$W$83:$W$115,20,FALSE),IFERROR(HLOOKUP($M$75,'Kostprijs en Verkoopprijs'!$W$122:$W$154,20,FALSE),IFERROR(HLOOKUP($M$75,'Kostprijs en Verkoopprijs'!$W$161:$W$193,20,FALSE),\"\")))))","v":""},{"$f":"IF($G$7=#REF!,#REF!,IF($G$7=#REF!,#REF!,IF($G$7=#REF!,#REF!,IF($G$7=#REF!,#REF!,IF($G$7=#REF!,#REF!,\"\")))))","v":{"$error":"#REF!"}},{"$f":"IFERROR(HLOOKUP($O$75,'Kostprijs en Verkoopprijs'!$W$6:$W$38,20,FALSE),IFERROR(HLOOKUP($O$75,'Kostprijs en Verkoopprijs'!$W$44:$W$76,20,FALSE),IFERROR(HLOOKUP($O$75,'Kostprijs en Verkoopprijs'!$W$83:$W$115,20,FALSE),IFERROR(HLOOKUP($O$75,'Kostprijs en Verkoopprijs'!$W$122:$W$154,20,FALSE),IFERROR(HLOOKUP($O$75,'Kostprijs en Verkoopprijs'!$W$161:$W$193,20,FALSE),\"\")))))","v":""}]
[null,null,null,null,"Totaal opties: aanhangwagens, skiboxen, …",null,{"$f":"IFERROR(HLOOKUP($G$75,'Kostprijs en Verkoopprijs'!$W$6:$W$38,24,FALSE),IFERROR(HLOOKUP($G$75,'Kostprijs en Verkoopprijs'!$W$44:$W$76,24,FALSE),IFERROR(HLOOKUP($G$75,'Kostprijs en Verkoopprijs'!$W$83:$W$115,24,FALSE),IFERROR(HLOOKUP($G$75,'Kostprijs en Verkoopprijs'!$W$122:$W$154,24,FALSE),IFERROR(HLOOKUP($G$75,'Kostprijs en Verkoopprijs'!$W$161:$W$193,24,FALSE),\"\")))))","v":""},{"$f":"IF($G$7=#REF!,SUM(#REF!),IF($G$7=#REF!,SUM(#REF!),IF($G$7=#REF!,SUM(#REF!),IF($G$7=#REF!,SUM(#REF!),IF($G$7=#REF!,SUM(#REF!),\"\")))))","v":{"$error":"#REF!"}},{"$f":"IFERROR(HLOOKUP($I$75,'Kostprijs en Verkoopprijs'!$W$6:$W$38,24,FALSE),IFERROR(HLOOKUP($I$75,'Kostprijs en Verkoopprijs'!$W$44:$W$76,24,FALSE),IFERROR(HLOOKUP($I$75,'Kostprijs en Verkoopprijs'!$W$83:$W$115,24,FALSE),IFERROR(HLOOKUP($I$75,'Kostprijs en Verkoopprijs'!$W$122:$W$154,24,FALSE),IFERROR(HLOOKUP($I$75,'Kostprijs en Verkoopprijs'!$W$161:$W$193,24,FALSE),\"\")))))","v":""},{"$f":"IF($G$7=#REF!,SUM(#REF!),IF($G$7=#REF!,SUM(#REF!),IF($G$7=#REF!,SUM(#REF!),IF($G$7=#REF!,SUM(#REF!),IF($G$7=#REF!,SUM(#REF!),\"\")))))","v":{"$error":"#REF!"}},{"$f":"IFERROR(HLOOKUP($K$75,'Kostprijs en Verkoopprijs'!$W$6:$W$38,24,FALSE),IFERROR(HLOOKUP($K$75,'Kostprijs en Verkoopprijs'!$W$44:$W$76,24,FALSE),IFERROR(HLOOKUP($K$75,'Kostprijs en Verkoopprijs'!$W$83:$W$115,24,FALSE),IFERROR(HLOOKUP($K$75,'Kostprijs en Verkoopprijs'!$W$122:$W$154,24,FALSE),IFERROR(HLOOKUP($K$75,'Kostprijs en Verkoopprijs'!$W$161:$W$193,24,FALSE),\"\")))))","v":""},{"$f":"IF($G$7=#REF!,SUM(#REF!),IF($G$7=#REF!,SUM(#REF!),IF($G$7=#REF!,SUM(#REF!),IF($G$7=#REF!,SUM(#REF!),IF($G$7=#REF!,SUM(#REF!),\"\")))))","v":{"$error":"#REF!"}},{"$f":"IFERROR(HLOOKUP($M$75,'Kostprijs en Verkoopprijs'!$W$6:$W$38,24,FALSE),IFERROR(HLOOKUP($M$75,'Kostprijs en Verkoopprijs'!$W$44:$W$76,24,FALSE),IFERROR(HLOOKUP($M$75,'Kostprijs en Verkoopprijs'!$W$83:$W$115,24,FALSE),IFERROR(HLOOKUP($M$75,'Kostprijs en Verkoopprijs'!$W$122:$W$154,24,FALSE),IFERROR(HLOOKUP($M$75,'Kostprijs en Verkoopprijs'!$W$161:$W$193,24,FALSE),\"\")))))","v":""},{"$f":"IF($G$7=#REF!,SUM(#REF!),IF($G$7=#REF!,SUM(#REF!),IF($G$7=#REF!,SUM(#REF!),IF($G$7=#REF!,SUM(#REF!),IF($G$7=#REF!,SUM(#REF!),\"\")))))","v":{"$error":"#REF!"}},{"$f":"IFERROR(HLOOKUP($O$75,'Kostprijs en Verkoopprijs'!$W$6:$W$38,24,FALSE),IFERROR(HLOOKUP($O$75,'Kostprijs en Verkoopprijs'!$W$44:$W$76,24,FALSE),IFERROR(HLOOKUP($O$75,'Kostprijs en Verkoopprijs'!$W$83:$W$115,24,FALSE),IFERROR(HLOOKUP($O$75,'Kostprijs en Verkoopprijs'!$W$122:$W$154,24,FALSE),IFERROR(HLOOKUP($O$75,'Kostprijs en Verkoopprijs'!$W$161:$W$193,24,FALSE),\"\")))))","v":""}]
[]
[]
[null,null,null,null,"Totale kostprijs",null,{"$f":"IFERROR(HLOOKUP($G$75,'Kostprijs en Verkoopprijs'!$W$6:$W$38,25,FALSE),IFERROR(HLOOKUP($G$75,'Kostprijs en Verkoopprijs'!$W$44:$W$76,25,FALSE),IFERROR(HLOOKUP($G$75,'Kostprijs en Verkoopprijs'!$W$83:$W$115,25,FALSE),IFERROR(HLOOKUP($G$75,'Kostprijs en Verkoopprijs'!$W$122:$W$154,25,FALSE),IFERROR(HLOOKUP($G$75,'Kostprijs en Verkoopprijs'!$W$161:$W$193,25,FALSE),\"\")))))","v":""},{"$f":"IF($G$7=#REF!,#REF!,IF($G$7=#REF!,#REF!,IF($G$7=#REF!,#REF!,IF($G$7=#REF!,#REF!,IF($G$7=#REF!,#REF!,\"\")))))","v":{"$error":"#REF!"}},{"$f":"IFERROR(HLOOKUP($I$75,'Kostprijs en Verkoopprijs'!$W$6:$W$38,25,FALSE),IFERROR(HLOOKUP($I$75,'Kostprijs en Verkoopprijs'!$W$44:$W$76,25,FALSE),IFERROR(HLOOKUP($I$75,'Kostprijs en Verkoopprijs'!$W$83:$W$115,25,FALSE),IFERROR(HLOOKUP($I$75,'Kostprijs en Verkoopprijs'!$W$122:$W$154,25,FALSE),IFERROR(HLOOKUP($I$75,'Kostprijs en Verkoopprijs'!$W$161:$W$193,25,FALSE),\"\")))))","v":""},{"$f":"IF($G$7=#REF!,#REF!,IF($G$7=#REF!,#REF!,IF($G$7=#REF!,#REF!,IF($G$7=#REF!,#REF!,IF($G$7=#REF!,#REF!,\"\")))))","v":{"$error":"#REF!"}},{"$f":"IFERROR(HLOOKUP($K$75,'Kostprijs en Verkoopprijs'!$W$6:$W$38,25,FALSE),IFERROR(HLOOKUP($K$75,'Kostprijs en Verkoopprijs'!$W$44:$W$76,25,FALSE),IFERROR(HLOOKUP($K$75,'Kostprijs en Verkoopprijs'!$W$83:$W$115,25,FALSE),IFERROR(HLOOKUP($K$75,'Kostprijs en Verkoopprijs'!$W$122:$W$154,25,FALSE),IFERROR(HLOOKUP($K$75,'Kostprijs en Verkoopprijs'!$W$161:$W$193,25,FALSE),\"\")))))","v":""},{"$f":"IF($G$7=#REF!,#REF!,IF($G$7=#REF!,#REF!,IF($G$7=#REF!,#REF!,IF($G$7=#REF!,#REF!,IF($G$7=#REF!,#REF!,\"\")))))","v":{"$error":"#REF!"}},{"$f":"IFERROR(HLOOKUP($M$75,'Kostprijs en Verkoopprijs'!$W$6:$W$38,25,FALSE),IFERROR(HLOOKUP($M$75,'Kostprijs en Verkoopprijs'!$W$44:$W$76,25,FALSE),IFERROR(HLOOKUP($M$75,'Kostprijs en Verkoopprijs'!$W$83:$W$115,25,FALSE),IFERROR(HLOOKUP($M$75,'Kostprijs en Verkoopprijs'!$W$122:$W$154,25,FALSE),IFERROR(HLOOKUP($M$75,'Kostprijs en Verkoopprijs'!$W$161:$W$193,25,FALSE),\"\")))))","v":""},{"$f":"IF($G$7=#REF!,#REF!,IF($G$7=#REF!,#REF!,IF($G$7=#REF!,#REF!,IF($G$7=#REF!,#REF!,IF($G$7=#REF!,#REF!,\"\")))))","v":{"$error":"#REF!"}},{"$f":"IFERROR(HLOOKUP($O$75,'Kostprijs en Verkoopprijs'!$W$6:$W$38,25,FALSE),IFERROR(HLOOKUP($O$75,'Kostprijs en Verkoopprijs'!$W$44:$W$76,25,FALSE),IFERROR(HLOOKUP($O$75,'Kostprijs en Verkoopprijs'!$W$83:$W$115,25,FALSE),IFERROR(HLOOKUP($O$75,'Kostprijs en Verkoopprijs'!$W$122:$W$154,25,FALSE),IFERROR(HLOOKUP($O$75,'Kostprijs en Verkoopprijs'!$W$161:$W$193,25,FALSE),\"\")))))","v":""}]
[null,null,null,null,"Totaal per km",null,{"$f":"IFERROR(HLOOKUP($G$75,'Kostprijs en Verkoopprijs'!$W$6:$W$38,26,FALSE),IFERROR(HLOOKUP($G$75,'Kostprijs en Verkoopprijs'!$W$44:$W$76,26,FALSE),IFERROR(HLOOKUP($G$75,'Kostprijs en Verkoopprijs'!$W$83:$W$115,26,FALSE),IFERROR(HLOOKUP($G$75,'Kostprijs en Verkoopprijs'!$W$122:$W$154,26,FALSE),IFERROR(HLOOKUP($G$75,'Kostprijs en Verkoopprijs'!$W$161:$W$193,26,FALSE),\"\")))))","v":""},{"$f":"IF($G$7=#REF!,#REF!,IF($G$7=#REF!,#REF!,IF($G$7=#REF!,#REF!,IF($G$7=#REF!,#REF!,IF($G$7=#REF!,#REF!,\"\")))))","v":{"$error":"#REF!"}},{"$f":"IFERROR(HLOOKUP($I$75,'Kostprijs en Verkoopprijs'!$W$6:$W$38,26,FALSE),IFERROR(HLOOKUP($I$75,'Kostprijs en Verkoopprijs'!$W$44:$W$76,26,FALSE),IFERROR(HLOOKUP($I$75,'Kostprijs en Verkoopprijs'!$W$83:$W$115,26,FALSE),IFERROR(HLOOKUP($I$75,'Kostprijs en Verkoopprijs'!$W$122:$W$154,26,FALSE),IFERROR(HLOOKUP($I$75,'Kostprijs en Verkoopprijs'!$W$161:$W$193,26,FALSE),\"\")))))","v":""},{"$f":"IF($G$7=#REF!,#REF!,IF($G$7=#REF!,#REF!,IF($G$7=#REF!,#REF!,IF($G$7=#REF!,#REF!,IF($G$7=#REF!,#REF!,\"\")))))","v":{"$error":"#REF!"}},{"$f":"IFERROR(HLOOKUP($K$75,'Kostprijs en Verkoopprijs'!$W$6:$W$38,26,FALSE),IFERROR(HLOOKUP($K$75,'Kostprijs en Verkoopprijs'!$W$44:$W$76,26,FALSE),IFERROR(HLOOKUP($K$75,'Kostprijs en Verkoopprijs'!$W$83:$W$115,26,FALSE),IFERROR(HLOOKUP($K$75,'Kostprijs en Verkoopprijs'!$W$122:$W$154,26,FALSE),IFERROR(HLOOKUP($K$75,'Kostprijs en Verkoopprijs'!$W$161:$W$193,26,FALSE),\"\")))))","v":""},{"$f":"IF($G$7=#REF!,#REF!,IF($G$7=#REF!,#REF!,IF($G$7=#REF!,#REF!,IF($G$7=#REF!,#REF!,IF($G$7=#REF!,#REF!,\"\")))))","v":{"$error":"#REF!"}},{"$f":"IFERROR(HLOOKUP($M$75,'Kostprijs en Verkoopprijs'!$W$6:$W$38,26,FALSE),IFERROR(HLOOKUP($M$75,'Kostprijs en Verkoopprijs'!$W$44:$W$76,26,FALSE),IFERROR(HLOOKUP($M$75,'Kostprijs en Verkoopprijs'!$W$83:$W$115,26,FALSE),IFERROR(HLOOKUP($M$75,'Kostprijs en Verkoopprijs'!$W$122:$W$154,26,FALSE),IFERROR(HLOOKUP($M$75,'Kostprijs en Verkoopprijs'!$W$161:$W$193,26,FALSE),\"\")))))","v":""},{"$f":"IF($G$7=#REF!,#REF!,IF($G$7=#REF!,#REF!,IF($G$7=#REF!,#REF!,IF($G$7=#REF!,#REF!,IF($G$7=#REF!,#REF!,\"\")))))","v":{"$error":"#REF!"}},{"$f":"IFERROR(HLOOKUP($O$75,'Kostprijs en Verkoopprijs'!$W$6:$W$38,26,FALSE),IFERROR(HLOOKUP($O$75,'Kostprijs en Verkoopprijs'!$W$44:$W$76,26,FALSE),IFERROR(HLOOKUP($O$75,'Kostprijs en Verkoopprijs'!$W$83:$W$115,26,FALSE),IFERROR(HLOOKUP($O$75,'Kostprijs en Verkoopprijs'!$W$122:$W$154,26,FALSE),IFERROR(HLOOKUP($O$75,'Kostprijs en Verkoopprijs'!$W$161:$W$193,26,FALSE),\"\")))))","v":""}]
[null,null,null,null,"Total per dag",null,{"$f":"IFERROR(HLOOKUP($G$75,'Kostprijs en Verkoopprijs'!$W$6:$W$38,27,FALSE),IFERROR(HLOOKUP($G$75,'Kostprijs en Verkoopprijs'!$W$44:$W$76,27,FALSE),IFERROR(HLOOKUP($G$75,'Kostprijs en Verkoopprijs'!$W$83:$W$115,27,FALSE),IFERROR(HLOOKUP($G$75,'Kostprijs en Verkoopprijs'!$W$122:$W$154,27,FALSE),IFERROR(HLOOKUP($G$75,'Kostprijs en Verkoopprijs'!$W$161:$W$193,27,FALSE),\"\")))))","v":""},{"$f":"IF($G$7=#REF!,#REF!,IF($G$7=#REF!,#REF!,IF($G$7=#REF!,#REF!,IF($G$7=#REF!,#REF!,IF($G$7=#REF!,#REF!,\"\")))))","v":{"$error":"#REF!"}},{"$f":"IFERROR(HLOOKUP($I$75,'Kostprijs en Verkoopprijs'!$W$6:$W$38,27,FALSE),IFERROR(HLOOKUP($I$75,'Kostprijs en Verkoopprijs'!$W$44:$W$76,27,FALSE),IFERROR(HLOOKUP($I$75,'Kostprijs en Verkoopprijs'!$W$83:$W$115,27,FALSE),IFERROR(HLOOKUP($I$75,'Kostprijs en Verkoopprijs'!$W$122:$W$154,27,FALSE),IFERROR(HLOOKUP($I$75,'Kostprijs en Verkoopprijs'!$W$161:$W$193,27,FALSE),\"\")))))","v":""},{"$f":"IF($G$7=#REF!,#REF!,IF($G$7=#REF!,#REF!,IF($G$7=#REF!,#REF!,IF($G$7=#REF!,#REF!,IF($G$7=#REF!,#REF!,\"\")))))","v":{"$error":"#REF!"}},{"$f":"IFERROR(HLOOKUP($K$75,'Kostprijs en Verkoopprijs'!$W$6:$W$38,27,FALSE),IFERROR(HLOOKUP($K$75,'Kostprijs en Verkoopprijs'!$W$44:$W$76,27,FALSE),IFERROR(HLOOKUP($K$75,'Kostprijs en Verkoopprijs'!$W$83:$W$115,27,FALSE),IFERROR(HLOOKUP($K$75,'Kostprijs en Verkoopprijs'!$W$122:$W$154,27,FALSE),IFERROR(HLOOKUP($K$75,'Kostprijs en Verkoopprijs'!$W$161:$W$193,27,FALSE),\"\")))))","v":""},{"$f":"IF($G$7=#REF!,#REF!,IF($G$7=#REF!,#REF!,IF($G$7=#REF!,#REF!,IF($G$7=#REF!,#REF!,IF($G$7=#REF!,#REF!,\"\")))))","v":{"$error":"#REF!"}},{"$f":"IFERROR(HLOOKUP($M$75,'Kostprijs en Verkoopprijs'!$W$6:$W$38,27,FALSE),IFERROR(HLOOKUP($M$75,'Kostprijs en Verkoopprijs'!$W$44:$W$76,27,FALSE),IFERROR(HLOOKUP($M$75,'Kostprijs en Verkoopprijs'!$W$83:$W$115,27,FALSE),IFERROR(HLOOKUP($M$75,'Kostprijs en Verkoopprijs'!$W$122:$W$154,27,FALSE),IFERROR(HLOOKUP($M$75,'Kostprijs en Verkoopprijs'!$W$161:$W$193,27,FALSE),\"\")))))","v":""},{"$f":"IF($G$7=#REF!,#REF!,IF($G$7=#REF!,#REF!,IF($G$7=#REF!,#REF!,IF($G$7=#REF!,#REF!,IF($G$7=#REF!,#REF!,\"\")))))","v":{"$error":"#REF!"}},{"$f":"IFERROR(HLOOKUP($O$75,'Kostprijs en Verkoopprijs'!$W$6:$W$38,27,FALSE),IFERROR(HLOOKUP($O$75,'Kostprijs en Verkoopprijs'!$W$44:$W$76,27,FALSE),IFERROR(HLOOKUP($O$75,'Kostprijs en Verkoopprijs'!$W$83:$W$115,27,FALSE),IFERROR(HLOOKUP($O$75,'Kostprijs en Verkoopprijs'!$W$122:$W$154,27,FALSE),IFERROR(HLOOKUP($O$75,'Kostprijs en Verkoopprijs'!$W$161:$W$193,27,FALSE),\"\")))))","v":""}]
[]
[null,null,null,null,"Totale verkoopprijs",null,{"$f":"IFERROR(HLOOKUP($G$75,'Kostprijs en Verkoopprijs'!$W$6:$W$38,31,FALSE),IFERROR(HLOOKUP($G$75,'Kostprijs en Verkoopprijs'!$W$44:$W$76,31,FALSE),IFERROR(HLOOKUP($G$75,'Kostprijs en Verkoopprijs'!$W$83:$W$115,31,FALSE),IFERROR(HLOOKUP($G$75,'Kostprijs en Verkoopprijs'!$W$122:$W$154,31,FALSE),IFERROR(HLOOKUP($G$75,'Kostprijs en Verkoopprijs'!$W$161:$W$193,31,FALSE),\"\")))))","v":""},{"$f":"IF($G$7=#REF!,#REF!,IF($G$7=#REF!,#REF!,IF($G$7=#REF!,#REF!,IF($G$7=#REF!,#REF!,IF($G$7=#REF!,#REF!,\"\")))))","v":{"$error":"#REF!"}},{"$f":"IFERROR(HLOOKUP($I$75,'Kostprijs en Verkoopprijs'!$W$6:$W$38,31,FALSE),IFERROR(HLOOKUP($I$75,'Kostprijs en Verkoopprijs'!$W$44:$W$76,31,FALSE),IFERROR(HLOOKUP($I$75,'Kostprijs en Verkoopprijs'!$W$83:$W$115,31,FALSE),IFERROR(HLOOKUP($I$75,'Kostprijs en Verkoopprijs'!$W$122:$W$154,31,FALSE),IFERROR(HLOOKUP($I$75,'Kostprijs en Verkoopprijs'!$W$161:$W$193,31,FALSE),\"\")))))","v":""},{"$f":"IF($G$7=#REF!,#REF!,IF($G$7=#REF!,#REF!,IF($G$7=#REF!,#REF!,IF($G$7=#REF!,#REF!,IF($G$7=#REF!,#REF!,\"\")))))","v":{"$error":"#REF!"}},{"$f":"IFERROR(HLOOKUP($K$75,'Kostprijs en Verkoopprijs'!$W$6:$W$38,31,FALSE),IFERROR(HLOOKUP($K$75,'Kostprijs en Verkoopprijs'!$W$44:$W$76,31,FALSE),IFERROR(HLOOKUP($K$75,'Kostprijs en Verkoopprijs'!$W$83:$W$115,31,FALSE),IFERROR(HLOOKUP($K$75,'Kostprijs en Verkoopprijs'!$W$122:$W$154,31,FALSE),IFERROR(HLOOKUP($K$75,'Kostprijs en Verkoopprijs'!$W$161:$W$193,31,FALSE),\"\")))))","v":""},{"$f":"IF($G$7=#REF!,#REF!,IF($G$7=#REF!,#REF!,IF($G$7=#REF!,#REF!,IF($G$7=#REF!,#REF!,IF($G$7=#REF!,#REF!,\"\")))))","v":{"$error":"#REF!"}},{"$f":"IFERROR(HLOOKUP($M$75,'Kostprijs en Verkoopprijs'!$W$6:$W$38,31,FALSE),IFERROR(HLOOKUP($M$75,'Kostprijs en Verkoopprijs'!$W$44:$W$76,31,FALSE),IFERROR(HLOOKUP($M$75,'Kostprijs en Verkoopprijs'!$W$83:$W$115,31,FALSE),IFERROR(HLOOKUP($M$75,'Kostprijs en Verkoopprijs'!$W$122:$W$154,31,FALSE),IFERROR(HLOOKUP($M$75,'Kostprijs en Verkoopprijs'!$W$161:$W$193,31,FALSE),\"\")))))","v":""},{"$f":"IF($G$7=#REF!,#REF!,IF($G$7=#REF!,#REF!,IF($G$7=#REF!,#REF!,IF($G$7=#REF!,#REF!,IF($G$7=#REF!,#REF!,\"\")))))","v":{"$error":"#REF!"}},{"$f":"IFERROR(HLOOKUP($O$75,'Kostprijs en Verkoopprijs'!$W$6:$W$38,31,FALSE),IFERROR(HLOOKUP($O$75,'Kostprijs en Verkoopprijs'!$W$44:$W$76,31,FALSE),IFERROR(HLOOKUP($O$75,'Kostprijs en Verkoopprijs'!$W$83:$W$115,31,FALSE),IFERROR(HLOOKUP($O$75,'Kostprijs en Verkoopprijs'!$W$122:$W$154,31,FALSE),IFERROR(HLOOKUP($O$75,'Kostprijs en Verkoopprijs'!$W$161:$W$193,31,FALSE),\"\")))))","v":""}]
[null,null,null,null,"Totaal per km",null,{"$f":"IFERROR(HLOOKUP($G$75,'Kostprijs en Verkoopprijs'!$W$6:$W$38,32,FALSE),IFERROR(HLOOKUP($G$75,'Kostprijs en Verkoopprijs'!$W$44:$W$76,32,FALSE),IFERROR(HLOOKUP($G$75,'Kostprijs en Verkoopprijs'!$W$83:$W$115,32,FALSE),IFERROR(HLOOKUP($G$75,'Kostprijs en Verkoopprijs'!$W$122:$W$154,32,FALSE),IFERROR(HLOOKUP($G$75,'Kostprijs en Verkoopprijs'!$W$161:$W$193,32,FALSE),\"\")))))","v":""},{"$f":"IF($G$7=#REF!,#REF!,IF($G$7=#REF!,#REF!,IF($G$7=#REF!,#REF!,IF($G$7=#REF!,#REF!,IF($G$7=#REF!,#REF!,\"\")))))","v":{"$error":"#REF!"}},{"$f":"IFERROR(HLOOKUP($I$75,'Kostprijs en Verkoopprijs'!$W$6:$W$38,32,FALSE),IFERROR(HLOOKUP($I$75,'Kostprijs en Verkoopprijs'!$W$44:$W$76,32,FALSE),IFERROR(HLOOKUP($I$75,'Kostprijs en Verkoopprijs'!$W$83:$W$115,32,FALSE),IFERROR(HLOOKUP($I$75,'Kostprijs en Verkoopprijs'!$W$122:$W$154,32,FALSE),IFERROR(HLOOKUP($I$75,'Kostprijs en Verkoopprijs'!$W$161:$W$193,32,FALSE),\"\")))))","v":""},{"$f":"IF($G$7=#REF!,#REF!,IF($G$7=#REF!,#REF!,IF($G$7=#REF!,#REF!,IF($G$7=#REF!,#REF!,IF($G$7=#REF!,#REF!,\"\")))))","v":{"$error":"#REF!"}},{"$f":"IFERROR(HLOOKUP($K$75,'Kostprijs en Verkoopprijs'!$W$6:$W$38,32,FALSE),IFERROR(HLOOKUP($K$75,'Kostprijs en Verkoopprijs'!$W$44:$W$76,32,FALSE),IFERROR(HLOOKUP($K$75,'Kostprijs en Verkoopprijs'!$W$83:$W$115,32,FALSE),IFERROR(HLOOKUP($K$75,'Kostprijs en Verkoopprijs'!$W$122:$W$154,32,FALSE),IFERROR(HLOOKUP($K$75,'Kostprijs en Verkoopprijs'!$W$161:$W$193,32,FALSE),\"\")))))","v":""},{"$f":"IF($G$7=#REF!,#REF!,IF($G$7=#REF!,#REF!,IF($G$7=#REF!,#REF!,IF($G$7=#REF!,#REF!,IF($G$7=#REF!,#REF!,\"\")))))","v":{"$error":"#REF!"}},{"$f":"IFERROR(HLOOKUP($M$75,'Kostprijs en Verkoopprijs'!$W$6:$W$38,32,FALSE),IFERROR(HLOOKUP($M$75,'Kostprijs en Verkoopprijs'!$W$44:$W$76,32,FALSE),IFERROR(HLOOKUP($M$75,'Kostprijs en Verkoopprijs'!$W$83:$W$115,32,FALSE),IFERROR(HLOOKUP($M$75,'Kostprijs en Verkoopprijs'!$W$122:$W$154,32,FALSE),IFERROR(HLOOKUP($M$75,'Kostprijs en Verkoopprijs'!$W$161:$W$193,32,FALSE),\"\")))))","v":""},{"$f":"IF($G$7=#REF!,#REF!,IF($G$7=#REF!,#REF!,IF($G$7=#REF!,#REF!,IF($G$7=#REF!,#REF!,IF($G$7=#REF!,#REF!,\"\")))))","v":{"$error":"#REF!"}},{"$f":"IFERROR(HLOOKUP($O$75,'Kostprijs en Verkoopprijs'!$W$6:$W$38,32,FALSE),IFERROR(HLOOKUP($O$75,'Kostprijs en Verkoopprijs'!$W$44:$W$76,32,FALSE),IFERROR(HLOOKUP($O$75,'Kostprijs en Verkoopprijs'!$W$83:$W$115,32,FALSE),IFERROR(HLOOKUP($O$75,'Kostprijs en Verkoopprijs'!$W$122:$W$154,32,FALSE),IFERROR(HLOOKUP($O$75,'Kostprijs en Verkoopprijs'!$W$161:$W$193,32,FALSE),\"\")))))","v":""}]
[null,null,null,null,"Totaal per dag",null,{"$f":"IFERROR(HLOOKUP($G$75,'Kostprijs en Verkoopprijs'!$W$6:$W$38,33,FALSE),IFERROR(HLOOKUP($G$75,'Kostprijs en Verkoopprijs'!$W$44:$W$76,33,FALSE),IFERROR(HLOOKUP($G$75,'Kostprijs en Verkoopprijs'!$W$83:$W$115,33,FALSE),IFERROR(HLOOKUP($G$75,'Kostprijs en Verkoopprijs'!$W$122:$W$154,33,FALSE),IFERROR(HLOOKUP($G$75,'Kostprijs en Verkoopprijs'!$W$161:$W$193,33,FALSE),\"\")))))","v":""},{"$f":"IF($G$7=#REF!,#REF!,IF($G$7=#REF!,#REF!,IF($G$7=#REF!,#REF!,IF($G$7=#REF!,#REF!,IF($G$7=#REF!,#REF!,\"\")))))","v":{"$error":"#REF!"}},{"$f":"IFERROR(HLOOKUP($I$75,'Kostprijs en Verkoopprijs'!$W$6:$W$38,33,FALSE),IFERROR(HLOOKUP($I$75,'Kostprijs en Verkoopprijs'!$W$44:$W$76,33,FALSE),IFERROR(HLOOKUP($I$75,'Kostprijs en Verkoopprijs'!$W$83:$W$115,33,FALSE),IFERROR(HLOOKUP($I$75,'Kostprijs en Verkoopprijs'!$W$122:$W$154,33,FALSE),IFERROR(HLOOKUP($I$75,'Kostprijs en Verkoopprijs'!$W$161:$W$193,33,FALSE),\"\")))))","v":""},{"$f":"IF($G$7=#REF!,#REF!,IF($G$7=#REF!,#REF!,IF($G$7=#REF!,#REF!,IF($G$7=#REF!,#REF!,IF($G$7=#REF!,#REF!,\"\")))))","v":{"$error":"#REF!"}},{"$f":"IFERROR(HLOOKUP($K$75,'Kostprijs en Verkoopprijs'!$W$6:$W$38,33,FALSE),IFERROR(HLOOKUP($K$75,'Kostprijs en Verkoopprijs'!$W$44:$W$76,33,FALSE),IFERROR(HLOOKUP($K$75,'Kostprijs en Verkoopprijs'!$W$83:$W$115,33,FALSE),IFERROR(HLOOKUP($K$75,'Kostprijs en Verkoopprijs'!$W$122:$W$154,33,FALSE),IFERROR(HLOOKUP($K$75,'Kostprijs en Verkoopprijs'!$W$161:$W$193,33,FALSE),\"\")))))","v":""},{"$f":"IF($G$7=#REF!,#REF!,IF($G$7=#REF!,#REF!,IF($G$7=#REF!,#REF!,IF($G$7=#REF!,#REF!,IF($G$7=#REF!,#REF!,\"\")))))","v":{"$error":"#REF!"}},{"$f":"IFERROR(HLOOKUP($M$75,'Kostprijs en Verkoopprijs'!$W$6:$W$38,33,FALSE),IFERROR(HLOOKUP($M$75,'Kostprijs en Verkoopprijs'!$W$44:$W$76,33,FALSE),IFERROR(HLOOKUP($M$75,'Kostprijs en Verkoopprijs'!$W$83:$W$115,33,FALSE),IFERROR(HLOOKUP($M$75,'Kostprijs en Verkoopprijs'!$W$122:$W$154,33,FALSE),IFERROR(HLOOKUP($M$75,'Kostprijs en Verkoopprijs'!$W$161:$W$193,33,FALSE),\"\")))))","v":""},{"$f":"IF($G$7=#REF!,#REF!,IF($G$7=#REF!,#REF!,IF($G$7=#REF!,#REF!,IF($G$7=#REF!,#REF!,IF($G$7=#REF!,#REF!,\"\")))))","v":{"$error":"#REF!"}},{"$f":"IFERROR(HLOOKUP($O$75,'Kostprijs en Verkoopprijs'!$W$6:$W$38,33,FALSE),IFERROR(HLOOKUP($O$75,'Kostprijs en Verkoopprijs'!$W$44:$W$76,33,FALSE),IFERROR(HLOOKUP($O$75,'Kostprijs en Verkoopprijs'!$W$83:$W$115,33,FALSE),IFERROR(HLOOKUP($O$75,'Kostprijs en Verkoopprijs'!$W$122:$W$154,33,FALSE),IFERROR(HLOOKUP($O$75,'Kostprijs en Verkoopprijs'!$W$161:$W$193,33,FALSE),\"\")))))","v":""}]
[]
[null,null,null,{"$f":"Bestemmingen!W14","v":""}]
[]
[null,null,null,null,null,null,{"$f":"IF(D106=$AE$3,$AG$3,\"\")","v":""},{"$f":"IF($D$4=$AE$3,$AG$3,IF($D$4=$AE$4,$AG$4,IF($D$4=$AE$5,$AG$5,IF($D$4=$AE$6,$AG$6,IF($D$4=$AE$7,$AG$7,\"\")))))","v":""},{"$f":"IF(D106=$AE$4,$AG$4,\"\")","v":""},"",{"$f":"IF(D106=$AE$5,$AG$5,\"\")","v":""},"",{"$f":"IF(D106=$AE$6,$AG$6,\"\")","v":""},"",{"$f":"IF(D106=$AE$7,$AG$7,\"\")","v":""}]
[null,null,null,null,null,null,{"$f":"IF(G108<>\"\",$D$106&G108,\"\")","v":""},{"$f":"IF(H108<>\"\",$D$4&H108,\"\")","v":""},{"$f":"IF(I108<>\"\",$D$106&I108,\"\")","v":""},{"$f":"IF(J108<>\"\",$D$4&J108,\"\")","v":""},{"$f":"IF(K108<>\"\",$D$106&K108,\"\")","v":""},{"$f":"IF(L108<>\"\",$D$4&L108,\"\")","v":""},{"$f":"IF(M108<>\"\",$D$106&M108,\"\")","v":""},{"$f":"IF(N108<>\"\",$D$4&N108,\"\")","v":""},{"$f":"IF(O108<>\"\",$D$106&O108,\"\")","v":""}]
[]
[null,null,null,"VAST","Voertuig (economische afschr.)",null,{"$f":"IFERROR(HLOOKUP($G$109,'Kostprijs en Verkoopprijs'!$W$6:$W$38,5,FALSE),IFERROR(HLOOKUP($G$109,'Kostprijs en Verkoopprijs'!$W$44:$W$76,5,FALSE),IFERROR(HLOOKUP($G$109,'Kostprijs en Verkoopprijs'!$W$83:$W$115,5,FALSE),IFERROR(HLOOKUP($G$109,'Kostprijs en Verkoopprijs'!$W$122:$W$154,5,FALSE),IFERROR(HLOOKUP($G$109,'Kostprijs en Verkoopprijs'!$W$161:$W$193,5,FALSE),\"\")))))","v":""},{"$f":"IFERROR(HLOOKUP(H109,'Kostprijs en Verkoopprijs'!$W$6:$W$38,5,FALSE),IFERROR(HLOOKUP(H109,'Kostprijs en Verkoopprijs'!$W$44:$W$76,5,FALSE),IFERROR(HLOOKUP(H109,'Kostprijs en Verkoopprijs'!$W$83:$W$115,5,FALSE),IFERROR(HLOOKUP(H109,'Kostprijs en Verkoopprijs'!$W$122:$W$154,5,FALSE),IFERROR(HLOOKUP(H109,'Kostprijs en Verkoopprijs'!$W$161:$W$193,5,FALSE),\"\")))))","v":""},{"$f":"IFERROR(HLOOKUP($I$109,'Kostprijs en Verkoopprijs'!$W$6:$W$38,5,FALSE),IFERROR(HLOOKUP($I$109,'Kostprijs en Verkoopprijs'!$W$44:$W$76,5,FALSE),IFERROR(HLOOKUP($I$109,'Kostprijs en Verkoopprijs'!$W$83:$W$115,5,FALSE),IFERROR(HLOOKUP($I$109,'Kostprijs en Verkoopprijs'!$W$122:$W$154,5,FALSE),IFERROR(HLOOKUP($I$109,'Kostprijs en Verkoopprijs'!$W$161:$W$193,5,FALSE),\"\")))))","v":""},{"$f":"IFERROR(HLOOKUP(J109,'Kostprijs en Verkoopprijs'!$W$6:$W$38,5,FALSE),IFERROR(HLOOKUP(J109,'Kostprijs en Verkoopprijs'!$W$44:$W$76,5,FALSE),IFERROR(HLOOKUP(J109,'Kostprijs en Verkoopprijs'!$W$83:$W$115,5,FALSE),IFERROR(HLOOKUP(J109,'Kostprijs en Verkoopprijs'!$W$122:$W$154,5,FALSE),IFERROR(HLOOKUP(J109,'Kostprijs en Verkoopprijs'!$W$161:$W$193,5,FALSE),\"\")))))","v":""},{"$f":"IFERROR(HLOOKUP($K$109,'Kostprijs en Verkoopprijs'!$W$6:$W$38,5,FALSE),IFERROR(HLOOKUP($K$109,'Kostprijs en Verkoopprijs'!$W$44:$W$76,5,FALSE),IFERROR(HLOOKUP($K$109,'Kostprijs en Verkoopprijs'!$W$83:$W$115,5,FALSE),IFERROR(HLOOKUP($K$109,'Kostprijs en Verkoopprijs'!$W$122:$W$154,5,FALSE),IFERROR(HLOOKUP($K$109,'Kostprijs en Verkoopprijs'!$W$161:$W$193,5,FALSE),\"\")))))","v":""},{"$f":"IFERROR(HLOOKUP(L109,'Kostprijs en Verkoopprijs'!$W$6:$W$38,5,FALSE),IFERROR(HLOOKUP(L109,'Kostprijs en Verkoopprijs'!$W$44:$W$76,5,FALSE),IFERROR(HLOOKUP(L109,'Kostprijs en Verkoopprijs'!$W$83:$W$115,5,FALSE),IFERROR(HLOOKUP(L109,'Kostprijs en Verkoopprijs'!$W$122:$W$154,5,FALSE),IFERROR(HLOOKUP(L109,'Kostprijs en Verkoopprijs'!$W$161:$W$193,5,FALSE),\"\")))))","v":""},{"$f":"IFERROR(HLOOKUP($M$109,'Kostprijs en Verkoopprijs'!$W$6:$W$38,5,FALSE),IFERROR(HLOOKUP($M$109,'Kostprijs en Verkoopprijs'!$W$44:$W$76,5,FALSE),IFERROR(HLOOKUP($M$109,'Kostprijs en Verkoopprijs'!$W$83:$W$115,5,FALSE),IFERROR(HLOOKUP($M$109,'Kostprijs en Verkoopprijs'!$W$122:$W$154,5,FALSE),IFERROR(HLOOKUP($M$109,'Kostprijs en Verkoopprijs'!$W$161:$W$193,5,FALSE),\"\")))))","v":""},{"$f":"IFERROR(HLOOKUP(N109,'Kostprijs en Verkoopprijs'!$W$6:$W$38,5,FALSE),IFERROR(HLOOKUP(N109,'Kostprijs en Verkoopprijs'!$W$44:$W$76,5,FALSE),IFERROR(HLOOKUP(N109,'Kostprijs en Verkoopprijs'!$W$83:$W$115,5,FALSE),IFERROR(HLOOKUP(N109,'Kostprijs en Verkoopprijs'!$W$122:$W$154,5,FALSE),IFERROR(HLOOKUP(N109,'Kostprijs en Verkoopprijs'!$W$161:$W$193,5,FALSE),\"\")))))","v":""},{"$f":"IFERROR(HLOOKUP($O$109,'Kostprijs en Verkoopprijs'!$W$6:$W$38,5,FALSE),IFERROR(HLOOKUP($O$109,'Kostprijs en Verkoopprijs'!$W$44:$W$76,5,FALSE),IFERROR(HLOOKUP($O$109,'Kostprijs en Verkoopprijs'!$W$83:$W$115,5,FALSE),IFERROR(HLOOKUP($O$109,'Kostprijs en Verkoopprijs'!$W$122:$W$154,5,FALSE),IFERROR(HLOOKUP($O$109,'Kostprijs en Verkoopprijs'!$W$161:$W$193,5,FALSE),\"\")))))","v":""}]
[null,null,null,null,"Financiering voertuig",null,{"$f":"IFERROR(HLOOKUP($G$109,'Kostprijs en Verkoopprijs'!$W$6:$W$38,6,FALSE),IFERROR(HLOOKUP($G$109,'Kostprijs en Verkoopprijs'!$W$44:$W$76,6,FALSE),IFERROR(HLOOKUP($G$109,'Kostprijs en Verkoopprijs'!$W$83:$W$115,6,FALSE),IFERROR(HLOOKUP($G$109,'Kostprijs en Verkoopprijs'!$W$122:$W$154,6,FALSE),IFERROR(HLOOKUP($G$109,'Kostprijs en Verkoopprijs'!$W$161:$W$193,6,FALSE),\"\")))))","v":""},{"$f":"IF($G$7=#REF!,#REF!,IF($G$7=#REF!,#REF!,IF($G$7=#REF!,#REF!,IF($G$7=#REF!,#REF!,IF($G$7=#REF!,#REF!,\"\")))))","v":{"$error":"#REF!"}},{"$f":"IFERROR(HLOOKUP($I$109,'Kostprijs en Verkoopprijs'!$W$6:$W$38,6,FALSE),IFERROR(HLOOKUP($I$109,'Kostprijs en Verkoopprijs'!$W$44:$W$76,6,FALSE),IFERROR(HLOOKUP($I$109,'Kostprijs en Verkoopprijs'!$W$83:$W$115,6,FALSE),IFERROR(HLOOKUP($I$109,'Kostprijs en Verkoopprijs'!$W$122:$W$154,6,FALSE),IFERROR(HLOOKUP($I$109,'Kostprijs en Verkoopprijs'!$W$161:$W$193,6,FALSE),\"\")))))","v":""},{"$f":"IF($G$7=#REF!,#REF!,IF($G$7=#REF!,#REF!,IF($G$7=#REF!,#REF!,IF($G$7=#REF!,#REF!,IF($G$7=#REF!,#REF!,\"\")))))","v":{"$error":"#REF!"}},{"$f":"IFERROR(HLOOKUP($K$109,'Kostprijs en Verkoopprijs'!$W$6:$W$38,6,FALSE),IFERROR(HLOOKUP($K$109,'Kostprijs en Verkoopprijs'!$W$44:$W$76,6,FALSE),IFERROR(HLOOKUP($K$109,'Kostprijs en Verkoopprijs'!$W$83:$W$115,6,FALSE),IFERROR(HLOOKUP($K$109,'Kostprijs en Verkoopprijs'!$W$122:$W$154,6,FALSE),IFERROR(HLOOKUP($K$109,'Kostprijs en Verkoopprijs'!$W$161:$W$193,6,FALSE),\"\")))))","v":""},{"$f":"IF($G$7=#REF!,#REF!,IF($G$7=#REF!,#REF!,IF($G$7=#REF!,#REF!,IF($G$7=#REF!,#REF!,IF($G$7=#REF!,#REF!,\"\")))))","v":{"$error":"#REF!"}},{"$f":"IFERROR(HLOOKUP($M$109,'Kostprijs en Verkoopprijs'!$W$6:$W$38,6,FALSE),IFERROR(HLOOKUP($M$109,'Kostprijs en Verkoopprijs'!$W$44:$W$76,6,FALSE),IFERROR(HLOOKUP($M$109,'Kostprijs en Verkoopprijs'!$W$83:$W$115,6,FALSE),IFERROR(HLOOKUP($M$109,'Kostprijs en Verkoopprijs'!$W$122:$W$154,6,FALSE),IFERROR(HLOOKUP($M$109,'Kostprijs en Verkoopprijs'!$W$161:$W$193,6,FALSE),\"\")))))","v":""},{"$f":"IF($G$7=#REF!,#REF!,IF($G$7=#REF!,#REF!,IF($G$7=#REF!,#REF!,IF($G$7=#REF!,#REF!,IF($G$7=#REF!,#REF!,\"\")))))","v":{"$error":"#REF!"}},{"$f":"IFERROR(HLOOKUP($O$109,'Kostprijs en Verkoopprijs'!$W$6:$W$38,6,FALSE),IFERROR(HLOOKUP($O$109,'Kostprijs en Verkoopprijs'!$W$44:$W$76,6,FALSE),IFERROR(HLOOKUP($O$109,'Kostprijs en Verkoopprijs'!$W$83:$W$115,6,FALSE),IFERROR(HLOOKUP($O$109,'Kostprijs en Verkoopprijs'!$W$122:$W$154,6,FALSE),IFERROR(HLOOKUP($O$109,'Kostprijs en Verkoopprijs'!$W$161:$W$193,6,FALSE),\"\")))))","v":""}]
[null,null,null,null,"Verzekeringen voertuig",null,{"$f":"IFERROR(HLOOKUP($G$109,'Kostprijs en Verkoopprijs'!$W$6:$W$38,7,FALSE),IFERROR(HLOOKUP($G$109,'Kostprijs en Verkoopprijs'!$W$44:$W$76,7,FALSE),IFERROR(HLOOKUP($G$109,'Kostprijs en Verkoopprijs'!$W$83:$W$115,7,FALSE),IFERROR(HLOOKUP($G$109,'Kostprijs en Verkoopprijs'!$W$122:$W$154,7,FALSE),IFERROR(HLOOKUP($G$109,'Kostprijs en Verkoopprijs'!$W$161:$W$193,7,FALSE),\"\")))))","v":""},{"$f":"IF($G$7=#REF!,#REF!,IF($G$7=#REF!,#REF!,IF($G$7=#REF!,#REF!,IF($G$7=#REF!,#REF!,IF($G$7=#REF!,#REF!,\"\")))))","v":{"$error":"#REF!"}},{"$f":"IFERROR(HLOOKUP($I$109,'Kostprijs en Verkoopprijs'!$W$6:$W$38,7,FALSE),IFERROR(HLOOKUP($I$109,'Kostprijs en Verkoopprijs'!$W$44:$W$76,7,FALSE),IFERROR(HLOOKUP($I$109,'Kostprijs en Verkoopprijs'!$W$83:$W$115,7,FALSE),IFERROR(HLOOKUP($I$109,'Kostprijs en Verkoopprijs'!$W$122:$W$154,7,FALSE),IFERROR(HLOOKUP($I$109,'Kostprijs en Verkoopprijs'!$W$161:$W$193,7,FALSE),\"\")))))","v":""},{"$f":"IF($G$7=#REF!,#REF!,IF($G$7=#REF!,#REF!,IF($G$7=#REF!,#REF!,IF($G$7=#REF!,#REF!,IF($G$7=#REF!,#REF!,\"\")))))","v":{"$error":"#REF!"}},{"$f":"IFERROR(HLOOKUP($K$109,'Kostprijs en Verkoopprijs'!$W$6:$W$38,7,FALSE),IFERROR(HLOOKUP($K$109,'Kostprijs en Verkoopprijs'!$W$44:$W$76,7,FALSE),IFERROR(HLOOKUP($K$109,'Kostprijs en Verkoopprijs'!$W$83:$W$115,7,FALSE),IFERROR(HLOOKUP($K$109,'Kostprijs en Verkoopprijs'!$W$122:$W$154,7,FALSE),IFERROR(HLOOKUP($K$109,'Kostprijs en Verkoopprijs'!$W$161:$W$193,7,FALSE),\"\")))))","v":""},{"$f":"IF($G$7=#REF!,#REF!,IF($G$7=#REF!,#REF!,IF($G$7=#REF!,#REF!,IF($G$7=#REF!,#REF!,IF($G$7=#REF!,#REF!,\"\")))))","v":{"$error":"#REF!"}},{"$f":"IFERROR(HLOOKUP($M$109,'Kostprijs en Verkoopprijs'!$W$6:$W$38,7,FALSE),IFERROR(HLOOKUP($M$109,'Kostprijs en Verkoopprijs'!$W$44:$W$76,7,FALSE),IFERROR(HLOOKUP($M$109,'Kostprijs en Verkoopprijs'!$W$83:$W$115,7,FALSE),IFERROR(HLOOKUP($M$109,'Kostprijs en Verkoopprijs'!$W$122:$W$154,7,FALSE),IFERROR(HLOOKUP($M$109,'Kostprijs en Verkoopprijs'!$W$161:$W$193,7,FALSE),\"\")))))","v":""},{"$f":"IF($G$7=#REF!,#REF!,IF($G$7=#REF!,#REF!,IF($G$7=#REF!,#REF!,IF($G$7=#REF!,#REF!,IF($G$7=#REF!,#REF!,\"\")))))","v":{"$error":"#REF!"}},{"$f":"IFERROR(HLOOKUP($O$109,'Kostprijs en Verkoopprijs'!$W$6:$W$38,7,FALSE),IFERROR(HLOOKUP($O$109,'Kostprijs en Verkoopprijs'!$W$44:$W$76,7,FALSE),IFERROR(HLOOKUP($O$109,'Kostprijs en Verkoopprijs'!$W$83:$W$115,7,FALSE),IFERROR(HLOOKUP($O$109,'Kostprijs en Verkoopprijs'!$W$122:$W$154,7,FALSE),IFERROR(HLOOKUP($O$109,'Kostprijs en Verkoopprijs'!$W$161:$W$193,7,FALSE),\"\")))))","v":""}]
[null,null,null,null,"Andere vaste kosten voertuig",null,{"$f":"IFERROR(HLOOKUP($G$109,'Kostprijs en Verkoopprijs'!$W$6:$W$38,8,FALSE),IFERROR(HLOOKUP($G$109,'Kostprijs en Verkoopprijs'!$W$44:$W$76,8,FALSE),IFERROR(HLOOKUP($G$109,'Kostprijs en Verkoopprijs'!$W$83:$W$115,8,FALSE),IFERROR(HLOOKUP($G$109,'Kostprijs en Verkoopprijs'!$W$122:$W$154,8,FALSE),IFERROR(HLOOKUP($G$109,'Kostprijs en Verkoopprijs'!$W$161:$W$193,8,FALSE),\"\")))))","v":""},{"$f":"IF($G$7=#REF!,#REF!,IF($G$7=#REF!,#REF!,IF($G$7=#REF!,#REF!,IF($G$7=#REF!,#REF!,IF($G$7=#REF!,#REF!,\"\")))))","v":{"$error":"#REF!"}},{"$f":"IFERROR(HLOOKUP($I$109,'Kostprijs en Verkoopprijs'!$W$6:$W$38,8,FALSE),IFERROR(HLOOKUP($I$109,'Kostprijs en Verkoopprijs'!$W$44:$W$76,8,FALSE),IFERROR(HLOOKUP($I$109,'Kostprijs en Verkoopprijs'!$W$83:$W$115,8,FALSE),IFERROR(HLOOKUP($I$109,'Kostprijs en Verkoopprijs'!$W$122:$W$154,8,FALSE),IFERROR(HLOOKUP($I$109,'Kostprijs en Verkoopprijs'!$W$161:$W$193,8,FALSE),\"\")))))","v":""},{"$f":"IF($G$7=#REF!,#REF!,IF($G$7=#REF!,#REF!,IF($G$7=#REF!,#REF!,IF($G$7=#REF!,#REF!,IF($G$7=#REF!,#REF!,\"\")))))","v":{"$error":"#REF!"}},{"$f":"IFERROR(HLOOKUP($K$109,'Kostprijs en Verkoopprijs'!$W$6:$W$38,8,FALSE),IFERROR(HLOOKUP($K$109,'Kostprijs en Verkoopprijs'!$W$44:$W$76,8,FALSE),IFERROR(HLOOKUP($K$109,'Kostprijs en Verkoopprijs'!$W$83:$W$115,8,FALSE),IFERROR(HLOOKUP($K$109,'Kostprijs en Verkoopprijs'!$W$122:$W$154,8,FALSE),IFERROR(HLOOKUP($K$109,'Kostprijs en Verkoopprijs'!$W$161:$W$193,8,FALSE),\"\")))))","v":""},{"$f":"IF($G$7=#REF!,#REF!,IF($G$7=#REF!,#REF!,IF($G$7=#REF!,#REF!,IF($G$7=#REF!,#REF!,IF($G$7=#REF!,#REF!,\"\")))))","v":{"$error":"#REF!"}},{"$f":"IFERROR(HLOOKUP($M$109,'Kostprijs en Verkoopprijs'!$W$6:$W$38,8,FALSE),IFERROR(HLOOKUP($M$109,'Kostprijs en Verkoopprijs'!$W$44:$W$76,8,FALSE),IFERROR(HLOOKUP($M$109,'Kostprijs en Verkoopprijs'!$W$83:$W$115,8,FALSE),IFERROR(HLOOKUP($M$109,'Kostprijs en Verkoopprijs'!$W$122:$W$154,8,FALSE),IFERROR(HLOOKUP($M$109,'Kostprijs en Verkoopprijs'!$W$161:$W$193,8,FALSE),\"\")))))","v":""},{"$f":"IF($G$7=#REF!,#REF!,IF($G$7=#REF!,#REF!,IF($G$7=#REF!,#REF!,IF($G$7=#REF!,#REF!,IF($G$7=#REF!,#REF!,\"\")))))","v":{"$error":"#REF!"}},{"$f":"IFERROR(HLOOKUP($O$109,'Kostprijs en Verkoopprijs'!$W$6:$W$38,8,FALSE),IFERROR(HLOOKUP($O$109,'Kostprijs en Verkoopprijs'!$W$44:$W$76,8,FALSE),IFERROR(HLOOKUP($O$109,'Kostprijs en Verkoopprijs'!$W$83:$W$115,8,FALSE),IFERROR(HLOOKUP($O$109,'Kostprijs en Verkoopprijs'!$W$122:$W$154,8,FALSE),IFERROR(HLOOKUP($O$109,'Kostprijs en Verkoopprijs'!$W$161:$W$193,8,FALSE),\"\")))))","v":""}]
[null,null,null,null,"Andere vaste kosten bedrijf",null,{"$f":"IFERROR(HLOOKUP($G$109,'Kostprijs en Verkoopprijs'!$W$6:$W$38,9,FALSE),IFERROR(HLOOKUP($G$109,'Kostprijs en Verkoopprijs'!$W$44:$W$76,9,FALSE),IFERROR(HLOOKUP($G$109,'Kostprijs en Verkoopprijs'!$W$83:$W$115,9,FALSE),IFERROR(HLOOKUP($G$109,'Kostprijs en Verkoopprijs'!$W$122:$W$154,9,FALSE),IFERROR(HLOOKUP($G$109,'Kostprijs en Verkoopprijs'!$W$161:$W$193,9,FALSE),\"\")))))","v":""},{"$f":"IF($G$7=#REF!,#REF!,IF($G$7=#REF!,#REF!,IF($G$7=#REF!,#REF!,IF($G$7=#REF!,#REF!,IF($G$7=#REF!,#REF!,\"\")))))","v":{"$error":"#REF!"}},{"$f":"IFERROR(HLOOKUP($I$109,'Kostprijs en Verkoopprijs'!$W$6:$W$38,9,FALSE),IFERROR(HLOOKUP($I$109,'Kostprijs en Verkoopprijs'!$W$44:$W$76,9,FALSE),IFERROR(HLOOKUP($I$109,'Kostprijs en Verkoopprijs'!$W$83:$W$115,9,FALSE),IFERROR(HLOOKUP($I$109,'Kostprijs en Verkoopprijs'!$W$122:$W$154,9,FALSE),IFERROR(HLOOKUP($I$109,'Kostprijs en Verkoopprijs'!$W$161:$W$193,9,FALSE),\"\")))))","v":""},{"$f":"IF($G$7=#REF!,#REF!,IF($G$7=#REF!,#REF!,IF($G$7=#REF!,#REF!,IF($G$7=#REF!,#REF!,IF($G$7=#REF!,#REF!,\"\")))))","v":{"$error":"#REF!"}},{"$f":"IFERROR(HLOOKUP($K$109,'Kostprijs en Verkoopprijs'!$W$6:$W$38,9,FALSE),IFERROR(HLOOKUP($K$109,'Kostprijs en Verkoopprijs'!$W$44:$W$76,9,FALSE),IFERROR(HLOOKUP($K$109,'Kostprijs en Verkoopprijs'!$W$83:$W$115,9,FALSE),IFERROR(HLOOKUP($K$109,'Kostprijs en Verkoopprijs'!$W$122:$W$154,9,FALSE),IFERROR(HLOOKUP($K$109,'Kostprijs en Verkoopprijs'!$W$161:$W$193,9,FALSE),\"\")))))","v":""},{"$f":"IF($G$7=#REF!,#REF!,IF($G$7=#REF!,#REF!,IF($G$7=#REF!,#REF!,IF($G$7=#REF!,#REF!,IF($G$7=#REF!,#REF!,\"\")))))","v":{"$error":"#REF!"}},{"$f":"IFERROR(HLOOKUP($M$109,'Kostprijs en Verkoopprijs'!$W$6:$W$38,9,FALSE),IFERROR(HLOOKUP($M$109,'Kostprijs en Verkoopprijs'!$W$44:$W$76,9,FALSE),IFERROR(HLOOKUP($M$109,'Kostprijs en Verkoopprijs'!$W$83:$W$115,9,FALSE),IFERROR(HLOOKUP($M$109,'Kostprijs en Verkoopprijs'!$W$122:$W$154,9,FALSE),IFERROR(HLOOKUP($M$109,'Kostprijs en Verkoopprijs'!$W$161:$W$193,9,FALSE),\"\")))))","v":""},{"$f":"IF($G$7=#REF!,#REF!,IF($G$7=#REF!,#REF!,IF($G$7=#REF!,#REF!,IF($G$7=#REF!,#REF!,IF($G$7=#REF!,#REF!,\"\")))))","v":{"$error":"#REF!"}},{"$f":"IFERROR(HLOOKUP($O$109,'Kostprijs en Verkoopprijs'!$W$6:$W$38,9,FALSE),IFERROR(HLOOKUP($O$109,'Kostprijs en Verkoopprijs'!$W$44:$W$76,9,FALSE),IFERROR(HLOOKUP($O$109,'Kostprijs en Verkoopprijs'!$W$83:$W$115,9,FALSE),IFERROR(HLOOKUP($O$109,'Kostprijs en Verkoopprijs'!$W$122:$W$154,9,FALSE),IFERROR(HLOOKUP($O$109,'Kostprijs en Verkoopprijs'!$W$161:$W$193,9,FALSE),\"\")))))","v":""}]
[null,null,null,null,"Totaal vaste kosten",null,{"$f":"IFERROR(SUM(G111:G115),\"\")","v":0},{"$f":"IFERROR(SUM(H111:H115),\"\")","v":""},{"$f":"IFERROR(SUM(I111:I115),\"\")","v":0},{"$f":"IFERROR(SUM(J111:J115),\"\")","v":""},{"$f":"IFERROR(SUM(K111:K115),\"\")","v":0},{"$f":"IFERROR(SUM(L111:L115),\"\")","v":""},{"$f":"IFERROR(SUM(M111:M115),\"\")","v":0},{"$f":"IFERROR(SUM(N111:N115),\"\")","v":""},{"$f":"IFERROR(SUM(O111:O115),\"\")","v":0}]
[]
[null,null,null,"LOONKOST CHAUFFEURS",null,null,{"$f":"IFERROR(HLOOKUP($G$109,'Kostprijs en Verkoopprijs'!$W$6:$W$38,11,FALSE),IFERROR(HLOOKUP($G$109,'Kostprijs en Verkoopprijs'!$W$44:$W$76,11,FALSE),IFERROR(HLOOKUP($G$109,'Kostprijs en Verkoopprijs'!$W$83:$W$115,11,FALSE),IFERROR(HLOOKUP($G$109,'Kostprijs en Verkoopprijs'!$W$122:$W$154,11,FALSE),IFERROR(HLOOKUP($G$109,'Kostprijs en Verkoopprijs'!$W$161:$W$193,11,FALSE),\"\")))))","v":""},{"$f":"IF($G$7=#REF!,#REF!,IF($G$7=#REF!,#REF!,IF($G$7=#REF!,#REF!,IF($G$7=#REF!,#REF!,IF($G$7=#REF!,#REF!,\"\")))))","v":{"$error":"#REF!"}},{"$f":"IFERROR(HLOOKUP($I$109,'Kostprijs en Verkoopprijs'!$W$6:$W$38,11,FALSE),IFERROR(HLOOKUP($I$109,'Kostprijs en Verkoopprijs'!$W$44:$W$76,11,FALSE),IFERROR(HLOOKUP($I$109,'Kostprijs en Verkoopprijs'!$W$83:$W$115,11,FALSE),IFERROR(HLOOKUP($I$109,'Kostprijs en Verkoopprijs'!$W$122:$W$154,11,FALSE),IFERROR(HLOOKUP($I$109,'Kostprijs en Verkoopprijs'!$W$161:$W$193,11,FALSE),\"\")))))","v":""},{"$f":"IF($G$7=#REF!,#REF!,IF($G$7=#REF!,#REF!,IF($G$7=#REF!,#REF!,IF($G$7=#REF!,#REF!,IF($G$7=#REF!,#REF!,\"\")))))","v":{"$error":"#REF!"}},{"$f":"IFERROR(HLOOKUP($K$109,'Kostprijs en Verkoopprijs'!$W$6:$W$38,11,FALSE),IFERROR(HLOOKUP($K$109,'Kostprijs en Verkoopprijs'!$W$44:$W$76,11,FALSE),IFERROR(HLOOKUP($K$109,'Kostprijs en Verkoopprijs'!$W$83:$W$115,11,FALSE),IFERROR(HLOOKUP($K$109,'Kostprijs en Verkoopprijs'!$W$122:$W$154,11,FALSE),IFERROR(HLOOKUP($K$109,'Kostprijs en Verkoopprijs'!$W$161:$W$193,11,FALSE),\"\")))))","v":""},{"$f":"IF($G$7=#REF!,#REF!,IF($G$7=#REF!,#REF!,IF($G$7=#REF!,#REF!,IF($G$7=#REF!,#REF!,IF($G$7=#REF!,#REF!,\"\")))))","v":{"$error":"#REF!"}},{"$f":"IFERROR(HLOOKUP($M$109,'Kostprijs en Verkoopprijs'!$W$6:$W$38,11,FALSE),IFERROR(HLOOKUP($M$109,'Kostprijs en Verkoopprijs'!$W$44:$W$76,11,FALSE),IFERROR(HLOOKUP($M$109,'Kostprijs en Verkoopprijs'!$W$83:$W$115,11,FALSE),IFERROR(HLOOKUP($M$109,'Kostprijs en Verkoopprijs'!$W$122:$W$154,11,FALSE),IFERROR(HLOOKUP($M$109,'Kostprijs en Verkoopprijs'!$W$161:$W$193,11,FALSE),\"\")))))","v":""},{"$f":"IF($G$7=#REF!,#REF!,IF($G$7=#REF!,#REF!,IF($G$7=#REF!,#REF!,IF($G$7=#REF!,#REF!,IF($G$7=#REF!,#REF!,\"\")))))","v":{"$error":"#REF!"}},{"$f":"IFERROR(HLOOKUP($O$109,'Kostprijs en Verkoopprijs'!$W$6:$W$38,11,FALSE),IFERROR(HLOOKUP($O$109,'Kostprijs en Verkoopprijs'!$W$44:$W$76,11,FALSE),IFERROR(HLOOKUP($O$109,'Kostprijs en Verkoopprijs'!$W$83:$W$115,11,FALSE),IFERROR(HLOOKUP($O$109,'Kostprijs en Verkoopprijs'!$W$122:$W$154,11,FALSE),IFERROR(HLOOKUP($O$109,'Kostprijs en Verkoopprijs'!$W$161:$W$193,11,FALSE),\"\")))))","v":""}]
[]
[null,null,null,"VARIABEL","Brandstof",null,{"$f":"IFERROR(HLOOKUP($G$109,'Kostprijs en Verkoopprijs'!$W$6:$W$38,13,FALSE),IFERROR(HLOOKUP($G$109,'Kostprijs en Verkoopprijs'!$W$44:$W$76,13,FALSE),IFERROR(HLOOKUP($G$109,'Kostprijs en Verkoopprijs'!$W$83:$W$115,13,FALSE),IFERROR(HLOOKUP($G$109,'Kostprijs en Verkoopprijs'!$W$122:$W$154,13,FALSE),IFERROR(HLOOKUP($G$109,'Kostprijs en Verkoopprijs'!$W$161:$W$193,13,FALSE),\"\")))))","v":""},{"$f":"IF($G$7=#REF!,#REF!,IF($G$7=#REF!,#REF!,IF($G$7=#REF!,#REF!,IF($G$7=#REF!,#REF!,IF($G$7=#REF!,#REF!,\"\")))))","v":{"$error":"#REF!"}},{"$f":"IFERROR(HLOOKUP($I$109,'Kostprijs en Verkoopprijs'!$W$6:$W$38,13,FALSE),IFERROR(HLOOKUP($I$109,'Kostprijs en Verkoopprijs'!$W$44:$W$76,13,FALSE),IFERROR(HLOOKUP($I$109,'Kostprijs en Verkoopprijs'!$W$83:$W$115,13,FALSE),IFERROR(HLOOKUP($I$109,'Kostprijs en Verkoopprijs'!$W$122:$W$154,13,FALSE),IFERROR(HLOOKUP($I$109,'Kostprijs en Verkoopprijs'!$W$161:$W$193,13,FALSE),\"\")))))","v":""},{"$f":"IF($G$7=#REF!,#REF!,IF($G$7=#REF!,#REF!,IF($G$7=#REF!,#REF!,IF($G$7=#REF!,#REF!,IF($G$7=#REF!,#REF!,\"\")))))","v":{"$error":"#REF!"}},{"$f":"IFERROR(HLOOKUP($K$109,'Kostprijs en Verkoopprijs'!$W$6:$W$38,13,FALSE),IFERROR(HLOOKUP($K$109,'Kostprijs en Verkoopprijs'!$W$44:$W$76,13,FALSE),IFERROR(HLOOKUP($K$109,'Kostprijs en Verkoopprijs'!$W$83:$W$115,13,FALSE),IFERROR(HLOOKUP($K$109,'Kostprijs en Verkoopprijs'!$W$122:$W$154,13,FALSE),IFERROR(HLOOKUP($K$109,'Kostprijs en Verkoopprijs'!$W$161:$W$193,13,FALSE),\"\")))))","v":""},{"$f":"IF($G$7=#REF!,#REF!,IF($G$7=#REF!,#REF!,IF($G$7=#REF!,#REF!,IF($G$7=#REF!,#REF!,IF($G$7=#REF!,#REF!,\"\")))))","v":{"$error":"#REF!"}},{"$f":"IFERROR(HLOOKUP($M$109,'Kostprijs en Verkoopprijs'!$W$6:$W$38,13,FALSE),IFERROR(HLOOKUP($M$109,'Kostprijs en Verkoopprijs'!$W$44:$W$76,13,FALSE),IFERROR(HLOOKUP($M$109,'Kostprijs en Verkoopprijs'!$W$83:$W$115,13,FALSE),IFERROR(HLOOKUP($M$109,'Kostprijs en Verkoopprijs'!$W$122:$W$154,13,FALSE),IFERROR(HLOOKUP($M$109,'Kostprijs en Verkoopprijs'!$W$161:$W$193,13,FALSE),\"\")))))","v":""},{"$f":"IF($G$7=#REF!,#REF!,IF($G$7=#REF!,#REF!,IF($G$7=#REF!,#REF!,IF($G$7=#REF!,#REF!,IF($G$7=#REF!,#REF!,\"\")))))","v":{"$error":"#REF!"}},{"$f":"IFERROR(HLOOKUP($O$109,'Kostprijs en Verkoopprijs'!$W$6:$W$38,13,FALSE),IFERROR(HLOOKUP($O$109,'Kostprijs en Verkoopprijs'!$W$44:$W$76,13,FALSE),IFERROR(HLOOKUP($O$109,'Kostprijs en Verkoopprijs'!$W$83:$W$115,13,FALSE),IFERROR(HLOOKUP($O$109,'Kostprijs en Verkoopprijs'!$W$122:$W$154,13,FALSE),IFERROR(HLOOKUP($O$109,'Kostprijs en Verkoopprijs'!$W$161:$W$193,13,FALSE),\"\")))))","v":""}]
[null,null,null,null,"Olie",null,{"$f":"IFERROR(HLOOKUP($G$109,'Kostprijs en Verkoopprijs'!$W$6:$W$38,14,FALSE),IFERROR(HLOOKUP($G$109,'Kostprijs en Verkoopprijs'!$W$44:$W$76,14,FALSE),IFERROR(HLOOKUP($G$109,'Kostprijs en Verkoopprijs'!$W$83:$W$115,14,FALSE),IFERROR(HLOOKUP($G$109,'Kostprijs en Verkoopprijs'!$W$122:$W$154,14,FALSE),IFERROR(HLOOKUP($G$109,'Kostprijs en Verkoopprijs'!$W$161:$W$193,14,FALSE),\"\")))))","v":""},{"$f":"IF($G$7=#REF!,#REF!,IF($G$7=#REF!,#REF!,IF($G$7=#REF!,#REF!,IF($G$7=#REF!,#REF!,IF($G$7=#REF!,#REF!,\"\")))))","v":{"$error":"#REF!"}},{"$f":"IFERROR(HLOOKUP($I$109,'Kostprijs en Verkoopprijs'!$W$6:$W$38,14,FALSE),IFERROR(HLOOKUP($I$109,'Kostprijs en Verkoopprijs'!$W$44:$W$76,14,FALSE),IFERROR(HLOOKUP($I$109,'Kostprijs en Verkoopprijs'!$W$83:$W$115,14,FALSE),IFERROR(HLOOKUP($I$109,'Kostprijs en Verkoopprijs'!$W$122:$W$154,14,FALSE),IFERROR(HLOOKUP($I$109,'Kostprijs en Verkoopprijs'!$W$161:$W$193,14,FALSE),\"\")))))","v":""},{"$f":"IF($G$7=#REF!,#REF!,IF($G$7=#REF!,#REF!,IF($G$7=#REF!,#REF!,IF($G$7=#REF!,#REF!,IF($G$7=#REF!,#REF!,\"\")))))","v":{"$error":"#REF!"}},{"$f":"IFERROR(HLOOKUP($K$109,'Kostprijs en Verkoopprijs'!$W$6:$W$38,14,FALSE),IFERROR(HLOOKUP($K$109,'Kostprijs en Verkoopprijs'!$W$44:$W$76,14,FALSE),IFERROR(HLOOKUP($K$109,'Kostprijs en Verkoopprijs'!$W$83:$W$115,14,FALSE),IFERROR(HLOOKUP($K$109,'Kostprijs en Verkoopprijs'!$W$122:$W$154,14,FALSE),IFERROR(HLOOKUP($K$109,'Kostprijs en Verkoopprijs'!$W$161:$W$193,14,FALSE),\"\")))))","v":""},{"$f":"IF($G$7=#REF!,#REF!,IF($G$7=#REF!,#REF!,IF($G$7=#REF!,#REF!,IF($G$7=#REF!,#REF!,IF($G$7=#REF!,#REF!,\"\")))))","v":{"$error":"#REF!"}},{"$f":"IFERROR(HLOOKUP($M$109,'Kostprijs en Verkoopprijs'!$W$6:$W$38,14,FALSE),IFERROR(HLOOKUP($M$109,'Kostprijs en Verkoopprijs'!$W$44:$W$76,14,FALSE),IFERROR(HLOOKUP($M$109,'Kostprijs en Verkoopprijs'!$W$83:$W$115,14,FALSE),IFERROR(HLOOKUP($M$109,'Kostprijs en Verkoopprijs'!$W$122:$W$154,14,FALSE),IFERROR(HLOOKUP($M$109,'Kostprijs en Verkoopprijs'!$W$161:$W$193,14,FALSE),\"\")))))","v":""},{"$f":"IF($G$7=#REF!,#REF!,IF($G$7=#REF!,#REF!,IF($G$7=#REF!,#REF!,IF($G$7=#REF!,#REF!,IF($G$7=#REF!,#REF!,\"\")))))","v":{"$error":"#REF!"}},{"$f":"IFERROR(HLOOKUP($O$109,'Kostprijs en Verkoopprijs'!$W$6:$W$38,14,FALSE),IFERROR(HLOOKUP($O$109,'Kostprijs en Verkoopprijs'!$W$44:$W$76,14,FALSE),IFERROR(HLOOKUP($O$109,'Kostprijs en Verkoopprijs'!$W$83:$W$115,14,FALSE),IFERROR(HLOOKUP($O$109,'Kostprijs en Verkoopprijs'!$W$122:$W$154,14,FALSE),IFERROR(HLOOKUP($O$109,'Kostprijs en Verkoopprijs'!$W$161:$W$193,14,FALSE),\"\")))))","v":""}]
[null,null,null,null,"Adblue",null,{"$f":"IFERROR(HLOOKUP($G$109,'Kostprijs en Verkoopprijs'!$W$6:$W$38,15,FALSE),IFERROR(HLOOKUP($G$109,'Kostprijs en Verkoopprijs'!$W$44:$W$76,15,FALSE),IFERROR(HLOOKUP($G$109,'Kostprijs en Verkoopprijs'!$W$83:$W$115,15,FALSE),IFERROR(HLOOKUP($G$109,'Kostprijs en Verkoopprijs'!$W$122:$W$154,15,FALSE),IFERROR(HLOOKUP($G$109,'Kostprijs en Verkoopprijs'!$W$161:$W$193,15,FALSE),\"\")))))","v":""},{"$f":"IF($G$7=#REF!,#REF!,IF($G$7=#REF!,#REF!,IF($G$7=#REF!,#REF!,IF($G$7=#REF!,#REF!,IF($G$7=#REF!,#REF!,\"\")))))","v":{"$error":"#REF!"}},{"$f":"IFERROR(HLOOKUP($I$109,'Kostprijs en Verkoopprijs'!$W$6:$W$38,15,FALSE),IFERROR(HLOOKUP($I$109,'Kostprijs en Verkoopprijs'!$W$44:$W$76,15,FALSE),IFERROR(HLOOKUP($I$109,'Kostprijs en Verkoopprijs'!$W$83:$W$115,15,FALSE),IFERROR(HLOOKUP($I$109,'Kostprijs en Verkoopprijs'!$W$122:$W$154,15,FALSE),IFERROR(HLOOKUP($I$109,'Kostprijs en Verkoopprijs'!$W$161:$W$193,15,FALSE),\"\")))))","v":""},{"$f":"IF($G$7=#REF!,#REF!,IF($G$7=#REF!,#REF!,IF($G$7=#REF!,#REF!,IF($G$7=#REF!,#REF!,IF($G$7=#REF!,#REF!,\"\")))))","v":{"$error":"#REF!"}},{"$f":"IFERROR(HLOOKUP($K$109,'Kostprijs en Verkoopprijs'!$W$6:$W$38,15,FALSE),IFERROR(HLOOKUP($K$109,'Kostprijs en Verkoopprijs'!$W$44:$W$76,15,FALSE),IFERROR(HLOOKUP($K$109,'Kostprijs en Verkoopprijs'!$W$83:$W$115,15,FALSE),IFERROR(HLOOKUP($K$109,'Kostprijs en Verkoopprijs'!$W$122:$W$154,15,FALSE),IFERROR(HLOOKUP($K$109,'Kostprijs en Verkoopprijs'!$W$161:$W$193,15,FALSE),\"\")))))","v":""},{"$f":"IF($G$7=#REF!,#REF!,IF($G$7=#REF!,#REF!,IF($G$7=#REF!,#REF!,IF($G$7=#REF!,#REF!,IF($G$7=#REF!,#REF!,\"\")))))","v":{"$error":"#REF!"}},{"$f":"IFERROR(HLOOKUP($M$109,'Kostprijs en Verkoopprijs'!$W$6:$W$38,15,FALSE),IFERROR(HLOOKUP($M$109,'Kostprijs en Verkoopprijs'!$W$44:$W$76,15,FALSE),IFERROR(HLOOKUP($M$109,'Kostprijs en Verkoopprijs'!$W$83:$W$115,15,FALSE),IFERROR(HLOOKUP($M$109,'Kostprijs en Verkoopprijs'!$W$122:$W$154,15,FALSE),IFERROR(HLOOKUP($M$109,'Kostprijs en Verkoopprijs'!$W$161:$W$193,15,FALSE),\"\")))))","v":""},{"$f":"IF($G$7=#REF!,#REF!,IF($G$7=#REF!,#REF!,IF($G$7=#REF!,#REF!,IF($G$7=#REF!,#REF!,IF($G$7=#REF!,#REF!,\"\")))))","v":{"$error":"#REF!"}},{"$f":"IFERROR(HLOOKUP($O$109,'Kostprijs en Verkoopprijs'!$W$6:$W$38,15,FALSE),IFERROR(HLOOKUP($O$109,'Kostprijs en Verkoopprijs'!$W$44:$W$76,15,FALSE),IFERROR(HLOOKUP($O$109,'Kostprijs en Verkoopprijs'!$W$83:$W$115,15,FALSE),IFERROR(HLOOKUP($O$109,'Kostprijs en Verkoopprijs'!$W$122:$W$154,15,FALSE),IFERROR(HLOOKUP($O$109,'Kostprijs en Verkoopprijs'!$W$161:$W$193,15,FALSE),\"\")))))","v":""}]
[null,null,null,null,"Banden",null,{"$f":"IFERROR(HLOOKUP($G$109,'Kostprijs en Verkoopprijs'!$W$6:$W$38,16,FALSE),IFERROR(HLOOKUP($G$109,'Kostprijs en Verkoopprijs'!$W$44:$W$76,16,FALSE),IFERROR(HLOOKUP($G$109,'Kostprijs en Verkoopprijs'!$W$83:$W$115,16,FALSE),IFERROR(HLOOKUP($G$109,'Kostprijs en Verkoopprijs'!$W$122:$W$154,16,FALSE),IFERROR(HLOOKUP($G$109,'Kostprijs en Verkoopprijs'!$W$161:$W$193,16,FALSE),\"\")))))","v":""},{"$f":"IF($G$7=#REF!,#REF!,IF($G$7=#REF!,#REF!,IF($G$7=#REF!,#REF!,IF($G$7=#REF!,#REF!,IF($G$7=#REF!,#REF!,\"\")))))","v":{"$error":"#REF!"}},{"$f":"IFERROR(HLOOKUP($I$109,'Kostprijs en Verkoopprijs'!$W$6:$W$38,16,FALSE),IFERROR(HLOOKUP($I$109,'Kostprijs en Verkoopprijs'!$W$44:$W$76,16,FALSE),IFERROR(HLOOKUP($I$109,'Kostprijs en Verkoopprijs'!$W$83:$W$115,16,FALSE),IFERROR(HLOOKUP($I$109,'Kostprijs en Verkoopprijs'!$W$122:$W$154,16,FALSE),IFERROR(HLOOKUP($I$109,'Kostprijs en Verkoopprijs'!$W$161:$W$193,16,FALSE),\"\")))))","v":""},{"$f":"IF($G$7=#REF!,#REF!,IF($G$7=#REF!,#REF!,IF($G$7=#REF!,#REF!,IF($G$7=#REF!,#REF!,IF($G$7=#REF!,#REF!,\"\")))))","v":{"$error":"#REF!"}},{"$f":"IFERROR(HLOOKUP($K$109,'Kostprijs en Verkoopprijs'!$W$6:$W$38,16,FALSE),IFERROR(HLOOKUP($K$109,'Kostprijs en Verkoopprijs'!$W$44:$W$76,16,FALSE),IFERROR(HLOOKUP($K$109,'Kostprijs en Verkoopprijs'!$W$83:$W$115,16,FALSE),IFERROR(HLOOKUP($K$109,'Kostprijs en Verkoopprijs'!$W$122:$W$154,16,FALSE),IFERROR(HLOOKUP($K$109,'Kostprijs en Verkoopprijs'!$W$161:$W$193,16,FALSE),\"\")))))","v":""},{"$f":"IF($G$7=#REF!,#REF!,IF($G$7=#REF!,#REF!,IF($G$7=#REF!,#REF!,IF($G$7=#REF!,#REF!,IF($G$7=#REF!,#REF!,\"\")))))","v":{"$error":"#REF!"}},{"$f":"IFERROR(HLOOKUP($M$109,'Kostprijs en Verkoopprijs'!$W$6:$W$38,16,FALSE),IFERROR(HLOOKUP($M$109,'Kostprijs en Verkoopprijs'!$W$44:$W$76,16,FALSE),IFERROR(HLOOKUP($M$109,'Kostprijs en Verkoopprijs'!$W$83:$W$115,16,FALSE),IFERROR(HLOOKUP($M$109,'Kostprijs en Verkoopprijs'!$W$122:$W$154,16,FALSE),IFERROR(HLOOKUP($M$109,'Kostprijs en Verkoopprijs'!$W$161:$W$193,16,FALSE),\"\")))))","v":""},{"$f":"IF($G$7=#REF!,#REF!,IF($G$7=#REF!,#REF!,IF($G$7=#REF!,#REF!,IF($G$7=#REF!,#REF!,IF($G$7=#REF!,#REF!,\"\")))))","v":{"$error":"#REF!"}},{"$f":"IFERROR(HLOOKUP($O$109,'Kostprijs en Verkoopprijs'!$W$6:$W$38,16,FALSE),IFERROR(HLOOKUP($O$109,'Kostprijs en Verkoopprijs'!$W$44:$W$76,16,FALSE),IFERROR(HLOOKUP($O$109,'Kostprijs en Verkoopprijs'!$W$83:$W$115,16,FALSE),IFERROR(HLOOKUP($O$109,'Kostprijs en Verkoopprijs'!$W$122:$W$154,16,FALSE),IFERROR(HLOOKUP($O$109,'Kostprijs en Verkoopprijs'!$W$161:$W$193,16,FALSE),\"\")))))","v":""}]
[null,null,null,null,"Onderhoud",null,{"$f":"IFERROR(HLOOKUP($G$109,'Kostprijs en Verkoopprijs'!$W$6:$W$38,17,FALSE),IFERROR(HLOOKUP($G$109,'Kostprijs en Verkoopprijs'!$W$44:$W$76,17,FALSE),IFERROR(HLOOKUP($G$109,'Kostprijs en Verkoopprijs'!$W$83:$W$115,17,FALSE),IFERROR(HLOOKUP($G$109,'Kostprijs en Verkoopprijs'!$W$122:$W$154,17,FALSE),IFERROR(HLOOKUP($G$109,'Kostprijs en Verkoopprijs'!$W$161:$W$193,17,FALSE),\"\")))))","v":""},{"$f":"IF($G$7=#REF!,#REF!,IF($G$7=#REF!,#REF!,IF($G$7=#REF!,#REF!,IF($G$7=#REF!,#REF!,IF($G$7=#REF!,#REF!,\"\")))))","v":{"$error":"#REF!"}},{"$f":"IFERROR(HLOOKUP($I$109,'Kostprijs en Verkoopprijs'!$W$6:$W$38,17,FALSE),IFERROR(HLOOKUP($I$109,'Kostprijs en Verkoopprijs'!$W$44:$W$76,17,FALSE),IFERROR(HLOOKUP($I$109,'Kostprijs en Verkoopprijs'!$W$83:$W$115,17,FALSE),IFERROR(HLOOKUP($I$109,'Kostprijs en Verkoopprijs'!$W$122:$W$154,17,FALSE),IFERROR(HLOOKUP($I$109,'Kostprijs en Verkoopprijs'!$W$161:$W$193,17,FALSE),\"\")))))","v":""},{"$f":"IF($G$7=#REF!,#REF!,IF($G$7=#REF!,#REF!,IF($G$7=#REF!,#REF!,IF($G$7=#REF!,#REF!,IF($G$7=#REF!,#REF!,\"\")))))","v":{"$error":"#REF!"}},{"$f":"IFERROR(HLOOKUP($K$109,'Kostprijs en Verkoopprijs'!$W$6:$W$38,17,FALSE),IFERROR(HLOOKUP($K$109,'Kostprijs en Verkoopprijs'!$W$44:$W$76,17,FALSE),IFERROR(HLOOKUP($K$109,'Kostprijs en Verkoopprijs'!$W$83:$W$115,17,FALSE),IFERROR(HLOOKUP($K$109,'Kostprijs en Verkoopprijs'!$W$122:$W$154,17,FALSE),IFERROR(HLOOKUP($K$109,'Kostprijs en Verkoopprijs'!$W$161:$W$193,17,FALSE),\"\")))))","v":""},{"$f":"IF($G$7=#REF!,#REF!,IF($G$7=#REF!,#REF!,IF($G$7=#REF!,#REF!,IF($G$7=#REF!,#REF!,IF($G$7=#REF!,#REF!,\"\")))))","v":{"$error":"#REF!"}},{"$f":"IFERROR(HLOOKUP($M$109,'Kostprijs en Verkoopprijs'!$W$6:$W$38,17,FALSE),IFERROR(HLOOKUP($M$109,'Kostprijs en Verkoopprijs'!$W$44:$W$76,17,FALSE),IFERROR(HLOOKUP($M$109,'Kostprijs en Verkoopprijs'!$W$83:$W$115,17,FALSE),IFERROR(HLOOKUP($M$109,'Kostprijs en Verkoopprijs'!$W$122:$W$154,17,FALSE),IFERROR(HLOOKUP($M$109,'Kostprijs en Verkoopprijs'!$W$161:$W$193,17,FALSE),\"\")))))","v":""},{"$f":"IF($G$7=#REF!,#REF!,IF($G$7=#REF!,#REF!,IF($G$7=#REF!,#REF!,IF($G$7=#REF!,#REF!,IF($G$7=#REF!,#REF!,\"\")))))","v":{"$error":"#REF!"}},{"$f":"IFERROR(HLOOKUP($O$109,'Kostprijs en Verkoopprijs'!$W$6:$W$38,17,FALSE),IFERROR(HLOOKUP($O$109,'Kostprijs en Verkoopprijs'!$W$44:$W$76,17,FALSE),IFERROR(HLOOKUP($O$109,'Kostprijs en Verkoopprijs'!$W$83:$W$115,17,FALSE),IFERROR(HLOOKUP($O$109,'Kostprijs en Verkoopprijs'!$W$122:$W$154,17,FALSE),IFERROR(HLOOKUP($O$109,'Kostprijs en Verkoopprijs'!$W$161:$W$193,17,FALSE),\"\")))))","v":""}]
[null,null,null,null,"Voertuig (technische afschr.)",null,{"$f":"IFERROR(HLOOKUP($G$109,'Kostprijs en Verkoopprijs'!$W$6:$W$38,18,FALSE),IFERROR(HLOOKUP($G$109,'Kostprijs en Verkoopprijs'!$W$44:$W$76,18,FALSE),IFERROR(HLOOKUP($G$109,'Kostprijs en Verkoopprijs'!$W$83:$W$115,18,FALSE),IFERROR(HLOOKUP($G$109,'Kostprijs en Verkoopprijs'!$W$122:$W$154,18,FALSE),IFERROR(HLOOKUP($G$109,'Kostprijs en Verkoopprijs'!$W$161:$W$193,18,FALSE),\"\")))))","v":""},{"$f":"IF($G$7=#REF!,#REF!,IF($G$7=#REF!,#REF!,IF($G$7=#REF!,#REF!,IF($G$7=#REF!,#REF!,IF($G$7=#REF!,#REF!,\"\")))))","v":{"$error":"#REF!"}},{"$f":"IFERROR(HLOOKUP($I$109,'Kostprijs en Verkoopprijs'!$W$6:$W$38,18,FALSE),IFERROR(HLOOKUP($I$109,'Kostprijs en Verkoopprijs'!$W$44:$W$76,18,FALSE),IFERROR(HLOOKUP($I$109,'Kostprijs en Verkoopprijs'!$W$83:$W$115,18,FALSE),IFERROR(HLOOKUP($I$109,'Kostprijs en Verkoopprijs'!$W$122:$W$154,18,FALSE),IFERROR(HLOOKUP($I$109,'Kostprijs en Verkoopprijs'!$W$161:$W$193,18,FALSE),\"\")))))","v":""},{"$f":"IF($G$7=#REF!,#REF!,IF($G$7=#REF!,#REF!,IF($G$7=#REF!,#REF!,IF($G$7=#REF!,#REF!,IF($G$7=#REF!,#REF!,\"\")))))","v":{"$error":"#REF!"}},{"$f":"IFERROR(HLOOKUP($K$109,'Kostprijs en Verkoopprijs'!$W$6:$W$38,18,FALSE),IFERROR(HLOOKUP($K$109,'Kostprijs en Verkoopprijs'!$W$44:$W$76,18,FALSE),IFERROR(HLOOKUP($K$109,'Kostprijs en Verkoopprijs'!$W$83:$W$115,18,FALSE),IFERROR(HLOOKUP($K$109,'Kostprijs en Verkoopprijs'!$W$122:$W$154,18,FALSE),IFERROR(HLOOKUP($K$109,'Kostprijs en Verkoopprijs'!$W$161:$W$193,18,FALSE),\"\")))))","v":""},{"$f":"IF($G$7=#REF!,#REF!,IF($G$7=#REF!,#REF!,IF($G$7=#REF!,#REF!,IF($G$7=#REF!,#REF!,IF($G$7=#REF!,#REF!,\"\")))))","v":{"$error":"#REF!"}},{"$f":"IFERROR(HLOOKUP($M$109,'Kostprijs en Verkoopprijs'!$W$6:$W$38,18,FALSE),IFERROR(HLOOKUP($M$109,'Kostprijs en Verkoopprijs'!$W$44:$W$76,18,FALSE),IFERROR(HLOOKUP($M$109,'Kostprijs en Verkoopprijs'!$W$83:$W$115,18,FALSE),IFERROR(HLOOKUP($M$109,'Kostprijs en Verkoopprijs'!$W$122:$W$154,18,FALSE),IFERROR(HLOOKUP($M$109,'Kostprijs en Verkoopprijs'!$W$161:$W$193,18,FALSE),\"\")))))","v":""},{"$f":"IF($G$7=#REF!,#REF!,IF($G$7=#REF!,#REF!,IF($G$7=#REF!,#REF!,IF($G$7=#REF!,#REF!,IF($G$7=#REF!,#REF!,\"\")))))","v":{"$error":"#REF!"}},{"$f":"IFERROR(HLOOKUP($O$109,'Kostprijs en Verkoopprijs'!$W$6:$W$38,18,FALSE),IFERROR(HLOOKUP($O$109,'Kostprijs en Verkoopprijs'!$W$44:$W$76,18,FALSE),IFERROR(HLOOKUP($O$109,'Kostprijs en Verkoopprijs'!$W$83:$W$115,18,FALSE),IFERROR(HLOOKUP($O$109,'Kostprijs en Verkoopprijs'!$W$122:$W$154,18,FALSE),IFERROR(HLOOKUP($O$109,'Kostprijs en Verkoopprijs'!$W$161:$W$193,18,FALSE),\"\")))))","v":""}]
[null,null,null,null,"Totaal variabel kosten",null,{"$f":"IFERROR(SUM(G120:G125),\"\")","v":0},{"$f":"IFERROR(SUM(H120:H125),\"\")","v":""},{"$f":"IFERROR(SUM(I120:I125),\"\")","v":0},{"$f":"IFERROR(SUM(J120:J125),\"\")","v":""},{"$f":"IFERROR(SUM(K120:K125),\"\")","v":0},{"$f":"IFERROR(SUM(L120:L125),\"\")","v":""},{"$f":"IFERROR(SUM(M120:M125),\"\")","v":0},{"$f":"IFERROR(SUM(N120:N125),\"\")","v":""},{"$f":"IFERROR(SUM(O120:O125),\"\")","v":0}]
[]
[null,null,null,"SPECIFIEK","Specifieke ritkosten",null,{"$f":"IFERROR(HLOOKUP($G$109,'Kostprijs en Verkoopprijs'!$W$6:$W$38,20,FALSE),IFERROR(HLOOKUP($G$109,'Kostprijs en Verkoopprijs'!$W$44:$W$76,20,FALSE),IFERROR(HLOOKUP($G$109,'Kostprijs en Verkoopprijs'!$W$83:$W$115,20,FALSE),IFERROR(HLOOKUP($G$109,'Kostprijs en Verkoopprijs'!$W$122:$W$154,20,FALSE),IFERROR(HLOOKUP($G$109,'Kostprijs en Verkoopprijs'!$W$161:$W$193,20,FALSE),\"\")))))","v":""},{"$f":"IF($G$7=#REF!,#REF!,IF($G$7=#REF!,#REF!,IF($G$7=#REF!,#REF!,IF($G$7=#REF!,#REF!,IF($G$7=#REF!,#REF!,\"\")))))","v":{"$error":"#REF!"}},{"$f":"IFERROR(HLOOKUP($I$109,'Kostprijs en Verkoopprijs'!$W$6:$W$38,20,FALSE),IFERROR(HLOOKUP($I$109,'Kostprijs en Verkoopprijs'!$W$44:$W$76,20,FALSE),IFERROR(HLOOKUP($I$109,'Kostprijs en Verkoopprijs'!$W$83:$W$115,20,FALSE),IFERROR(HLOOKUP($I$109,'Kostprijs en Verkoopprijs'!$W$122:$W$154,20,FALSE),IFERROR(HLOOKUP($I$109,'Kostprijs en Verkoopprijs'!$W$161:$W$193,20,FALSE),\"\")))))","v":""},{"$f":"IF($G$7=#REF!,#REF!,IF($G$7=#REF!,#REF!,IF($G$7=#REF!,#REF!,IF($G$7=#REF!,#REF!,IF($G$7=#REF!,#REF!,\"\")))))","v":{"$error":"#REF!"}},{"$f":"IFERROR(HLOOKUP($K$109,'Kostprijs en Verkoopprijs'!$W$6:$W$38,20,FALSE),IFERROR(HLOOKUP($K$109,'Kostprijs en Verkoopprijs'!$W$44:$W$76,20,FALSE),IFERROR(HLOOKUP($K$109,'Kostprijs en Verkoopprijs'!$W$83:$W$115,20,FALSE),IFERROR(HLOOKUP($K$109,'Kostprijs en Verkoopprijs'!$W$122:$W$154,20,FALSE),IFERROR(HLOOKUP($K$109,'Kostprijs en Verkoopprijs'!$W$161:$W$193,20,FALSE),\"\")))))","v":""},{"$f":"IF($G$7=#REF!,#REF!,IF($G$7=#REF!,#REF!,IF($G$7=#REF!,#REF!,IF($G$7=#REF!,#REF!,IF($G$7=#REF!,#REF!,\"\")))))","v":{"$error":"#REF!"}},{"$f":"IFERROR(HLOOKUP($M$109,'Kostprijs en Verkoopprijs'!$W$6:$W$38,20,FALSE),IFERROR(HLOOKUP($M$109,'Kostprijs en Verkoopprijs'!$W$44:$W$76,20,FALSE),IFERROR(HLOOKUP($M$109,'Kostprijs en Verkoopprijs'!$W$83:$W$115,20,FALSE),IFERROR(HLOOKUP($M$109,'Kostprijs en Verkoopprijs'!$W$122:$W$154,20,FALSE),IFERROR(HLOOKUP($M$109,'Kostprijs en Verkoopprijs'!$W$161:$W$193,20,FALSE),\"\")))))","v":""},{"$f":"IF($G$7=#REF!,#REF!,IF($G$7=#REF!,#REF!,IF($G$7=#REF!,#REF!,IF($G$7=#REF!,#REF!,IF($G$7=#REF!,#REF!,\"\")))))","v":{"$error":"#REF!"}},{"$f":"IFERROR(HLOOKUP($O$109,'Kostprijs en Verkoopprijs'!$W$6:$W$38,20,FALSE),IFERROR(HLOOKUP($O$109,'Kostprijs en Verkoopprijs'!$W$44:$W$76,20,FALSE),IFERROR(HLOOKUP($O$109,'Kostprijs en Verkoopprijs'!$W$83:$W$115,20,FALSE),IFERROR(HLOOKUP($O$109,'Kostprijs en Verkoopprijs'!$W$122:$W$154,20,FALSE),IFERROR(HLOOKUP($O$109,'Kostprijs en Verkoopprijs'!$W$161:$W$193,20,FALSE),\"\")))))","v":""}]
[null,null,null,null,"Totaal opties: aanhangwagens, skiboxen, …",null,{"$f":"IFERROR(HLOOKUP($G$109,'Kostprijs en Verkoopprijs'!$W$6:$W$38,24,FALSE),IFERROR(HLOOKUP($G$109,'Kostprijs en Verkoopprijs'!$W$44:$W$76,24,FALSE),IFERROR(HLOOKUP($G$109,'Kostprijs en Verkoopprijs'!$W$83:$W$115,24,FALSE),IFERROR(HLOOKUP($G$109,'Kostprijs en Verkoopprijs'!$W$122:$W$154,24,FALSE),IFERROR(HLOOKUP($G$109,'Kostprijs en Verkoopprijs'!$W$161:$W$193,24,FALSE),\"\")))))","v":""},{"$f":"IF($G$7=#REF!,SUM(#REF!),IF($G$7=#REF!,SUM(#REF!),IF($G$7=#REF!,SUM(#REF!),IF($G$7=#REF!,SUM(#REF!),IF($G$7=#REF!,SUM(#REF!),\"\")))))","v":{"$error":"#REF!"}},{"$f":"IFERROR(HLOOKUP($I$109,'Kostprijs en Verkoopprijs'!$W$6:$W$38,24,FALSE),IFERROR(HLOOKUP($I$109,'Kostprijs en Verkoopprijs'!$W$44:$W$76,24,FALSE),IFERROR(HLOOKUP($I$109,'Kostprijs en Verkoopprijs'!$W$83:$W$115,24,FALSE),IFERROR(HLOOKUP($I$109,'Kostprijs en Verkoopprijs'!$W$122:$W$154,24,FALSE),IFERROR(HLOOKUP($I$109,'Kostprijs en Verkoopprijs'!$W$161:$W$193,24,FALSE),\"\")))))","v":""},{"$f":"IF($G$7=#REF!,SUM(#REF!),IF($G$7=#REF!,SUM(#REF!),IF($G$7=#REF!,SUM(#REF!),IF($G$7=#REF!,SUM(#REF!),IF($G$7=#REF!,SUM(#REF!),\"\")))))","v":{"$error":"#REF!"}},{"$f":"IFERROR(HLOOKUP($K$109,'Kostprijs en Verkoopprijs'!$W$6:$W$38,24,FALSE),IFERROR(HLOOKUP($K$109,'Kostprijs en Verkoopprijs'!$W$44:$W$76,24,FALSE),IFERROR(HLOOKUP($K$109,'Kostprijs en Verkoopprijs'!$W$83:$W$115,24,FALSE),IFERROR(HLOOKUP($K$109,'Kostprijs en Verkoopprijs'!$W$122:$W$154,24,FALSE),IFERROR(HLOOKUP($K$109,'Kostprijs en Verkoopprijs'!$W$161:$W$193,24,FALSE),\"\")))))","v":""},{"$f":"IF($G$7=#REF!,SUM(#REF!),IF($G$7=#REF!,SUM(#REF!),IF($G$7=#REF!,SUM(#REF!),IF($G$7=#REF!,SUM(#REF!),IF($G$7=#REF!,SUM(#REF!),\"\")))))","v":{"$error":"#REF!"}},{"$f":"IFERROR(HLOOKUP($M$109,'Kostprijs en Verkoopprijs'!$W$6:$W$38,24,FALSE),IFERROR(HLOOKUP($M$109,'Kostprijs en Verkoopprijs'!$W$44:$W$76,24,FALSE),IFERROR(HLOOKUP($M$109,'Kostprijs en Verkoopprijs'!$W$83:$W$115,24,FALSE),IFERROR(HLOOKUP($M$109,'Kostprijs en Verkoopprijs'!$W$122:$W$154,24,FALSE),IFERROR(HLOOKUP($M$109,'Kostprijs en Verkoopprijs'!$W$161:$W$193,24,FALSE),\"\")))))","v":""},{"$f":"IF($G$7=#REF!,SUM(#REF!),IF($G$7=#REF!,SUM(#REF!),IF($G$7=#REF!,SUM(#REF!),IF($G$7=#REF!,SUM(#REF!),IF($G$7=#REF!,SUM(#REF!),\"\")))))","v":{"$error":"#REF!"}},{"$f":"IFERROR(HLOOKUP($O$109,'Kostprijs en Verkoopprijs'!$W$6:$W$38,24,FALSE),IFERROR(HLOOKUP($O$109,'Kostprijs en Verkoopprijs'!$W$44:$W$76,24,FALSE),IFERROR(HLOOKUP($O$109,'Kostprijs en Verkoopprijs'!$W$83:$W$115,24,FALSE),IFERROR(HLOOKUP($O$109,'Kostprijs en Verkoopprijs'!$W$122:$W$154,24,FALSE),IFERROR(HLOOKUP($O$109,'Kostprijs en Verkoopprijs'!$W$161:$W$193,24,FALSE),\"\")))))","v":""}]
[]
[]
[null,null,null,null,"Totale kostprijs",null,{"$f":"IFERROR(HLOOKUP($G$109,'Kostprijs en Verkoopprijs'!$W$6:$W$38,25,FALSE),IFERROR(HLOOKUP($G$109,'Kostprijs en Verkoopprijs'!$W$44:$W$76,25,FALSE),IFERROR(HLOOKUP($G$109,'Kostprijs en Verkoopprijs'!$W$83:$W$115,25,FALSE),IFERROR(HLOOKUP($G$109,'Kostprijs en Verkoopprijs'!$W$122:$W$154,25,FALSE),IFERROR(HLOOKUP($G$109,'Kostprijs en Verkoopprijs'!$W$161:$W$193,25,FALSE),\"\")))))","v":""},{"$f":"IF($G$7=#REF!,#REF!,IF($G$7=#REF!,#REF!,IF($G$7=#REF!,#REF!,IF($G$7=#REF!,#REF!,IF($G$7=#REF!,#REF!,\"\")))))","v":{"$error":"#REF!"}},{"$f":"IFERROR(HLOOKUP($I$109,'Kostprijs en Verkoopprijs'!$W$6:$W$38,25,FALSE),IFERROR(HLOOKUP($I$109,'Kostprijs en Verkoopprijs'!$W$44:$W$76,25,FALSE),IFERROR(HLOOKUP($I$109,'Kostprijs en Verkoopprijs'!$W$83:$W$115,25,FALSE),IFERROR(HLOOKUP($I$109,'Kostprijs en Verkoopprijs'!$W$122:$W$154,25,FALSE),IFERROR(HLOOKUP($I$109,'Kostprijs en Verkoopprijs'!$W$161:$W$193,25,FALSE),\"\")))))","v":""},{"$f":"IF($G$7=#REF!,#REF!,IF($G$7=#REF!,#REF!,IF($G$7=#REF!,#REF!,IF($G$7=#REF!,#REF!,IF($G$7=#REF!,#REF!,\"\")))))","v":{"$error":"#REF!"}},{"$f":"IFERROR(HLOOKUP($K$109,'Kostprijs en Verkoopprijs'!$W$6:$W$38,25,FALSE),IFERROR(HLOOKUP($K$109,'Kostprijs en Verkoopprijs'!$W$44:$W$76,25,FALSE),IFERROR(HLOOKUP($K$109,'Kostprijs en Verkoopprijs'!$W$83:$W$115,25,FALSE),IFERROR(HLOOKUP($K$109,'Kostprijs en Verkoopprijs'!$W$122:$W$154,25,FALSE),IFERROR(HLOOKUP($K$109,'Kostprijs en Verkoopprijs'!$W$161:$W$193,25,FALSE),\"\")))))","v":""},{"$f":"IF($G$7=#REF!,#REF!,IF($G$7=#REF!,#REF!,IF($G$7=#REF!,#REF!,IF($G$7=#REF!,#REF!,IF($G$7=#REF!,#REF!,\"\")))))","v":{"$error":"#REF!"}},{"$f":"IFERROR(HLOOKUP($M$109,'Kostprijs en Verkoopprijs'!$W$6:$W$38,25,FALSE),IFERROR(HLOOKUP($M$109,'Kostprijs en Verkoopprijs'!$W$44:$W$76,25,FALSE),IFERROR(HLOOKUP($M$109,'Kostprijs en Verkoopprijs'!$W$83:$W$115,25,FALSE),IFERROR(HLOOKUP($M$109,'Kostprijs en Verkoopprijs'!$W$122:$W$154,25,FALSE),IFERROR(HLOOKUP($M$109,'Kostprijs en Verkoopprijs'!$W$161:$W$193,25,FALSE),\"\")))))","v":""},{"$f":"IF($G$7=#REF!,#REF!,IF($G$7=#REF!,#REF!,IF($G$7=#REF!,#REF!,IF($G$7=#REF!,#REF!,IF($G$7=#REF!,#REF!,\"\")))))","v":{"$error":"#REF!"}},{"$f":"IFERROR(HLOOKUP($O$109,'Kostprijs en Verkoopprijs'!$W$6:$W$38,25,FALSE),IFERROR(HLOOKUP($O$109,'Kostprijs en Verkoopprijs'!$W$44:$W$76,25,FALSE),IFERROR(HLOOKUP($O$109,'Kostprijs en Verkoopprijs'!$W$83:$W$115,25,FALSE),IFERROR(HLOOKUP($O$109,'Kostprijs en Verkoopprijs'!$W$122:$W$154,25,FALSE),IFERROR(HLOOKUP($O$109,'Kostprijs en Verkoopprijs'!$W$161:$W$193,25,FALSE),\"\")))))","v":""}]
[null,null,null,null,"Totaal per km",null,{"$f":"IFERROR(HLOOKUP($G$109,'Kostprijs en Verkoopprijs'!$W$6:$W$38,26,FALSE),IFERROR(HLOOKUP($G$109,'Kostprijs en Verkoopprijs'!$W$44:$W$76,26,FALSE),IFERROR(HLOOKUP($G$109,'Kostprijs en Verkoopprijs'!$W$83:$W$115,26,FALSE),IFERROR(HLOOKUP($G$109,'Kostprijs en Verkoopprijs'!$W$122:$W$154,26,FALSE),IFERROR(HLOOKUP($G$109,'Kostprijs en Verkoopprijs'!$W$161:$W$193,26,FALSE),\"\")))))","v":""},{"$f":"IF($G$7=#REF!,#REF!,IF($G$7=#REF!,#REF!,IF($G$7=#REF!,#REF!,IF($G$7=#REF!,#REF!,IF($G$7=#REF!,#REF!,\"\")))))","v":{"$error":"#REF!"}},{"$f":"IFERROR(HLOOKUP($I$109,'Kostprijs en Verkoopprijs'!$W$6:$W$38,26,FALSE),IFERROR(HLOOKUP($I$109,'Kostprijs en Verkoopprijs'!$W$44:$W$76,26,FALSE),IFERROR(HLOOKUP($I$109,'Kostprijs en Verkoopprijs'!$W$83:$W$115,26,FALSE),IFERROR(HLOOKUP($I$109,'Kostprijs en Verkoopprijs'!$W$122:$W$154,26,FALSE),IFERROR(HLOOKUP($I$109,'Kostprijs en Verkoopprijs'!$W$161:$W$193,26,FALSE),\"\")))))","v":""},{"$f":"IF($G$7=#REF!,#REF!,IF($G$7=#REF!,#REF!,IF($G$7=#REF!,#REF!,IF($G$7=#REF!,#REF!,IF($G$7=#REF!,#REF!,\"\")))))","v":{"$error":"#REF!"}},{"$f":"IFERROR(HLOOKUP($K$109,'Kostprijs en Verkoopprijs'!$W$6:$W$38,26,FALSE),IFERROR(HLOOKUP($K$109,'Kostprijs en Verkoopprijs'!$W$44:$W$76,26,FALSE),IFERROR(HLOOKUP($K$109,'Kostprijs en Verkoopprijs'!$W$83:$W$115,26,FALSE),IFERROR(HLOOKUP($K$109,'Kostprijs en Verkoopprijs'!$W$122:$W$154,26,FALSE),IFERROR(HLOOKUP($K$109,'Kostprijs en Verkoopprijs'!$W$161:$W$193,26,FALSE),\"\")))))","v":""},{"$f":"IF($G$7=#REF!,#REF!,IF($G$7=#REF!,#REF!,IF($G$7=#REF!,#REF!,IF($G$7=#REF!,#REF!,IF($G$7=#REF!,#REF!,\"\")))))","v":{"$error":"#REF!"}},{"$f":"IFERROR(HLOOKUP($M$109,'Kostprijs en Verkoopprijs'!$W$6:$W$38,26,FALSE),IFERROR(HLOOKUP($M$109,'Kostprijs en Verkoopprijs'!$W$44:$W$76,26,FALSE),IFERROR(HLOOKUP($M$109,'Kostprijs en Verkoopprijs'!$W$83:$W$115,26,FALSE),IFERROR(HLOOKUP($M$109,'Kostprijs en Verkoopprijs'!$W$122:$W$154,26,FALSE),IFERROR(HLOOKUP($M$109,'Kostprijs en Verkoopprijs'!$W$161:$W$193,26,FALSE),\"\")))))","v":""},{"$f":"IF($G$7=#REF!,#REF!,IF($G$7=#REF!,#REF!,IF($G$7=#REF!,#REF!,IF($G$7=#REF!,#REF!,IF($G$7=#REF!,#REF!,\"\")))))","v":{"$error":"#REF!"}},{"$f":"IFERROR(HLOOKUP($O$109,'Kostprijs en Verkoopprijs'!$W$6:$W$38,26,FALSE),IFERROR(HLOOKUP($O$109,'Kostprijs en Verkoopprijs'!$W$44:$W$76,26,FALSE),IFERROR(HLOOKUP($O$109,'Kostprijs en Verkoopprijs'!$W$83:$W$115,26,FALSE),IFERROR(HLOOKUP($O$109,'Kostprijs en Verkoopprijs'!$W$122:$W$154,26,FALSE),IFERROR(HLOOKUP($O$109,'Kostprijs en Verkoopprijs'!$W$161:$W$193,26,FALSE),\"\")))))","v":""}]
[null,null,null,null,"Total per dag",null,{"$f":"IFERROR(HLOOKUP($G$109,'Kostprijs en Verkoopprijs'!$W$6:$W$38,27,FALSE),IFERROR(HLOOKUP($G$109,'Kostprijs en Verkoopprijs'!$W$44:$W$76,27,FALSE),IFERROR(HLOOKUP($G$109,'Kostprijs en Verkoopprijs'!$W$83:$W$115,27,FALSE),IFERROR(HLOOKUP($G$109,'Kostprijs en Verkoopprijs'!$W$122:$W$154,27,FALSE),IFERROR(HLOOKUP($G$109,'Kostprijs en Verkoopprijs'!$W$161:$W$193,27,FALSE),\"\")))))","v":""},{"$f":"IF($G$7=#REF!,#REF!,IF($G$7=#REF!,#REF!,IF($G$7=#REF!,#REF!,IF($G$7=#REF!,#REF!,IF($G$7=#REF!,#REF!,\"\")))))","v":{"$error":"#REF!"}},{"$f":"IFERROR(HLOOKUP($I$109,'Kostprijs en Verkoopprijs'!$W$6:$W$38,27,FALSE),IFERROR(HLOOKUP($I$109,'Kostprijs en Verkoopprijs'!$W$44:$W$76,27,FALSE),IFERROR(HLOOKUP($I$109,'Kostprijs en Verkoopprijs'!$W$83:$W$115,27,FALSE),IFERROR(HLOOKUP($I$109,'Kostprijs en Verkoopprijs'!$W$122:$W$154,27,FALSE),IFERROR(HLOOKUP($I$109,'Kostprijs en Verkoopprijs'!$W$161:$W$193,27,FALSE),\"\")))))","v":""},{"$f":"IF($G$7=#REF!,#REF!,IF($G$7=#REF!,#REF!,IF($G$7=#REF!,#REF!,IF($G$7=#REF!,#REF!,IF($G$7=#REF!,#REF!,\"\")))))","v":{"$error":"#REF!"}},{"$f":"IFERROR(HLOOKUP($K$109,'Kostprijs en Verkoopprijs'!$W$6:$W$38,27,FALSE),IFERROR(HLOOKUP($K$109,'Kostprijs en Verkoopprijs'!$W$44:$W$76,27,FALSE),IFERROR(HLOOKUP($K$109,'Kostprijs en Verkoopprijs'!$W$83:$W$115,27,FALSE),IFERROR(HLOOKUP($K$109,'Kostprijs en Verkoopprijs'!$W$122:$W$154,27,FALSE),IFERROR(HLOOKUP($K$109,'Kostprijs en Verkoopprijs'!$W$161:$W$193,27,FALSE),\"\")))))","v":""},{"$f":"IF($G$7=#REF!,#REF!,IF($G$7=#REF!,#REF!,IF($G$7=#REF!,#REF!,IF($G$7=#REF!,#REF!,IF($G$7=#REF!,#REF!,\"\")))))","v":{"$error":"#REF!"}},{"$f":"IFERROR(HLOOKUP($M$109,'Kostprijs en Verkoopprijs'!$W$6:$W$38,27,FALSE),IFERROR(HLOOKUP($M$109,'Kostprijs en Verkoopprijs'!$W$44:$W$76,27,FALSE),IFERROR(HLOOKUP($M$109,'Kostprijs en Verkoopprijs'!$W$83:$W$115,27,FALSE),IFERROR(HLOOKUP($M$109,'Kostprijs en Verkoopprijs'!$W$122:$W$154,27,FALSE),IFERROR(HLOOKUP($M$109,'Kostprijs en Verkoopprijs'!$W$161:$W$193,27,FALSE),\"\")))))","v":""},{"$f":"IF($G$7=#REF!,#REF!,IF($G$7=#REF!,#REF!,IF($G$7=#REF!,#REF!,IF($G$7=#REF!,#REF!,IF($G$7=#REF!,#REF!,\"\")))))","v":{"$error":"#REF!"}},{"$f":"IFERROR(HLOOKUP($O$109,'Kostprijs en Verkoopprijs'!$W$6:$W$38,27,FALSE),IFERROR(HLOOKUP($O$109,'Kostprijs en Verkoopprijs'!$W$44:$W$76,27,FALSE),IFERROR(HLOOKUP($O$109,'Kostprijs en Verkoopprijs'!$W$83:$W$115,27,FALSE),IFERROR(HLOOKUP($O$109,'Kostprijs en Verkoopprijs'!$W$122:$W$154,27,FALSE),IFERROR(HLOOKUP($O$109,'Kostprijs en Verkoopprijs'!$W$161:$W$193,27,FALSE),\"\")))))","v":""}]
[]
[null,null,null,null,"Totale verkoopprijs",null,{"$f":"IFERROR(HLOOKUP($G$109,'Kostprijs en Verkoopprijs'!$W$6:$W$38,31,FALSE),IFERROR(HLOOKUP($G$109,'Kostprijs en Verkoopprijs'!$W$44:$W$76,31,FALSE),IFERROR(HLOOKUP($G$109,'Kostprijs en Verkoopprijs'!$W$83:$W$115,31,FALSE),IFERROR(HLOOKUP($G$109,'Kostprijs en Verkoopprijs'!$W$122:$W$154,31,FALSE),IFERROR(HLOOKUP($G$109,'Kostprijs en Verkoopprijs'!$W$161:$W$193,31,FALSE),\"\")))))","v":""},{"$f":"IF($G$7=#REF!,#REF!,IF($G$7=#REF!,#REF!,IF($G$7=#REF!,#REF!,IF($G$7=#REF!,#REF!,IF($G$7=#REF!,#REF!,\"\")))))","v":{"$error":"#REF!"}},{"$f":"IFERROR(HLOOKUP($I$109,'Kostprijs en Verkoopprijs'!$W$6:$W$38,31,FALSE),IFERROR(HLOOKUP($I$109,'Kostprijs en Verkoopprijs'!$W$44:$W$76,31,FALSE),IFERROR(HLOOKUP($I$109,'Kostprijs en Verkoopprijs'!$W$83:$W$115,31,FALSE),IFERROR(HLOOKUP($I$109,'Kostprijs en Verkoopprijs'!$W$122:$W$154,31,FALSE),IFERROR(HLOOKUP($I$109,'Kostprijs en Verkoopprijs'!$W$161:$W$193,31,FALSE),\"\")))))","v":""},{"$f":"IF($G$7=#REF!,#REF!,IF($G$7=#REF!,#REF!,IF($G$7=#REF!,#REF!,IF($G$7=#REF!,#REF!,IF($G$7=#REF!,#REF!,\"\")))))","v":{"$error":"#REF!"}},{"$f":"IFERROR(HLOOKUP($K$109,'Kostprijs en Verkoopprijs'!$W$6:$W$38,31,FALSE),IFERROR(HLOOKUP($K$109,'Kostprijs en Verkoopprijs'!$W$44:$W$76,31,FALSE),IFERROR(HLOOKUP($K$109,'Kostprijs en Verkoopprijs'!$W$83:$W$115,31,FALSE),IFERROR(HLOOKUP($K$109,'Kostprijs en Verkoopprijs'!$W$122:$W$154,31,FALSE),IFERROR(HLOOKUP($K$109,'Kostprijs en Verkoopprijs'!$W$161:$W$193,31,FALSE),\"\")))))","v":""},{"$f":"IF($G$7=#REF!,#REF!,IF($G$7=#REF!,#REF!,IF($G$7=#REF!,#REF!,IF($G$7=#REF!,#REF!,IF($G$7=#REF!,#REF!,\"\")))))","v":{"$error":"#REF!"}},{"$f":"IFERROR(HLOOKUP($M$109,'Kostprijs en Verkoopprijs'!$W$6:$W$38,31,FALSE),IFERROR(HLOOKUP($M$109,'Kostprijs en Verkoopprijs'!$W$44:$W$76,31,FALSE),IFERROR(HLOOKUP($M$109,'Kostprijs en Verkoopprijs'!$W$83:$W$115,31,FALSE),IFERROR(HLOOKUP($M$109,'Kostprijs en Verkoopprijs'!$W$122:$W$154,31,FALSE),IFERROR(HLOOKUP($M$109,'Kostprijs en Verkoopprijs'!$W$161:$W$193,31,FALSE),\"\")))))","v":""},{"$f":"IF($G$7=#REF!,#REF!,IF($G$7=#REF!,#REF!,IF($G$7=#REF!,#REF!,IF($G$7=#REF!,#REF!,IF($G$7=#REF!,#REF!,\"\")))))","v":{"$error":"#REF!"}},{"$f":"IFERROR(HLOOKUP($O$109,'Kostprijs en Verkoopprijs'!$W$6:$W$38,31,FALSE),IFERROR(HLOOKUP($O$109,'Kostprijs en Verkoopprijs'!$W$44:$W$76,31,FALSE),IFERROR(HLOOKUP($O$109,'Kostprijs en Verkoopprijs'!$W$83:$W$115,31,FALSE),IFERROR(HLOOKUP($O$109,'Kostprijs en Verkoopprijs'!$W$122:$W$154,31,FALSE),IFERROR(HLOOKUP($O$109,'Kostprijs en Verkoopprijs'!$W$161:$W$193,31,FALSE),\"\")))))","v":""}]
[null,null,null,null,"Totaal per km",null,{"$f":"IFERROR(HLOOKUP($G$109,'Kostprijs en Verkoopprijs'!$W$6:$W$38,32,FALSE),IFERROR(HLOOKUP($G$109,'Kostprijs en Verkoopprijs'!$W$44:$W$76,32,FALSE),IFERROR(HLOOKUP($G$109,'Kostprijs en Verkoopprijs'!$W$83:$W$115,32,FALSE),IFERROR(HLOOKUP($G$109,'Kostprijs en Verkoopprijs'!$W$122:$W$154,32,FALSE),IFERROR(HLOOKUP($G$109,'Kostprijs en Verkoopprijs'!$W$161:$W$193,32,FALSE),\"\")))))","v":""},{"$f":"IF($G$7=#REF!,#REF!,IF($G$7=#REF!,#REF!,IF($G$7=#REF!,#REF!,IF($G$7=#REF!,#REF!,IF($G$7=#REF!,#REF!,\"\")))))","v":{"$error":"#REF!"}},{"$f":"IFERROR(HLOOKUP($I$109,'Kostprijs en Verkoopprijs'!$W$6:$W$38,32,FALSE),IFERROR(HLOOKUP($I$109,'Kostprijs en Verkoopprijs'!$W$44:$W$76,32,FALSE),IFERROR(HLOOKUP($I$109,'Kostprijs en Verkoopprijs'!$W$83:$W$115,32,FALSE),IFERROR(HLOOKUP($I$109,'Kostprijs en Verkoopprijs'!$W$122:$W$154,32,FALSE),IFERROR(HLOOKUP($I$109,'Kostprijs en Verkoopprijs'!$W$161:$W$193,32,FALSE),\"\")))))","v":""},{"$f":"IF($G$7=#REF!,#REF!,IF($G$7=#REF!,#REF!,IF($G$7=#REF!,#REF!,IF($G$7=#REF!,#REF!,IF($G$7=#REF!,#REF!,\"\")))))","v":{"$error":"#REF!"}},{"$f":"IFERROR(HLOOKUP($K$109,'Kostprijs en Verkoopprijs'!$W$6:$W$38,32,FALSE),IFERROR(HLOOKUP($K$109,'Kostprijs en Verkoopprijs'!$W$44:$W$76,32,FALSE),IFERROR(HLOOKUP($K$109,'Kostprijs en Verkoopprijs'!$W$83:$W$115,32,FALSE),IFERROR(HLOOKUP($K$109,'Kostprijs en Verkoopprijs'!$W$122:$W$154,32,FALSE),IFERROR(HLOOKUP($K$109,'Kostprijs en Verkoopprijs'!$W$161:$W$193,32,FALSE),\"\")))))","v":""},{"$f":"IF($G$7=#REF!,#REF!,IF($G$7=#REF!,#REF!,IF($G$7=#REF!,#REF!,IF($G$7=#REF!,#REF!,IF($G$7=#REF!,#REF!,\"\")))))","v":{"$error":"#REF!"}},{"$f":"IFERROR(HLOOKUP($M$109,'Kostprijs en Verkoopprijs'!$W$6:$W$38,32,FALSE),IFERROR(HLOOKUP($M$109,'Kostprijs en Verkoopprijs'!$W$44:$W$76,32,FALSE),IFERROR(HLOOKUP($M$109,'Kostprijs en Verkoopprijs'!$W$83:$W$115,32,FALSE),IFERROR(HLOOKUP($M$109,'Kostprijs en Verkoopprijs'!$W$122:$W$154,32,FALSE),IFERROR(HLOOKUP($M$109,'Kostprijs en Verkoopprijs'!$W$161:$W$193,32,FALSE),\"\")))))","v":""},{"$f":"IF($G$7=#REF!,#REF!,IF($G$7=#REF!,#REF!,IF($G$7=#REF!,#REF!,IF($G$7=#REF!,#REF!,IF($G$7=#REF!,#REF!,\"\")))))","v":{"$error":"#REF!"}},{"$f":"IFERROR(HLOOKUP($O$109,'Kostprijs en Verkoopprijs'!$W$6:$W$38,32,FALSE),IFERROR(HLOOKUP($O$109,'Kostprijs en Verkoopprijs'!$W$44:$W$76,32,FALSE),IFERROR(HLOOKUP($O$109,'Kostprijs en Verkoopprijs'!$W$83:$W$115,32,FALSE),IFERROR(HLOOKUP($O$109,'Kostprijs en Verkoopprijs'!$W$122:$W$154,32,FALSE),IFERROR(HLOOKUP($O$109,'Kostprijs en Verkoopprijs'!$W$161:$W$193,32,FALSE),\"\")))))","v":""}]
[null,null,null,null,"Totaal per dag",null,{"$f":"IFERROR(HLOOKUP($G$109,'Kostprijs en Verkoopprijs'!$W$6:$W$38,33,FALSE),IFERROR(HLOOKUP($G$109,'Kostprijs en Verkoopprijs'!$W$44:$W$76,33,FALSE),IFERROR(HLOOKUP($G$109,'Kostprijs en Verkoopprijs'!$W$83:$W$115,33,FALSE),IFERROR(HLOOKUP($G$109,'Kostprijs en Verkoopprijs'!$W$122:$W$154,33,FALSE),IFERROR(HLOOKUP($G$109,'Kostprijs en Verkoopprijs'!$W$161:$W$193,33,FALSE),\"\")))))","v":""},{"$f":"IF($G$7=#REF!,#REF!,IF($G$7=#REF!,#REF!,IF($G$7=#REF!,#REF!,IF($G$7=#REF!,#REF!,IF($G$7=#REF!,#REF!,\"\")))))","v":{"$error":"#REF!"}},{"$f":"IFERROR(HLOOKUP($I$109,'Kostprijs en Verkoopprijs'!$W$6:$W$38,33,FALSE),IFERROR(HLOOKUP($I$109,'Kostprijs en Verkoopprijs'!$W$44:$W$76,33,FALSE),IFERROR(HLOOKUP($I$109,'Kostprijs en Verkoopprijs'!$W$83:$W$115,33,FALSE),IFERROR(HLOOKUP($I$109,'Kostprijs en Verkoopprijs'!$W$122:$W$154,33,FALSE),IFERROR(HLOOKUP($I$109,'Kostprijs en Verkoopprijs'!$W$161:$W$193,33,FALSE),\"\")))))","v":""},{"$f":"IF($G$7=#REF!,#REF!,IF($G$7=#REF!,#REF!,IF($G$7=#REF!,#REF!,IF($G$7=#REF!,#REF!,IF($G$7=#REF!,#REF!,\"\")))))","v":{"$error":"#REF!"}},{"$f":"IFERROR(HLOOKUP($K$109,'Kostprijs en Verkoopprijs'!$W$6:$W$38,33,FALSE),IFERROR(HLOOKUP($K$109,'Kostprijs en Verkoopprijs'!$W$44:$W$76,33,FALSE),IFERROR(HLOOKUP($K$109,'Kostprijs en Verkoopprijs'!$W$83:$W$115,33,FALSE),IFERROR(HLOOKUP($K$109,'Kostprijs en Verkoopprijs'!$W$122:$W$154,33,FALSE),IFERROR(HLOOKUP($K$109,'Kostprijs en Verkoopprijs'!$W$161:$W$193,33,FALSE),\"\")))))","v":""},{"$f":"IF($G$7=#REF!,#REF!,IF($G$7=#REF!,#REF!,IF($G$7=#REF!,#REF!,IF($G$7=#REF!,#REF!,IF($G$7=#REF!,#REF!,\"\")))))","v":{"$error":"#REF!"}},{"$f":"IFERROR(HLOOKUP($M$109,'Kostprijs en Verkoopprijs'!$W$6:$W$38,33,FALSE),IFERROR(HLOOKUP($M$109,'Kostprijs en Verkoopprijs'!$W$44:$W$76,33,FALSE),IFERROR(HLOOKUP($M$109,'Kostprijs en Verkoopprijs'!$W$83:$W$115,33,FALSE),IFERROR(HLOOKUP($M$109,'Kostprijs en Verkoopprijs'!$W$122:$W$154,33,FALSE),IFERROR(HLOOKUP($M$109,'Kostprijs en Verkoopprijs'!$W$161:$W$193,33,FALSE),\"\")))))","v":""},{"$f":"IF($G$7=#REF!,#REF!,IF($G$7=#REF!,#REF!,IF($G$7=#REF!,#REF!,IF($G$7=#REF!,#REF!,IF($G$7=#REF!,#REF!,\"\")))))","v":{"$error":"#REF!"}},{"$f":"IFERROR(HLOOKUP($O$109,'Kostprijs en Verkoopprijs'!$W$6:$W$38,33,FALSE),IFERROR(HLOOKUP($O$109,'Kostprijs en Verkoopprijs'!$W$44:$W$76,33,FALSE),IFERROR(HLOOKUP($O$109,'Kostprijs en Verkoopprijs'!$W$83:$W$115,33,FALSE),IFERROR(HLOOKUP($O$109,'Kostprijs en Verkoopprijs'!$W$122:$W$154,33,FALSE),IFERROR(HLOOKUP($O$109,'Kostprijs en Verkoopprijs'!$W$161:$W$193,33,FALSE),\"\")))))","v":""}]
[]
[null,null,null,{"$f":"Bestemmingen!W16","v":""}]
[]
[null,null,null,null,null,null,{"$f":"IF(D140=$AE$3,$AG$3,\"\")","v":""},{"$f":"IF($D$4=$AE$3,$AG$3,IF($D$4=$AE$4,$AG$4,IF($D$4=$AE$5,$AG$5,IF($D$4=$AE$6,$AG$6,IF($D$4=$AE$7,$AG$7,\"\")))))","v":""},{"$f":"IF(D140=$AE$4,$AG$4,\"\")","v":""},"",{"$f":"IF(D140=$AE$5,$AG$5,\"\")","v":""},"",{"$f":"IF(D140=$AE$6,$AG$6,\"\")","v":""},"",{"$f":"IF(D140=$AE$7,$AG$7,\"\")","v":""}]
[null,null,null,null,null,null,{"$f":"IF(G142<>\"\",$D$140&G142,\"\")","v":""},{"$f":"IF(H142<>\"\",$D$4&H142,\"\")","v":""},{"$f":"IF(I142<>\"\",$D$140&I142,\"\")","v":""},{"$f":"IF(J142<>\"\",$D$4&J142,\"\")","v":""},{"$f":"IF(K142<>\"\",$D$140&K142,\"\")","v":""},{"$f":"IF(L142<>\"\",$D$4&L142,\"\")","v":""},{"$f":"IF(M142<>\"\",$D$140&M142,\"\")","v":""},{"$f":"IF(N142<>\"\",$D$4&N142,\"\")","v":""},{"$f":"IF(O142<>\"\",$D$140&O142,\"\")","v":""}]
[]
[null,null,null,"VAST","Voertuig (economische afschr.)",null,{"$f":"IFERROR(HLOOKUP($G$143,'Kostprijs en Verkoopprijs'!$W$6:$W$38,5,FALSE),IFERROR(HLOOKUP($G$143,'Kostprijs en Verkoopprijs'!$W$44:$W$76,5,FALSE),IFERROR(HLOOKUP($G$143,'Kostprijs en Verkoopprijs'!$W$83:$W$115,5,FALSE),IFERROR(HLOOKUP($G$143,'Kostprijs en Verkoopprijs'!$W$122:$W$154,5,FALSE),IFERROR(HLOOKUP($G$143,'Kostprijs en Verkoopprijs'!$W$161:$W$193,5,FALSE),\"\")))))","v":""},{"$f":"IFERROR(HLOOKUP(H143,'Kostprijs en Verkoopprijs'!$W$6:$W$38,5,FALSE),IFERROR(HLOOKUP(H143,'Kostprijs en Verkoopprijs'!$W$44:$W$76,5,FALSE),IFERROR(HLOOKUP(H143,'Kostprijs en Verkoopprijs'!$W$83:$W$115,5,FALSE),IFERROR(HLOOKUP(H143,'Kostprijs en Verkoopprijs'!$W$122:$W$154,5,FALSE),IFERROR(HLOOKUP(H143,'Kostprijs en Verkoopprijs'!$W$161:$W$193,5,FALSE),\"\")))))","v":""},{"$f":"IFERROR(HLOOKUP($I$143,'Kostprijs en Verkoopprijs'!$W$6:$W$38,5,FALSE),IFERROR(HLOOKUP($I$143,'Kostprijs en Verkoopprijs'!$W$44:$W$76,5,FALSE),IFERROR(HLOOKUP($I$143,'Kostprijs en Verkoopprijs'!$W$83:$W$115,5,FALSE),IFERROR(HLOOKUP($I$143,'Kostprijs en Verkoopprijs'!$W$122:$W$154,5,FALSE),IFERROR(HLOOKUP($I$143,'Kostprijs en Verkoopprijs'!$W$161:$W$193,5,FALSE),\"\")))))","v":""},{"$f":"IFERROR(HLOOKUP(J143,'Kostprijs en Verkoopprijs'!$W$6:$W$38,5,FALSE),IFERROR(HLOOKUP(J143,'Kostprijs en Verkoopprijs'!$W$44:$W$76,5,FALSE),IFERROR(HLOOKUP(J143,'Kostprijs en Verkoopprijs'!$W$83:$W$115,5,FALSE),IFERROR(HLOOKUP(J143,'Kostprijs en Verkoopprijs'!$W$122:$W$154,5,FALSE),IFERROR(HLOOKUP(J143,'Kostprijs en Verkoopprijs'!$W$161:$W$193,5,FALSE),\"\")))))","v":""},{"$f":"IFERROR(HLOOKUP($K$143,'Kostprijs en Verkoopprijs'!$W$6:$W$38,5,FALSE),IFERROR(HLOOKUP($K$143,'Kostprijs en Verkoopprijs'!$W$44:$W$76,5,FALSE),IFERROR(HLOOKUP($K$143,'Kostprijs en Verkoopprijs'!$W$83:$W$115,5,FALSE),IFERROR(HLOOKUP($K$143,'Kostprijs en Verkoopprijs'!$W$122:$W$154,5,FALSE),IFERROR(HLOOKUP($K$143,'Kostprijs en Verkoopprijs'!$W$161:$W$193,5,FALSE),\"\")))))","v":""},{"$f":"IFERROR(HLOOKUP(L143,'Kostprijs en Verkoopprijs'!$W$6:$W$38,5,FALSE),IFERROR(HLOOKUP(L143,'Kostprijs en Verkoopprijs'!$W$44:$W$76,5,FALSE),IFERROR(HLOOKUP(L143,'Kostprijs en Verkoopprijs'!$W$83:$W$115,5,FALSE),IFERROR(HLOOKUP(L143,'Kostprijs en Verkoopprijs'!$W$122:$W$154,5,FALSE),IFERROR(HLOOKUP(L143,'Kostprijs en Verkoopprijs'!$W$161:$W$193,5,FALSE),\"\")))))","v":""},{"$f":"IFERROR(HLOOKUP($M$143,'Kostprijs en Verkoopprijs'!$W$6:$W$38,5,FALSE),IFERROR(HLOOKUP($M$143,'Kostprijs en Verkoopprijs'!$W$44:$W$76,5,FALSE),IFERROR(HLOOKUP($M$143,'Kostprijs en Verkoopprijs'!$W$83:$W$115,5,FALSE),IFERROR(HLOOKUP($M$143,'Kostprijs en Verkoopprijs'!$W$122:$W$154,5,FALSE),IFERROR(HLOOKUP($M$143,'Kostprijs en Verkoopprijs'!$W$161:$W$193,5,FALSE),\"\")))))","v":""},{"$f":"IFERROR(HLOOKUP(N143,'Kostprijs en Verkoopprijs'!$W$6:$W$38,5,FALSE),IFERROR(HLOOKUP(N143,'Kostprijs en Verkoopprijs'!$W$44:$W$76,5,FALSE),IFERROR(HLOOKUP(N143,'Kostprijs en Verkoopprijs'!$W$83:$W$115,5,FALSE),IFERROR(HLOOKUP(N143,'Kostprijs en Verkoopprijs'!$W$122:$W$154,5,FALSE),IFERROR(HLOOKUP(N143,'Kostprijs en Verkoopprijs'!$W$161:$W$193,5,FALSE),\"\")))))","v":""},{"$f":"IFERROR(HLOOKUP($O$143,'Kostprijs en Verkoopprijs'!$W$6:$W$38,5,FALSE),IFERROR(HLOOKUP($O$143,'Kostprijs en Verkoopprijs'!$W$44:$W$76,5,FALSE),IFERROR(HLOOKUP($O$143,'Kostprijs en Verkoopprijs'!$W$83:$W$115,5,FALSE),IFERROR(HLOOKUP($O$143,'Kostprijs en Verkoopprijs'!$W$122:$W$154,5,FALSE),IFERROR(HLOOKUP($O$143,'Kostprijs en Verkoopprijs'!$W$161:$W$193,5,FALSE),\"\")))))","v":""}]
[null,null,null,null,"Financiering voertuig",null,{"$f":"IFERROR(HLOOKUP($G$143,'Kostprijs en Verkoopprijs'!$W$6:$W$38,6,FALSE),IFERROR(HLOOKUP($G$143,'Kostprijs en Verkoopprijs'!$W$44:$W$76,6,FALSE),IFERROR(HLOOKUP($G$143,'Kostprijs en Verkoopprijs'!$W$83:$W$115,6,FALSE),IFERROR(HLOOKUP($G$143,'Kostprijs en Verkoopprijs'!$W$122:$W$154,6,FALSE),IFERROR(HLOOKUP($G$143,'Kostprijs en Verkoopprijs'!$W$161:$W$193,6,FALSE),\"\")))))","v":""},{"$f":"IF($G$7=#REF!,#REF!,IF($G$7=#REF!,#REF!,IF($G$7=#REF!,#REF!,IF($G$7=#REF!,#REF!,IF($G$7=#REF!,#REF!,\"\")))))","v":{"$error":"#REF!"}},{"$f":"IFERROR(HLOOKUP($I$143,'Kostprijs en Verkoopprijs'!$W$6:$W$38,6,FALSE),IFERROR(HLOOKUP($I$143,'Kostprijs en Verkoopprijs'!$W$44:$W$76,6,FALSE),IFERROR(HLOOKUP($I$143,'Kostprijs en Verkoopprijs'!$W$83:$W$115,6,FALSE),IFERROR(HLOOKUP($I$143,'Kostprijs en Verkoopprijs'!$W$122:$W$154,6,FALSE),IFERROR(HLOOKUP($I$143,'Kostprijs en Verkoopprijs'!$W$161:$W$193,6,FALSE),\"\")))))","v":""},{"$f":"IF($G$7=#REF!,#REF!,IF($G$7=#REF!,#REF!,IF($G$7=#REF!,#REF!,IF($G$7=#REF!,#REF!,IF($G$7=#REF!,#REF!,\"\")))))","v":{"$error":"#REF!"}},{"$f":"IFERROR(HLOOKUP($K$143,'Kostprijs en Verkoopprijs'!$W$6:$W$38,6,FALSE),IFERROR(HLOOKUP($K$143,'Kostprijs en Verkoopprijs'!$W$44:$W$76,6,FALSE),IFERROR(HLOOKUP($K$143,'Kostprijs en Verkoopprijs'!$W$83:$W$115,6,FALSE),IFERROR(HLOOKUP($K$143,'Kostprijs en Verkoopprijs'!$W$122:$W$154,6,FALSE),IFERROR(HLOOKUP($K$143,'Kostprijs en Verkoopprijs'!$W$161:$W$193,6,FALSE),\"\")))))","v":""},{"$f":"IF($G$7=#REF!,#REF!,IF($G$7=#REF!,#REF!,IF($G$7=#REF!,#REF!,IF($G$7=#REF!,#REF!,IF($G$7=#REF!,#REF!,\"\")))))","v":{"$error":"#REF!"}},{"$f":"IFERROR(HLOOKUP($M$143,'Kostprijs en Verkoopprijs'!$W$6:$W$38,6,FALSE),IFERROR(HLOOKUP($M$143,'Kostprijs en Verkoopprijs'!$W$44:$W$76,6,FALSE),IFERROR(HLOOKUP($M$143,'Kostprijs en Verkoopprijs'!$W$83:$W$115,6,FALSE),IFERROR(HLOOKUP($M$143,'Kostprijs en Verkoopprijs'!$W$122:$W$154,6,FALSE),IFERROR(HLOOKUP($M$143,'Kostprijs en Verkoopprijs'!$W$161:$W$193,6,FALSE),\"\")))))","v":""},{"$f":"IF($G$7=#REF!,#REF!,IF($G$7=#REF!,#REF!,IF($G$7=#REF!,#REF!,IF($G$7=#REF!,#REF!,IF($G$7=#REF!,#REF!,\"\")))))","v":{"$error":"#REF!"}},{"$f":"IFERROR(HLOOKUP($O$143,'Kostprijs en Verkoopprijs'!$W$6:$W$38,6,FALSE),IFERROR(HLOOKUP($O$143,'Kostprijs en Verkoopprijs'!$W$44:$W$76,6,FALSE),IFERROR(HLOOKUP($O$143,'Kostprijs en Verkoopprijs'!$W$83:$W$115,6,FALSE),IFERROR(HLOOKUP($O$143,'Kostprijs en Verkoopprijs'!$W$122:$W$154,6,FALSE),IFERROR(HLOOKUP($O$143,'Kostprijs en Verkoopprijs'!$W$161:$W$193,6,FALSE),\"\")))))","v":""}]
[null,null,null,null,"Verzekeringen voertuig",null,{"$f":"IFERROR(HLOOKUP($G$143,'Kostprijs en Verkoopprijs'!$W$6:$W$38,7,FALSE),IFERROR(HLOOKUP($G$143,'Kostprijs en Verkoopprijs'!$W$44:$W$76,7,FALSE),IFERROR(HLOOKUP($G$143,'Kostprijs en Verkoopprijs'!$W$83:$W$115,7,FALSE),IFERROR(HLOOKUP($G$143,'Kostprijs en Verkoopprijs'!$W$122:$W$154,7,FALSE),IFERROR(HLOOKUP($G$143,'Kostprijs en Verkoopprijs'!$W$161:$W$193,7,FALSE),\"\")))))","v":""},{"$f":"IF($G$7=#REF!,#REF!,IF($G$7=#REF!,#REF!,IF($G$7=#REF!,#REF!,IF($G$7=#REF!,#REF!,IF($G$7=#REF!,#REF!,\"\")))))","v":{"$error":"#REF!"}},{"$f":"IFERROR(HLOOKUP($I$143,'Kostprijs en Verkoopprijs'!$W$6:$W$38,7,FALSE),IFERROR(HLOOKUP($I$143,'Kostprijs en Verkoopprijs'!$W$44:$W$76,7,FALSE),IFERROR(HLOOKUP($I$143,'Kostprijs en Verkoopprijs'!$W$83:$W$115,7,FALSE),IFERROR(HLOOKUP($I$143,'Kostprijs en Verkoopprijs'!$W$122:$W$154,7,FALSE),IFERROR(HLOOKUP($I$143,'Kostprijs en Verkoopprijs'!$W$161:$W$193,7,FALSE),\"\")))))","v":""},{"$f":"IF($G$7=#REF!,#REF!,IF($G$7=#REF!,#REF!,IF($G$7=#REF!,#REF!,IF($G$7=#REF!,#REF!,IF($G$7=#REF!,#REF!,\"\")))))","v":{"$error":"#REF!"}},{"$f":"IFERROR(HLOOKUP($K$143,'Kostprijs en Verkoopprijs'!$W$6:$W$38,7,FALSE),IFERROR(HLOOKUP($K$143,'Kostprijs en Verkoopprijs'!$W$44:$W$76,7,FALSE),IFERROR(HLOOKUP($K$143,'Kostprijs en Verkoopprijs'!$W$83:$W$115,7,FALSE),IFERROR(HLOOKUP($K$143,'Kostprijs en Verkoopprijs'!$W$122:$W$154,7,FALSE),IFERROR(HLOOKUP($K$143,'Kostprijs en Verkoopprijs'!$W$161:$W$193,7,FALSE),\"\")))))","v":""},{"$f":"IF($G$7=#REF!,#REF!,IF($G$7=#REF!,#REF!,IF($G$7=#REF!,#REF!,IF($G$7=#REF!,#REF!,IF($G$7=#REF!,#REF!,\"\")))))","v":{"$error":"#REF!"}},{"$f":"IFERROR(HLOOKUP($M$143,'Kostprijs en Verkoopprijs'!$W$6:$W$38,7,FALSE),IFERROR(HLOOKUP($M$143,'Kostprijs en Verkoopprijs'!$W$44:$W$76,7,FALSE),IFERROR(HLOOKUP($M$143,'Kostprijs en Verkoopprijs'!$W$83:$W$115,7,FALSE),IFERROR(HLOOKUP($M$143,'Kostprijs en Verkoopprijs'!$W$122:$W$154,7,FALSE),IFERROR(HLOOKUP($M$143,'Kostprijs en Verkoopprijs'!$W$161:$W$193,7,FALSE),\"\")))))","v":""},{"$f":"IF($G$7=#REF!,#REF!,IF($G$7=#REF!,#REF!,IF($G$7=#REF!,#REF!,IF($G$7=#REF!,#REF!,IF($G$7=#REF!,#REF!,\"\")))))","v":{"$error":"#REF!"}},{"$f":"IFERROR(HLOOKUP($O$143,'Kostprijs en Verkoopprijs'!$W$6:$W$38,7,FALSE),IFERROR(HLOOKUP($O$143,'Kostprijs en Verkoopprijs'!$W$44:$W$76,7,FALSE),IFERROR(HLOOKUP($O$143,'Kostprijs en Verkoopprijs'!$W$83:$W$115,7,FALSE),IFERROR(HLOOKUP($O$143,'Kostprijs en Verkoopprijs'!$W$122:$W$154,7,FALSE),IFERROR(HLOOKUP($O$143,'Kostprijs en Verkoopprijs'!$W$161:$W$193,7,FALSE),\"\")))))","v":""}]
[null,null,null,null,"Andere vaste kosten voertuig",null,{"$f":"IFERROR(HLOOKUP($G$143,'Kostprijs en Verkoopprijs'!$W$6:$W$38,8,FALSE),IFERROR(HLOOKUP($G$143,'Kostprijs en Verkoopprijs'!$W$44:$W$76,8,FALSE),IFERROR(HLOOKUP($G$143,'Kostprijs en Verkoopprijs'!$W$83:$W$115,8,FALSE),IFERROR(HLOOKUP($G$143,'Kostprijs en Verkoopprijs'!$W$122:$W$154,8,FALSE),IFERROR(HLOOKUP($G$143,'Kostprijs en Verkoopprijs'!$W$161:$W$193,8,FALSE),\"\")))))","v":""},{"$f":"IF($G$7=#REF!,#REF!,IF($G$7=#REF!,#REF!,IF($G$7=#REF!,#REF!,IF($G$7=#REF!,#REF!,IF($G$7=#REF!,#REF!,\"\")))))","v":{"$error":"#REF!"}},{"$f":"IFERROR(HLOOKUP($I$143,'Kostprijs en Verkoopprijs'!$W$6:$W$38,8,FALSE),IFERROR(HLOOKUP($I$143,'Kostprijs en Verkoopprijs'!$W$44:$W$76,8,FALSE),IFERROR(HLOOKUP($I$143,'Kostprijs en Verkoopprijs'!$W$83:$W$115,8,FALSE),IFERROR(HLOOKUP($I$143,'Kostprijs en Verkoopprijs'!$W$122:$W$154,8,FALSE),IFERROR(HLOOKUP($I$143,'Kostprijs en Verkoopprijs'!$W$161:$W$193,8,FALSE),\"\")))))","v":""},{"$f":"IF($G$7=#REF!,#REF!,IF($G$7=#REF!,#REF!,IF($G$7=#REF!,#REF!,IF($G$7=#REF!,#REF!,IF($G$7=#REF!,#REF!,\"\")))))","v":{"$error":"#REF!"}},{"$f":"IFERROR(HLOOKUP($K$143,'Kostprijs en Verkoopprijs'!$W$6:$W$38,8,FALSE),IFERROR(HLOOKUP($K$143,'Kostprijs en Verkoopprijs'!$W$44:$W$76,8,FALSE),IFERROR(HLOOKUP($K$143,'Kostprijs en Verkoopprijs'!$W$83:$W$115,8,FALSE),IFERROR(HLOOKUP($K$143,'Kostprijs en Verkoopprijs'!$W$122:$W$154,8,FALSE),IFERROR(HLOOKUP($K$143,'Kostprijs en Verkoopprijs'!$W$161:$W$193,8,FALSE),\"\")))))","v":""},{"$f":"IF($G$7=#REF!,#REF!,IF($G$7=#REF!,#REF!,IF($G$7=#REF!,#REF!,IF($G$7=#REF!,#REF!,IF($G$7=#REF!,#REF!,\"\")))))","v":{"$error":"#REF!"}},{"$f":"IFERROR(HLOOKUP($M$143,'Kostprijs en Verkoopprijs'!$W$6:$W$38,8,FALSE),IFERROR(HLOOKUP($M$143,'Kostprijs en Verkoopprijs'!$W$44:$W$76,8,FALSE),IFERROR(HLOOKUP($M$143,'Kostprijs en Verkoopprijs'!$W$83:$W$115,8,FALSE),IFERROR(HLOOKUP($M$143,'Kostprijs en Verkoopprijs'!$W$122:$W$154,8,FALSE),IFERROR(HLOOKUP($M$143,'Kostprijs en Verkoopprijs'!$W$161:$W$193,8,FALSE),\"\")))))","v":""},{"$f":"IF($G$7=#REF!,#REF!,IF($G$7=#REF!,#REF!,IF($G$7=#REF!,#REF!,IF($G$7=#REF!,#REF!,IF($G$7=#REF!,#REF!,\"\")))))","v":{"$error":"#REF!"}},{"$f":"IFERROR(HLOOKUP($O$143,'Kostprijs en Verkoopprijs'!$W$6:$W$38,8,FALSE),IFERROR(HLOOKUP($O$143,'Kostprijs en Verkoopprijs'!$W$44:$W$76,8,FALSE),IFERROR(HLOOKUP($O$143,'Kostprijs en Verkoopprijs'!$W$83:$W$115,8,FALSE),IFERROR(HLOOKUP($O$143,'Kostprijs en Verkoopprijs'!$W$122:$W$154,8,FALSE),IFERROR(HLOOKUP($O$143,'Kostprijs en Verkoopprijs'!$W$161:$W$193,8,FALSE),\"\")))))","v":""}]
[null,null,null,null,"Andere vaste kosten bedrijf",null,{"$f":"IFERROR(HLOOKUP($G$143,'Kostprijs en Verkoopprijs'!$W$6:$W$38,9,FALSE),IFERROR(HLOOKUP($G$143,'Kostprijs en Verkoopprijs'!$W$44:$W$76,9,FALSE),IFERROR(HLOOKUP($G$143,'Kostprijs en Verkoopprijs'!$W$83:$W$115,9,FALSE),IFERROR(HLOOKUP($G$143,'Kostprijs en Verkoopprijs'!$W$122:$W$154,9,FALSE),IFERROR(HLOOKUP($G$143,'Kostprijs en Verkoopprijs'!$W$161:$W$193,9,FALSE),\"\")))))","v":""},{"$f":"IF($G$7=#REF!,#REF!,IF($G$7=#REF!,#REF!,IF($G$7=#REF!,#REF!,IF($G$7=#REF!,#REF!,IF($G$7=#REF!,#REF!,\"\")))))","v":{"$error":"#REF!"}},{"$f":"IFERROR(HLOOKUP($I$143,'Kostprijs en Verkoopprijs'!$W$6:$W$38,9,FALSE),IFERROR(HLOOKUP($I$143,'Kostprijs en Verkoopprijs'!$W$44:$W$76,9,FALSE),IFERROR(HLOOKUP($I$143,'Kostprijs en Verkoopprijs'!$W$83:$W$115,9,FALSE),IFERROR(HLOOKUP($I$143,'Kostprijs en Verkoopprijs'!$W$122:$W$154,9,FALSE),IFERROR(HLOOKUP($I$143,'Kostprijs en Verkoopprijs'!$W$161:$W$193,9,FALSE),\"\")))))","v":""},{"$f":"IF($G$7=#REF!,#REF!,IF($G$7=#REF!,#REF!,IF($G$7=#REF!,#REF!,IF($G$7=#REF!,#REF!,IF($G$7=#REF!,#REF!,\"\")))))","v":{"$error":"#REF!"}},{"$f":"IFERROR(HLOOKUP($K$143,'Kostprijs en Verkoopprijs'!$W$6:$W$38,9,FALSE),IFERROR(HLOOKUP($K$143,'Kostprijs en Verkoopprijs'!$W$44:$W$76,9,FALSE),IFERROR(HLOOKUP($K$143,'Kostprijs en Verkoopprijs'!$W$83:$W$115,9,FALSE),IFERROR(HLOOKUP($K$143,'Kostprijs en Verkoopprijs'!$W$122:$W$154,9,FALSE),IFERROR(HLOOKUP($K$143,'Kostprijs en Verkoopprijs'!$W$161:$W$193,9,FALSE),\"\")))))","v":""},{"$f":"IF($G$7=#REF!,#REF!,IF($G$7=#REF!,#REF!,IF($G$7=#REF!,#REF!,IF($G$7=#REF!,#REF!,IF($G$7=#REF!,#REF!,\"\")))))","v":{"$error":"#REF!"}},{"$f":"IFERROR(HLOOKUP($M$143,'Kostprijs en Verkoopprijs'!$W$6:$W$38,9,FALSE),IFERROR(HLOOKUP($M$143,'Kostprijs en Verkoopprijs'!$W$44:$W$76,9,FALSE),IFERROR(HLOOKUP($M$143,'Kostprijs en Verkoopprijs'!$W$83:$W$115,9,FALSE),IFERROR(HLOOKUP($M$143,'Kostprijs en Verkoopprijs'!$W$122:$W$154,9,FALSE),IFERROR(HLOOKUP($M$143,'Kostprijs en Verkoopprijs'!$W$161:$W$193,9,FALSE),\"\")))))","v":""},{"$f":"IF($G$7=#REF!,#REF!,IF($G$7=#REF!,#REF!,IF($G$7=#REF!,#REF!,IF($G$7=#REF!,#REF!,IF($G$7=#REF!,#REF!,\"\")))))","v":{"$error":"#REF!"}},{"$f":"IFERROR(HLOOKUP($O$143,'Kostprijs en Verkoopprijs'!$W$6:$W$38,9,FALSE),IFERROR(HLOOKUP($O$143,'Kostprijs en Verkoopprijs'!$W$44:$W$76,9,FALSE),IFERROR(HLOOKUP($O$143,'Kostprijs en Verkoopprijs'!$W$83:$W$115,9,FALSE),IFERROR(HLOOKUP($O$143,'Kostprijs en Verkoopprijs'!$W$122:$W$154,9,FALSE),IFERROR(HLOOKUP($O$143,'Kostprijs en Verkoopprijs'!$W$161:$W$193,9,FALSE),\"\")))))","v":""}]
[null,null,null,null,"Totaal vaste kosten",null,{"$f":"IFERROR(SUM(G145:G149),\"\")","v":0},{"$f":"IFERROR(SUM(H145:H149),\"\")","v":""},{"$f":"IFERROR(SUM(I145:I149),\"\")","v":0},{"$f":"IFERROR(SUM(J145:J149),\"\")","v":""},{"$f":"IFERROR(SUM(K145:K149),\"\")","v":0},{"$f":"IFERROR(SUM(L145:L149),\"\")","v":""},{"$f":"IFERROR(SUM(M145:M149),\"\")","v":0},{"$f":"IFERROR(SUM(N145:N149),\"\")","v":""},{"$f":"IFERROR(SUM(O145:O149),\"\")","v":0}]
[]
[null,null,null,"LOONKOST CHAUFFEURS",null,null,{"$f":"IFERROR(HLOOKUP($G$143,'Kostprijs en Verkoopprijs'!$W$6:$W$38,11,FALSE),IFERROR(HLOOKUP($G$143,'Kostprijs en Verkoopprijs'!$W$44:$W$76,11,FALSE),IFERROR(HLOOKUP($G$143,'Kostprijs en Verkoopprijs'!$W$83:$W$115,11,FALSE),IFERROR(HLOOKUP($G$143,'Kostprijs en Verkoopprijs'!$W$122:$W$154,11,FALSE),IFERROR(HLOOKUP($G$143,'Kostprijs en Verkoopprijs'!$W$161:$W$193,11,FALSE),\"\")))))","v":""},{"$f":"IF($G$7=#REF!,#REF!,IF($G$7=#REF!,#REF!,IF($G$7=#REF!,#REF!,IF($G$7=#REF!,#REF!,IF($G$7=#REF!,#REF!,\"\")))))","v":{"$error":"#REF!"}},{"$f":"IFERROR(HLOOKUP($I$143,'Kostprijs en Verkoopprijs'!$W$6:$W$38,11,FALSE),IFERROR(HLOOKUP($I$143,'Kostprijs en Verkoopprijs'!$W$44:$W$76,11,FALSE),IFERROR(HLOOKUP($I$143,'Kostprijs en Verkoopprijs'!$W$83:$W$115,11,FALSE),IFERROR(HLOOKUP($I$143,'Kostprijs en Verkoopprijs'!$W$122:$W$154,11,FALSE),IFERROR(HLOOKUP($I$143,'Kostprijs en Verkoopprijs'!$W$161:$W$193,11,FALSE),\"\")))))","v":""},{"$f":"IF($G$7=#REF!,#REF!,IF($G$7=#REF!,#REF!,IF($G$7=#REF!,#REF!,IF($G$7=#REF!,#REF!,IF($G$7=#REF!,#REF!,\"\")))))","v":{"$error":"#REF!"}},{"$f":"IFERROR(HLOOKUP($K$143,'Kostprijs en Verkoopprijs'!$W$6:$W$38,11,FALSE),IFERROR(HLOOKUP($K$143,'Kostprijs en Verkoopprijs'!$W$44:$W$76,11,FALSE),IFERROR(HLOOKUP($K$143,'Kostprijs en Verkoopprijs'!$W$83:$W$115,11,FALSE),IFERROR(HLOOKUP($K$143,'Kostprijs en Verkoopprijs'!$W$122:$W$154,11,FALSE),IFERROR(HLOOKUP($K$143,'Kostprijs en Verkoopprijs'!$W$161:$W$193,11,FALSE),\"\")))))","v":""},{"$f":"IF($G$7=#REF!,#REF!,IF($G$7=#REF!,#REF!,IF($G$7=#REF!,#REF!,IF($G$7=#REF!,#REF!,IF($G$7=#REF!,#REF!,\"\")))))","v":{"$error":"#REF!"}},{"$f":"IFERROR(HLOOKUP($M$143,'Kostprijs en Verkoopprijs'!$W$6:$W$38,11,FALSE),IFERROR(HLOOKUP($M$143,'Kostprijs en Verkoopprijs'!$W$44:$W$76,11,FALSE),IFERROR(HLOOKUP($M$143,'Kostprijs en Verkoopprijs'!$W$83:$W$115,11,FALSE),IFERROR(HLOOKUP($M$143,'Kostprijs en Verkoopprijs'!$W$122:$W$154,11,FALSE),IFERROR(HLOOKUP($M$143,'Kostprijs en Verkoopprijs'!$W$161:$W$193,11,FALSE),\"\")))))","v":""},{"$f":"IF($G$7=#REF!,#REF!,IF($G$7=#REF!,#REF!,IF($G$7=#REF!,#REF!,IF($G$7=#REF!,#REF!,IF($G$7=#REF!,#REF!,\"\")))))","v":{"$error":"#REF!"}},{"$f":"IFERROR(HLOOKUP($O$143,'Kostprijs en Verkoopprijs'!$W$6:$W$38,11,FALSE),IFERROR(HLOOKUP($O$143,'Kostprijs en Verkoopprijs'!$W$44:$W$76,11,FALSE),IFERROR(HLOOKUP($O$143,'Kostprijs en Verkoopprijs'!$W$83:$W$115,11,FALSE),IFERROR(HLOOKUP($O$143,'Kostprijs en Verkoopprijs'!$W$122:$W$154,11,FALSE),IFERROR(HLOOKUP($O$143,'Kostprijs en Verkoopprijs'!$W$161:$W$193,11,FALSE),\"\")))))","v":""}]
[]
[null,null,null,"VARIABEL","Brandstof",null,{"$f":"IFERROR(HLOOKUP($G$143,'Kostprijs en Verkoopprijs'!$W$6:$W$38,13,FALSE),IFERROR(HLOOKUP($G$143,'Kostprijs en Verkoopprijs'!$W$44:$W$76,13,FALSE),IFERROR(HLOOKUP($G$143,'Kostprijs en Verkoopprijs'!$W$83:$W$115,13,FALSE),IFERROR(HLOOKUP($G$143,'Kostprijs en Verkoopprijs'!$W$122:$W$154,13,FALSE),IFERROR(HLOOKUP($G$143,'Kostprijs en Verkoopprijs'!$W$161:$W$193,13,FALSE),\"\")))))","v":""},{"$f":"IF($G$7=#REF!,#REF!,IF($G$7=#REF!,#REF!,IF($G$7=#REF!,#REF!,IF($G$7=#REF!,#REF!,IF($G$7=#REF!,#REF!,\"\")))))","v":{"$error":"#REF!"}},{"$f":"IFERROR(HLOOKUP($I$143,'Kostprijs en Verkoopprijs'!$W$6:$W$38,13,FALSE),IFERROR(HLOOKUP($I$143,'Kostprijs en Verkoopprijs'!$W$44:$W$76,13,FALSE),IFERROR(HLOOKUP($I$143,'Kostprijs en Verkoopprijs'!$W$83:$W$115,13,FALSE),IFERROR(HLOOKUP($I$143,'Kostprijs en Verkoopprijs'!$W$122:$W$154,13,FALSE),IFERROR(HLOOKUP($I$143,'Kostprijs en Verkoopprijs'!$W$161:$W$193,13,FALSE),\"\")))))","v":""},{"$f":"IF($G$7=#REF!,#REF!,IF($G$7=#REF!,#REF!,IF($G$7=#REF!,#REF!,IF($G$7=#REF!,#REF!,IF($G$7=#REF!,#REF!,\"\")))))","v":{"$error":"#REF!"}},{"$f":"IFERROR(HLOOKUP($K$143,'Kostprijs en Verkoopprijs'!$W$6:$W$38,13,FALSE),IFERROR(HLOOKUP($K$143,'Kostprijs en Verkoopprijs'!$W$44:$W$76,13,FALSE),IFERROR(HLOOKUP($K$143,'Kostprijs en Verkoopprijs'!$W$83:$W$115,13,FALSE),IFERROR(HLOOKUP($K$143,'Kostprijs en Verkoopprijs'!$W$122:$W$154,13,FALSE),IFERROR(HLOOKUP($K$143,'Kostprijs en Verkoopprijs'!$W$161:$W$193,13,FALSE),\"\")))))","v":""},{"$f":"IF($G$7=#REF!,#REF!,IF($G$7=#REF!,#REF!,IF($G$7=#REF!,#REF!,IF($G$7=#REF!,#REF!,IF($G$7=#REF!,#REF!,\"\")))))","v":{"$error":"#REF!"}},{"$f":"IFERROR(HLOOKUP($M$143,'Kostprijs en Verkoopprijs'!$W$6:$W$38,13,FALSE),IFERROR(HLOOKUP($M$143,'Kostprijs en Verkoopprijs'!$W$44:$W$76,13,FALSE),IFERROR(HLOOKUP($M$143,'Kostprijs en Verkoopprijs'!$W$83:$W$115,13,FALSE),IFERROR(HLOOKUP($M$143,'Kostprijs en Verkoopprijs'!$W$122:$W$154,13,FALSE),IFERROR(HLOOKUP($M$143,'Kostprijs en Verkoopprijs'!$W$161:$W$193,13,FALSE),\"\")))))","v":""},{"$f":"IF($G$7=#REF!,#REF!,IF($G$7=#REF!,#REF!,IF($G$7=#REF!,#REF!,IF($G$7=#REF!,#REF!,IF($G$7=#REF!,#REF!,\"\")))))","v":{"$error":"#REF!"}},{"$f":"IFERROR(HLOOKUP($O$143,'Kostprijs en Verkoopprijs'!$W$6:$W$38,13,FALSE),IFERROR(HLOOKUP($O$143,'Kostprijs en Verkoopprijs'!$W$44:$W$76,13,FALSE),IFERROR(HLOOKUP($O$143,'Kostprijs en Verkoopprijs'!$W$83:$W$115,13,FALSE),IFERROR(HLOOKUP($O$143,'Kostprijs en Verkoopprijs'!$W$122:$W$154,13,FALSE),IFERROR(HLOOKUP($O$143,'Kostprijs en Verkoopprijs'!$W$161:$W$193,13,FALSE),\"\")))))","v":""}]
[null,null,null,null,"Olie",null,{"$f":"IFERROR(HLOOKUP($G$143,'Kostprijs en Verkoopprijs'!$W$6:$W$38,14,FALSE),IFERROR(HLOOKUP($G$143,'Kostprijs en Verkoopprijs'!$W$44:$W$76,14,FALSE),IFERROR(HLOOKUP($G$143,'Kostprijs en Verkoopprijs'!$W$83:$W$115,14,FALSE),IFERROR(HLOOKUP($G$143,'Kostprijs en Verkoopprijs'!$W$122:$W$154,14,FALSE),IFERROR(HLOOKUP($G$143,'Kostprijs en Verkoopprijs'!$W$161:$W$193,14,FALSE),\"\")))))","v":""},{"$f":"IF($G$7=#REF!,#REF!,IF($G$7=#REF!,#REF!,IF($G$7=#REF!,#REF!,IF($G$7=#REF!,#REF!,IF($G$7=#REF!,#REF!,\"\")))))","v":{"$error":"#REF!"}},{"$f":"IFERROR(HLOOKUP($I$143,'Kostprijs en Verkoopprijs'!$W$6:$W$38,14,FALSE),IFERROR(HLOOKUP($I$143,'Kostprijs en Verkoopprijs'!$W$44:$W$76,14,FALSE),IFERROR(HLOOKUP($I$143,'Kostprijs en Verkoopprijs'!$W$83:$W$115,14,FALSE),IFERROR(HLOOKUP($I$143,'Kostprijs en Verkoopprijs'!$W$122:$W$154,14,FALSE),IFERROR(HLOOKUP($I$143,'Kostprijs en Verkoopprijs'!$W$161:$W$193,14,FALSE),\"\")))))","v":""},{"$f":"IF($G$7=#REF!,#REF!,IF($G$7=#REF!,#REF!,IF($G$7=#REF!,#REF!,IF($G$7=#REF!,#REF!,IF($G$7=#REF!,#REF!,\"\")))))","v":{"$error":"#REF!"}},{"$f":"IFERROR(HLOOKUP($K$143,'Kostprijs en Verkoopprijs'!$W$6:$W$38,14,FALSE),IFERROR(HLOOKUP($K$143,'Kostprijs en Verkoopprijs'!$W$44:$W$76,14,FALSE),IFERROR(HLOOKUP($K$143,'Kostprijs en Verkoopprijs'!$W$83:$W$115,14,FALSE),IFERROR(HLOOKUP($K$143,'Kostprijs en Verkoopprijs'!$W$122:$W$154,14,FALSE),IFERROR(HLOOKUP($K$143,'Kostprijs en Verkoopprijs'!$W$161:$W$193,14,FALSE),\"\")))))","v":""},{"$f":"IF($G$7=#REF!,#REF!,IF($G$7=#REF!,#REF!,IF($G$7=#REF!,#REF!,IF($G$7=#REF!,#REF!,IF($G$7=#REF!,#REF!,\"\")))))","v":{"$error":"#REF!"}},{"$f":"IFERROR(HLOOKUP($M$143,'Kostprijs en Verkoopprijs'!$W$6:$W$38,14,FALSE),IFERROR(HLOOKUP($M$143,'Kostprijs en Verkoopprijs'!$W$44:$W$76,14,FALSE),IFERROR(HLOOKUP($M$143,'Kostprijs en Verkoopprijs'!$W$83:$W$115,14,FALSE),IFERROR(HLOOKUP($M$143,'Kostprijs en Verkoopprijs'!$W$122:$W$154,14,FALSE),IFERROR(HLOOKUP($M$143,'Kostprijs en Verkoopprijs'!$W$161:$W$193,14,FALSE),\"\")))))","v":""},{"$f":"IF($G$7=#REF!,#REF!,IF($G$7=#REF!,#REF!,IF($G$7=#REF!,#REF!,IF($G$7=#REF!,#REF!,IF($G$7=#REF!,#REF!,\"\")))))","v":{"$error":"#REF!"}},{"$f":"IFERROR(HLOOKUP($O$143,'Kostprijs en Verkoopprijs'!$W$6:$W$38,14,FALSE),IFERROR(HLOOKUP($O$143,'Kostprijs en Verkoopprijs'!$W$44:$W$76,14,FALSE),IFERROR(HLOOKUP($O$143,'Kostprijs en Verkoopprijs'!$W$83:$W$115,14,FALSE),IFERROR(HLOOKUP($O$143,'Kostprijs en Verkoopprijs'!$W$122:$W$154,14,FALSE),IFERROR(HLOOKUP($O$143,'Kostprijs en Verkoopprijs'!$W$161:$W$193,14,FALSE),\"\")))))","v":""}]
[null,null,null,null,"Adblue",null,{"$f":"IFERROR(HLOOKUP($G$143,'Kostprijs en Verkoopprijs'!$W$6:$W$38,15,FALSE),IFERROR(HLOOKUP($G$143,'Kostprijs en Verkoopprijs'!$W$44:$W$76,15,FALSE),IFERROR(HLOOKUP($G$143,'Kostprijs en Verkoopprijs'!$W$83:$W$115,15,FALSE),IFERROR(HLOOKUP($G$143,'Kostprijs en Verkoopprijs'!$W$122:$W$154,15,FALSE),IFERROR(HLOOKUP($G$143,'Kostprijs en Verkoopprijs'!$W$161:$W$193,15,FALSE),\"\")))))","v":""},{"$f":"IF($G$7=#REF!,#REF!,IF($G$7=#REF!,#REF!,IF($G$7=#REF!,#REF!,IF($G$7=#REF!,#REF!,IF($G$7=#REF!,#REF!,\"\")))))","v":{"$error":"#REF!"}},{"$f":"IFERROR(HLOOKUP($I$143,'Kostprijs en Verkoopprijs'!$W$6:$W$38,15,FALSE),IFERROR(HLOOKUP($I$143,'Kostprijs en Verkoopprijs'!$W$44:$W$76,15,FALSE),IFERROR(HLOOKUP($I$143,'Kostprijs en Verkoopprijs'!$W$83:$W$115,15,FALSE),IFERROR(HLOOKUP($I$143,'Kostprijs en Verkoopprijs'!$W$122:$W$154,15,FALSE),IFERROR(HLOOKUP($I$143,'Kostprijs en Verkoopprijs'!$W$161:$W$193,15,FALSE),\"\")))))","v":""},{"$f":"IF($G$7=#REF!,#REF!,IF($G$7=#REF!,#REF!,IF($G$7=#REF!,#REF!,IF($G$7=#REF!,#REF!,IF($G$7=#REF!,#REF!,\"\")))))","v":{"$error":"#REF!"}},{"$f":"IFERROR(HLOOKUP($K$143,'Kostprijs en Verkoopprijs'!$W$6:$W$38,15,FALSE),IFERROR(HLOOKUP($K$143,'Kostprijs en Verkoopprijs'!$W$44:$W$76,15,FALSE),IFERROR(HLOOKUP($K$143,'Kostprijs en Verkoopprijs'!$W$83:$W$115,15,FALSE),IFERROR(HLOOKUP($K$143,'Kostprijs en Verkoopprijs'!$W$122:$W$154,15,FALSE),IFERROR(HLOOKUP($K$143,'Kostprijs en Verkoopprijs'!$W$161:$W$193,15,FALSE),\"\")))))","v":""},{"$f":"IF($G$7=#REF!,#REF!,IF($G$7=#REF!,#REF!,IF($G$7=#REF!,#REF!,IF($G$7=#REF!,#REF!,IF($G$7=#REF!,#REF!,\"\")))))","v":{"$error":"#REF!"}},{"$f":"IFERROR(HLOOKUP($M$143,'Kostprijs en Verkoopprijs'!$W$6:$W$38,15,FALSE),IFERROR(HLOOKUP($M$143,'Kostprijs en Verkoopprijs'!$W$44:$W$76,15,FALSE),IFERROR(HLOOKUP($M$143,'Kostprijs en Verkoopprijs'!$W$83:$W$115,15,FALSE),IFERROR(HLOOKUP($M$143,'Kostprijs en Verkoopprijs'!$W$122:$W$154,15,FALSE),IFERROR(HLOOKUP($M$143,'Kostprijs en Verkoopprijs'!$W$161:$W$193,15,FALSE),\"\")))))","v":""},{"$f":"IF($G$7=#REF!,#REF!,IF($G$7=#REF!,#REF!,IF($G$7=#REF!,#REF!,IF($G$7=#REF!,#REF!,IF($G$7=#REF!,#REF!,\"\")))))","v":{"$error":"#REF!"}},{"$f":"IFERROR(HLOOKUP($O$143,'Kostprijs en Verkoopprijs'!$W$6:$W$38,15,FALSE),IFERROR(HLOOKUP($O$143,'Kostprijs en Verkoopprijs'!$W$44:$W$76,15,FALSE),IFERROR(HLOOKUP($O$143,'Kostprijs en Verkoopprijs'!$W$83:$W$115,15,FALSE),IFERROR(HLOOKUP($O$143,'Kostprijs en Verkoopprijs'!$W$122:$W$154,15,FALSE),IFERROR(HLOOKUP($O$143,'Kostprijs en Verkoopprijs'!$W$161:$W$193,15,FALSE),\"\")))))","v":""}]
[null,null,null,null,"Banden",null,{"$f":"IFERROR(HLOOKUP($G$143,'Kostprijs en Verkoopprijs'!$W$6:$W$38,16,FALSE),IFERROR(HLOOKUP($G$143,'Kostprijs en Verkoopprijs'!$W$44:$W$76,16,FALSE),IFERROR(HLOOKUP($G$143,'Kostprijs en Verkoopprijs'!$W$83:$W$115,16,FALSE),IFERROR(HLOOKUP($G$143,'Kostprijs en Verkoopprijs'!$W$122:$W$154,16,FALSE),IFERROR(HLOOKUP($G$143,'Kostprijs en Verkoopprijs'!$W$161:$W$193,16,FALSE),\"\")))))","v":""},{"$f":"IF($G$7=#REF!,#REF!,IF($G$7=#REF!,#REF!,IF($G$7=#REF!,#REF!,IF($G$7=#REF!,#REF!,IF($G$7=#REF!,#REF!,\"\")))))","v":{"$error":"#REF!"}},{"$f":"IFERROR(HLOOKUP($I$143,'Kostprijs en Verkoopprijs'!$W$6:$W$38,16,FALSE),IFERROR(HLOOKUP($I$143,'Kostprijs en Verkoopprijs'!$W$44:$W$76,16,FALSE),IFERROR(HLOOKUP($I$143,'Kostprijs en Verkoopprijs'!$W$83:$W$115,16,FALSE),IFERROR(HLOOKUP($I$143,'Kostprijs en Verkoopprijs'!$W$122:$W$154,16,FALSE),IFERROR(HLOOKUP($I$143,'Kostprijs en Verkoopprijs'!$W$161:$W$193,16,FALSE),\"\")))))","v":""},{"$f":"IF($G$7=#REF!,#REF!,IF($G$7=#REF!,#REF!,IF($G$7=#REF!,#REF!,IF($G$7=#REF!,#REF!,IF($G$7=#REF!,#REF!,\"\")))))","v":{"$error":"#REF!"}},{"$f":"IFERROR(HLOOKUP($K$143,'Kostprijs en Verkoopprijs'!$W$6:$W$38,16,FALSE),IFERROR(HLOOKUP($K$143,'Kostprijs en Verkoopprijs'!$W$44:$W$76,16,FALSE),IFERROR(HLOOKUP($K$143,'Kostprijs en Verkoopprijs'!$W$83:$W$115,16,FALSE),IFERROR(HLOOKUP($K$143,'Kostprijs en Verkoopprijs'!$W$122:$W$154,16,FALSE),IFERROR(HLOOKUP($K$143,'Kostprijs en Verkoopprijs'!$W$161:$W$193,16,FALSE),\"\")))))","v":""},{"$f":"IF($G$7=#REF!,#REF!,IF($G$7=#REF!,#REF!,IF($G$7=#REF!,#REF!,IF($G$7=#REF!,#REF!,IF($G$7=#REF!,#REF!,\"\")))))","v":{"$error":"#REF!"}},{"$f":"IFERROR(HLOOKUP($M$143,'Kostprijs en Verkoopprijs'!$W$6:$W$38,16,FALSE),IFERROR(HLOOKUP($M$143,'Kostprijs en Verkoopprijs'!$W$44:$W$76,16,FALSE),IFERROR(HLOOKUP($M$143,'Kostprijs en Verkoopprijs'!$W$83:$W$115,16,FALSE),IFERROR(HLOOKUP($M$143,'Kostprijs en Verkoopprijs'!$W$122:$W$154,16,FALSE),IFERROR(HLOOKUP($M$143,'Kostprijs en Verkoopprijs'!$W$161:$W$193,16,FALSE),\"\")))))","v":""},{"$f":"IF($G$7=#REF!,#REF!,IF($G$7=#REF!,#REF!,IF($G$7=#REF!,#REF!,IF($G$7=#REF!,#REF!,IF($G$7=#REF!,#REF!,\"\")))))","v":{"$error":"#REF!"}},{"$f":"IFERROR(HLOOKUP($O$143,'Kostprijs en Verkoopprijs'!$W$6:$W$38,16,FALSE),IFERROR(HLOOKUP($O$143,'Kostprijs en Verkoopprijs'!$W$44:$W$76,16,FALSE),IFERROR(HLOOKUP($O$143,'Kostprijs en Verkoopprijs'!$W$83:$W$115,16,FALSE),IFERROR(HLOOKUP($O$143,'Kostprijs en Verkoopprijs'!$W$122:$W$154,16,FALSE),IFERROR(HLOOKUP($O$143,'Kostprijs en Verkoopprijs'!$W$161:$W$193,16,FALSE),\"\")))))","v":""}]
[null,null,null,null,"Onderhoud",null,{"$f":"IFERROR(HLOOKUP($G$143,'Kostprijs en Verkoopprijs'!$W$6:$W$38,17,FALSE),IFERROR(HLOOKUP($G$143,'Kostprijs en Verkoopprijs'!$W$44:$W$76,17,FALSE),IFERROR(HLOOKUP($G$143,'Kostprijs en Verkoopprijs'!$W$83:$W$115,17,FALSE),IFERROR(HLOOKUP($G$143,'Kostprijs en Verkoopprijs'!$W$122:$W$154,17,FALSE),IFERROR(HLOOKUP($G$143,'Kostprijs en Verkoopprijs'!$W$161:$W$193,17,FALSE),\"\")))))","v":""},{"$f":"IF($G$7=#REF!,#REF!,IF($G$7=#REF!,#REF!,IF($G$7=#REF!,#REF!,IF($G$7=#REF!,#REF!,IF($G$7=#REF!,#REF!,\"\")))))","v":{"$error":"#REF!"}},{"$f":"IFERROR(HLOOKUP($I$143,'Kostprijs en Verkoopprijs'!$W$6:$W$38,17,FALSE),IFERROR(HLOOKUP($I$143,'Kostprijs en Verkoopprijs'!$W$44:$W$76,17,FALSE),IFERROR(HLOOKUP($I$143,'Kostprijs en Verkoopprijs'!$W$83:$W$115,17,FALSE),IFERROR(HLOOKUP($I$143,'Kostprijs en Verkoopprijs'!$W$122:$W$154,17,FALSE),IFERROR(HLOOKUP($I$143,'Kostprijs en Verkoopprijs'!$W$161:$W$193,17,FALSE),\"\")))))","v":""},{"$f":"IF($G$7=#REF!,#REF!,IF($G$7=#REF!,#REF!,IF($G$7=#REF!,#REF!,IF($G$7=#REF!,#REF!,IF($G$7=#REF!,#REF!,\"\")))))","v":{"$error":"#REF!"}},{"$f":"IFERROR(HLOOKUP($K$143,'Kostprijs en Verkoopprijs'!$W$6:$W$38,17,FALSE),IFERROR(HLOOKUP($K$143,'Kostprijs en Verkoopprijs'!$W$44:$W$76,17,FALSE),IFERROR(HLOOKUP($K$143,'Kostprijs en Verkoopprijs'!$W$83:$W$115,17,FALSE),IFERROR(HLOOKUP($K$143,'Kostprijs en Verkoopprijs'!$W$122:$W$154,17,FALSE),IFERROR(HLOOKUP($K$143,'Kostprijs en Verkoopprijs'!$W$161:$W$193,17,FALSE),\"\")))))","v":""},{"$f":"IF($G$7=#REF!,#REF!,IF($G$7=#REF!,#REF!,IF($G$7=#REF!,#REF!,IF($G$7=#REF!,#REF!,IF($G$7=#REF!,#REF!,\"\")))))","v":{"$error":"#REF!"}},{"$f":"IFERROR(HLOOKUP($M$143,'Kostprijs en Verkoopprijs'!$W$6:$W$38,17,FALSE),IFERROR(HLOOKUP($M$143,'Kostprijs en Verkoopprijs'!$W$44:$W$76,17,FALSE),IFERROR(HLOOKUP($M$143,'Kostprijs en Verkoopprijs'!$W$83:$W$115,17,FALSE),IFERROR(HLOOKUP($M$143,'Kostprijs en Verkoopprijs'!$W$122:$W$154,17,FALSE),IFERROR(HLOOKUP($M$143,'Kostprijs en Verkoopprijs'!$W$161:$W$193,17,FALSE),\"\")))))","v":""},{"$f":"IF($G$7=#REF!,#REF!,IF($G$7=#REF!,#REF!,IF($G$7=#REF!,#REF!,IF($G$7=#REF!,#REF!,IF($G$7=#REF!,#REF!,\"\")))))","v":{"$error":"#REF!"}},{"$f":"IFERROR(HLOOKUP($O$143,'Kostprijs en Verkoopprijs'!$W$6:$W$38,17,FALSE),IFERROR(HLOOKUP($O$143,'Kostprijs en Verkoopprijs'!$W$44:$W$76,17,FALSE),IFERROR(HLOOKUP($O$143,'Kostprijs en Verkoopprijs'!$W$83:$W$115,17,FALSE),IFERROR(HLOOKUP($O$143,'Kostprijs en Verkoopprijs'!$W$122:$W$154,17,FALSE),IFERROR(HLOOKUP($O$143,'Kostprijs en Verkoopprijs'!$W$161:$W$193,17,FALSE),\"\")))))","v":""}]
[null,null,null,null,"Voertuig (technische afschr.)",null,{"$f":"IFERROR(HLOOKUP($G$143,'Kostprijs en Verkoopprijs'!$W$6:$W$38,18,FALSE),IFERROR(HLOOKUP($G$143,'Kostprijs en Verkoopprijs'!$W$44:$W$76,18,FALSE),IFERROR(HLOOKUP($G$143,'Kostprijs en Verkoopprijs'!$W$83:$W$115,18,FALSE),IFERROR(HLOOKUP($G$143,'Kostprijs en Verkoopprijs'!$W$122:$W$154,18,FALSE),IFERROR(HLOOKUP($G$143,'Kostprijs en Verkoopprijs'!$W$161:$W$193,18,FALSE),\"\")))))","v":""},{"$f":"IF($G$7=#REF!,#REF!,IF($G$7=#REF!,#REF!,IF($G$7=#REF!,#REF!,IF($G$7=#REF!,#REF!,IF($G$7=#REF!,#REF!,\"\")))))","v":{"$error":"#REF!"}},{"$f":"IFERROR(HLOOKUP($I$143,'Kostprijs en Verkoopprijs'!$W$6:$W$38,18,FALSE),IFERROR(HLOOKUP($I$143,'Kostprijs en Verkoopprijs'!$W$44:$W$76,18,FALSE),IFERROR(HLOOKUP($I$143,'Kostprijs en Verkoopprijs'!$W$83:$W$115,18,FALSE),IFERROR(HLOOKUP($I$143,'Kostprijs en Verkoopprijs'!$W$122:$W$154,18,FALSE),IFERROR(HLOOKUP($I$143,'Kostprijs en Verkoopprijs'!$W$161:$W$193,18,FALSE),\"\")))))","v":""},{"$f":"IF($G$7=#REF!,#REF!,IF($G$7=#REF!,#REF!,IF($G$7=#REF!,#REF!,IF($G$7=#REF!,#REF!,IF($G$7=#REF!,#REF!,\"\")))))","v":{"$error":"#REF!"}},{"$f":"IFERROR(HLOOKUP($K$143,'Kostprijs en Verkoopprijs'!$W$6:$W$38,18,FALSE),IFERROR(HLOOKUP($K$143,'Kostprijs en Verkoopprijs'!$W$44:$W$76,18,FALSE),IFERROR(HLOOKUP($K$143,'Kostprijs en Verkoopprijs'!$W$83:$W$115,18,FALSE),IFERROR(HLOOKUP($K$143,'Kostprijs en Verkoopprijs'!$W$122:$W$154,18,FALSE),IFERROR(HLOOKUP($K$143,'Kostprijs en Verkoopprijs'!$W$161:$W$193,18,FALSE),\"\")))))","v":""},{"$f":"IF($G$7=#REF!,#REF!,IF($G$7=#REF!,#REF!,IF($G$7=#REF!,#REF!,IF($G$7=#REF!,#REF!,IF($G$7=#REF!,#REF!,\"\")))))","v":{"$error":"#REF!"}},{"$f":"IFERROR(HLOOKUP($M$143,'Kostprijs en Verkoopprijs'!$W$6:$W$38,18,FALSE),IFERROR(HLOOKUP($M$143,'Kostprijs en Verkoopprijs'!$W$44:$W$76,18,FALSE),IFERROR(HLOOKUP($M$143,'Kostprijs en Verkoopprijs'!$W$83:$W$115,18,FALSE),IFERROR(HLOOKUP($M$143,'Kostprijs en Verkoopprijs'!$W$122:$W$154,18,FALSE),IFERROR(HLOOKUP($M$143,'Kostprijs en Verkoopprijs'!$W$161:$W$193,18,FALSE),\"\")))))","v":""},{"$f":"IF($G$7=#REF!,#REF!,IF($G$7=#REF!,#REF!,IF($G$7=#REF!,#REF!,IF($G$7=#REF!,#REF!,IF($G$7=#REF!,#REF!,\"\")))))","v":{"$error":"#REF!"}},{"$f":"IFERROR(HLOOKUP($O$143,'Kostprijs en Verkoopprijs'!$W$6:$W$38,18,FALSE),IFERROR(HLOOKUP($O$143,'Kostprijs en Verkoopprijs'!$W$44:$W$76,18,FALSE),IFERROR(HLOOKUP($O$143,'Kostprijs en Verkoopprijs'!$W$83:$W$115,18,FALSE),IFERROR(HLOOKUP($O$143,'Kostprijs en Verkoopprijs'!$W$122:$W$154,18,FALSE),IFERROR(HLOOKUP($O$143,'Kostprijs en Verkoopprijs'!$W$161:$W$193,18,FALSE),\"\")))))","v":""}]
[null,null,null,null,"Totaal variabel kosten",null,{"$f":"IFERROR(SUM(G154:G159),\"\")","v":0},{"$f":"IFERROR(SUM(H154:H159),\"\")","v":""},{"$f":"IFERROR(SUM(I154:I159),\"\")","v":0},{"$f":"IFERROR(SUM(J154:J159),\"\")","v":""},{"$f":"IFERROR(SUM(K154:K159),\"\")","v":0},{"$f":"IFERROR(SUM(L154:L159),\"\")","v":""},{"$f":"IFERROR(SUM(M154:M159),\"\")","v":0},{"$f":"IFERROR(SUM(N154:N159),\"\")","v":""},{"$f":"IFERROR(SUM(O154:O159),\"\")","v":0}]
[]
[null,null,null,"SPECIFIEK","Specifieke ritkosten",null,{"$f":"IFERROR(HLOOKUP($G$143,'Kostprijs en Verkoopprijs'!$W$6:$W$38,20,FALSE),IFERROR(HLOOKUP($G$143,'Kostprijs en Verkoopprijs'!$W$44:$W$76,20,FALSE),IFERROR(HLOOKUP($G$143,'Kostprijs en Verkoopprijs'!$W$83:$W$115,20,FALSE),IFERROR(HLOOKUP($G$143,'Kostprijs en Verkoopprijs'!$W$122:$W$154,20,FALSE),IFERROR(HLOOKUP($G$143,'Kostprijs en Verkoopprijs'!$W$161:$W$193,20,FALSE),\"\")))))","v":""},{"$f":"IF($G$7=#REF!,#REF!,IF($G$7=#REF!,#REF!,IF($G$7=#REF!,#REF!,IF($G$7=#REF!,#REF!,IF($G$7=#REF!,#REF!,\"\")))))","v":{"$error":"#REF!"}},{"$f":"IFERROR(HLOOKUP($I$143,'Kostprijs en Verkoopprijs'!$W$6:$W$38,20,FALSE),IFERROR(HLOOKUP($I$143,'Kostprijs en Verkoopprijs'!$W$44:$W$76,20,FALSE),IFERROR(HLOOKUP($I$143,'Kostprijs en Verkoopprijs'!$W$83:$W$115,20,FALSE),IFERROR(HLOOKUP($I$143,'Kostprijs en Verkoopprijs'!$W$122:$W$154,20,FALSE),IFERROR(HLOOKUP($I$143,'Kostprijs en Verkoopprijs'!$W$161:$W$193,20,FALSE),\"\")))))","v":""},{"$f":"IF($G$7=#REF!,#REF!,IF($G$7=#REF!,#REF!,IF($G$7=#REF!,#REF!,IF($G$7=#REF!,#REF!,IF($G$7=#REF!,#REF!,\"\")))))","v":{"$error":"#REF!"}},{"$f":"IFERROR(HLOOKUP($K$143,'Kostprijs en Verkoopprijs'!$W$6:$W$38,20,FALSE),IFERROR(HLOOKUP($K$143,'Kostprijs en Verkoopprijs'!$W$44:$W$76,20,FALSE),IFERROR(HLOOKUP($K$143,'Kostprijs en Verkoopprijs'!$W$83:$W$115,20,FALSE),IFERROR(HLOOKUP($K$143,'Kostprijs en Verkoopprijs'!$W$122:$W$154,20,FALSE),IFERROR(HLOOKUP($K$143,'Kostprijs en Verkoopprijs'!$W$161:$W$193,20,FALSE),\"\")))))","v":""},{"$f":"IF($G$7=#REF!,#REF!,IF($G$7=#REF!,#REF!,IF($G$7=#REF!,#REF!,IF($G$7=#REF!,#REF!,IF($G$7=#REF!,#REF!,\"\")))))","v":{"$error":"#REF!"}},{"$f":"IFERROR(HLOOKUP($M$143,'Kostprijs en Verkoopprijs'!$W$6:$W$38,20,FALSE),IFERROR(HLOOKUP($M$143,'Kostprijs en Verkoopprijs'!$W$44:$W$76,20,FALSE),IFERROR(HLOOKUP($M$143,'Kostprijs en Verkoopprijs'!$W$83:$W$115,20,FALSE),IFERROR(HLOOKUP($M$143,'Kostprijs en Verkoopprijs'!$W$122:$W$154,20,FALSE),IFERROR(HLOOKUP($M$143,'Kostprijs en Verkoopprijs'!$W$161:$W$193,20,FALSE),\"\")))))","v":""},{"$f":"IF($G$7=#REF!,#REF!,IF($G$7=#REF!,#REF!,IF($G$7=#REF!,#REF!,IF($G$7=#REF!,#REF!,IF($G$7=#REF!,#REF!,\"\")))))","v":{"$error":"#REF!"}},{"$f":"IFERROR(HLOOKUP($O$143,'Kostprijs en Verkoopprijs'!$W$6:$W$38,20,FALSE),IFERROR(HLOOKUP($O$143,'Kostprijs en Verkoopprijs'!$W$44:$W$76,20,FALSE),IFERROR(HLOOKUP($O$143,'Kostprijs en Verkoopprijs'!$W$83:$W$115,20,FALSE),IFERROR(HLOOKUP($O$143,'Kostprijs en Verkoopprijs'!$W$122:$W$154,20,FALSE),IFERROR(HLOOKUP($O$143,'Kostprijs en Verkoopprijs'!$W$161:$W$193,20,FALSE),\"\")))))","v":""}]
[null,null,null,null,"Totaal opties: aanhangwagens, skiboxen, …",null,{"$f":"IFERROR(HLOOKUP($G$143,'Kostprijs en Verkoopprijs'!$W$6:$W$38,24,FALSE),IFERROR(HLOOKUP($G$143,'Kostprijs en Verkoopprijs'!$W$44:$W$76,24,FALSE),IFERROR(HLOOKUP($G$143,'Kostprijs en Verkoopprijs'!$W$83:$W$115,24,FALSE),IFERROR(HLOOKUP($G$143,'Kostprijs en Verkoopprijs'!$W$122:$W$154,24,FALSE),IFERROR(HLOOKUP($G$143,'Kostprijs en Verkoopprijs'!$W$161:$W$193,24,FALSE),\"\")))))","v":""},{"$f":"IF($G$7=#REF!,SUM(#REF!),IF($G$7=#REF!,SUM(#REF!),IF($G$7=#REF!,SUM(#REF!),IF($G$7=#REF!,SUM(#REF!),IF($G$7=#REF!,SUM(#REF!),\"\")))))","v":{"$error":"#REF!"}},{"$f":"IFERROR(HLOOKUP($I$143,'Kostprijs en Verkoopprijs'!$W$6:$W$38,24,FALSE),IFERROR(HLOOKUP($I$143,'Kostprijs en Verkoopprijs'!$W$44:$W$76,24,FALSE),IFERROR(HLOOKUP($I$143,'Kostprijs en Verkoopprijs'!$W$83:$W$115,24,FALSE),IFERROR(HLOOKUP($I$143,'Kostprijs en Verkoopprijs'!$W$122:$W$154,24,FALSE),IFERROR(HLOOKUP($I$143,'Kostprijs en Verkoopprijs'!$W$161:$W$193,24,FALSE),\"\")))))","v":""},{"$f":"IF($G$7=#REF!,SUM(#REF!),IF($G$7=#REF!,SUM(#REF!),IF($G$7=#REF!,SUM(#REF!),IF($G$7=#REF!,SUM(#REF!),IF($G$7=#REF!,SUM(#REF!),\"\")))))","v":{"$error":"#REF!"}},{"$f":"IFERROR(HLOOKUP($K$143,'Kostprijs en Verkoopprijs'!$W$6:$W$38,24,FALSE),IFERROR(HLOOKUP($K$143,'Kostprijs en Verkoopprijs'!$W$44:$W$76,24,FALSE),IFERROR(HLOOKUP($K$143,'Kostprijs en Verkoopprijs'!$W$83:$W$115,24,FALSE),IFERROR(HLOOKUP($K$143,'Kostprijs en Verkoopprijs'!$W$122:$W$154,24,FALSE),IFERROR(HLOOKUP($K$143,'Kostprijs en Verkoopprijs'!$W$161:$W$193,24,FALSE),\"\")))))","v":""},{"$f":"IF($G$7=#REF!,SUM(#REF!),IF($G$7=#REF!,SUM(#REF!),IF($G$7=#REF!,SUM(#REF!),IF($G$7=#REF!,SUM(#REF!),IF($G$7=#REF!,SUM(#REF!),\"\")))))","v":{"$error":"#REF!"}},{"$f":"IFERROR(HLOOKUP($M$143,'Kostprijs en Verkoopprijs'!$W$6:$W$38,24,FALSE),IFERROR(HLOOKUP($M$143,'Kostprijs en Verkoopprijs'!$W$44:$W$76,24,FALSE),IFERROR(HLOOKUP($M$143,'Kostprijs en Verkoopprijs'!$W$83:$W$115,24,FALSE),IFERROR(HLOOKUP($M$143,'Kostprijs en Verkoopprijs'!$W$122:$W$154,24,FALSE),IFERROR(HLOOKUP($M$143,'Kostprijs en Verkoopprijs'!$W$161:$W$193,24,FALSE),\"\")))))","v":""},{"$f":"IF($G$7=#REF!,SUM(#REF!),IF($G$7=#REF!,SUM(#REF!),IF($G$7=#REF!,SUM(#REF!),IF($G$7=#REF!,SUM(#REF!),IF($G$7=#REF!,SUM(#REF!),\"\")))))","v":{"$error":"#REF!"}},{"$f":"IFERROR(HLOOKUP($O$143,'Kostprijs en Verkoopprijs'!$W$6:$W$38,24,FALSE),IFERROR(HLOOKUP($O$143,'Kostprijs en Verkoopprijs'!$W$44:$W$76,24,FALSE),IFERROR(HLOOKUP($O$143,'Kostprijs en Verkoopprijs'!$W$83:$W$115,24,FALSE),IFERROR(HLOOKUP($O$143,'Kostprijs en Verkoopprijs'!$W$122:$W$154,24,FALSE),IFERROR(HLOOKUP($O$143,'Kostprijs en Verkoopprijs'!$W$161:$W$193,24,FALSE),\"\")))))","v":""}]
[]
[]
[null,null,null,null,"Totale kostprijs",null,{"$f":"IFERROR(HLOOKUP($G$143,'Kostprijs en Verkoopprijs'!$W$6:$W$38,25,FALSE),IFERROR(HLOOKUP($G$143,'Kostprijs en Verkoopprijs'!$W$44:$W$76,25,FALSE),IFERROR(HLOOKUP($G$143,'Kostprijs en Verkoopprijs'!$W$83:$W$115,25,FALSE),IFERROR(HLOOKUP($G$143,'Kostprijs en Verkoopprijs'!$W$122:$W$154,25,FALSE),IFERROR(HLOOKUP($G$143,'Kostprijs en Verkoopprijs'!$W$161:$W$193,25,FALSE),\"\")))))","v":""},{"$f":"IF($G$7=#REF!,#REF!,IF($G$7=#REF!,#REF!,IF($G$7=#REF!,#REF!,IF($G$7=#REF!,#REF!,IF($G$7=#REF!,#REF!,\"\")))))","v":{"$error":"#REF!"}},{"$f":"IFERROR(HLOOKUP($I$143,'Kostprijs en Verkoopprijs'!$W$6:$W$38,25,FALSE),IFERROR(HLOOKUP($I$143,'Kostprijs en Verkoopprijs'!$W$44:$W$76,25,FALSE),IFERROR(HLOOKUP($I$143,'Kostprijs en Verkoopprijs'!$W$83:$W$115,25,FALSE),IFERROR(HLOOKUP($I$143,'Kostprijs en Verkoopprijs'!$W$122:$W$154,25,FALSE),IFERROR(HLOOKUP($I$143,'Kostprijs en Verkoopprijs'!$W$161:$W$193,25,FALSE),\"\")))))","v":""},{"$f":"IF($G$7=#REF!,#REF!,IF($G$7=#REF!,#REF!,IF($G$7=#REF!,#REF!,IF($G$7=#REF!,#REF!,IF($G$7=#REF!,#REF!,\"\")))))","v":{"$error":"#REF!"}},{"$f":"IFERROR(HLOOKUP($K$143,'Kostprijs en Verkoopprijs'!$W$6:$W$38,25,FALSE),IFERROR(HLOOKUP($K$143,'Kostprijs en Verkoopprijs'!$W$44:$W$76,25,FALSE),IFERROR(HLOOKUP($K$143,'Kostprijs en Verkoopprijs'!$W$83:$W$115,25,FALSE),IFERROR(HLOOKUP($K$143,'Kostprijs en Verkoopprijs'!$W$122:$W$154,25,FALSE),IFERROR(HLOOKUP($K$143,'Kostprijs en Verkoopprijs'!$W$161:$W$193,25,FALSE),\"\")))))","v":""},{"$f":"IF($G$7=#REF!,#REF!,IF($G$7=#REF!,#REF!,IF($G$7=#REF!,#REF!,IF($G$7=#REF!,#REF!,IF($G$7=#REF!,#REF!,\"\")))))","v":{"$error":"#REF!"}},{"$f":"IFERROR(HLOOKUP($M$143,'Kostprijs en Verkoopprijs'!$W$6:$W$38,25,FALSE),IFERROR(HLOOKUP($M$143,'Kostprijs en Verkoopprijs'!$W$44:$W$76,25,FALSE),IFERROR(HLOOKUP($M$143,'Kostprijs en Verkoopprijs'!$W$83:$W$115,25,FALSE),IFERROR(HLOOKUP($M$143,'Kostprijs en Verkoopprijs'!$W$122:$W$154,25,FALSE),IFERROR(HLOOKUP($M$143,'Kostprijs en Verkoopprijs'!$W$161:$W$193,25,FALSE),\"\")))))","v":""},{"$f":"IF($G$7=#REF!,#REF!,IF($G$7=#REF!,#REF!,IF($G$7=#REF!,#REF!,IF($G$7=#REF!,#REF!,IF($G$7=#REF!,#REF!,\"\")))))","v":{"$error":"#REF!"}},{"$f":"IFERROR(HLOOKUP($O$143,'Kostprijs en Verkoopprijs'!$W$6:$W$38,25,FALSE),IFERROR(HLOOKUP($O$143,'Kostprijs en Verkoopprijs'!$W$44:$W$76,25,FALSE),IFERROR(HLOOKUP($O$143,'Kostprijs en Verkoopprijs'!$W$83:$W$115,25,FALSE),IFERROR(HLOOKUP($O$143,'Kostprijs en Verkoopprijs'!$W$122:$W$154,25,FALSE),IFERROR(HLOOKUP($O$143,'Kostprijs en Verkoopprijs'!$W$161:$W$193,25,FALSE),\"\")))))","v":""}]
[null,null,null,null,"Totaal per km",null,{"$f":"IFERROR(HLOOKUP($G$143,'Kostprijs en Verkoopprijs'!$W$6:$W$38,26,FALSE),IFERROR(HLOOKUP($G$143,'Kostprijs en Verkoopprijs'!$W$44:$W$76,26,FALSE),IFERROR(HLOOKUP($G$143,'Kostprijs en Verkoopprijs'!$W$83:$W$115,26,FALSE),IFERROR(HLOOKUP($G$143,'Kostprijs en Verkoopprijs'!$W$122:$W$154,26,FALSE),IFERROR(HLOOKUP($G$143,'Kostprijs en Verkoopprijs'!$W$161:$W$193,26,FALSE),\"\")))))","v":""},{"$f":"IF($G$7=#REF!,#REF!,IF($G$7=#REF!,#REF!,IF($G$7=#REF!,#REF!,IF($G$7=#REF!,#REF!,IF($G$7=#REF!,#REF!,\"\")))))","v":{"$error":"#REF!"}},{"$f":"IFERROR(HLOOKUP($I$143,'Kostprijs en Verkoopprijs'!$W$6:$W$38,26,FALSE),IFERROR(HLOOKUP($I$143,'Kostprijs en Verkoopprijs'!$W$44:$W$76,26,FALSE),IFERROR(HLOOKUP($I$143,'Kostprijs en Verkoopprijs'!$W$83:$W$115,26,FALSE),IFERROR(HLOOKUP($I$143,'Kostprijs en Verkoopprijs'!$W$122:$W$154,26,FALSE),IFERROR(HLOOKUP($I$143,'Kostprijs en Verkoopprijs'!$W$161:$W$193,26,FALSE),\"\")))))","v":""},{"$f":"IF($G$7=#REF!,#REF!,IF($G$7=#REF!,#REF!,IF($G$7=#REF!,#REF!,IF($G$7=#REF!,#REF!,IF($G$7=#REF!,#REF!,\"\")))))","v":{"$error":"#REF!"}},{"$f":"IFERROR(HLOOKUP($K$143,'Kostprijs en Verkoopprijs'!$W$6:$W$38,26,FALSE),IFERROR(HLOOKUP($K$143,'Kostprijs en Verkoopprijs'!$W$44:$W$76,26,FALSE),IFERROR(HLOOKUP($K$143,'Kostprijs en Verkoopprijs'!$W$83:$W$115,26,FALSE),IFERROR(HLOOKUP($K$143,'Kostprijs en Verkoopprijs'!$W$122:$W$154,26,FALSE),IFERROR(HLOOKUP($K$143,'Kostprijs en Verkoopprijs'!$W$161:$W$193,26,FALSE),\"\")))))","v":""},{"$f":"IF($G$7=#REF!,#REF!,IF($G$7=#REF!,#REF!,IF($G$7=#REF!,#REF!,IF($G$7=#REF!,#REF!,IF($G$7=#REF!,#REF!,\"\")))))","v":{"$error":"#REF!"}},{"$f":"IFERROR(HLOOKUP($M$143,'Kostprijs en Verkoopprijs'!$W$6:$W$38,26,FALSE),IFERROR(HLOOKUP($M$143,'Kostprijs en Verkoopprijs'!$W$44:$W$76,26,FALSE),IFERROR(HLOOKUP($M$143,'Kostprijs en Verkoopprijs'!$W$83:$W$115,26,FALSE),IFERROR(HLOOKUP($M$143,'Kostprijs en Verkoopprijs'!$W$122:$W$154,26,FALSE),IFERROR(HLOOKUP($M$143,'Kostprijs en Verkoopprijs'!$W$161:$W$193,26,FALSE),\"\")))))","v":""},{"$f":"IF($G$7=#REF!,#REF!,IF($G$7=#REF!,#REF!,IF($G$7=#REF!,#REF!,IF($G$7=#REF!,#REF!,IF($G$7=#REF!,#REF!,\"\")))))","v":{"$error":"#REF!"}},{"$f":"IFERROR(HLOOKUP($O$143,'Kostprijs en Verkoopprijs'!$W$6:$W$38,26,FALSE),IFERROR(HLOOKUP($O$143,'Kostprijs en Verkoopprijs'!$W$44:$W$76,26,FALSE),IFERROR(HLOOKUP($O$143,'Kostprijs en Verkoopprijs'!$W$83:$W$115,26,FALSE),IFERROR(HLOOKUP($O$143,'Kostprijs en Verkoopprijs'!$W$122:$W$154,26,FALSE),IFERROR(HLOOKUP($O$143,'Kostprijs en Verkoopprijs'!$W$161:$W$193,26,FALSE),\"\")))))","v":""}]
[null,null,null,null,"Total per dag",null,{"$f":"IFERROR(HLOOKUP($G$143,'Kostprijs en Verkoopprijs'!$W$6:$W$38,27,FALSE),IFERROR(HLOOKUP($G$143,'Kostprijs en Verkoopprijs'!$W$44:$W$76,27,FALSE),IFERROR(HLOOKUP($G$143,'Kostprijs en Verkoopprijs'!$W$83:$W$115,27,FALSE),IFERROR(HLOOKUP($G$143,'Kostprijs en Verkoopprijs'!$W$122:$W$154,27,FALSE),IFERROR(HLOOKUP($G$143,'Kostprijs en Verkoopprijs'!$W$161:$W$193,27,FALSE),\"\")))))","v":""},{"$f":"IF($G$7=#REF!,#REF!,IF($G$7=#REF!,#REF!,IF($G$7=#REF!,#REF!,IF($G$7=#REF!,#REF!,IF($G$7=#REF!,#REF!,\"\")))))","v":{"$error":"#REF!"}},{"$f":"IFERROR(HLOOKUP($I$143,'Kostprijs en Verkoopprijs'!$W$6:$W$38,27,FALSE),IFERROR(HLOOKUP($I$143,'Kostprijs en Verkoopprijs'!$W$44:$W$76,27,FALSE),IFERROR(HLOOKUP($I$143,'Kostprijs en Verkoopprijs'!$W$83:$W$115,27,FALSE),IFERROR(HLOOKUP($I$143,'Kostprijs en Verkoopprijs'!$W$122:$W$154,27,FALSE),IFERROR(HLOOKUP($I$143,'Kostprijs en Verkoopprijs'!$W$161:$W$193,27,FALSE),\"\")))))","v":""},{"$f":"IF($G$7=#REF!,#REF!,IF($G$7=#REF!,#REF!,IF($G$7=#REF!,#REF!,IF($G$7=#REF!,#REF!,IF($G$7=#REF!,#REF!,\"\")))))","v":{"$error":"#REF!"}},{"$f":"IFERROR(HLOOKUP($K$143,'Kostprijs en Verkoopprijs'!$W$6:$W$38,27,FALSE),IFERROR(HLOOKUP($K$143,'Kostprijs en Verkoopprijs'!$W$44:$W$76,27,FALSE),IFERROR(HLOOKUP($K$143,'Kostprijs en Verkoopprijs'!$W$83:$W$115,27,FALSE),IFERROR(HLOOKUP($K$143,'Kostprijs en Verkoopprijs'!$W$122:$W$154,27,FALSE),IFERROR(HLOOKUP($K$143,'Kostprijs en Verkoopprijs'!$W$161:$W$193,27,FALSE),\"\")))))","v":""},{"$f":"IF($G$7=#REF!,#REF!,IF($G$7=#REF!,#REF!,IF($G$7=#REF!,#REF!,IF($G$7=#REF!,#REF!,IF($G$7=#REF!,#REF!,\"\")))))","v":{"$error":"#REF!"}},{"$f":"IFERROR(HLOOKUP($M$143,'Kostprijs en Verkoopprijs'!$W$6:$W$38,27,FALSE),IFERROR(HLOOKUP($M$143,'Kostprijs en Verkoopprijs'!$W$44:$W$76,27,FALSE),IFERROR(HLOOKUP($M$143,'Kostprijs en Verkoopprijs'!$W$83:$W$115,27,FALSE),IFERROR(HLOOKUP($M$143,'Kostprijs en Verkoopprijs'!$W$122:$W$154,27,FALSE),IFERROR(HLOOKUP($M$143,'Kostprijs en Verkoopprijs'!$W$161:$W$193,27,FALSE),\"\")))))","v":""},{"$f":"IF($G$7=#REF!,#REF!,IF($G$7=#REF!,#REF!,IF($G$7=#REF!,#REF!,IF($G$7=#REF!,#REF!,IF($G$7=#REF!,#REF!,\"\")))))","v":{"$error":"#REF!"}},{"$f":"IFERROR(HLOOKUP($O$143,'Kostprijs en Verkoopprijs'!$W$6:$W$38,27,FALSE),IFERROR(HLOOKUP($O$143,'Kostprijs en Verkoopprijs'!$W$44:$W$76,27,FALSE),IFERROR(HLOOKUP($O$143,'Kostprijs en Verkoopprijs'!$W$83:$W$115,27,FALSE),IFERROR(HLOOKUP($O$143,'Kostprijs en Verkoopprijs'!$W$122:$W$154,27,FALSE),IFERROR(HLOOKUP($O$143,'Kostprijs en Verkoopprijs'!$W$161:$W$193,27,FALSE),\"\")))))","v":""}]
[]
[null,null,null,null,"Totale verkoopprijs",null,{"$f":"IFERROR(HLOOKUP($G$143,'Kostprijs en Verkoopprijs'!$W$6:$W$38,31,FALSE),IFERROR(HLOOKUP($G$143,'Kostprijs en Verkoopprijs'!$W$44:$W$76,31,FALSE),IFERROR(HLOOKUP($G$143,'Kostprijs en Verkoopprijs'!$W$83:$W$115,31,FALSE),IFERROR(HLOOKUP($G$143,'Kostprijs en Verkoopprijs'!$W$122:$W$154,31,FALSE),IFERROR(HLOOKUP($G$143,'Kostprijs en Verkoopprijs'!$W$161:$W$193,31,FALSE),\"\")))))","v":""},{"$f":"IF($G$7=#REF!,#REF!,IF($G$7=#REF!,#REF!,IF($G$7=#REF!,#REF!,IF($G$7=#REF!,#REF!,IF($G$7=#REF!,#REF!,\"\")))))","v":{"$error":"#REF!"}},{"$f":"IFERROR(HLOOKUP($I$143,'Kostprijs en Verkoopprijs'!$W$6:$W$38,31,FALSE),IFERROR(HLOOKUP($I$143,'Kostprijs en Verkoopprijs'!$W$44:$W$76,31,FALSE),IFERROR(HLOOKUP($I$143,'Kostprijs en Verkoopprijs'!$W$83:$W$115,31,FALSE),IFERROR(HLOOKUP($I$143,'Kostprijs en Verkoopprijs'!$W$122:$W$154,31,FALSE),IFERROR(HLOOKUP($I$143,'Kostprijs en Verkoopprijs'!$W$161:$W$193,31,FALSE),\"\")))))","v":""},{"$f":"IF($G$7=#REF!,#REF!,IF($G$7=#REF!,#REF!,IF($G$7=#REF!,#REF!,IF($G$7=#REF!,#REF!,IF($G$7=#REF!,#REF!,\"\")))))","v":{"$error":"#REF!"}},{"$f":"IFERROR(HLOOKUP($K$143,'Kostprijs en Verkoopprijs'!$W$6:$W$38,31,FALSE),IFERROR(HLOOKUP($K$143,'Kostprijs en Verkoopprijs'!$W$44:$W$76,31,FALSE),IFERROR(HLOOKUP($K$143,'Kostprijs en Verkoopprijs'!$W$83:$W$115,31,FALSE),IFERROR(HLOOKUP($K$143,'Kostprijs en Verkoopprijs'!$W$122:$W$154,31,FALSE),IFERROR(HLOOKUP($K$143,'Kostprijs en Verkoopprijs'!$W$161:$W$193,31,FALSE),\"\")))))","v":""},{"$f":"IF($G$7=#REF!,#REF!,IF($G$7=#REF!,#REF!,IF($G$7=#REF!,#REF!,IF($G$7=#REF!,#REF!,IF($G$7=#REF!,#REF!,\"\")))))","v":{"$error":"#REF!"}},{"$f":"IFERROR(HLOOKUP($M$143,'Kostprijs en Verkoopprijs'!$W$6:$W$38,31,FALSE),IFERROR(HLOOKUP($M$143,'Kostprijs en Verkoopprijs'!$W$44:$W$76,31,FALSE),IFERROR(HLOOKUP($M$143,'Kostprijs en Verkoopprijs'!$W$83:$W$115,31,FALSE),IFERROR(HLOOKUP($M$143,'Kostprijs en Verkoopprijs'!$W$122:$W$154,31,FALSE),IFERROR(HLOOKUP($M$143,'Kostprijs en Verkoopprijs'!$W$161:$W$193,31,FALSE),\"\")))))","v":""},{"$f":"IF($G$7=#REF!,#REF!,IF($G$7=#REF!,#REF!,IF($G$7=#REF!,#REF!,IF($G$7=#REF!,#REF!,IF($G$7=#REF!,#REF!,\"\")))))","v":{"$error":"#REF!"}},{"$f":"IFERROR(HLOOKUP($O$143,'Kostprijs en Verkoopprijs'!$W$6:$W$38,31,FALSE),IFERROR(HLOOKUP($O$143,'Kostprijs en Verkoopprijs'!$W$44:$W$76,31,FALSE),IFERROR(HLOOKUP($O$143,'Kostprijs en Verkoopprijs'!$W$83:$W$115,31,FALSE),IFERROR(HLOOKUP($O$143,'Kostprijs en Verkoopprijs'!$W$122:$W$154,31,FALSE),IFERROR(HLOOKUP($O$143,'Kostprijs en Verkoopprijs'!$W$161:$W$193,31,FALSE),\"\")))))","v":""}]
[null,null,null,null,"Totaal per km",null,{"$f":"IFERROR(HLOOKUP($G$143,'Kostprijs en Verkoopprijs'!$W$6:$W$38,32,FALSE),IFERROR(HLOOKUP($G$143,'Kostprijs en Verkoopprijs'!$W$44:$W$76,32,FALSE),IFERROR(HLOOKUP($G$143,'Kostprijs en Verkoopprijs'!$W$83:$W$115,32,FALSE),IFERROR(HLOOKUP($G$143,'Kostprijs en Verkoopprijs'!$W$122:$W$154,32,FALSE),IFERROR(HLOOKUP($G$143,'Kostprijs en Verkoopprijs'!$W$161:$W$193,32,FALSE),\"\")))))","v":""},{"$f":"IF($G$7=#REF!,#REF!,IF($G$7=#REF!,#REF!,IF($G$7=#REF!,#REF!,IF($G$7=#REF!,#REF!,IF($G$7=#REF!,#REF!,\"\")))))","v":{"$error":"#REF!"}},{"$f":"IFERROR(HLOOKUP($I$143,'Kostprijs en Verkoopprijs'!$W$6:$W$38,32,FALSE),IFERROR(HLOOKUP($I$143,'Kostprijs en Verkoopprijs'!$W$44:$W$76,32,FALSE),IFERROR(HLOOKUP($I$143,'Kostprijs en Verkoopprijs'!$W$83:$W$115,32,FALSE),IFERROR(HLOOKUP($I$143,'Kostprijs en Verkoopprijs'!$W$122:$W$154,32,FALSE),IFERROR(HLOOKUP($I$143,'Kostprijs en Verkoopprijs'!$W$161:$W$193,32,FALSE),\"\")))))","v":""},{"$f":"IF($G$7=#REF!,#REF!,IF($G$7=#REF!,#REF!,IF($G$7=#REF!,#REF!,IF($G$7=#REF!,#REF!,IF($G$7=#REF!,#REF!,\"\")))))","v":{"$error":"#REF!"}},{"$f":"IFERROR(HLOOKUP($K$143,'Kostprijs en Verkoopprijs'!$W$6:$W$38,32,FALSE),IFERROR(HLOOKUP($K$143,'Kostprijs en Verkoopprijs'!$W$44:$W$76,32,FALSE),IFERROR(HLOOKUP($K$143,'Kostprijs en Verkoopprijs'!$W$83:$W$115,32,FALSE),IFERROR(HLOOKUP($K$143,'Kostprijs en Verkoopprijs'!$W$122:$W$154,32,FALSE),IFERROR(HLOOKUP($K$143,'Kostprijs en Verkoopprijs'!$W$161:$W$193,32,FALSE),\"\")))))","v":""},{"$f":"IF($G$7=#REF!,#REF!,IF($G$7=#REF!,#REF!,IF($G$7=#REF!,#REF!,IF($G$7=#REF!,#REF!,IF($G$7=#REF!,#REF!,\"\")))))","v":{"$error":"#REF!"}},{"$f":"IFERROR(HLOOKUP($M$143,'Kostprijs en Verkoopprijs'!$W$6:$W$38,32,FALSE),IFERROR(HLOOKUP($M$143,'Kostprijs en Verkoopprijs'!$W$44:$W$76,32,FALSE),IFERROR(HLOOKUP($M$143,'Kostprijs en Verkoopprijs'!$W$83:$W$115,32,FALSE),IFERROR(HLOOKUP($M$143,'Kostprijs en Verkoopprijs'!$W$122:$W$154,32,FALSE),IFERROR(HLOOKUP($M$143,'Kostprijs en Verkoopprijs'!$W$161:$W$193,32,FALSE),\"\")))))","v":""},{"$f":"IF($G$7=#REF!,#REF!,IF($G$7=#REF!,#REF!,IF($G$7=#REF!,#REF!,IF($G$7=#REF!,#REF!,IF($G$7=#REF!,#REF!,\"\")))))","v":{"$error":"#REF!"}},{"$f":"IFERROR(HLOOKUP($O$143,'Kostprijs en Verkoopprijs'!$W$6:$W$38,32,FALSE),IFERROR(HLOOKUP($O$143,'Kostprijs en Verkoopprijs'!$W$44:$W$76,32,FALSE),IFERROR(HLOOKUP($O$143,'Kostprijs en Verkoopprijs'!$W$83:$W$115,32,FALSE),IFERROR(HLOOKUP($O$143,'Kostprijs en Verkoopprijs'!$W$122:$W$154,32,FALSE),IFERROR(HLOOKUP($O$143,'Kostprijs en Verkoopprijs'!$W$161:$W$193,32,FALSE),\"\")))))","v":""}]
[null,null,null,null,"Totaal per dag",null,{"$f":"IFERROR(HLOOKUP($G$143,'Kostprijs en Verkoopprijs'!$W$6:$W$38,33,FALSE),IFERROR(HLOOKUP($G$143,'Kostprijs en Verkoopprijs'!$W$44:$W$76,33,FALSE),IFERROR(HLOOKUP($G$143,'Kostprijs en Verkoopprijs'!$W$83:$W$115,33,FALSE),IFERROR(HLOOKUP($G$143,'Kostprijs en Verkoopprijs'!$W$122:$W$154,33,FALSE),IFERROR(HLOOKUP($G$143,'Kostprijs en Verkoopprijs'!$W$161:$W$193,33,FALSE),\"\")))))","v":""},{"$f":"IF($G$7=#REF!,#REF!,IF($G$7=#REF!,#REF!,IF($G$7=#REF!,#REF!,IF($G$7=#REF!,#REF!,IF($G$7=#REF!,#REF!,\"\")))))","v":{"$error":"#REF!"}},{"$f":"IFERROR(HLOOKUP($I$143,'Kostprijs en Verkoopprijs'!$W$6:$W$38,33,FALSE),IFERROR(HLOOKUP($I$143,'Kostprijs en Verkoopprijs'!$W$44:$W$76,33,FALSE),IFERROR(HLOOKUP($I$143,'Kostprijs en Verkoopprijs'!$W$83:$W$115,33,FALSE),IFERROR(HLOOKUP($I$143,'Kostprijs en Verkoopprijs'!$W$122:$W$154,33,FALSE),IFERROR(HLOOKUP($I$143,'Kostprijs en Verkoopprijs'!$W$161:$W$193,33,FALSE),\"\")))))","v":""},{"$f":"IF($G$7=#REF!,#REF!,IF($G$7=#REF!,#REF!,IF($G$7=#REF!,#REF!,IF($G$7=#REF!,#REF!,IF($G$7=#REF!,#REF!,\"\")))))","v":{"$error":"#REF!"}},{"$f":"IFERROR(HLOOKUP($K$143,'Kostprijs en Verkoopprijs'!$W$6:$W$38,33,FALSE),IFERROR(HLOOKUP($K$143,'Kostprijs en Verkoopprijs'!$W$44:$W$76,33,FALSE),IFERROR(HLOOKUP($K$143,'Kostprijs en Verkoopprijs'!$W$83:$W$115,33,FALSE),IFERROR(HLOOKUP($K$143,'Kostprijs en Verkoopprijs'!$W$122:$W$154,33,FALSE),IFERROR(HLOOKUP($K$143,'Kostprijs en Verkoopprijs'!$W$161:$W$193,33,FALSE),\"\")))))","v":""},{"$f":"IF($G$7=#REF!,#REF!,IF($G$7=#REF!,#REF!,IF($G$7=#REF!,#REF!,IF($G$7=#REF!,#REF!,IF($G$7=#REF!,#REF!,\"\")))))","v":{"$error":"#REF!"}},{"$f":"IFERROR(HLOOKUP($M$143,'Kostprijs en Verkoopprijs'!$W$6:$W$38,33,FALSE),IFERROR(HLOOKUP($M$143,'Kostprijs en Verkoopprijs'!$W$44:$W$76,33,FALSE),IFERROR(HLOOKUP($M$143,'Kostprijs en Verkoopprijs'!$W$83:$W$115,33,FALSE),IFERROR(HLOOKUP($M$143,'Kostprijs en Verkoopprijs'!$W$122:$W$154,33,FALSE),IFERROR(HLOOKUP($M$143,'Kostprijs en Verkoopprijs'!$W$161:$W$193,33,FALSE),\"\")))))","v":""},{"$f":"IF($G$7=#REF!,#REF!,IF($G$7=#REF!,#REF!,IF($G$7=#REF!,#REF!,IF($G$7=#REF!,#REF!,IF($G$7=#REF!,#REF!,\"\")))))","v":{"$error":"#REF!"}},{"$f":"IFERROR(HLOOKUP($O$143,'Kostprijs en Verkoopprijs'!$W$6:$W$38,33,FALSE),IFERROR(HLOOKUP($O$143,'Kostprijs en Verkoopprijs'!$W$44:$W$76,33,FALSE),IFERROR(HLOOKUP($O$143,'Kostprijs en Verkoopprijs'!$W$83:$W$115,33,FALSE),IFERROR(HLOOKUP($O$143,'Kostprijs en Verkoopprijs'!$W$122:$W$154,33,FALSE),IFERROR(HLOOKUP($O$143,'Kostprijs en Verkoopprijs'!$W$161:$W$193,33,FALSE),\"\")))))","v":""}]

{"sheet":"calculprv5","index":14,"n_rows":117,"n_cols":569,"rows_kept":117,"cut":false,"hidden":true,"merged":[[1,1,1,4],[13,8,14,8],[30,8,32,8]]}
[null,null,null,null,null,null,1,null,null,77.5,78.5,79.5,80.5,81.5,82.5,83.5,84.5,85.5,86.5,87.5,88.5,89.5,90.5,91.5,92,92.5,93,93.5,94,94.5,95,95.5,96,96.5,97,97.5,98,98.5,99,99.5,100,100.5,101,101.5,102,102.5,103,103.5,104,104.5,105,105.5,106,106.5,107,107.5,108,108.5,109,109.5,110,110.5,111,111.5,112,112.5,113,113.5,114,114.5,115,115.5,116,116.5,117,117.5,118,118.5,119,119.5,120,120.5,121,121.5,122,122.5,123,123.5,124,124.5,125,125.5,126,126.5,127,127.5,128,128.5,129,129.5,130,130.5,131,131.5,132,132.5,133,133.5,134,134.5,135,135.5,136,136.5,137,137.5,138,138.5,139,139.5,140,140.5,141,141.5,142,142.5,143,143.5,144,144.5,145,145.5,146,146.5,147,147.5,148,148.5,149,149.5,150,150.5,151,151.5,152,152.5,153,153.5,154,154.5,155,155.5,156,156.5,157,157.5,158,158.5,159,159.5,160,160.5,161,161.5,162,162.5,163,163.5,164,164.5,165,165.5,166,166.5,167,167.5,168,168.5,169,169.5,170,170.5,171,171.5,172,172.5,173,173.5,174,174.5,175,175.5,176,176.5,177,177.5,178,178.5,179,179.5,180,180.5,181,181.5,182,182.5,183,183.5,184,184.5,185,185.5,186,186.5,187,187.5,188,188.5,189,189.5,190,190.5,191,191.5,192,192.5,193,193.5,194,194.5,195,195.5,196,196.5,197,197.5,198,198.5,199,199.5,200,200.5,201,201.5,202,202.5,203,203.5,204,204.5,205,205.5,206,206.5,207,207.5,208,208.5,209,209.5,210,210.5,211,211.5,212,212.5,213,213.5,214,214.5,215,215.5,216,216.5,217,217.5,218,218.5,219,219.5,220,220.5,221,221.5,222,222.5,223,223.5,224,224.5,225,225.5,226,226.5,227,227.5,228,228.5,229,229.5,230,230.5,231,231.5,232,232.5,233,233.5,234,234.5,235,235.5,236,236.5,237,237.5,238,238.5,239,239.5,240,240.5,241,241.5,242,242.5,243,243.5,244,244.5,245,245.5,246,246.5,247,247.5,248,248.5,249,249.5,250,250.5,251,251.5,252,252.5,253,253.5,254,254.5,255,255.5,256,256.5,257,257.5,258,258.5,259,259.5,260,260.5,261,261.5,262,262.5,263,263.5,264,264.5,265,265.5,266,266.5,267,267.5,268,268.5,269,269.5,270,270.5,271,271.5,272,272.5,273,273.5,274,274.5,275,275.5,276,276.5,277,277.5,278,278.5,279,279.5,280,280.5,281,281.5,282,282.5,283,283.5,284,284.5,285,285.5,286,286.5,287,287.5,288,288.5,289,289.5,290,290.5,291,291.5,292,292.5,293,293.5,294,294.5,295,295.5,296,296.5,297,297.5,298,298.5,299,299.5,300,300.5,301,301.5,302,302.5,303,303.5,304,304.5,305,305.5,306,306.5,307,307.5,308,308.5,309,309.5,310,310.5,311,311.5,312,312.5,313,313.5,314,314.5,315,315.5,316,316.5,317,317.5,318,318.5,319,319.5,320,320.5,321,321.5,322,322.5,323,323.5,324,324.5,325,325.5,326,326.5,327,327.5,328,328.5,329,329.5,330,330.5,331,331.5,332,332.5,333,333.5,334,334.5,335,335.5,336,336.5,337,337.5,338,338.5,339,339.5,340,340.5,341,341.5,342,342.5,343,343.5,344,344.5,345,345.5,346,346.5,347,347.5,348,348.5,349,349.5,350,350.5,351,351.5,352,352.5,353,353.5,354,354.5,355,355.5,356,356.5,357,357.5,358,358.5,359,359.5,360,360.5,361,361.5,362,362.5,363,363.5,364]
[null,"Voertuiggegevens"]
[]
[null,null,"Datum invoer gegevens:",null,"17/02/2022"]
[]
[null,null,null,null,null,null,"vehicule1"]
[]
[]
[null,null,"1. AFSCHRIJVING1 2"]
[]
[null,null,null,null,"Aankoopprijs:",null,null,null,"oorspronkelijke aankoopprijs van het voertuig"]
["vehicule1"]
[null,null,null,null,"Residuele waarde:",null,null,null,"Restwaarde van het voertuig wanneer het verkocht zal worden (in procent van de aankoopprijs)"]
[null,null,null,null,null,null,null,null,"Kies \"economisch\" als het voertuig na een vast aantal jaren vervangen wordt. Kies \"technisch\" indien het voertuig na een vast aantal afgelegde kilometers vervangen wordt."]
[null,null,null,null,"Type afschrijving: "]
[null,null,null,null,null,null,","]
[null,null,null,null,"Keuze type afschrijving:",null,0]
[]
[null,null,null,null,"Levensduur in jaren:",null,null,null,"aantal jaren dat het voertuig normaal gezien zal halen in het bedrijf"]
[]
[null,null,null,null,"Levensduur in kilometers:",null,null,null,"aantal kilometers dat het voertuig normaal gezien zal halen voor zijn vervanging"]
[]
[null,null,null,null,"Aantal gebruiksdagen/jaar:",null,null,null,"gemiddeld aantal gebruiksdagen per jaar van het voertuig"]
[]
[null,null,"2. FINANCIERING"]
[]
[null,null,null,null,"Rentevoet lening voertuig:",null,null,null,"rentevoet van de lening voor het voertuig (indien van toepassing)"]
[]
[null,null,null,null,"Percentage autofinanciering voertuig:",null,null,null,"percentage van de aankoopwaarde van het voertuig dat met eigen kapitaal gefinancierd wordt"]
[]
[null,null,null,null,"Risicoloze rentevoet:",null,null,null,"Voer hier de rentevoet in die u zou bekomen indien u eigen kapitaal risicoloos zou beleggen (bv. rentevoet op staatslening, kasbon of spaarboekje) - voor de berekening van de opportuniteitskost"]
[]
[null,null,"3. VERBRUIK"]
[]
[null,null,null,null,"Verbruik diesel:",null,null,null,"liter/100 km"]
[]
[null,null,null,null,"Verbruik olie:",null,null,null,"liter/100 km"]
[]
[null,null,null,null,"Verbruik Adblue:",null,null,null,"liter/100 km"]
[]
[null,null,"4. BANDEN"]
[]
[null,null,null,null,"Aantal banden vooraan:"]
[]
[null,null,null,null,"Aantal banden achteraan:"]
[]
[null,null,null,null,"Levensduur banden vooraan:",null,null,null,"in km"]
[]
[null,null,null,null,"Levensduur banden achteraan:",null,null,null,"in km"]
[]
[null,null,null,null,"Eenheidsprijs banden:"]
[]
[null,null,"5. VERZEKERINGEN"]
[]
[]
[null,null,null,null,"Eventuele andere verzekeringen:"]
[]
[null,null,"6. ANDERE VASTE KOSTEN VERBONDEN AAN HET VOERTUIG"]
[]
[]
[null,null,null,null,"Vaste kosten"]
[]
[null,null,"7. OPTIES"]
[]
[null,null,null,null,"Heeft uw voertuig een aanhangwagen?"]
[]
[]
[]
[]
[null,null,null,null,"Heeft uw voertuig een skibak?"]
[]
[]
[]
[null,null,null,null,"Heeft uw voertuig een lift?"]
[]
[]
[null,null,"OPTIE 1: AANHANGWAGEN"]
[]
[null,null,null,null,"Aantal gebuiksdagen/jaar van de aanhangwagen:",null,null,null,"Vul hier, indien van toepassing, de gegevens in van de aanhangwagen die u gebruikt"]
[]
[null,null,null,null,"Aankoopprijs :"]
[]
[null,null,null,null,"Levensduur in jaren:"]
[]
[null,null,null,null,"Premie Burgelijke Aansprakelijkheid aanhangwagen:"]
[]
[null,null,null,null,"Verkeersbelasting:"]
[]
[null,null,null,null,"Jaarlijks onderhoud:"]
[]
[null,null,null,null,"Keuring:"]
[]
[]
[null,null,null,null,"Extra verbruik",null,null,null,"Extra verbruik veroorzaakt door de aanhangwagen"]
[null,null,"OPTIE 2: SKIBAK",null,null,null,null,null,"Vul hier, indien van toepassing, de gegevens in van de skibak in uw voertuig"]
[]
[null,null,null,null,"Aantal gebuiksdagen/jaar van de skibak:"]
[]
[null,null,null,null,"Aankoopprijs:"]
[]
[null,null,null,null,"Levensduur in jaren:"]
[]
[null,null,null,null,"kost montage/demontage:"]
[]
[]
[null,null,"OPTIE 3: LIFT",null,null,null,null,null,"Vul hier, indien van toepassing, de gegevens in van de lift in uw voertuig"]
[]
[null,null,null,null,"Aantal gebuiksdagen/jaar van de lift:"]
[]
[null,null,null,null,"Aankoopprijs lift:"]
[]
[null,null,null,null,"Levensduur in jaren:"]
[]
[null,null,null,null,"kost montage/demontage:"]
[]
[null,null,"1 Indien u uw voertuig zowel voor ongeregelde als geregelde diensten gebruikt dient u de gegevens voor beide activiteiten samen in te geven."]
[null,null,"2 Hou hier rekening met het werkelijke aantal jaren dat het voertuig in het bedrijf blijft, niet met de boekhoudkundige afschrijving"]

{"sheet":"calculprv4","index":15,"n_rows":117,"n_cols":569,"rows_kept":117,"cut":false,"hidden":true,"merged":[[1,1,1,4],[13,8,14,8],[30,8,32,8]]}
[null,null,null,null,null,null,1,null,null,77.5,78.5,79.5,80.5,81.5,82.5,83.5,84.5,85.5,86.5,87.5,88.5,89.5,90.5,91.5,92,92.5,93,93.5,94,94.5,95,95.5,96,96.5,97,97.5,98,98.5,99,99.5,100,100.5,101,101.5,102,102.5,103,103.5,104,104.5,105,105.5,106,106.5,107,107.5,108,108.5,109,109.5,110,110.5,111,111.5,112,112.5,113,113.5,114,114.5,115,115.5,116,116.5,117,117.5,118,118.5,119,119.5,120,120.5,121,121.5,122,122.5,123,123.5,124,124.5,125,125.5,126,126.5,127,127.5,128,128.5,129,129.5,130,130.5,131,131.5,132,132.5,133,133.5,134,134.5,135,135.5,136,136.5,137,137.5,138,138.5,139,139.5,140,140.5,141,141.5,142,142.5,143,143.5,144,144.5,145,145.5,146,146.5,147,147.5,148,148.5,149,149.5,150,150.5,151,151.5,152,152.5,153,153.5,154,154.5,155,155.5,156,156.5,157,157.5,158,158.5,159,159.5,160,160.5,161,161.5,162,162.5,163,163.5,164,164.5,165,165.5,166,166.5,167,167.5,168,168.5,169,169.5,170,170.5,171,171.5,172,172.5,173,173.5,174,174.5,175,175.5,176,176.5,177,177.5,178,178.5,179,179.5,180,180.5,181,181.5,182,182.5,183,183.5,184,184.5,185,185.5,186,186.5,187,187.5,188,188.5,189,189.5,190,190.5,191,191.5,192,192.5,193,193.5,194,194.5,195,195.5,196,196.5,197,197.5,198,198.5,199,199.5,200,200.5,201,201.5,202,202.5,203,203.5,204,204.5,205,205.5,206,206.5,207,207.5,208,208.5,209,209.5,210,210.5,211,211.5,212,212.5,213,213.5,214,214.5,215,215.5,216,216.5,217,217.5,218,218.5,219,219.5,220,220.5,221,221.5,222,222.5,223,223.5,224,224.5,225,225.5,226,226.5,227,227.5,228,228.5,229,229.5,230,230.5,231,231.5,232,232.5,233,233.5,234,234.5,235,235.5,236,236.5,237,237.5,238,238.5,239,239.5,240,240.5,241,241.5,242,242.5,243,243.5,244,244.5,245,245.5,246,246.5,247,247.5,248,248.5,249,249.5,250,250.5,251,251.5,252,252.5,253,253.5,254,254.5,255,255.5,256,256.5,257,257.5,258,258.5,259,259.5,260,260.5,261,261.5,262,262.5,263,263.5,264,264.5,265,265.5,266,266.5,267,267.5,268,268.5,269,269.5,270,270.5,271,271.5,272,272.5,273,273.5,274,274.5,275,275.5,276,276.5,277,277.5,278,278.5,279,279.5,280,280.5,281,281.5,282,282.5,283,283.5,284,284.5,285,285.5,286,286.5,287,287.5,288,288.5,289,289.5,290,290.5,291,291.5,292,292.5,293,293.5,294,294.5,295,295.5,296,296.5,297,297.5,298,298.5,299,299.5,300,300.5,301,301.5,302,302.5,303,303.5,304,304.5,305,305.5,306,306.5,307,307.5,308,308.5,309,309.5,310,310.5,311,311.5,312,312.5,313,313.5,314,314.5,315,315.5,316,316.5,317,317.5,318,318.5,319,319.5,320,320.5,321,321.5,322,322.5,323,323.5,324,324.5,325,325.5,326,326.5,327,327.5,328,328.5,329,329.5,330,330.5,331,331.5,332,332.5,333,333.5,334,334.5,335,335.5,336,336.5,337,337.5,338,338.5,339,339.5,340,340.5,341,341.5,342,342.5,343,343.5,344,344.5,345,345.5,346,346.5,347,347.5,348,348.5,349,349.5,350,350.5,351,351.5,352,352.5,353,353.5,354,354.5,355,355.5,356,356.5,357,357.5,358,358.5,359,359.5,360,360.5,361,361.5,362,362.5,363,363.5,364]
[null,"Voertuiggegevens"]
[]
[null,null,"Datum invoer gegevens:",null,"17/02/2022"]
[]
[null,null,null,null,null,null,"vehicule1"]
[]
[]
[null,null,"1. AFSCHRIJVING1 2"]
[]
[null,null,null,null,"Aankoopprijs:",null,null,null,"oorspronkelijke aankoopprijs van het voertuig"]
["vehicule1"]
[null,null,null,null,"Residuele waarde:",null,null,null,"Restwaarde van het voertuig wanneer het verkocht zal worden (in procent van de aankoopprijs)"]
[null,null,null,null,null,null,null,null,"Kies \"economisch\" als het voertuig na een vast aantal jaren vervangen wordt. Kies \"technisch\" indien het voertuig na een vast aantal afgelegde kilometers vervangen wordt."]
[null,null,null,null,"Type afschrijving: "]
[null,null,null,null,null,null,","]
[null,null,null,null,"Keuze type afschrijving:",null,0]
[]
[null,null,null,null,"Levensduur in jaren:",null,null,null,"aantal jaren dat het voertuig normaal gezien zal halen in het bedrijf"]
[]
[null,null,null,null,"Levensduur in kilometers:",null,null,null,"aantal kilometers dat het voertuig normaal gezien zal halen voor zijn vervanging"]
[]
[null,null,null,null,"Aantal gebruiksdagen/jaar:",null,null,null,"gemiddeld aantal gebruiksdagen per jaar van het voertuig"]
[]
[null,null,"2. FINANCIERING"]
[]
[null,null,null,null,"Rentevoet lening voertuig:",null,null,null,"rentevoet van de lening voor het voertuig (indien van toepassing)"]
[]
[null,null,null,null,"Percentage autofinanciering voertuig:",null,null,null,"percentage van de aankoopwaarde van het voertuig dat met eigen kapitaal gefinancierd wordt"]
[]
[null,null,null,null,"Risicoloze rentevoet:",null,null,null,"Voer hier de rentevoet in die u zou bekomen indien u eigen kapitaal risicoloos zou beleggen (bv. rentevoet op staatslening, kasbon of spaarboekje) - voor de berekening van de opportuniteitskost"]
[]
[null,null,"3. VERBRUIK"]
[]
[null,null,null,null,"Verbruik diesel:",null,null,null,"liter/100 km"]
[]
[null,null,null,null,"Verbruik olie:",null,null,null,"liter/100 km"]
[]
[null,null,null,null,"Verbruik Adblue:",null,null,null,"liter/100 km"]
[]
[null,null,"4. BANDEN"]
[]
[null,null,null,null,"Aantal banden vooraan:"]
[]
[null,null,null,null,"Aantal banden achteraan:"]
[]
[null,null,null,null,"Levensduur banden vooraan:",null,null,null,"in km"]
[]
[null,null,null,null,"Levensduur banden achteraan:",null,null,null,"in km"]
[]
[null,null,null,null,"Eenheidsprijs banden:"]
[]
[null,null,"5. VERZEKERINGEN"]
[]
[]
[null,null,null,null,"Eventuele andere verzekeringen:"]
[]
[null,null,"6. ANDERE VASTE KOSTEN VERBONDEN AAN HET VOERTUIG"]
[]
[]
[null,null,null,null,"Vaste kosten"]
[]
[null,null,"7. OPTIES"]
[]
[null,null,null,null,"Heeft uw voertuig een aanhangwagen?"]
[]
[]
[]
[]
[null,null,null,null,"Heeft uw voertuig een skibak?"]
[]
[]
[]
[null,null,null,null,"Heeft uw voertuig een lift?"]
[]
[]
[null,null,"OPTIE 1: AANHANGWAGEN"]
[]
[null,null,null,null,"Aantal gebuiksdagen/jaar van de aanhangwagen:",null,null,null,"Vul hier, indien van toepassing, de gegevens in van de aanhangwagen die u gebruikt"]
[]
[null,null,null,null,"Aankoopprijs :"]
[]
[null,null,null,null,"Levensduur in jaren:"]
[]
[null,null,null,null,"Premie Burgelijke Aansprakelijkheid aanhangwagen:"]
[]
[null,null,null,null,"Verkeersbelasting:"]
[]
[null,null,null,null,"Jaarlijks onderhoud:"]
[]
[null,null,null,null,"Keuring:"]
[]
[]
[null,null,null,null,"Extra verbruik",null,null,null,"Extra verbruik veroorzaakt door de aanhangwagen"]
[null,null,"OPTIE 2: SKIBAK",null,null,null,null,null,"Vul hier, indien van toepassing, de gegevens in van de skibak in uw voertuig"]
[]
[null,null,null,null,"Aantal gebuiksdagen/jaar van de skibak:"]
[]
[null,null,null,null,"Aankoopprijs:"]
[]
[null,null,null,null,"Levensduur in jaren:"]
[]
[null,null,null,null,"kost montage/demontage:"]
[]
[]
[null,null,"OPTIE 3: LIFT",null,null,null,null,null,"Vul hier, indien van toepassing, de gegevens in van de lift in uw voertuig"]
[]
[null,null,null,null,"Aantal gebuiksdagen/jaar van de lift:"]
[]
[null,null,null,null,"Aankoopprijs lift:"]
[]
[null,null,null,null,"Levensduur in jaren:"]
[]
[null,null,null,null,"kost montage/demontage:"]
[]
[null,null,"1 Indien u uw voertuig zowel voor ongeregelde als geregelde diensten gebruikt dient u de gegevens voor beide activiteiten samen in te geven."]
[null,null,"2 Hou hier rekening met het werkelijke aantal jaren dat het voertuig in het bedrijf blijft, niet met de boekhoudkundige afschrijving"]

{"sheet":"calculprv3","index":16,"n_rows":117,"n_cols":569,"rows_kept":117,"cut":false,"hidden":true,"merged":[[1,1,1,4],[13,8,14,8],[30,8,32,8]]}
[null,null,null,null,null,null,1,null,null,77.5,78.5,79.5,80.5,81.5,82.5,83.5,84.5,85.5,86.5,87.5,88.5,89.5,90.5,91.5,92,92.5,93,93.5,94,94.5,95,95.5,96,96.5,97,97.5,98,98.5,99,99.5,100,100.5,101,101.5,102,102.5,103,103.5,104,104.5,105,105.5,106,106.5,107,107.5,108,108.5,109,109.5,110,110.5,111,111.5,112,112.5,113,113.5,114,114.5,115,115.5,116,116.5,117,117.5,118,118.5,119,119.5,120,120.5,121,121.5,122,122.5,123,123.5,124,124.5,125,125.5,126,126.5,127,127.5,128,128.5,129,129.5,130,130.5,131,131.5,132,132.5,133,133.5,134,134.5,135,135.5,136,136.5,137,137.5,138,138.5,139,139.5,140,140.5,141,141.5,142,142.5,143,143.5,144,144.5,145,145.5,146,146.5,147,147.5,148,148.5,149,149.5,150,150.5,151,151.5,152,152.5,153,153.5,154,154.5,155,155.5,156,156.5,157,157.5,158,158.5,159,159.5,160,160.5,161,161.5,162,162.5,163,163.5,164,164.5,165,165.5,166,166.5,167,167.5,168,168.5,169,169.5,170,170.5,171,171.5,172,172.5,173,173.5,174,174.5,175,175.5,176,176.5,177,177.5,178,178.5,179,179.5,180,180.5,181,181.5,182,182.5,183,183.5,184,184.5,185,185.5,186,186.5,187,187.5,188,188.5,189,189.5,190,190.5,191,191.5,192,192.5,193,193.5,194,194.5,195,195.5,196,196.5,197,197.5,198,198.5,199,199.5,200,200.5,201,201.5,202,202.5,203,203.5,204,204.5,205,205.5,206,206.5,207,207.5,208,208.5,209,209.5,210,210.5,211,211.5,212,212.5,213,213.5,214,214.5,215,215.5,216,216.5,217,217.5,218,218.5,219,219.5,220,220.5,221,221.5,222,222.5,223,223.5,224,224.5,225,225.5,226,226.5,227,227.5,228,228.5,229,229.5,230,230.5,231,231.5,232,232.5,233,233.5,234,234.5,235,235.5,236,236.5,237,237.5,238,238.5,239,239.5,240,240.5,241,241.5,242,242.5,243,243.5,244,244.5,245,245.5,246,246.5,247,247.5,248,248.5,249,249.5,250,250.5,251,251.5,252,252.5,253,253.5,254,254.5,255,255.5,256,256.5,257,257.5,258,258.5,259,259.5,260,260.5,261,261.5,262,262.5,263,263.5,264,264.5,265,265.5,266,266.5,267,267.5,268,268.5,269,269.5,270,270.5,271,271.5,272,272.5,273,273.5,274,274.5,275,275.5,276,276.5,277,277.5,278,278.5,279,279.5,280,280.5,281,281.5,282,282.5,283,283.5,284,284.5,285,285.5,286,286.5,287,287.5,288,288.5,289,289.5,290,290.5,291,291.5,292,292.5,293,293.5,294,294.5,295,295.5,296,296.5,297,297.5,298,298.5,299,299.5,300,300.5,301,301.5,302,302.5,303,303.5,304,304.5,305,305.5,306,306.5,307,307.5,308,308.5,309,309.5,310,310.5,311,311.5,312,312.5,313,313.5,314,314.5,315,315.5,316,316.5,317,317.5,318,318.5,319,319.5,320,320.5,321,321.5,322,322.5,323,323.5,324,324.5,325,325.5,326,326.5,327,327.5,328,328.5,329,329.5,330,330.5,331,331.5,332,332.5,333,333.5,334,334.5,335,335.5,336,336.5,337,337.5,338,338.5,339,339.5,340,340.5,341,341.5,342,342.5,343,343.5,344,344.5,345,345.5,346,346.5,347,347.5,348,348.5,349,349.5,350,350.5,351,351.5,352,352.5,353,353.5,354,354.5,355,355.5,356,356.5,357,357.5,358,358.5,359,359.5,360,360.5,361,361.5,362,362.5,363,363.5,364]
[null,"Voertuiggegevens"]
[]
[null,null,"Datum invoer gegevens:",null,"17/02/2022"]
[]
[null,null,null,null,null,null,"vehicule1"]
[]
[]
[null,null,"1. AFSCHRIJVING1 2"]
[]
[null,null,null,null,"Aankoopprijs:",null,null,null,"oorspronkelijke aankoopprijs van het voertuig"]
["vehicule1"]
[null,null,null,null,"Residuele waarde:",null,null,null,"Restwaarde van het voertuig wanneer het verkocht zal worden (in procent van de aankoopprijs)"]
[null,null,null,null,null,null,null,null,"Kies \"economisch\" als het voertuig na een vast aantal jaren vervangen wordt. Kies \"technisch\" indien het voertuig na een vast aantal afgelegde kilometers vervangen wordt."]
[null,null,null,null,"Type afschrijving: "]
[null,null,null,null,null,null,","]
[null,null,null,null,"Keuze type afschrijving:",null,0]
[]
[null,null,null,null,"Levensduur in jaren:",null,null,null,"aantal jaren dat het voertuig normaal gezien zal halen in het bedrijf"]
[]
[null,null,null,null,"Levensduur in kilometers:",null,null,null,"aantal kilometers dat het voertuig normaal gezien zal halen voor zijn vervanging"]
[]
[null,null,null,null,"Aantal gebruiksdagen/jaar:",null,null,null,"gemiddeld aantal gebruiksdagen per jaar van het voertuig"]
[]
[null,null,"2. FINANCIERING"]
[]
[null,null,null,null,"Rentevoet lening voertuig:",null,null,null,"rentevoet van de lening voor het voertuig (indien van toepassing)"]
[]
[null,null,null,null,"Percentage autofinanciering voertuig:",null,null,null,"percentage van de aankoopwaarde van het voertuig dat met eigen kapitaal gefinancierd wordt"]
[]
[null,null,null,null,"Risicoloze rentevoet:",null,null,null,"Voer hier de rentevoet in die u zou bekomen indien u eigen kapitaal risicoloos zou beleggen (bv. rentevoet op staatslening, kasbon of spaarboekje) - voor de berekening van de opportuniteitskost"]
[]
[null,null,"3. VERBRUIK"]
[]
[null,null,null,null,"Verbruik diesel:",null,null,null,"liter/100 km"]
[]
[null,null,null,null,"Verbruik olie:",null,null,null,"liter/100 km"]
[]
[null,null,null,null,"Verbruik Adblue:",null,null,null,"liter/100 km"]
[]
[null,null,"4. BANDEN"]
[]
[null,null,null,null,"Aantal banden vooraan:"]
[]
[null,null,null,null,"Aantal banden achteraan:"]
[]
[null,null,null,null,"Levensduur banden vooraan:",null,null,null,"in km"]
[]
[null,null,null,null,"Levensduur banden achteraan:",null,null,null,"in km"]
[]
[null,null,null,null,"Eenheidsprijs banden:"]
[]
[null,null,"5. VERZEKERINGEN"]
[]
[]
[null,null,null,null,"Eventuele andere verzekeringen:"]
[]
[null,null,"6. ANDERE VASTE KOSTEN VERBONDEN AAN HET VOERTUIG"]
[]
[]
[null,null,null,null,"Vaste kosten"]
[]
[null,null,"7. OPTIES"]
[]
[null,null,null,null,"Heeft uw voertuig een aanhangwagen?"]
[]
[]
[]
[]
[null,null,null,null,"Heeft uw voertuig een skibak?"]
[]
[]
[]
[null,null,null,null,"Heeft uw voertuig een lift?"]
[]
[]
[null,null,"OPTIE 1: AANHANGWAGEN"]
[]
[null,null,null,null,"Aantal gebuiksdagen/jaar van de aanhangwagen:",null,null,null,"Vul hier, indien van toepassing, de gegevens in van de aanhangwagen die u gebruikt"]
[]
[null,null,null,null,"Aankoopprijs :"]
[]
[null,null,null,null,"Levensduur in jaren:"]
[]
[null,null,null,null,"Premie Burgelijke Aansprakelijkheid aanhangwagen:"]
[]
[null,null,null,null,"Verkeersbelasting:"]
[]
[null,null,null,null,"Jaarlijks onderhoud:"]
[]
[null,null,null,null,"Keuring:"]
[]
[]
[null,null,null,null,"Extra verbruik",null,null,null,"Extra verbruik veroorzaakt door de aanhangwagen"]
[null,null,"OPTIE 2: SKIBAK",null,null,null,null,null,"Vul hier, indien van toepassing, de gegevens in van de skibak in uw voertuig"]
[]
[null,null,null,null,"Aantal gebuiksdagen/jaar van de skibak:"]
[]
[null,null,null,null,"Aankoopprijs:"]
[]
[null,null,null,null,"Levensduur in jaren:"]
[]
[null,null,null,null,"kost montage/demontage:"]
[]
[]
[null,null,"OPTIE 3: LIFT",null,null,null,null,null,"Vul hier, indien van toepassing, de gegevens in van de lift in uw voertuig"]
[]
[null,null,null,null,"Aantal gebuiksdagen/jaar van de lift:"]
[]
[null,null,null,null,"Aankoopprijs lift:"]
[]
[null,null,null,null,"Levensduur in jaren:"]
[]
[null,null,null,null,"kost montage/demontage:"]
[]
[null,null,"1 Indien u uw voertuig zowel voor ongeregelde als geregelde diensten gebruikt dient u de gegevens voor beide activiteiten samen in te geven."]
[null,null,"2 Hou hier rekening met het werkelijke aantal jaren dat het voertuig in het bedrijf blijft, niet met de boekhoudkundige afschrijving"]

{"sheet":"calculprv2","index":17,"n_rows":117,"n_cols":569,"rows_kept":117,"cut":false,"hidden":true,"merged":[[1,1,1,4],[13,8,14,8],[30,8,32,8]]}
[null,null,null,null,null,null,null,null,null,77.5,78.5,79.5,80.5,81.5,82.5,83.5,84.5,85.5,86.5,87.5,88.5,89.5,90.5,91.5,92,92.5,93,93.5,94,94.5,95,95.5,96,96.5,97,97.5,98,98.5,99,99.5,100,100.5,101,101.5,102,102.5,103,103.5,104,104.5,105,105.5,106,106.5,107,107.5,108,108.5,109,109.5,110,110.5,111,111.5,112,112.5,113,113.5,114,114.5,115,115.5,116,116.5,117,117.5,118,118.5,119,119.5,120,120.5,121,121.5,122,122.5,123,123.5,124,124.5,125,125.5,126,126.5,127,127.5,128,128.5,129,129.5,130,130.5,131,131.5,132,132.5,133,133.5,134,134.5,135,135.5,136,136.5,137,137.5,138,138.5,139,139.5,140,140.5,141,141.5,142,142.5,143,143.5,144,144.5,145,145.5,146,146.5,147,147.5,148,148.5,149,149.5,150,150.5,151,151.5,152,152.5,153,153.5,154,154.5,155,155.5,156,156.5,157,157.5,158,158.5,159,159.5,160,160.5,161,161.5,162,162.5,163,163.5,164,164.5,165,165.5,166,166.5,167,167.5,168,168.5,169,169.5,170,170.5,171,171.5,172,172.5,173,173.5,174,174.5,175,175.5,176,176.5,177,177.5,178,178.5,179,179.5,180,180.5,181,181.5,182,182.5,183,183.5,184,184.5,185,185.5,186,186.5,187,187.5,188,188.5,189,189.5,190,190.5,191,191.5,192,192.5,193,193.5,194,194.5,195,195.5,196,196.5,197,197.5,198,198.5,199,199.5,200,200.5,201,201.5,202,202.5,203,203.5,204,204.5,205,205.5,206,206.5,207,207.5,208,208.5,209,209.5,210,210.5,211,211.5,212,212.5,213,213.5,214,214.5,215,215.5,216,216.5,217,217.5,218,218.5,219,219.5,220,220.5,221,221.5,222,222.5,223,223.5,224,224.5,225,225.5,226,226.5,227,227.5,228,228.5,229,229.5,230,230.5,231,231.5,232,232.5,233,233.5,234,234.5,235,235.5,236,236.5,237,237.5,238,238.5,239,239.5,240,240.5,241,241.5,242,242.5,243,243.5,244,244.5,245,245.5,246,246.5,247,247.5,248,248.5,249,249.5,250,250.5,251,251.5,252,252.5,253,253.5,254,254.5,255,255.5,256,256.5,257,257.5,258,258.5,259,259.5,260,260.5,261,261.5,262,262.5,263,263.5,264,264.5,265,265.5,266,266.5,267,267.5,268,268.5,269,269.5,270,270.5,271,271.5,272,272.5,273,273.5,274,274.5,275,275.5,276,276.5,277,277.5,278,278.5,279,279.5,280,280.5,281,281.5,282,282.5,283,283.5,284,284.5,285,285.5,286,286.5,287,287.5,288,288.5,289,289.5,290,290.5,291,291.5,292,292.5,293,293.5,294,294.5,295,295.5,296,296.5,297,297.5,298,298.5,299,299.5,300,300.5,301,301.5,302,302.5,303,303.5,304,304.5,305,305.5,306,306.5,307,307.5,308,308.5,309,309.5,310,310.5,311,311.5,312,312.5,313,313.5,314,314.5,315,315.5,316,316.5,317,317.5,318,318.5,319,319.5,320,320.5,321,321.5,322,322.5,323,323.5,324,324.5,325,325.5,326,326.5,327,327.5,328,328.5,329,329.5,330,330.5,331,331.5,332,332.5,333,333.5,334,334.5,335,335.5,336,336.5,337,337.5,338,338.5,339,339.5,340,340.5,341,341.5,342,342.5,343,343.5,344,344.5,345,345.5,346,346.5,347,347.5,348,348.5,349,349.5,350,350.5,351,351.5,352,352.5,353,353.5,354,354.5,355,355.5,356,356.5,357,357.5,358,358.5,359,359.5,360,360.5,361,361.5,362,362.5,363,363.5,364]
[null,"Voertuiggegevens"]
[]
[null,null,"Datum invoer gegevens:",null,"17/02/2022"]
[]
[]
[]
[]
[null,null,"1. AFSCHRIJVING1 2"]
[]
[null,null,null,null,"Aankoopprijs:",null,"oorspronkelijke aankoopprijs van het voertuig",null,"oorspronkelijke aankoopprijs van het voertuig"]
["vehicule1"]
[null,null,null,null,"Residuele waarde:",null,"Restwaarde van het voertuig wanneer het verkocht zal worden (in procent van de aankoopprijs)",null,"Restwaarde van het voertuig wanneer het verkocht zal worden (in procent van de aankoopprijs)"]
[null,null,null,null,null,null,"Kies \"economisch\" als het voertuig na een vast aantal jaren vervangen wordt. Kies \"technisch\" indien het voertuig na een vast aantal afgelegde kilometers vervangen wordt.",null,"Kies \"economisch\" als het voertuig na een vast aantal jaren vervangen wordt. Kies \"technisch\" indien het voertuig na een vast aantal afgelegde kilometers vervangen wordt."]
[null,null,null,null,"Type afschrijving: "]
[]
[null,null,null,null,"Keuze type afschrijving:"]
[]
[null,null,null,null,"Levensduur in jaren:",null,"aantal jaren dat het voertuig normaal gezien zal halen in het bedrijf",null,"aantal jaren dat het voertuig normaal gezien zal halen in het bedrijf"]
[]
[null,null,null,null,"Levensduur in kilometers:",null,"aantal kilometers dat het voertuig normaal gezien zal halen voor zijn vervanging",null,"aantal kilometers dat het voertuig normaal gezien zal halen voor zijn vervanging"]
[]
[null,null,null,null,"Aantal gebruiksdagen/jaar:",null,"gemiddeld aantal gebruiksdagen per jaar van het voertuig",null,"gemiddeld aantal gebruiksdagen per jaar van het voertuig"]
[]
[null,null,"2. FINANCIERING"]
[]
[null,null,null,null,"Rentevoet lening voertuig:",null,"rentevoet van de lening voor het voertuig (indien van toepassing)",null,"rentevoet van de lening voor het voertuig (indien van toepassing)"]
[]
[null,null,null,null,"Percentage autofinanciering voertuig:",null,"percentage van de aankoopwaarde van het voertuig dat met eigen kapitaal gefinancierd wordt",null,"percentage van de aankoopwaarde van het voertuig dat met eigen kapitaal gefinancierd wordt"]
[]
[null,null,null,null,"Risicoloze rentevoet:",null,"Voer hier de rentevoet in die u zou bekomen indien u eigen kapitaal risicoloos zou beleggen (bv. rentevoet op staatslening, kasbon of spaarboekje) - voor de berekening van de opportuniteitskost",null,"Voer hier de rentevoet in die u zou bekomen indien u eigen kapitaal risicoloos zou beleggen (bv. rentevoet op staatslening, kasbon of spaarboekje) - voor de berekening van de opportuniteitskost"]
[]
[null,null,"3. VERBRUIK"]
[]
[null,null,null,null,"Verbruik diesel:",null,"liter/100 km",null,"liter/100 km"]
[]
[null,null,null,null,"Verbruik olie:",null,"liter/100 km",null,"liter/100 km"]
[]
[null,null,null,null,"Verbruik Adblue:",null,"liter/100 km",null,"liter/100 km"]
[]
[null,null,"4. BANDEN"]
[]
[null,null,null,null,"Aantal banden vooraan:"]
[]
[null,null,null,null,"Aantal banden achteraan:"]
[]
[null,null,null,null,"Levensduur banden vooraan:",null,"in km",null,"in km"]
[]
[null,null,null,null,"Levensduur banden achteraan:",null,"in km",null,"in km"]
[]
[null,null,null,null,"Eenheidsprijs banden:"]
[]
[null,null,"5. VERZEKERINGEN"]
[]
[]
[null,null,null,null,"Eventuele andere verzekeringen:"]
[]
[null,null,"6. ANDERE VASTE KOSTEN VERBONDEN AAN HET VOERTUIG"]
[]
[]
[null,null,null,null,"Vaste kosten"]
[]
[null,null,"7. OPTIES"]
[]
[null,null,null,null,"Heeft uw voertuig een aanhangwagen?"]
[]
[]
[]
[]
[null,null,null,null,"Heeft uw voertuig een skibak?"]
[]
[]
[]
[null,null,null,null,"Heeft uw voertuig een lift?"]
[]
[]
[null,null,"OPTIE 1: AANHANGWAGEN"]
[]
[null,null,null,null,"Aantal gebuiksdagen/jaar van de aanhangwagen:",null,"Vul hier, indien van toepassing, de gegevens in van de aanhangwagen die u gebruikt",null,"Vul hier, indien van toepassing, de gegevens in van de aanhangwagen die u gebruikt"]
[]
[null,null,null,null,"Aankoopprijs :"]
[]
[null,null,null,null,"Levensduur in jaren:"]
[]
[null,null,null,null,"Premie Burgelijke Aansprakelijkheid aanhangwagen:"]
[]
[null,null,null,null,"Verkeersbelasting:"]
[]
[null,null,null,null,"Jaarlijks onderhoud:"]
[]
[null,null,null,null,"Keuring:"]
[]
[]
[null,null,null,null,"Extra verbruik",null,"Extra verbruik veroorzaakt door de aanhangwagen",null,"Extra verbruik veroorzaakt door de aanhangwagen"]
[null,null,"OPTIE 2: SKIBAK",null,null,null,"Vul hier, indien van toepassing, de gegevens in van de skibak in uw voertuig",null,"Vul hier, indien van toepassing, de gegevens in van de skibak in uw voertuig"]
[]
[null,null,null,null,"Aantal gebuiksdagen/jaar van de skibak:"]
[]
[null,null,null,null,"Aankoopprijs:"]
[]
[null,null,null,null,"Levensduur in jaren:"]
[]
[null,null,null,null,"kost montage/demontage:"]
[]
[]
[null,null,"OPTIE 3: LIFT",null,null,null,"Vul hier, indien van toepassing, de gegevens in van de lift in uw voertuig",null,"Vul hier, indien van toepassing, de gegevens in van de lift in uw voertuig"]
[]
[null,null,null,null,"Aantal gebuiksdagen/jaar van de lift:"]
[]
[null,null,null,null,"Aankoopprijs lift:"]
[]
[null,null,null,null,"Levensduur in jaren:"]
[]
[null,null,null,null,"kost montage/demontage:"]
[]
[null,null,"1 Indien u uw voertuig zowel voor ongeregelde als geregelde diensten gebruikt dient u de gegevens voor beide activiteiten samen in te geven."]
[null,null,"2 Hou hier rekening met het werkelijke aantal jaren dat het voertuig in het bedrijf blijft, niet met de boekhoudkundige afschrijving"]

{"sheet":"calculprv1","index":18,"n_rows":117,"n_cols":569,"rows_kept":117,"cut":false,"hidden":true,"merged":[[1,1,1,4],[13,8,14,8],[30,8,32,8]]}
[null,null,null,null,null,null,1,null,null,77.5,78.5,79.5,80.5,81.5,82.5,83.5,84.5,85.5,86.5,87.5,88.5,89.5,90.5,91.5,92,92.5,93,93.5,94,94.5,95,95.5,96,96.5,97,97.5,98,98.5,99,99.5,100,100.5,101,101.5,102,102.5,103,103.5,104,104.5,105,105.5,106,106.5,107,107.5,108,108.5,109,109.5,110,110.5,111,111.5,112,112.5,113,113.5,114,114.5,115,115.5,116,116.5,117,117.5,118,118.5,119,119.5,120,120.5,121,121.5,122,122.5,123,123.5,124,124.5,125,125.5,126,126.5,127,127.5,128,128.5,129,129.5,130,130.5,131,131.5,132,132.5,133,133.5,134,134.5,135,135.5,136,136.5,137,137.5,138,138.5,139,139.5,140,140.5,141,141.5,142,142.5,143,143.5,144,144.5,145,145.5,146,146.5,147,147.5,148,148.5,149,149.5,150,150.5,151,151.5,152,152.5,153,153.5,154,154.5,155,155.5,156,156.5,157,157.5,158,158.5,159,159.5,160,160.5,161,161.5,162,162.5,163,163.5,164,164.5,165,165.5,166,166.5,167,167.5,168,168.5,169,169.5,170,170.5,171,171.5,172,172.5,173,173.5,174,174.5,175,175.5,176,176.5,177,177.5,178,178.5,179,179.5,180,180.5,181,181.5,182,182.5,183,183.5,184,184.5,185,185.5,186,186.5,187,187.5,188,188.5,189,189.5,190,190.5,191,191.5,192,192.5,193,193.5,194,194.5,195,195.5,196,196.5,197,197.5,198,198.5,199,199.5,200,200.5,201,201.5,202,202.5,203,203.5,204,204.5,205,205.5,206,206.5,207,207.5,208,208.5,209,209.5,210,210.5,211,211.5,212,212.5,213,213.5,214,214.5,215,215.5,216,216.5,217,217.5,218,218.5,219,219.5,220,220.5,221,221.5,222,222.5,223,223.5,224,224.5,225,225.5,226,226.5,227,227.5,228,228.5,229,229.5,230,230.5,231,231.5,232,232.5,233,233.5,234,234.5,235,235.5,236,236.5,237,237.5,238,238.5,239,239.5,240,240.5,241,241.5,242,242.5,243,243.5,244,244.5,245,245.5,246,246.5,247,247.5,248,248.5,249,249.5,250,250.5,251,251.5,252,252.5,253,253.5,254,254.5,255,255.5,256,256.5,257,257.5,258,258.5,259,259.5,260,260.5,261,261.5,262,262.5,263,263.5,264,264.5,265,265.5,266,266.5,267,267.5,268,268.5,269,269.5,270,270.5,271,271.5,272,272.5,273,273.5,274,274.5,275,275.5,276,276.5,277,277.5,278,278.5,279,279.5,280,280.5,281,281.5,282,282.5,283,283.5,284,284.5,285,285.5,286,286.5,287,287.5,288,288.5,289,289.5,290,290.5,291,291.5,292,292.5,293,293.5,294,294.5,295,295.5,296,296.5,297,297.5,298,298.5,299,299.5,300,300.5,301,301.5,302,302.5,303,303.5,304,304.5,305,305.5,306,306.5,307,307.5,308,308.5,309,309.5,310,310.5,311,311.5,312,312.5,313,313.5,314,314.5,315,315.5,316,316.5,317,317.5,318,318.5,319,319.5,320,320.5,321,321.5,322,322.5,323,323.5,324,324.5,325,325.5,326,326.5,327,327.5,328,328.5,329,329.5,330,330.5,331,331.5,332,332.5,333,333.5,334,334.5,335,335.5,336,336.5,337,337.5,338,338.5,339,339.5,340,340.5,341,341.5,342,342.5,343,343.5,344,344.5,345,345.5,346,346.5,347,347.5,348,348.5,349,349.5,350,350.5,351,351.5,352,352.5,353,353.5,354,354.5,355,355.5,356,356.5,357,357.5,358,358.5,359,359.5,360,360.5,361,361.5,362,362.5,363,363.5,364]
[null,"Voertuiggegevens"]
[]
[null,null,"Datum invoer gegevens:",null,"17/02/2022"]
[]
[null,null,null,null,null,null,"vehicule1"]
[]
[]
[null,null,"1. AFSCHRIJVING1 2"]
[]
[null,null,null,null,"Aankoopprijs:",null,null,null,"oorspronkelijke aankoopprijs van het voertuig"]
["vehicule1"]
[null,null,null,null,"Residuele waarde:",null,null,null,"Restwaarde van het voertuig wanneer het verkocht zal worden (in procent van de aankoopprijs)"]
[null,null,null,null,null,null,null,null,"Kies \"economisch\" als het voertuig na een vast aantal jaren vervangen wordt. Kies \"technisch\" indien het voertuig na een vast aantal afgelegde kilometers vervangen wordt."]
[null,null,null,null,"Type afschrijving: "]
[null,null,null,null,null,null,","]
[null,null,null,null,"Keuze type afschrijving:",null,0]
[]
[null,null,null,null,"Levensduur in jaren:",null,null,null,"aantal jaren dat het voertuig normaal gezien zal halen in het bedrijf"]
[]
[null,null,null,null,"Levensduur in kilometers:",null,null,null,"aantal kilometers dat het voertuig normaal gezien zal halen voor zijn vervanging"]
[]
[null,null,null,null,"Aantal gebruiksdagen/jaar:",null,null,null,"gemiddeld aantal gebruiksdagen per jaar van het voertuig"]
[]
[null,null,"2. FINANCIERING"]
[]
[null,null,null,null,"Rentevoet lening voertuig:",null,null,null,"rentevoet van de lening voor het voertuig (indien van toepassing)"]
[]
[null,null,null,null,"Percentage autofinanciering voertuig:",null,null,null,"percentage van de aankoopwaarde van het voertuig dat met eigen kapitaal gefinancierd wordt"]
[]
[null,null,null,null,"Risicoloze rentevoet:",null,null,null,"Voer hier de rentevoet in die u zou bekomen indien u eigen kapitaal risicoloos zou beleggen (bv. rentevoet op staatslening, kasbon of spaarboekje) - voor de berekening van de opportuniteitskost"]
[]
[null,null,"3. VERBRUIK"]
[]
[null,null,null,null,"Verbruik diesel:",null,null,null,"liter/100 km"]
[]
[null,null,null,null,"Verbruik olie:",null,null,null,"liter/100 km"]
[]
[null,null,null,null,"Verbruik Adblue:",null,null,null,"liter/100 km"]
[]
[null,null,"4. BANDEN"]
[]
[null,null,null,null,"Aantal banden vooraan:"]
[]
[null,null,null,null,"Aantal banden achteraan:"]
[]
[null,null,null,null,"Levensduur banden vooraan:",null,null,null,"in km"]
[]
[null,null,null,null,"Levensduur banden achteraan:",null,null,null,"in km"]
[]
[null,null,null,null,"Eenheidsprijs banden:"]
[]
[null,null,"5. VERZEKERINGEN"]
[]
[]
[null,null,null,null,"Eventuele andere verzekeringen:"]
[]
[null,null,"6. ANDERE VASTE KOSTEN VERBONDEN AAN HET VOERTUIG"]
[]
[]
[null,null,null,null,"Vaste kosten"]
[]
[null,null,"7. OPTIES"]
[]
[null,null,null,null,"Heeft uw voertuig een aanhangwagen?"]
[]
[]
[]
[]
[null,null,null,null,"Heeft uw voertuig een skibak?"]
[]
[]
[]
[null,null,null,null,"Heeft uw voertuig een lift?"]
[]
[]
[null,null,"OPTIE 1: AANHANGWAGEN"]
[]
[null,null,null,null,"Aantal gebuiksdagen/jaar van de aanhangwagen:",null,null,null,"Vul hier, indien van toepassing, de gegevens in van de aanhangwagen die u gebruikt"]
[]
[null,null,null,null,"Aankoopprijs :"]
[]
[null,null,null,null,"Levensduur in jaren:"]
[]
[null,null,null,null,"Premie Burgelijke Aansprakelijkheid aanhangwagen:"]
[]
[null,null,null,null,"Verkeersbelasting:"]
[]
[null,null,null,null,"Jaarlijks onderhoud:"]
[]
[null,null,null,null,"Keuring:"]
[]
[]
[null,null,null,null,"Extra verbruik",null,null,null,"Extra verbruik veroorzaakt door de aanhangwagen"]
[null,null,"OPTIE 2: SKIBAK",null,null,null,null,null,"Vul hier, indien van toepassing, de gegevens in van de skibak in uw voertuig"]
[]
[null,null,null,null,"Aantal gebuiksdagen/jaar van de skibak:"]
[]
[null,null,null,null,"Aankoopprijs:"]
[]
[null,null,null,null,"Levensduur in jaren:"]
[]
[null,null,null,null,"kost montage/demontage:"]
[]
[]
[null,null,"OPTIE 3: LIFT",null,null,null,null,null,"Vul hier, indien van toepassing, de gegevens in van de lift in uw voertuig"]
[]
[null,null,null,null,"Aantal gebuiksdagen/jaar van de lift:"]
[]
[null,null,null,null,"Aankoopprijs lift:"]
[]
[null,null,null,null,"Levensduur in jaren:"]
[]
[null,null,null,null,"kost montage/demontage:"]
[]
[null,null,"1 Indien u uw voertuig zowel voor ongeregelde als geregelde diensten gebruikt dient u de gegevens voor beide activiteiten samen in te geven."]
[null,null,"2 Hou hier rekening met het werkelijke aantal jaren dat het voertuig in het bedrijf blijft, niet met de boekhoudkundige afschrijving"]

{"sheet":"Module TVA (3)","index":19,"n_rows":53,"n_cols":31,"rows_kept":53,"cut":false,"hidden":true,"merged":[[1,1,1,28],[55,1,55,27]]}
[]
[null,"MODULE TVA"]
[]
[null,null,null,null,null,null,null,null,null,null,null,null,null,null,null,"Prix de vente total du voyage sur base du calculateur:",null,null,null,"Prix total calculé sur base de la table \"Prix de revient et de vente\""]
[]
[null,null,null,null,null,null,null,null,null,null,null,null,null,null,null,"Prix de vente à prendre en compte pour la TVA de transport:",null,3094.97,null,"Indiquez ici le prix de vente total qui sert de base au calcul de la TVA de transport."]
[]
[null,null,null,null,null,"Taux d'application",null,"Km parcourus ",null,"Exemption d'application?",null,"% du parcours total",null,"Montant hors TVA",null,"TVA à payer",null,"Montant TVA incluse",null,"La formule suivante est appliquée pour le montant à payer : Taux * % du voyage * Prix de vente"]
[]
[]
[null,null,"Belgique",null,null,0.06,null,216,null,null,null,{"$f":"IF(H11=\"\",\"\",H11/H$53)","v":0.12616822429906541},null,{"$f":"IF(H11=\"\",\"\",L11*R$6)","v":390.48686915887845},null,{"$f":"IF(H11=\"\",\"\",F11*L11*R$6)","v":23.429212149532706},null,{"$f":"IF(H11=\"\",\"\",N11+P11)","v":413.91608130841115}]
[]
[null,null,"Pays taxables*",null,null,null,null,null,null,null,null,null,null,null,null,null,null,null,null,null,null,null,null,null,null,null,null,null,null,null,"oui"]
[null,null,null,null,null,null,null,null,null,null,null,null,null,null,null,null,null,null,null,null,null,null,null,null,null,null,null,null,null,null,"non"]
[null,null,null,"Pays-Bas",null,0.09,null,30,null,null,null,{"$f":"IF(H15=\"\",\"\",H15/H$53)","v":1.7523364485981307E-2},null,{"$f":"IF(H15=\"\",\"\",L15*R$6)","v":54.234287383177559},null,{"$f":"IF(H15=\"\",\"\",IF(J15=\"oui\",0,F15*L15*R$6))","v":4.8810858644859803},null,{"$f":"IF(H15=\"\",\"\",N15+P15)","v":59.115373247663541}]
[]
[null,null,null,"Pologne",null,null,null,null,null,null,null,{"$f":"IF(H17=\"\",\"\",H17/H$53)","v":""},null,{"$f":"IF(H17=\"\",\"\",L17*R$6)","v":""},null,{"$f":"IF(H17=\"\",\"\",IF(J17=\"oui\",0,F17*L17*R$6))","v":""},null,{"$f":"IF(H17=\"\",\"\",N17+P17)","v":""}]
[]
[null,null,null,"Autriche",null,null,null,null,null,null,null,{"$f":"IF(H19=\"\",\"\",H19/H$53)","v":""},null,{"$f":"IF(H19=\"\",\"\",L19*R$6)","v":""},null,{"$f":"IF(H19=\"\",\"\",IF(J19=\"oui\",0,F19*L19*R$6))","v":""},null,{"$f":"IF(H19=\"\",\"\",N19+P19)","v":""}]
[]
[null,null,null,"Allemagne",null,0.19,null,1266,null,null,null,{"$f":"IF(H21=\"\",\"\",H21/H$53)","v":0.73948598130841126},null,{"$f":"IF(H21=\"\",\"\",L21*R$6)","v":2288.6869275700933},null,{"$f":"IF(H21=\"\",\"\",IF(J21=\"oui\",0,F21*L21*R$6))","v":434.85051623831777},null,{"$f":"IF(H21=\"\",\"\",N21+P21)","v":2723.5374438084109}]
[]
[null,null,null,"Croatie",null,null,null,null,null,null,null,{"$f":"IF(H23=\"\",\"\",H23/H$53)","v":""},null,{"$f":"IF(H23=\"\",\"\",L23*R$6)","v":""},null,{"$f":"IF(H23=\"\",\"\",IF(J23=\"oui\",0,F23*L23*R$6))","v":""},null,{"$f":"IF(H23=\"\",\"\",N23+P23)","v":""}]
[]
[null,null,null,"Slovenie",null,null,null,null,null,null,null,{"$f":"IF(H25=\"\",\"\",H25/H$53)","v":""},null,{"$f":"IF(H25=\"\",\"\",L25*R$6)","v":""},null,{"$f":"IF(H25=\"\",\"\",IF(J25=\"oui\",0,F25*L25*R$6))","v":""},null,{"$f":"IF(H25=\"\",\"\",N25+P25)","v":""}]
[]
[null,null,null,null,null,null,null,null,null,null,null,{"$f":"IF(H27=\"\",\"\",H27/H$53)","v":""},null,{"$f":"IF(H27=\"\",\"\",L27*R$6)","v":""},null,{"$f":"IF(H27=\"\",\"\",IF(J27=\"oui\",0,F27*L27*R$6))","v":""},null,{"$f":"IF(H27=\"\",\"\",N27+P27)","v":""}]
[]
[null,null,null,null,null,null,null,null,null,null,null,{"$f":"IF(H29=\"\",\"\",H29/H$53)","v":""},null,{"$f":"IF(H29=\"\",\"\",L29*R$6)","v":""},null,{"$f":"IF(H29=\"\",\"\",IF(J29=\"oui\",0,F29*L29*R$6))","v":""},null,{"$f":"IF(H29=\"\",\"\",N29+P29)","v":""}]
[]
[null,null,null,null,null,null,null,null,null,null,null,{"$f":"IF(H31=\"\",\"\",H31/H$53)","v":""},null,{"$f":"IF(H31=\"\",\"\",L31*R$6)","v":""},null,{"$f":"IF(H31=\"\",\"\",IF(J31=\"oui\",0,F31*L31*R$6))","v":""},null,{"$f":"IF(H31=\"\",\"\",N31+P31)","v":""}]
[]
[null,null,"Pays partiellement exemptés**"]
[]
[null,null,null,"Suisse",null,null,null,200,null,"oui",null,{"$f":"IF(H35=\"\",\"\",H35/H$53)","v":0.11682242990654206},null,{"$f":"IF(H35=\"\",\"\",L35*R$6)","v":361.56191588785043},null,{"$f":"IF(H35=\"\",\"\",IF(J35=\"oui\",0,IF(J35=\"non\",F35*L35*R$6,\"Exemption?\")))","v":0},null,{"$f":"IF(H35=\"\",\"\",N35+P35)","v":361.56191588785043}]
[]
[null,null,null,"France",null,null,null,null,null,null,null,{"$f":"IF(H37=\"\",\"\",H37/H$53)","v":""},null,{"$f":"IF(H37=\"\",\"\",L37*R$6)","v":""},null,{"$f":"IF(H37=\"\",\"\",IF(J37=\"oui\",0,IF(J37=\"non\",F37*L37*R$6,\"Exemption?\")))","v":""},null,{"$f":"IF(H37=\"\",\"\",N37+P37)","v":""}]
[]
[null,null,null,"Danemark",null,null,null,null,null,null,null,{"$f":"IF(H39=\"\",\"\",H39/H$53)","v":""},null,{"$f":"IF(H39=\"\",\"\",L39*R$6)","v":""},null,{"$f":"IF(H39=\"\",\"\",IF(J39=\"oui\",0,IF(J39=\"non\",F39*L39*R$6,\"Exemption?\")))","v":""},null,{"$f":"IF(H39=\"\",\"\",N39+P39)","v":""}]
[]
[null,null,null,"Bulgarie",null,null,null,null,null,null,null,{"$f":"IF(H41=\"\",\"\",H41/H$53)","v":""},null,{"$f":"IF(H41=\"\",\"\",L41*R$6)","v":""},null,{"$f":"IF(H41=\"\",\"\",IF(J41=\"oui\",0,IF(J41=\"non\",F41*L41*R$6,\"Exemption?\")))","v":""},null,{"$f":"IF(H41=\"\",\"\",N41+P41)","v":""}]
[]
[null,null,null,"Finlande",null,null,null,null,null,null,null,{"$f":"IF(H43=\"\",\"\",H43/H$53)","v":""},null,{"$f":"IF(H43=\"\",\"\",L43*R$6)","v":""},null,{"$f":"IF(H43=\"\",\"\",IF(J43=\"oui\",0,IF(J43=\"non\",F43*L43*R$6,\"Exemption?\")))","v":""},null,{"$f":"IF(H43=\"\",\"\",N43+P43)","v":""}]
[]
[null,null,null,null,null,null,null,null,null,null,null,{"$f":"IF(H45=\"\",\"\",H45/H$53)","v":""},null,{"$f":"IF(H45=\"\",\"\",L45*R$6)","v":""},null,{"$f":"IF(H45=\"\",\"\",IF(J45=\"oui\",0,IF(J45=\"non\",F45*L45*R$6,\"Exemption?\")))","v":""},null,{"$f":"IF(H45=\"\",\"\",N45+P45)","v":""}]
[]
[null,null,null,null,null,null,null,null,null,null,null,{"$f":"IF(H47=\"\",\"\",H47/H$53)","v":""},null,{"$f":"IF(H47=\"\",\"\",L47*R$6)","v":""},null,{"$f":"IF(H47=\"\",\"\",IF(J47=\"oui\",0,IF(J47=\"non\",F47*L47*R$6,\"Exemption?\")))","v":""},null,{"$f":"IF(H47=\"\",\"\",N47+P47)","v":""}]
[]
[null,null,null,null,null,null,null,null,null,null,null,{"$f":"IF(H49=\"\",\"\",H49/H$53)","v":""},null,{"$f":"IF(H49=\"\",\"\",L49*R$6)","v":""},null,{"$f":"IF(H49=\"\",\"\",IF(J49=\"oui\",0,IF(J49=\"non\",F49*L49*R$6,\"Exemption?\")))","v":""},null,{"$f":"IF(H49=\"\",\"\",N49+P49)","v":""}]
[]
[null,null,"Pays entièrement exemptés***"]
[]
[null,null,"TOTAL",null,null,null,null,{"$f":"SUM(H11,H15,H17,H19,H21,H23,H25,H27,H29,H31,H35,H37,H39,H41,H43,H45,H47,H49,H51)","v":1712},null,null,null,null,null,{"$f":"SUM(N11,N15,N17,N19,N21,N23,N25,N27,N29,N31,N35,N37,N39,N41,N43,N45,N47,N49)","v":3094.97},null,{"$f":"SUM(P11,P15,P17,P19,P21,P23,P25,P27,P29,P31,P35,P37,P39,P41,P43,P45,P47,P49)","v":463.16081425233642},null,{"$f":"SUM(R11,R15,R17,R19,R21,R23,R25,R27,R29,R31,R35,R37,R39,R41,R43,R45,R47,R49)","v":3558.1308142523358}]